{"text_format":"1","workbook":"xlsx","n_sheets":7,"sheets":["Guidelines","Menu","Emp_Master","Data_Entry","Repo_Emp","Repo_Zone","Repo_Sum"],"not_rendered":{"charts":0,"images":0,"macros":1,"external_links":0,"defined_names":5,"comments":0,"pivot_tables":2},"unopened":[],"bounds":{"document_bytes":16777216,"sheet_cells":100000,"rows_first":2000,"rows_last":500,"rows_between":2000,"halvings":0,"cell_chars":16384,"cell_head_chars":4096},"cells_cut":0,"cells_raw":0,"read":"whole","date_system":"1900"}

{"sheet":"Guidelines","index":0,"n_rows":14,"n_cols":12,"rows_kept":14,"cut":false,"hidden":false,"merged":[[9,2,9,15],[1,1,1,15],[2,2,2,15],[4,2,4,15],[6,2,6,15],[8,2,8,15]]}
[]
[null,"Guide Lines - How to track Franchise Agreement utilisation Status"]
[null,"Step-->1","Click to go  Menu"]
[]
[null,"Step-->2","Go to Employee_Master sheet. At first create employee master data (basic info of business development team only,who are using the franchise agreement). Put Employee code, Employee Zone, Employee Location. Put your organistion name in cell B1"]
[]
[null,"Step-->3","Go to Data Entry sheet. Select Employee Code from drop down list. Put only data in cells marked with Green color"]
[]
[null,"Step-->4","To get report go to -Generate Report. Select the desired Report Employee wise/ Zone wise/ Summary. From drop down list get the report accordingly. Select only One Field at a time in respetive Report marked in Green color"]
[null,null,"Note: Click \"Refresh\" button in respective report sheet to reflect updated report ."]
[]
[]
[]
[null,null,null,null,null,null,null,null,null,null,null,"For any query write to : p_das2001@rediffmail.com"]

{"sheet":"Menu","index":1,"n_rows":22,"n_cols":5,"rows_kept":22,"cut":false,"hidden":false,"merged":[[18,4,18,6],[2,3,3,6],[5,3,6,6],[8,3,9,6],[11,3,12,6],[14,4,14,6],[16,4,16,6]]}
[null,null,{"$f":"Emp_Master!B1","v":0}]
[]
[null,null,null,"Menu"]
[]
[null,null,null,"Select the option"]
[null,null,null,"Employee Master"]
[]
[]
[null,null,null,"Data Entry"]
[]
[]
[null,null,null,"Generate Report"]
[]
[]
[null,null,null,null,"Employee wise Report"]
[]
[null,null,null,null,"Zone wise Report"]
[]
[null,null,null,null,"Summary Report"]
[]
[]
[null,null,null,"For any querry write to : prodipdas08@gmail.com"]

{"sheet":"Emp_Master","index":2,"n_rows":3,"n_cols":6,"rows_kept":3,"cut":false,"hidden":true,"merged":[]}
["Name of Co."]
[]
["Emp_Code","Employee Name","Zone","Location","Email ID","Mobile No"]

{"sheet":"Data_Entry","index":3,"n_rows":1000,"n_cols":14,"rows_kept":1000,"cut":false,"hidden":true,"merged":[]}
[null,"Co. Name:",{"$f":"Emp_Master!B1","v":0}]
[]
[null,"Emp_Code","Employee Name","Zone","Location","Email ID","Mobile No","Franchise Agr. Sr. No.","Issue Dt","Signed by Prospect ( Y / N)","Name of Prospect","Agreement Signed Dt.","Proposed Location","Business Model"]
[null,null,{"$f":"VLOOKUP(B4,Emp_Master!$A$4:$F$500,2)","v":{"$error":"#N/A"}},{"$f":"VLOOKUP(B4,Emp_Master!$A$4:$F$500,3)","v":{"$error":"#N/A"}},{"$f":"VLOOKUP(B4,Emp_Master!$A$4:$F$500,4)","v":{"$error":"#N/A"}},{"$f":"VLOOKUP(B4,Emp_Master!$A$4:$F$500,5)","v":{"$error":"#N/A"}},{"$f":"VLOOKUP(B4,Emp_Master!$A$4:$F$500,6)","v":{"$error":"#N/A"}}]
[null,null,{"$f":"VLOOKUP(B5,Emp_Master!$A$4:$F$500,2)","v":{"$error":"#N/A"}},{"$f":"VLOOKUP(B5,Emp_Master!$A$4:$F$500,3)","v":{"$error":"#N/A"}},{"$f":"VLOOKUP(B5,Emp_Master!$A$4:$F$500,4)","v":{"$error":"#N/A"}},{"$f":"VLOOKUP(B5,Emp_Master!$A$4:$F$500,5)","v":{"$error":"#N/A"}},{"$f":"VLOOKUP(B5,Emp_Master!$A$4:$F$500,6)","v":{"$error":"#N/A"}}]
[null,null,{"$f":"VLOOKUP(B6,Emp_Master!$A$4:$F$500,2)","v":{"$error":"#N/A"}},{"$f":"VLOOKUP(B6,Emp_Master!$A$4:$F$500,3)","v":{"$error":"#N/A"}},{"$f":"VLOOKUP(B6,Emp_Master!$A$4:$F$500,4)","v":{"$error":"#N/A"}},{"$f":"VLOOKUP(B6,Emp_Master!$A$4:$F$500,5)","v":{"$error":"#N/A"}},{"$f":"VLOOKUP(B6,Emp_Master!$A$4:$F$500,6)","v":{"$error":"#N/A"}}]
[null,null,{"$f":"VLOOKUP(B7,Emp_Master!$A$4:$F$500,2)","v":{"$error":"#N/A"}},{"$f":"VLOOKUP(B7,Emp_Master!$A$4:$F$500,3)","v":{"$error":"#N/A"}},{"$f":"VLOOKUP(B7,Emp_Master!$A$4:$F$500,4)","v":{"$error":"#N/A"}},{"$f":"VLOOKUP(B7,Emp_Master!$A$4:$F$500,5)","v":{"$error":"#N/A"}},{"$f":"VLOOKUP(B7,Emp_Master!$A$4:$F$500,6)","v":{"$error":"#N/A"}}]
[null,null,{"$f":"VLOOKUP(B8,Emp_Master!$A$4:$F$500,2)","v":{"$error":"#N/A"}},{"$f":"VLOOKUP(B8,Emp_Master!$A$4:$F$500,3)","v":{"$error":"#N/A"}},{"$f":"VLOOKUP(B8,Emp_Master!$A$4:$F$500,4)","v":{"$error":"#N/A"}},{"$f":"VLOOKUP(B8,Emp_Master!$A$4:$F$500,5)","v":{"$error":"#N/A"}},{"$f":"VLOOKUP(B8,Emp_Master!$A$4:$F$500,6)","v":{"$error":"#N/A"}}]
[null,null,{"$f":"VLOOKUP(B9,Emp_Master!$A$4:$F$500,2)","v":{"$error":"#N/A"}},{"$f":"VLOOKUP(B9,Emp_Master!$A$4:$F$500,3)","v":{"$error":"#N/A"}},{"$f":"VLOOKUP(B9,Emp_Master!$A$4:$F$500,4)","v":{"$error":"#N/A"}},{"$f":"VLOOKUP(B9,Emp_Master!$A$4:$F$500,5)","v":{"$error":"#N/A"}},{"$f":"VLOOKUP(B9,Emp_Master!$A$4:$F$500,6)","v":{"$error":"#N/A"}}]
[null,null,{"$f":"VLOOKUP(B10,Emp_Master!$A$4:$F$500,2)","v":{"$error":"#N/A"}},{"$f":"VLOOKUP(B10,Emp_Master!$A$4:$F$500,3)","v":{"$error":"#N/A"}},{"$f":"VLOOKUP(B10,Emp_Master!$A$4:$F$500,4)","v":{"$error":"#N/A"}},{"$f":"VLOOKUP(B10,Emp_Master!$A$4:$F$500,5)","v":{"$error":"#N/A"}},{"$f":"VLOOKUP(B10,Emp_Master!$A$4:$F$500,6)","v":{"$error":"#N/A"}}]
[null,null,{"$f":"VLOOKUP(B11,Emp_Master!$A$4:$F$500,2)","v":{"$error":"#N/A"}},{"$f":"VLOOKUP(B11,Emp_Master!$A$4:$F$500,3)","v":{"$error":"#N/A"}},{"$f":"VLOOKUP(B11,Emp_Master!$A$4:$F$500,4)","v":{"$error":"#N/A"}},{"$f":"VLOOKUP(B11,Emp_Master!$A$4:$F$500,5)","v":{"$error":"#N/A"}},{"$f":"VLOOKUP(B11,Emp_Master!$A$4:$F$500,6)","v":{"$error":"#N/A"}}]
[null,null,{"$f":"VLOOKUP(B12,Emp_Master!$A$4:$F$500,2)","v":{"$error":"#N/A"}},{"$f":"VLOOKUP(B12,Emp_Master!$A$4:$F$500,3)","v":{"$error":"#N/A"}},{"$f":"VLOOKUP(B12,Emp_Master!$A$4:$F$500,4)","v":{"$error":"#N/A"}},{"$f":"VLOOKUP(B12,Emp_Master!$A$4:$F$500,5)","v":{"$error":"#N/A"}},{"$f":"VLOOKUP(B12,Emp_Master!$A$4:$F$500,6)","v":{"$error":"#N/A"}}]
[null,null,{"$f":"VLOOKUP(B13,Emp_Master!$A$4:$F$500,2)","v":{"$error":"#N/A"}},{"$f":"VLOOKUP(B13,Emp_Master!$A$4:$F$500,3)","v":{"$error":"#N/A"}},{"$f":"VLOOKUP(B13,Emp_Master!$A$4:$F$500,4)","v":{"$error":"#N/A"}},{"$f":"VLOOKUP(B13,Emp_Master!$A$4:$F$500,5)","v":{"$error":"#N/A"}},{"$f":"VLOOKUP(B13,Emp_Master!$A$4:$F$500,6)","v":{"$error":"#N/A"}}]
[null,null,{"$f":"VLOOKUP(B14,Emp_Master!$A$4:$F$500,2)","v":{"$error":"#N/A"}},{"$f":"VLOOKUP(B14,Emp_Master!$A$4:$F$500,3)","v":{"$error":"#N/A"}},{"$f":"VLOOKUP(B14,Emp_Master!$A$4:$F$500,4)","v":{"$error":"#N/A"}},{"$f":"VLOOKUP(B14,Emp_Master!$A$4:$F$500,5)","v":{"$error":"#N/A"}},{"$f":"VLOOKUP(B14,Emp_Master!$A$4:$F$500,6)","v":{"$error":"#N/A"}}]
[null,null,{"$f":"VLOOKUP(B15,Emp_Master!$A$4:$F$500,2)","v":{"$error":"#N/A"}},{"$f":"VLOOKUP(B15,Emp_Master!$A$4:$F$500,3)","v":{"$error":"#N/A"}},{"$f":"VLOOKUP(B15,Emp_Master!$A$4:$F$500,4)","v":{"$error":"#N/A"}},{"$f":"VLOOKUP(B15,Emp_Master!$A$4:$F$500,5)","v":{"$error":"#N/A"}},{"$f":"VLOOKUP(B15,Emp_Master!$A$4:$F$500,6)","v":{"$error":"#N/A"}}]
[null,null,{"$f":"VLOOKUP(B16,Emp_Master!$A$4:$F$500,2)","v":{"$error":"#N/A"}},{"$f":"VLOOKUP(B16,Emp_Master!$A$4:$F$500,3)","v":{"$error":"#N/A"}},{"$f":"VLOOKUP(B16,Emp_Master!$A$4:$F$500,4)","v":{"$error":"#N/A"}},{"$f":"VLOOKUP(B16,Emp_Master!$A$4:$F$500,5)","v":{"$error":"#N/A"}},{"$f":"VLOOKUP(B16,Emp_Master!$A$4:$F$500,6)","v":{"$error":"#N/A"}}]
[null,null,{"$f":"VLOOKUP(B17,Emp_Master!$A$4:$F$500,2)","v":{"$error":"#N/A"}},{"$f":"VLOOKUP(B17,Emp_Master!$A$4:$F$500,3)","v":{"$error":"#N/A"}},{"$f":"VLOOKUP(B17,Emp_Master!$A$4:$F$500,4)","v":{"$error":"#N/A"}},{"$f":"VLOOKUP(B17,Emp_Master!$A$4:$F$500,5)","v":{"$error":"#N/A"}},{"$f":"VLOOKUP(B17,Emp_Master!$A$4:$F$500,6)","v":{"$error":"#N/A"}}]
[null,null,{"$f":"VLOOKUP(B18,Emp_Master!$A$4:$F$500,2)","v":{"$error":"#N/A"}},{"$f":"VLOOKUP(B18,Emp_Master!$A$4:$F$500,3)","v":{"$error":"#N/A"}},{"$f":"VLOOKUP(B18,Emp_Master!$A$4:$F$500,4)","v":{"$error":"#N/A"}},{"$f":"VLOOKUP(B18,Emp_Master!$A$4:$F$500,5)","v":{"$error":"#N/A"}},{"$f":"VLOOKUP(B18,Emp_Master!$A$4:$F$500,6)","v":{"$error":"#N/A"}}]
[null,null,{"$f":"VLOOKUP(B19,Emp_Master!$A$4:$F$500,2)","v":{"$error":"#N/A"}},{"$f":"VLOOKUP(B19,Emp_Master!$A$4:$F$500,3)","v":{"$error":"#N/A"}},{"$f":"VLOOKUP(B19,Emp_Master!$A$4:$F$500,4)","v":{"$error":"#N/A"}},{"$f":"VLOOKUP(B19,Emp_Master!$A$4:$F$500,5)","v":{"$error":"#N/A"}},{"$f":"VLOOKUP(B19,Emp_Master!$A$4:$F$500,6)","v":{"$error":"#N/A"}}]
[null,null,{"$f":"VLOOKUP(B20,Emp_Master!$A$4:$F$500,2)","v":{"$error":"#N/A"}},{"$f":"VLOOKUP(B20,Emp_Master!$A$4:$F$500,3)","v":{"$error":"#N/A"}},{"$f":"VLOOKUP(B20,Emp_Master!$A$4:$F$500,4)","v":{"$error":"#N/A"}},{"$f":"VLOOKUP(B20,Emp_Master!$A$4:$F$500,5)","v":{"$error":"#N/A"}},{"$f":"VLOOKUP(B20,Emp_Master!$A$4:$F$500,6)","v":{"$error":"#N/A"}}]
[null,null,{"$f":"VLOOKUP(B21,Emp_Master!$A$4:$F$500,2)","v":{"$error":"#N/A"}},{"$f":"VLOOKUP(B21,Emp_Master!$A$4:$F$500,3)","v":{"$error":"#N/A"}},{"$f":"VLOOKUP(B21,Emp_Master!$A$4:$F$500,4)","v":{"$error":"#N/A"}},{"$f":"VLOOKUP(B21,Emp_Master!$A$4:$F$500,5)","v":{"$error":"#N/A"}},{"$f":"VLOOKUP(B21,Emp_Master!$A$4:$F$500,6)","v":{"$error":"#N/A"}}]
[null,null,{"$f":"VLOOKUP(B22,Emp_Master!$A$4:$F$500,2)","v":{"$error":"#N/A"}},{"$f":"VLOOKUP(B22,Emp_Master!$A$4:$F$500,3)","v":{"$error":"#N/A"}},{"$f":"VLOOKUP(B22,Emp_Master!$A$4:$F$500,4)","v":{"$error":"#N/A"}},{"$f":"VLOOKUP(B22,Emp_Master!$A$4:$F$500,5)","v":{"$error":"#N/A"}},{"$f":"VLOOKUP(B22,Emp_Master!$A$4:$F$500,6)","v":{"$error":"#N/A"}}]
[null,null,{"$f":"VLOOKUP(B23,Emp_Master!$A$4:$F$500,2)","v":{"$error":"#N/A"}},{"$f":"VLOOKUP(B23,Emp_Master!$A$4:$F$500,3)","v":{"$error":"#N/A"}},{"$f":"VLOOKUP(B23,Emp_Master!$A$4:$F$500,4)","v":{"$error":"#N/A"}},{"$f":"VLOOKUP(B23,Emp_Master!$A$4:$F$500,5)","v":{"$error":"#N/A"}},{"$f":"VLOOKUP(B23,Emp_Master!$A$4:$F$500,6)","v":{"$error":"#N/A"}}]
[null,null,{"$f":"VLOOKUP(B24,Emp_Master!$A$4:$F$500,2)","v":{"$error":"#N/A"}},{"$f":"VLOOKUP(B24,Emp_Master!$A$4:$F$500,3)","v":{"$error":"#N/A"}},{"$f":"VLOOKUP(B24,Emp_Master!$A$4:$F$500,4)","v":{"$error":"#N/A"}},{"$f":"VLOOKUP(B24,Emp_Master!$A$4:$F$500,5)","v":{"$error":"#N/A"}},{"$f":"VLOOKUP(B24,Emp_Master!$A$4:$F$500,6)","v":{"$error":"#N/A"}}]
[null,null,{"$f":"VLOOKUP(B25,Emp_Master!$A$4:$F$500,2)","v":{"$error":"#N/A"}},{"$f":"VLOOKUP(B25,Emp_Master!$A$4:$F$500,3)","v":{"$error":"#N/A"}},{"$f":"VLOOKUP(B25,Emp_Master!$A$4:$F$500,4)","v":{"$error":"#N/A"}},{"$f":"VLOOKUP(B25,Emp_Master!$A$4:$F$500,5)","v":{"$error":"#N/A"}},{"$f":"VLOOKUP(B25,Emp_Master!$A$4:$F$500,6)","v":{"$error":"#N/A"}}]
[null,null,{"$f":"VLOOKUP(B26,Emp_Master!$A$4:$F$500,2)","v":{"$error":"#N/A"}},{"$f":"VLOOKUP(B26,Emp_Master!$A$4:$F$500,3)","v":{"$error":"#N/A"}},{"$f":"VLOOKUP(B26,Emp_Master!$A$4:$F$500,4)","v":{"$error":"#N/A"}},{"$f":"VLOOKUP(B26,Emp_Master!$A$4:$F$500,5)","v":{"$error":"#N/A"}},{"$f":"VLOOKUP(B26,Emp_Master!$A$4:$F$500,6)","v":{"$error":"#N/A"}}]
[null,null,{"$f":"VLOOKUP(B27,Emp_Master!$A$4:$F$500,2)","v":{"$error":"#N/A"}},{"$f":"VLOOKUP(B27,Emp_Master!$A$4:$F$500,3)","v":{"$error":"#N/A"}},{"$f":"VLOOKUP(B27,Emp_Master!$A$4:$F$500,4)","v":{"$error":"#N/A"}},{"$f":"VLOOKUP(B27,Emp_Master!$A$4:$F$500,5)","v":{"$error":"#N/A"}},{"$f":"VLOOKUP(B27,Emp_Master!$A$4:$F$500,6)","v":{"$error":"#N/A"}}]
[null,null,{"$f":"VLOOKUP(B28,Emp_Master!$A$4:$F$500,2)","v":{"$error":"#N/A"}},{"$f":"VLOOKUP(B28,Emp_Master!$A$4:$F$500,3)","v":{"$error":"#N/A"}},{"$f":"VLOOKUP(B28,Emp_Master!$A$4:$F$500,4)","v":{"$error":"#N/A"}},{"$f":"VLOOKUP(B28,Emp_Master!$A$4:$F$500,5)","v":{"$error":"#N/A"}},{"$f":"VLOOKUP(B28,Emp_Master!$A$4:$F$500,6)","v":{"$error":"#N/A"}}]
[null,null,{"$f":"VLOOKUP(B29,Emp_Master!$A$4:$F$500,2)","v":{"$error":"#N/A"}},{"$f":"VLOOKUP(B29,Emp_Master!$A$4:$F$500,3)","v":{"$error":"#N/A"}},{"$f":"VLOOKUP(B29,Emp_Master!$A$4:$F$500,4)","v":{"$error":"#N/A"}},{"$f":"VLOOKUP(B29,Emp_Master!$A$4:$F$500,5)","v":{"$error":"#N/A"}},{"$f":"VLOOKUP(B29,Emp_Master!$A$4:$F$500,6)","v":{"$error":"#N/A"}}]
[null,null,{"$f":"VLOOKUP(B30,Emp_Master!$A$4:$F$500,2)","v":{"$error":"#N/A"}},{"$f":"VLOOKUP(B30,Emp_Master!$A$4:$F$500,3)","v":{"$error":"#N/A"}},{"$f":"VLOOKUP(B30,Emp_Master!$A$4:$F$500,4)","v":{"$error":"#N/A"}},{"$f":"VLOOKUP(B30,Emp_Master!$A$4:$F$500,5)","v":{"$error":"#N/A"}},{"$f":"VLOOKUP(B30,Emp_Master!$A$4:$F$500,6)","v":{"$error":"#N/A"}}]
[null,null,{"$f":"VLOOKUP(B31,Emp_Master!$A$4:$F$500,2)","v":{"$error":"#N/A"}},{"$f":"VLOOKUP(B31,Emp_Master!$A$4:$F$500,3)","v":{"$error":"#N/A"}},{"$f":"VLOOKUP(B31,Emp_Master!$A$4:$F$500,4)","v":{"$error":"#N/A"}},{"$f":"VLOOKUP(B31,Emp_Master!$A$4:$F$500,5)","v":{"$error":"#N/A"}},{"$f":"VLOOKUP(B31,Emp_Master!$A$4:$F$500,6)","v":{"$error":"#N/A"}}]
[null,null,{"$f":"VLOOKUP(B32,Emp_Master!$A$4:$F$500,2)","v":{"$error":"#N/A"}},{"$f":"VLOOKUP(B32,Emp_Master!$A$4:$F$500,3)","v":{"$error":"#N/A"}},{"$f":"VLOOKUP(B32,Emp_Master!$A$4:$F$500,4)","v":{"$error":"#N/A"}},{"$f":"VLOOKUP(B32,Emp_Master!$A$4:$F$500,5)","v":{"$error":"#N/A"}},{"$f":"VLOOKUP(B32,Emp_Master!$A$4:$F$500,6)","v":{"$error":"#N/A"}}]
[null,null,{"$f":"VLOOKUP(B33,Emp_Master!$A$4:$F$500,2)","v":{"$error":"#N/A"}},{"$f":"VLOOKUP(B33,Emp_Master!$A$4:$F$500,3)","v":{"$error":"#N/A"}},{"$f":"VLOOKUP(B33,Emp_Master!$A$4:$F$500,4)","v":{"$error":"#N/A"}},{"$f":"VLOOKUP(B33,Emp_Master!$A$4:$F$500,5)","v":{"$error":"#N/A"}},{"$f":"VLOOKUP(B33,Emp_Master!$A$4:$F$500,6)","v":{"$error":"#N/A"}}]
[null,null,{"$f":"VLOOKUP(B34,Emp_Master!$A$4:$F$500,2)","v":{"$error":"#N/A"}},{"$f":"VLOOKUP(B34,Emp_Master!$A$4:$F$500,3)","v":{"$error":"#N/A"}},{"$f":"VLOOKUP(B34,Emp_Master!$A$4:$F$500,4)","v":{"$error":"#N/A"}},{"$f":"VLOOKUP(B34,Emp_Master!$A$4:$F$500,5)","v":{"$error":"#N/A"}},{"$f":"VLOOKUP(B34,Emp_Master!$A$4:$F$500,6)","v":{"$error":"#N/A"}}]
[null,null,{"$f":"VLOOKUP(B35,Emp_Master!$A$4:$F$500,2)","v":{"$error":"#N/A"}},{"$f":"VLOOKUP(B35,Emp_Master!$A$4:$F$500,3)","v":{"$error":"#N/A"}},{"$f":"VLOOKUP(B35,Emp_Master!$A$4:$F$500,4)","v":{"$error":"#N/A"}},{"$f":"VLOOKUP(B35,Emp_Master!$A$4:$F$500,5)","v":{"$error":"#N/A"}},{"$f":"VLOOKUP(B35,Emp_Master!$A$4:$F$500,6)","v":{"$error":"#N/A"}}]
[null,null,{"$f":"VLOOKUP(B36,Emp_Master!$A$4:$F$500,2)","v":{"$error":"#N/A"}},{"$f":"VLOOKUP(B36,Emp_Master!$A$4:$F$500,3)","v":{"$error":"#N/A"}},{"$f":"VLOOKUP(B36,Emp_Master!$A$4:$F$500,4)","v":{"$error":"#N/A"}},{"$f":"VLOOKUP(B36,Emp_Master!$A$4:$F$500,5)","v":{"$error":"#N/A"}},{"$f":"VLOOKUP(B36,Emp_Master!$A$4:$F$500,6)","v":{"$error":"#N/A"}}]
[null,null,{"$f":"VLOOKUP(B37,Emp_Master!$A$4:$F$500,2)","v":{"$error":"#N/A"}},{"$f":"VLOOKUP(B37,Emp_Master!$A$4:$F$500,3)","v":{"$error":"#N/A"}},{"$f":"VLOOKUP(B37,Emp_Master!$A$4:$F$500,4)","v":{"$error":"#N/A"}},{"$f":"VLOOKUP(B37,Emp_Master!$A$4:$F$500,5)","v":{"$error":"#N/A"}},{"$f":"VLOOKUP(B37,Emp_Master!$A$4:$F$500,6)","v":{"$error":"#N/A"}}]
[null,null,{"$f":"VLOOKUP(B38,Emp_Master!$A$4:$F$500,2)","v":{"$error":"#N/A"}},{"$f":"VLOOKUP(B38,Emp_Master!$A$4:$F$500,3)","v":{"$error":"#N/A"}},{"$f":"VLOOKUP(B38,Emp_Master!$A$4:$F$500,4)","v":{"$error":"#N/A"}},{"$f":"VLOOKUP(B38,Emp_Master!$A$4:$F$500,5)","v":{"$error":"#N/A"}},{"$f":"VLOOKUP(B38,Emp_Master!$A$4:$F$500,6)","v":{"$error":"#N/A"}}]
[null,null,{"$f":"VLOOKUP(B39,Emp_Master!$A$4:$F$500,2)","v":{"$error":"#N/A"}},{"$f":"VLOOKUP(B39,Emp_Master!$A$4:$F$500,3)","v":{"$error":"#N/A"}},{"$f":"VLOOKUP(B39,Emp_Master!$A$4:$F$500,4)","v":{"$error":"#N/A"}},{"$f":"VLOOKUP(B39,Emp_Master!$A$4:$F$500,5)","v":{"$error":"#N/A"}},{"$f":"VLOOKUP(B39,Emp_Master!$A$4:$F$500,6)","v":{"$error":"#N/A"}}]
[null,null,{"$f":"VLOOKUP(B40,Emp_Master!$A$4:$F$500,2)","v":{"$error":"#N/A"}},{"$f":"VLOOKUP(B40,Emp_Master!$A$4:$F$500,3)","v":{"$error":"#N/A"}},{"$f":"VLOOKUP(B40,Emp_Master!$A$4:$F$500,4)","v":{"$error":"#N/A"}},{"$f":"VLOOKUP(B40,Emp_Master!$A$4:$F$500,5)","v":{"$error":"#N/A"}},{"$f":"VLOOKUP(B40,Emp_Master!$A$4:$F$500,6)","v":{"$error":"#N/A"}}]
[null,null,{"$f":"VLOOKUP(B41,Emp_Master!$A$4:$F$500,2)","v":{"$error":"#N/A"}},{"$f":"VLOOKUP(B41,Emp_Master!$A$4:$F$500,3)","v":{"$error":"#N/A"}},{"$f":"VLOOKUP(B41,Emp_Master!$A$4:$F$500,4)","v":{"$error":"#N/A"}},{"$f":"VLOOKUP(B41,Emp_Master!$A$4:$F$500,5)","v":{"$error":"#N/A"}},{"$f":"VLOOKUP(B41,Emp_Master!$A$4:$F$500,6)","v":{"$error":"#N/A"}}]
[null,null,{"$f":"VLOOKUP(B42,Emp_Master!$A$4:$F$500,2)","v":{"$error":"#N/A"}},{"$f":"VLOOKUP(B42,Emp_Master!$A$4:$F$500,3)","v":{"$error":"#N/A"}},{"$f":"VLOOKUP(B42,Emp_Master!$A$4:$F$500,4)","v":{"$error":"#N/A"}},{"$f":"VLOOKUP(B42,Emp_Master!$A$4:$F$500,5)","v":{"$error":"#N/A"}},{"$f":"VLOOKUP(B42,Emp_Master!$A$4:$F$500,6)","v":{"$error":"#N/A"}}]
[null,null,{"$f":"VLOOKUP(B43,Emp_Master!$A$4:$F$500,2)","v":{"$error":"#N/A"}},{"$f":"VLOOKUP(B43,Emp_Master!$A$4:$F$500,3)","v":{"$error":"#N/A"}},{"$f":"VLOOKUP(B43,Emp_Master!$A$4:$F$500,4)","v":{"$error":"#N/A"}},{"$f":"VLOOKUP(B43,Emp_Master!$A$4:$F$500,5)","v":{"$error":"#N/A"}},{"$f":"VLOOKUP(B43,Emp_Master!$A$4:$F$500,6)","v":{"$error":"#N/A"}}]
[null,null,{"$f":"VLOOKUP(B44,Emp_Master!$A$4:$F$500,2)","v":{"$error":"#N/A"}},{"$f":"VLOOKUP(B44,Emp_Master!$A$4:$F$500,3)","v":{"$error":"#N/A"}},{"$f":"VLOOKUP(B44,Emp_Master!$A$4:$F$500,4)","v":{"$error":"#N/A"}},{"$f":"VLOOKUP(B44,Emp_Master!$A$4:$F$500,5)","v":{"$error":"#N/A"}},{"$f":"VLOOKUP(B44,Emp_Master!$A$4:$F$500,6)","v":{"$error":"#N/A"}}]
[null,null,{"$f":"VLOOKUP(B45,Emp_Master!$A$4:$F$500,2)","v":{"$error":"#N/A"}},{"$f":"VLOOKUP(B45,Emp_Master!$A$4:$F$500,3)","v":{"$error":"#N/A"}},{"$f":"VLOOKUP(B45,Emp_Master!$A$4:$F$500,4)","v":{"$error":"#N/A"}},{"$f":"VLOOKUP(B45,Emp_Master!$A$4:$F$500,5)","v":{"$error":"#N/A"}},{"$f":"VLOOKUP(B45,Emp_Master!$A$4:$F$500,6)","v":{"$error":"#N/A"}}]
[null,null,{"$f":"VLOOKUP(B46,Emp_Master!$A$4:$F$500,2)","v":{"$error":"#N/A"}},{"$f":"VLOOKUP(B46,Emp_Master!$A$4:$F$500,3)","v":{"$error":"#N/A"}},{"$f":"VLOOKUP(B46,Emp_Master!$A$4:$F$500,4)","v":{"$error":"#N/A"}},{"$f":"VLOOKUP(B46,Emp_Master!$A$4:$F$500,5)","v":{"$error":"#N/A"}},{"$f":"VLOOKUP(B46,Emp_Master!$A$4:$F$500,6)","v":{"$error":"#N/A"}}]
[null,null,{"$f":"VLOOKUP(B47,Emp_Master!$A$4:$F$500,2)","v":{"$error":"#N/A"}},{"$f":"VLOOKUP(B47,Emp_Master!$A$4:$F$500,3)","v":{"$error":"#N/A"}},{"$f":"VLOOKUP(B47,Emp_Master!$A$4:$F$500,4)","v":{"$error":"#N/A"}},{"$f":"VLOOKUP(B47,Emp_Master!$A$4:$F$500,5)","v":{"$error":"#N/A"}},{"$f":"VLOOKUP(B47,Emp_Master!$A$4:$F$500,6)","v":{"$error":"#N/A"}}]
[null,null,{"$f":"VLOOKUP(B48,Emp_Master!$A$4:$F$500,2)","v":{"$error":"#N/A"}},{"$f":"VLOOKUP(B48,Emp_Master!$A$4:$F$500,3)","v":{"$error":"#N/A"}},{"$f":"VLOOKUP(B48,Emp_Master!$A$4:$F$500,4)","v":{"$error":"#N/A"}},{"$f":"VLOOKUP(B48,Emp_Master!$A$4:$F$500,5)","v":{"$error":"#N/A"}},{"$f":"VLOOKUP(B48,Emp_Master!$A$4:$F$500,6)","v":{"$error":"#N/A"}}]
[null,null,{"$f":"VLOOKUP(B49,Emp_Master!$A$4:$F$500,2)","v":{"$error":"#N/A"}},{"$f":"VLOOKUP(B49,Emp_Master!$A$4:$F$500,3)","v":{"$error":"#N/A"}},{"$f":"VLOOKUP(B49,Emp_Master!$A$4:$F$500,4)","v":{"$error":"#N/A"}},{"$f":"VLOOKUP(B49,Emp_Master!$A$4:$F$500,5)","v":{"$error":"#N/A"}},{"$f":"VLOOKUP(B49,Emp_Master!$A$4:$F$500,6)","v":{"$error":"#N/A"}}]
[null,null,{"$f":"VLOOKUP(B50,Emp_Master!$A$4:$F$500,2)","v":{"$error":"#N/A"}},{"$f":"VLOOKUP(B50,Emp_Master!$A$4:$F$500,3)","v":{"$error":"#N/A"}},{"$f":"VLOOKUP(B50,Emp_Master!$A$4:$F$500,4)","v":{"$error":"#N/A"}},{"$f":"VLOOKUP(B50,Emp_Master!$A$4:$F$500,5)","v":{"$error":"#N/A"}},{"$f":"VLOOKUP(B50,Emp_Master!$A$4:$F$500,6)","v":{"$error":"#N/A"}}]
[null,null,{"$f":"VLOOKUP(B51,Emp_Master!$A$4:$F$500,2)","v":{"$error":"#N/A"}},{"$f":"VLOOKUP(B51,Emp_Master!$A$4:$F$500,3)","v":{"$error":"#N/A"}},{"$f":"VLOOKUP(B51,Emp_Master!$A$4:$F$500,4)","v":{"$error":"#N/A"}},{"$f":"VLOOKUP(B51,Emp_Master!$A$4:$F$500,5)","v":{"$error":"#N/A"}},{"$f":"VLOOKUP(B51,Emp_Master!$A$4:$F$500,6)","v":{"$error":"#N/A"}}]
[null,null,{"$f":"VLOOKUP(B52,Emp_Master!$A$4:$F$500,2)","v":{"$error":"#N/A"}},{"$f":"VLOOKUP(B52,Emp_Master!$A$4:$F$500,3)","v":{"$error":"#N/A"}},{"$f":"VLOOKUP(B52,Emp_Master!$A$4:$F$500,4)","v":{"$error":"#N/A"}},{"$f":"VLOOKUP(B52,Emp_Master!$A$4:$F$500,5)","v":{"$error":"#N/A"}},{"$f":"VLOOKUP(B52,Emp_Master!$A$4:$F$500,6)","v":{"$error":"#N/A"}}]
[null,null,{"$f":"VLOOKUP(B53,Emp_Master!$A$4:$F$500,2)","v":{"$error":"#N/A"}},{"$f":"VLOOKUP(B53,Emp_Master!$A$4:$F$500,3)","v":{"$error":"#N/A"}},{"$f":"VLOOKUP(B53,Emp_Master!$A$4:$F$500,4)","v":{"$error":"#N/A"}},{"$f":"VLOOKUP(B53,Emp_Master!$A$4:$F$500,5)","v":{"$error":"#N/A"}},{"$f":"VLOOKUP(B53,Emp_Master!$A$4:$F$500,6)","v":{"$error":"#N/A"}}]
[null,null,{"$f":"VLOOKUP(B54,Emp_Master!$A$4:$F$500,2)","v":{"$error":"#N/A"}},{"$f":"VLOOKUP(B54,Emp_Master!$A$4:$F$500,3)","v":{"$error":"#N/A"}},{"$f":"VLOOKUP(B54,Emp_Master!$A$4:$F$500,4)","v":{"$error":"#N/A"}},{"$f":"VLOOKUP(B54,Emp_Master!$A$4:$F$500,5)","v":{"$error":"#N/A"}},{"$f":"VLOOKUP(B54,Emp_Master!$A$4:$F$500,6)","v":{"$error":"#N/A"}}]
[null,null,{"$f":"VLOOKUP(B55,Emp_Master!$A$4:$F$500,2)","v":{"$error":"#N/A"}},{"$f":"VLOOKUP(B55,Emp_Master!$A$4:$F$500,3)","v":{"$error":"#N/A"}},{"$f":"VLOOKUP(B55,Emp_Master!$A$4:$F$500,4)","v":{"$error":"#N/A"}},{"$f":"VLOOKUP(B55,Emp_Master!$A$4:$F$500,5)","v":{"$error":"#N/A"}},{"$f":"VLOOKUP(B55,Emp_Master!$A$4:$F$500,6)","v":{"$error":"#N/A"}}]
[null,null,{"$f":"VLOOKUP(B56,Emp_Master!$A$4:$F$500,2)","v":{"$error":"#N/A"}},{"$f":"VLOOKUP(B56,Emp_Master!$A$4:$F$500,3)","v":{"$error":"#N/A"}},{"$f":"VLOOKUP(B56,Emp_Master!$A$4:$F$500,4)","v":{"$error":"#N/A"}},{"$f":"VLOOKUP(B56,Emp_Master!$A$4:$F$500,5)","v":{"$error":"#N/A"}},{"$f":"VLOOKUP(B56,Emp_Master!$A$4:$F$500,6)","v":{"$error":"#N/A"}}]
[null,null,{"$f":"VLOOKUP(B57,Emp_Master!$A$4:$F$500,2)","v":{"$error":"#N/A"}},{"$f":"VLOOKUP(B57,Emp_Master!$A$4:$F$500,3)","v":{"$error":"#N/A"}},{"$f":"VLOOKUP(B57,Emp_Master!$A$4:$F$500,4)","v":{"$error":"#N/A"}},{"$f":"VLOOKUP(B57,Emp_Master!$A$4:$F$500,5)","v":{"$error":"#N/A"}},{"$f":"VLOOKUP(B57,Emp_Master!$A$4:$F$500,6)","v":{"$error":"#N/A"}}]
[null,null,{"$f":"VLOOKUP(B58,Emp_Master!$A$4:$F$500,2)","v":{"$error":"#N/A"}},{"$f":"VLOOKUP(B58,Emp_Master!$A$4:$F$500,3)","v":{"$error":"#N/A"}},{"$f":"VLOOKUP(B58,Emp_Master!$A$4:$F$500,4)","v":{"$error":"#N/A"}},{"$f":"VLOOKUP(B58,Emp_Master!$A$4:$F$500,5)","v":{"$error":"#N/A"}},{"$f":"VLOOKUP(B58,Emp_Master!$A$4:$F$500,6)","v":{"$error":"#N/A"}}]
[null,null,{"$f":"VLOOKUP(B59,Emp_Master!$A$4:$F$500,2)","v":{"$error":"#N/A"}},{"$f":"VLOOKUP(B59,Emp_Master!$A$4:$F$500,3)","v":{"$error":"#N/A"}},{"$f":"VLOOKUP(B59,Emp_Master!$A$4:$F$500,4)","v":{"$error":"#N/A"}},{"$f":"VLOOKUP(B59,Emp_Master!$A$4:$F$500,5)","v":{"$error":"#N/A"}},{"$f":"VLOOKUP(B59,Emp_Master!$A$4:$F$500,6)","v":{"$error":"#N/A"}}]
[null,null,{"$f":"VLOOKUP(B60,Emp_Master!$A$4:$F$500,2)","v":{"$error":"#N/A"}},{"$f":"VLOOKUP(B60,Emp_Master!$A$4:$F$500,3)","v":{"$error":"#N/A"}},{"$f":"VLOOKUP(B60,Emp_Master!$A$4:$F$500,4)","v":{"$error":"#N/A"}},{"$f":"VLOOKUP(B60,Emp_Master!$A$4:$F$500,5)","v":{"$error":"#N/A"}},{"$f":"VLOOKUP(B60,Emp_Master!$A$4:$F$500,6)","v":{"$error":"#N/A"}}]
[null,null,{"$f":"VLOOKUP(B61,Emp_Master!$A$4:$F$500,2)","v":{"$error":"#N/A"}},{"$f":"VLOOKUP(B61,Emp_Master!$A$4:$F$500,3)","v":{"$error":"#N/A"}},{"$f":"VLOOKUP(B61,Emp_Master!$A$4:$F$500,4)","v":{"$error":"#N/A"}},{"$f":"VLOOKUP(B61,Emp_Master!$A$4:$F$500,5)","v":{"$error":"#N/A"}},{"$f":"VLOOKUP(B61,Emp_Master!$A$4:$F$500,6)","v":{"$error":"#N/A"}}]
[null,null,{"$f":"VLOOKUP(B62,Emp_Master!$A$4:$F$500,2)","v":{"$error":"#N/A"}},{"$f":"VLOOKUP(B62,Emp_Master!$A$4:$F$500,3)","v":{"$error":"#N/A"}},{"$f":"VLOOKUP(B62,Emp_Master!$A$4:$F$500,4)","v":{"$error":"#N/A"}},{"$f":"VLOOKUP(B62,Emp_Master!$A$4:$F$500,5)","v":{"$error":"#N/A"}},{"$f":"VLOOKUP(B62,Emp_Master!$A$4:$F$500,6)","v":{"$error":"#N/A"}}]
[null,null,{"$f":"VLOOKUP(B63,Emp_Master!$A$4:$F$500,2)","v":{"$error":"#N/A"}},{"$f":"VLOOKUP(B63,Emp_Master!$A$4:$F$500,3)","v":{"$error":"#N/A"}},{"$f":"VLOOKUP(B63,Emp_Master!$A$4:$F$500,4)","v":{"$error":"#N/A"}},{"$f":"VLOOKUP(B63,Emp_Master!$A$4:$F$500,5)","v":{"$error":"#N/A"}},{"$f":"VLOOKUP(B63,Emp_Master!$A$4:$F$500,6)","v":{"$error":"#N/A"}}]
[null,null,{"$f":"VLOOKUP(B64,Emp_Master!$A$4:$F$500,2)","v":{"$error":"#N/A"}},{"$f":"VLOOKUP(B64,Emp_Master!$A$4:$F$500,3)","v":{"$error":"#N/A"}},{"$f":"VLOOKUP(B64,Emp_Master!$A$4:$F$500,4)","v":{"$error":"#N/A"}},{"$f":"VLOOKUP(B64,Emp_Master!$A$4:$F$500,5)","v":{"$error":"#N/A"}},{"$f":"VLOOKUP(B64,Emp_Master!$A$4:$F$500,6)","v":{"$error":"#N/A"}}]
[null,null,{"$f":"VLOOKUP(B65,Emp_Master!$A$4:$F$500,2)","v":{"$error":"#N/A"}},{"$f":"VLOOKUP(B65,Emp_Master!$A$4:$F$500,3)","v":{"$error":"#N/A"}},{"$f":"VLOOKUP(B65,Emp_Master!$A$4:$F$500,4)","v":{"$error":"#N/A"}},{"$f":"VLOOKUP(B65,Emp_Master!$A$4:$F$500,5)","v":{"$error":"#N/A"}},{"$f":"VLOOKUP(B65,Emp_Master!$A$4:$F$500,6)","v":{"$error":"#N/A"}}]
[null,null,{"$f":"VLOOKUP(B66,Emp_Master!$A$4:$F$500,2)","v":{"$error":"#N/A"}},{"$f":"VLOOKUP(B66,Emp_Master!$A$4:$F$500,3)","v":{"$error":"#N/A"}},{"$f":"VLOOKUP(B66,Emp_Master!$A$4:$F$500,4)","v":{"$error":"#N/A"}},{"$f":"VLOOKUP(B66,Emp_Master!$A$4:$F$500,5)","v":{"$error":"#N/A"}},{"$f":"VLOOKUP(B66,Emp_Master!$A$4:$F$500,6)","v":{"$error":"#N/A"}}]
[null,null,{"$f":"VLOOKUP(B67,Emp_Master!$A$4:$F$500,2)","v":{"$error":"#N/A"}},{"$f":"VLOOKUP(B67,Emp_Master!$A$4:$F$500,3)","v":{"$error":"#N/A"}},{"$f":"VLOOKUP(B67,Emp_Master!$A$4:$F$500,4)","v":{"$error":"#N/A"}},{"$f":"VLOOKUP(B67,Emp_Master!$A$4:$F$500,5)","v":{"$error":"#N/A"}},{"$f":"VLOOKUP(B67,Emp_Master!$A$4:$F$500,6)","v":{"$error":"#N/A"}}]
[null,null,{"$f":"VLOOKUP(B68,Emp_Master!$A$4:$F$500,2)","v":{"$error":"#N/A"}},{"$f":"VLOOKUP(B68,Emp_Master!$A$4:$F$500,3)","v":{"$error":"#N/A"}},{"$f":"VLOOKUP(B68,Emp_Master!$A$4:$F$500,4)","v":{"$error":"#N/A"}},{"$f":"VLOOKUP(B68,Emp_Master!$A$4:$F$500,5)","v":{"$error":"#N/A"}},{"$f":"VLOOKUP(B68,Emp_Master!$A$4:$F$500,6)","v":{"$error":"#N/A"}}]
[null,null,{"$f":"VLOOKUP(B69,Emp_Master!$A$4:$F$500,2)","v":{"$error":"#N/A"}},{"$f":"VLOOKUP(B69,Emp_Master!$A$4:$F$500,3)","v":{"$error":"#N/A"}},{"$f":"VLOOKUP(B69,Emp_Master!$A$4:$F$500,4)","v":{"$error":"#N/A"}},{"$f":"VLOOKUP(B69,Emp_Master!$A$4:$F$500,5)","v":{"$error":"#N/A"}},{"$f":"VLOOKUP(B69,Emp_Master!$A$4:$F$500,6)","v":{"$error":"#N/A"}}]
[null,null,{"$f":"VLOOKUP(B70,Emp_Master!$A$4:$F$500,2)","v":{"$error":"#N/A"}},{"$f":"VLOOKUP(B70,Emp_Master!$A$4:$F$500,3)","v":{"$error":"#N/A"}},{"$f":"VLOOKUP(B70,Emp_Master!$A$4:$F$500,4)","v":{"$error":"#N/A"}},{"$f":"VLOOKUP(B70,Emp_Master!$A$4:$F$500,5)","v":{"$error":"#N/A"}},{"$f":"VLOOKUP(B70,Emp_Master!$A$4:$F$500,6)","v":{"$error":"#N/A"}}]
[null,null,{"$f":"VLOOKUP(B71,Emp_Master!$A$4:$F$500,2)","v":{"$error":"#N/A"}},{"$f":"VLOOKUP(B71,Emp_Master!$A$4:$F$500,3)","v":{"$error":"#N/A"}},{"$f":"VLOOKUP(B71,Emp_Master!$A$4:$F$500,4)","v":{"$error":"#N/A"}},{"$f":"VLOOKUP(B71,Emp_Master!$A$4:$F$500,5)","v":{"$error":"#N/A"}},{"$f":"VLOOKUP(B71,Emp_Master!$A$4:$F$500,6)","v":{"$error":"#N/A"}}]
[null,null,{"$f":"VLOOKUP(B72,Emp_Master!$A$4:$F$500,2)","v":{"$error":"#N/A"}},{"$f":"VLOOKUP(B72,Emp_Master!$A$4:$F$500,3)","v":{"$error":"#N/A"}},{"$f":"VLOOKUP(B72,Emp_Master!$A$4:$F$500,4)","v":{"$error":"#N/A"}},{"$f":"VLOOKUP(B72,Emp_Master!$A$4:$F$500,5)","v":{"$error":"#N/A"}},{"$f":"VLOOKUP(B72,Emp_Master!$A$4:$F$500,6)","v":{"$error":"#N/A"}}]
[null,null,{"$f":"VLOOKUP(B73,Emp_Master!$A$4:$F$500,2)","v":{"$error":"#N/A"}},{"$f":"VLOOKUP(B73,Emp_Master!$A$4:$F$500,3)","v":{"$error":"#N/A"}},{"$f":"VLOOKUP(B73,Emp_Master!$A$4:$F$500,4)","v":{"$error":"#N/A"}},{"$f":"VLOOKUP(B73,Emp_Master!$A$4:$F$500,5)","v":{"$error":"#N/A"}},{"$f":"VLOOKUP(B73,Emp_Master!$A$4:$F$500,6)","v":{"$error":"#N/A"}}]
[null,null,{"$f":"VLOOKUP(B74,Emp_Master!$A$4:$F$500,2)","v":{"$error":"#N/A"}},{"$f":"VLOOKUP(B74,Emp_Master!$A$4:$F$500,3)","v":{"$error":"#N/A"}},{"$f":"VLOOKUP(B74,Emp_Master!$A$4:$F$500,4)","v":{"$error":"#N/A"}},{"$f":"VLOOKUP(B74,Emp_Master!$A$4:$F$500,5)","v":{"$error":"#N/A"}},{"$f":"VLOOKUP(B74,Emp_Master!$A$4:$F$500,6)","v":{"$error":"#N/A"}}]
[null,null,{"$f":"VLOOKUP(B75,Emp_Master!$A$4:$F$500,2)","v":{"$error":"#N/A"}},{"$f":"VLOOKUP(B75,Emp_Master!$A$4:$F$500,3)","v":{"$error":"#N/A"}},{"$f":"VLOOKUP(B75,Emp_Master!$A$4:$F$500,4)","v":{"$error":"#N/A"}},{"$f":"VLOOKUP(B75,Emp_Master!$A$4:$F$500,5)","v":{"$error":"#N/A"}},{"$f":"VLOOKUP(B75,Emp_Master!$A$4:$F$500,6)","v":{"$error":"#N/A"}}]
[null,null,{"$f":"VLOOKUP(B76,Emp_Master!$A$4:$F$500,2)","v":{"$error":"#N/A"}},{"$f":"VLOOKUP(B76,Emp_Master!$A$4:$F$500,3)","v":{"$error":"#N/A"}},{"$f":"VLOOKUP(B76,Emp_Master!$A$4:$F$500,4)","v":{"$error":"#N/A"}},{"$f":"VLOOKUP(B76,Emp_Master!$A$4:$F$500,5)","v":{"$error":"#N/A"}},{"$f":"VLOOKUP(B76,Emp_Master!$A$4:$F$500,6)","v":{"$error":"#N/A"}}]
[null,null,{"$f":"VLOOKUP(B77,Emp_Master!$A$4:$F$500,2)","v":{"$error":"#N/A"}},{"$f":"VLOOKUP(B77,Emp_Master!$A$4:$F$500,3)","v":{"$error":"#N/A"}},{"$f":"VLOOKUP(B77,Emp_Master!$A$4:$F$500,4)","v":{"$error":"#N/A"}},{"$f":"VLOOKUP(B77,Emp_Master!$A$4:$F$500,5)","v":{"$error":"#N/A"}},{"$f":"VLOOKUP(B77,Emp_Master!$A$4:$F$500,6)","v":{"$error":"#N/A"}}]
[null,null,{"$f":"VLOOKUP(B78,Emp_Master!$A$4:$F$500,2)","v":{"$error":"#N/A"}},{"$f":"VLOOKUP(B78,Emp_Master!$A$4:$F$500,3)","v":{"$error":"#N/A"}},{"$f":"VLOOKUP(B78,Emp_Master!$A$4:$F$500,4)","v":{"$error":"#N/A"}},{"$f":"VLOOKUP(B78,Emp_Master!$A$4:$F$500,5)","v":{"$error":"#N/A"}},{"$f":"VLOOKUP(B78,Emp_Master!$A$4:$F$500,6)","v":{"$error":"#N/A"}}]
[null,null,{"$f":"VLOOKUP(B79,Emp_Master!$A$4:$F$500,2)","v":{"$error":"#N/A"}},{"$f":"VLOOKUP(B79,Emp_Master!$A$4:$F$500,3)","v":{"$error":"#N/A"}},{"$f":"VLOOKUP(B79,Emp_Master!$A$4:$F$500,4)","v":{"$error":"#N/A"}},{"$f":"VLOOKUP(B79,Emp_Master!$A$4:$F$500,5)","v":{"$error":"#N/A"}},{"$f":"VLOOKUP(B79,Emp_Master!$A$4:$F$500,6)","v":{"$error":"#N/A"}}]
[null,null,{"$f":"VLOOKUP(B80,Emp_Master!$A$4:$F$500,2)","v":{"$error":"#N/A"}},{"$f":"VLOOKUP(B80,Emp_Master!$A$4:$F$500,3)","v":{"$error":"#N/A"}},{"$f":"VLOOKUP(B80,Emp_Master!$A$4:$F$500,4)","v":{"$error":"#N/A"}},{"$f":"VLOOKUP(B80,Emp_Master!$A$4:$F$500,5)","v":{"$error":"#N/A"}},{"$f":"VLOOKUP(B80,Emp_Master!$A$4:$F$500,6)","v":{"$error":"#N/A"}}]
[null,null,{"$f":"VLOOKUP(B81,Emp_Master!$A$4:$F$500,2)","v":{"$error":"#N/A"}},{"$f":"VLOOKUP(B81,Emp_Master!$A$4:$F$500,3)","v":{"$error":"#N/A"}},{"$f":"VLOOKUP(B81,Emp_Master!$A$4:$F$500,4)","v":{"$error":"#N/A"}},{"$f":"VLOOKUP(B81,Emp_Master!$A$4:$F$500,5)","v":{"$error":"#N/A"}},{"$f":"VLOOKUP(B81,Emp_Master!$A$4:$F$500,6)","v":{"$error":"#N/A"}}]
[null,null,{"$f":"VLOOKUP(B82,Emp_Master!$A$4:$F$500,2)","v":{"$error":"#N/A"}},{"$f":"VLOOKUP(B82,Emp_Master!$A$4:$F$500,3)","v":{"$error":"#N/A"}},{"$f":"VLOOKUP(B82,Emp_Master!$A$4:$F$500,4)","v":{"$error":"#N/A"}},{"$f":"VLOOKUP(B82,Emp_Master!$A$4:$F$500,5)","v":{"$error":"#N/A"}},{"$f":"VLOOKUP(B82,Emp_Master!$A$4:$F$500,6)","v":{"$error":"#N/A"}}]
[null,null,{"$f":"VLOOKUP(B83,Emp_Master!$A$4:$F$500,2)","v":{"$error":"#N/A"}},{"$f":"VLOOKUP(B83,Emp_Master!$A$4:$F$500,3)","v":{"$error":"#N/A"}},{"$f":"VLOOKUP(B83,Emp_Master!$A$4:$F$500,4)","v":{"$error":"#N/A"}},{"$f":"VLOOKUP(B83,Emp_Master!$A$4:$F$500,5)","v":{"$error":"#N/A"}},{"$f":"VLOOKUP(B83,Emp_Master!$A$4:$F$500,6)","v":{"$error":"#N/A"}}]
[null,null,{"$f":"VLOOKUP(B84,Emp_Master!$A$4:$F$500,2)","v":{"$error":"#N/A"}},{"$f":"VLOOKUP(B84,Emp_Master!$A$4:$F$500,3)","v":{"$error":"#N/A"}},{"$f":"VLOOKUP(B84,Emp_Master!$A$4:$F$500,4)","v":{"$error":"#N/A"}},{"$f":"VLOOKUP(B84,Emp_Master!$A$4:$F$500,5)","v":{"$error":"#N/A"}},{"$f":"VLOOKUP(B84,Emp_Master!$A$4:$F$500,6)","v":{"$error":"#N/A"}}]
[null,null,{"$f":"VLOOKUP(B85,Emp_Master!$A$4:$F$500,2)","v":{"$error":"#N/A"}},{"$f":"VLOOKUP(B85,Emp_Master!$A$4:$F$500,3)","v":{"$error":"#N/A"}},{"$f":"VLOOKUP(B85,Emp_Master!$A$4:$F$500,4)","v":{"$error":"#N/A"}},{"$f":"VLOOKUP(B85,Emp_Master!$A$4:$F$500,5)","v":{"$error":"#N/A"}},{"$f":"VLOOKUP(B85,Emp_Master!$A$4:$F$500,6)","v":{"$error":"#N/A"}}]
[null,null,{"$f":"VLOOKUP(B86,Emp_Master!$A$4:$F$500,2)","v":{"$error":"#N/A"}},{"$f":"VLOOKUP(B86,Emp_Master!$A$4:$F$500,3)","v":{"$error":"#N/A"}},{"$f":"VLOOKUP(B86,Emp_Master!$A$4:$F$500,4)","v":{"$error":"#N/A"}},{"$f":"VLOOKUP(B86,Emp_Master!$A$4:$F$500,5)","v":{"$error":"#N/A"}},{"$f":"VLOOKUP(B86,Emp_Master!$A$4:$F$500,6)","v":{"$error":"#N/A"}}]
[null,null,{"$f":"VLOOKUP(B87,Emp_Master!$A$4:$F$500,2)","v":{"$error":"#N/A"}},{"$f":"VLOOKUP(B87,Emp_Master!$A$4:$F$500,3)","v":{"$error":"#N/A"}},{"$f":"VLOOKUP(B87,Emp_Master!$A$4:$F$500,4)","v":{"$error":"#N/A"}},{"$f":"VLOOKUP(B87,Emp_Master!$A$4:$F$500,5)","v":{"$error":"#N/A"}},{"$f":"VLOOKUP(B87,Emp_Master!$A$4:$F$500,6)","v":{"$error":"#N/A"}}]
[null,null,{"$f":"VLOOKUP(B88,Emp_Master!$A$4:$F$500,2)","v":{"$error":"#N/A"}},{"$f":"VLOOKUP(B88,Emp_Master!$A$4:$F$500,3)","v":{"$error":"#N/A"}},{"$f":"VLOOKUP(B88,Emp_Master!$A$4:$F$500,4)","v":{"$error":"#N/A"}},{"$f":"VLOOKUP(B88,Emp_Master!$A$4:$F$500,5)","v":{"$error":"#N/A"}},{"$f":"VLOOKUP(B88,Emp_Master!$A$4:$F$500,6)","v":{"$error":"#N/A"}}]
[null,null,{"$f":"VLOOKUP(B89,Emp_Master!$A$4:$F$500,2)","v":{"$error":"#N/A"}},{"$f":"VLOOKUP(B89,Emp_Master!$A$4:$F$500,3)","v":{"$error":"#N/A"}},{"$f":"VLOOKUP(B89,Emp_Master!$A$4:$F$500,4)","v":{"$error":"#N/A"}},{"$f":"VLOOKUP(B89,Emp_Master!$A$4:$F$500,5)","v":{"$error":"#N/A"}},{"$f":"VLOOKUP(B89,Emp_Master!$A$4:$F$500,6)","v":{"$error":"#N/A"}}]
[null,null,{"$f":"VLOOKUP(B90,Emp_Master!$A$4:$F$500,2)","v":{"$error":"#N/A"}},{"$f":"VLOOKUP(B90,Emp_Master!$A$4:$F$500,3)","v":{"$error":"#N/A"}},{"$f":"VLOOKUP(B90,Emp_Master!$A$4:$F$500,4)","v":{"$error":"#N/A"}},{"$f":"VLOOKUP(B90,Emp_Master!$A$4:$F$500,5)","v":{"$error":"#N/A"}},{"$f":"VLOOKUP(B90,Emp_Master!$A$4:$F$500,6)","v":{"$error":"#N/A"}}]
[null,null,{"$f":"VLOOKUP(B91,Emp_Master!$A$4:$F$500,2)","v":{"$error":"#N/A"}},{"$f":"VLOOKUP(B91,Emp_Master!$A$4:$F$500,3)","v":{"$error":"#N/A"}},{"$f":"VLOOKUP(B91,Emp_Master!$A$4:$F$500,4)","v":{"$error":"#N/A"}},{"$f":"VLOOKUP(B91,Emp_Master!$A$4:$F$500,5)","v":{"$error":"#N/A"}},{"$f":"VLOOKUP(B91,Emp_Master!$A$4:$F$500,6)","v":{"$error":"#N/A"}}]
[null,null,{"$f":"VLOOKUP(B92,Emp_Master!$A$4:$F$500,2)","v":{"$error":"#N/A"}},{"$f":"VLOOKUP(B92,Emp_Master!$A$4:$F$500,3)","v":{"$error":"#N/A"}},{"$f":"VLOOKUP(B92,Emp_Master!$A$4:$F$500,4)","v":{"$error":"#N/A"}},{"$f":"VLOOKUP(B92,Emp_Master!$A$4:$F$500,5)","v":{"$error":"#N/A"}},{"$f":"VLOOKUP(B92,Emp_Master!$A$4:$F$500,6)","v":{"$error":"#N/A"}}]
[null,null,{"$f":"VLOOKUP(B93,Emp_Master!$A$4:$F$500,2)","v":{"$error":"#N/A"}},{"$f":"VLOOKUP(B93,Emp_Master!$A$4:$F$500,3)","v":{"$error":"#N/A"}},{"$f":"VLOOKUP(B93,Emp_Master!$A$4:$F$500,4)","v":{"$error":"#N/A"}},{"$f":"VLOOKUP(B93,Emp_Master!$A$4:$F$500,5)","v":{"$error":"#N/A"}},{"$f":"VLOOKUP(B93,Emp_Master!$A$4:$F$500,6)","v":{"$error":"#N/A"}}]
[null,null,{"$f":"VLOOKUP(B94,Emp_Master!$A$4:$F$500,2)","v":{"$error":"#N/A"}},{"$f":"VLOOKUP(B94,Emp_Master!$A$4:$F$500,3)","v":{"$error":"#N/A"}},{"$f":"VLOOKUP(B94,Emp_Master!$A$4:$F$500,4)","v":{"$error":"#N/A"}},{"$f":"VLOOKUP(B94,Emp_Master!$A$4:$F$500,5)","v":{"$error":"#N/A"}},{"$f":"VLOOKUP(B94,Emp_Master!$A$4:$F$500,6)","v":{"$error":"#N/A"}}]
[null,null,{"$f":"VLOOKUP(B95,Emp_Master!$A$4:$F$500,2)","v":{"$error":"#N/A"}},{"$f":"VLOOKUP(B95,Emp_Master!$A$4:$F$500,3)","v":{"$error":"#N/A"}},{"$f":"VLOOKUP(B95,Emp_Master!$A$4:$F$500,4)","v":{"$error":"#N/A"}},{"$f":"VLOOKUP(B95,Emp_Master!$A$4:$F$500,5)","v":{"$error":"#N/A"}},{"$f":"VLOOKUP(B95,Emp_Master!$A$4:$F$500,6)","v":{"$error":"#N/A"}}]
[null,null,{"$f":"VLOOKUP(B96,Emp_Master!$A$4:$F$500,2)","v":{"$error":"#N/A"}},{"$f":"VLOOKUP(B96,Emp_Master!$A$4:$F$500,3)","v":{"$error":"#N/A"}},{"$f":"VLOOKUP(B96,Emp_Master!$A$4:$F$500,4)","v":{"$error":"#N/A"}},{"$f":"VLOOKUP(B96,Emp_Master!$A$4:$F$500,5)","v":{"$error":"#N/A"}},{"$f":"VLOOKUP(B96,Emp_Master!$A$4:$F$500,6)","v":{"$error":"#N/A"}}]
[null,null,{"$f":"VLOOKUP(B97,Emp_Master!$A$4:$F$500,2)","v":{"$error":"#N/A"}},{"$f":"VLOOKUP(B97,Emp_Master!$A$4:$F$500,3)","v":{"$error":"#N/A"}},{"$f":"VLOOKUP(B97,Emp_Master!$A$4:$F$500,4)","v":{"$error":"#N/A"}},{"$f":"VLOOKUP(B97,Emp_Master!$A$4:$F$500,5)","v":{"$error":"#N/A"}},{"$f":"VLOOKUP(B97,Emp_Master!$A$4:$F$500,6)","v":{"$error":"#N/A"}}]
[null,null,{"$f":"VLOOKUP(B98,Emp_Master!$A$4:$F$500,2)","v":{"$error":"#N/A"}},{"$f":"VLOOKUP(B98,Emp_Master!$A$4:$F$500,3)","v":{"$error":"#N/A"}},{"$f":"VLOOKUP(B98,Emp_Master!$A$4:$F$500,4)","v":{"$error":"#N/A"}},{"$f":"VLOOKUP(B98,Emp_Master!$A$4:$F$500,5)","v":{"$error":"#N/A"}},{"$f":"VLOOKUP(B98,Emp_Master!$A$4:$F$500,6)","v":{"$error":"#N/A"}}]
[null,null,{"$f":"VLOOKUP(B99,Emp_Master!$A$4:$F$500,2)","v":{"$error":"#N/A"}},{"$f":"VLOOKUP(B99,Emp_Master!$A$4:$F$500,3)","v":{"$error":"#N/A"}},{"$f":"VLOOKUP(B99,Emp_Master!$A$4:$F$500,4)","v":{"$error":"#N/A"}},{"$f":"VLOOKUP(B99,Emp_Master!$A$4:$F$500,5)","v":{"$error":"#N/A"}},{"$f":"VLOOKUP(B99,Emp_Master!$A$4:$F$500,6)","v":{"$error":"#N/A"}}]
[null,null,{"$f":"VLOOKUP(B100,Emp_Master!$A$4:$F$500,2)","v":{"$error":"#N/A"}},{"$f":"VLOOKUP(B100,Emp_Master!$A$4:$F$500,3)","v":{"$error":"#N/A"}},{"$f":"VLOOKUP(B100,Emp_Master!$A$4:$F$500,4)","v":{"$error":"#N/A"}},{"$f":"VLOOKUP(B100,Emp_Master!$A$4:$F$500,5)","v":{"$error":"#N/A"}},{"$f":"VLOOKUP(B100,Emp_Master!$A$4:$F$500,6)","v":{"$error":"#N/A"}}]
[null,null,{"$f":"VLOOKUP(B101,Emp_Master!$A$4:$F$500,2)","v":{"$error":"#N/A"}},{"$f":"VLOOKUP(B101,Emp_Master!$A$4:$F$500,3)","v":{"$error":"#N/A"}},{"$f":"VLOOKUP(B101,Emp_Master!$A$4:$F$500,4)","v":{"$error":"#N/A"}},{"$f":"VLOOKUP(B101,Emp_Master!$A$4:$F$500,5)","v":{"$error":"#N/A"}},{"$f":"VLOOKUP(B101,Emp_Master!$A$4:$F$500,6)","v":{"$error":"#N/A"}}]
[null,null,{"$f":"VLOOKUP(B102,Emp_Master!$A$4:$F$500,2)","v":{"$error":"#N/A"}},{"$f":"VLOOKUP(B102,Emp_Master!$A$4:$F$500,3)","v":{"$error":"#N/A"}},{"$f":"VLOOKUP(B102,Emp_Master!$A$4:$F$500,4)","v":{"$error":"#N/A"}},{"$f":"VLOOKUP(B102,Emp_Master!$A$4:$F$500,5)","v":{"$error":"#N/A"}},{"$f":"VLOOKUP(B102,Emp_Master!$A$4:$F$500,6)","v":{"$error":"#N/A"}}]
[null,null,{"$f":"VLOOKUP(B103,Emp_Master!$A$4:$F$500,2)","v":{"$error":"#N/A"}},{"$f":"VLOOKUP(B103,Emp_Master!$A$4:$F$500,3)","v":{"$error":"#N/A"}},{"$f":"VLOOKUP(B103,Emp_Master!$A$4:$F$500,4)","v":{"$error":"#N/A"}},{"$f":"VLOOKUP(B103,Emp_Master!$A$4:$F$500,5)","v":{"$error":"#N/A"}},{"$f":"VLOOKUP(B103,Emp_Master!$A$4:$F$500,6)","v":{"$error":"#N/A"}}]
[null,null,{"$f":"VLOOKUP(B104,Emp_Master!$A$4:$F$500,2)","v":{"$error":"#N/A"}},{"$f":"VLOOKUP(B104,Emp_Master!$A$4:$F$500,3)","v":{"$error":"#N/A"}},{"$f":"VLOOKUP(B104,Emp_Master!$A$4:$F$500,4)","v":{"$error":"#N/A"}},{"$f":"VLOOKUP(B104,Emp_Master!$A$4:$F$500,5)","v":{"$error":"#N/A"}},{"$f":"VLOOKUP(B104,Emp_Master!$A$4:$F$500,6)","v":{"$error":"#N/A"}}]
[null,null,{"$f":"VLOOKUP(B105,Emp_Master!$A$4:$F$500,2)","v":{"$error":"#N/A"}},{"$f":"VLOOKUP(B105,Emp_Master!$A$4:$F$500,3)","v":{"$error":"#N/A"}},{"$f":"VLOOKUP(B105,Emp_Master!$A$4:$F$500,4)","v":{"$error":"#N/A"}},{"$f":"VLOOKUP(B105,Emp_Master!$A$4:$F$500,5)","v":{"$error":"#N/A"}},{"$f":"VLOOKUP(B105,Emp_Master!$A$4:$F$500,6)","v":{"$error":"#N/A"}}]
[null,null,{"$f":"VLOOKUP(B106,Emp_Master!$A$4:$F$500,2)","v":{"$error":"#N/A"}},{"$f":"VLOOKUP(B106,Emp_Master!$A$4:$F$500,3)","v":{"$error":"#N/A"}},{"$f":"VLOOKUP(B106,Emp_Master!$A$4:$F$500,4)","v":{"$error":"#N/A"}},{"$f":"VLOOKUP(B106,Emp_Master!$A$4:$F$500,5)","v":{"$error":"#N/A"}},{"$f":"VLOOKUP(B106,Emp_Master!$A$4:$F$500,6)","v":{"$error":"#N/A"}}]
[null,null,{"$f":"VLOOKUP(B107,Emp_Master!$A$4:$F$500,2)","v":{"$error":"#N/A"}},{"$f":"VLOOKUP(B107,Emp_Master!$A$4:$F$500,3)","v":{"$error":"#N/A"}},{"$f":"VLOOKUP(B107,Emp_Master!$A$4:$F$500,4)","v":{"$error":"#N/A"}},{"$f":"VLOOKUP(B107,Emp_Master!$A$4:$F$500,5)","v":{"$error":"#N/A"}},{"$f":"VLOOKUP(B107,Emp_Master!$A$4:$F$500,6)","v":{"$error":"#N/A"}}]
[null,null,{"$f":"VLOOKUP(B108,Emp_Master!$A$4:$F$500,2)","v":{"$error":"#N/A"}},{"$f":"VLOOKUP(B108,Emp_Master!$A$4:$F$500,3)","v":{"$error":"#N/A"}},{"$f":"VLOOKUP(B108,Emp_Master!$A$4:$F$500,4)","v":{"$error":"#N/A"}},{"$f":"VLOOKUP(B108,Emp_Master!$A$4:$F$500,5)","v":{"$error":"#N/A"}},{"$f":"VLOOKUP(B108,Emp_Master!$A$4:$F$500,6)","v":{"$error":"#N/A"}}]
[null,null,{"$f":"VLOOKUP(B109,Emp_Master!$A$4:$F$500,2)","v":{"$error":"#N/A"}},{"$f":"VLOOKUP(B109,Emp_Master!$A$4:$F$500,3)","v":{"$error":"#N/A"}},{"$f":"VLOOKUP(B109,Emp_Master!$A$4:$F$500,4)","v":{"$error":"#N/A"}},{"$f":"VLOOKUP(B109,Emp_Master!$A$4:$F$500,5)","v":{"$error":"#N/A"}},{"$f":"VLOOKUP(B109,Emp_Master!$A$4:$F$500,6)","v":{"$error":"#N/A"}}]
[null,null,{"$f":"VLOOKUP(B110,Emp_Master!$A$4:$F$500,2)","v":{"$error":"#N/A"}},{"$f":"VLOOKUP(B110,Emp_Master!$A$4:$F$500,3)","v":{"$error":"#N/A"}},{"$f":"VLOOKUP(B110,Emp_Master!$A$4:$F$500,4)","v":{"$error":"#N/A"}},{"$f":"VLOOKUP(B110,Emp_Master!$A$4:$F$500,5)","v":{"$error":"#N/A"}},{"$f":"VLOOKUP(B110,Emp_Master!$A$4:$F$500,6)","v":{"$error":"#N/A"}}]
[null,null,{"$f":"VLOOKUP(B111,Emp_Master!$A$4:$F$500,2)","v":{"$error":"#N/A"}},{"$f":"VLOOKUP(B111,Emp_Master!$A$4:$F$500,3)","v":{"$error":"#N/A"}},{"$f":"VLOOKUP(B111,Emp_Master!$A$4:$F$500,4)","v":{"$error":"#N/A"}},{"$f":"VLOOKUP(B111,Emp_Master!$A$4:$F$500,5)","v":{"$error":"#N/A"}},{"$f":"VLOOKUP(B111,Emp_Master!$A$4:$F$500,6)","v":{"$error":"#N/A"}}]
[null,null,{"$f":"VLOOKUP(B112,Emp_Master!$A$4:$F$500,2)","v":{"$error":"#N/A"}},{"$f":"VLOOKUP(B112,Emp_Master!$A$4:$F$500,3)","v":{"$error":"#N/A"}},{"$f":"VLOOKUP(B112,Emp_Master!$A$4:$F$500,4)","v":{"$error":"#N/A"}},{"$f":"VLOOKUP(B112,Emp_Master!$A$4:$F$500,5)","v":{"$error":"#N/A"}},{"$f":"VLOOKUP(B112,Emp_Master!$A$4:$F$500,6)","v":{"$error":"#N/A"}}]
[null,null,{"$f":"VLOOKUP(B113,Emp_Master!$A$4:$F$500,2)","v":{"$error":"#N/A"}},{"$f":"VLOOKUP(B113,Emp_Master!$A$4:$F$500,3)","v":{"$error":"#N/A"}},{"$f":"VLOOKUP(B113,Emp_Master!$A$4:$F$500,4)","v":{"$error":"#N/A"}},{"$f":"VLOOKUP(B113,Emp_Master!$A$4:$F$500,5)","v":{"$error":"#N/A"}},{"$f":"VLOOKUP(B113,Emp_Master!$A$4:$F$500,6)","v":{"$error":"#N/A"}}]
[null,null,{"$f":"VLOOKUP(B114,Emp_Master!$A$4:$F$500,2)","v":{"$error":"#N/A"}},{"$f":"VLOOKUP(B114,Emp_Master!$A$4:$F$500,3)","v":{"$error":"#N/A"}},{"$f":"VLOOKUP(B114,Emp_Master!$A$4:$F$500,4)","v":{"$error":"#N/A"}},{"$f":"VLOOKUP(B114,Emp_Master!$A$4:$F$500,5)","v":{"$error":"#N/A"}},{"$f":"VLOOKUP(B114,Emp_Master!$A$4:$F$500,6)","v":{"$error":"#N/A"}}]
[null,null,{"$f":"VLOOKUP(B115,Emp_Master!$A$4:$F$500,2)","v":{"$error":"#N/A"}},{"$f":"VLOOKUP(B115,Emp_Master!$A$4:$F$500,3)","v":{"$error":"#N/A"}},{"$f":"VLOOKUP(B115,Emp_Master!$A$4:$F$500,4)","v":{"$error":"#N/A"}},{"$f":"VLOOKUP(B115,Emp_Master!$A$4:$F$500,5)","v":{"$error":"#N/A"}},{"$f":"VLOOKUP(B115,Emp_Master!$A$4:$F$500,6)","v":{"$error":"#N/A"}}]
[null,null,{"$f":"VLOOKUP(B116,Emp_Master!$A$4:$F$500,2)","v":{"$error":"#N/A"}},{"$f":"VLOOKUP(B116,Emp_Master!$A$4:$F$500,3)","v":{"$error":"#N/A"}},{"$f":"VLOOKUP(B116,Emp_Master!$A$4:$F$500,4)","v":{"$error":"#N/A"}},{"$f":"VLOOKUP(B116,Emp_Master!$A$4:$F$500,5)","v":{"$error":"#N/A"}},{"$f":"VLOOKUP(B116,Emp_Master!$A$4:$F$500,6)","v":{"$error":"#N/A"}}]
[null,null,{"$f":"VLOOKUP(B117,Emp_Master!$A$4:$F$500,2)","v":{"$error":"#N/A"}},{"$f":"VLOOKUP(B117,Emp_Master!$A$4:$F$500,3)","v":{"$error":"#N/A"}},{"$f":"VLOOKUP(B117,Emp_Master!$A$4:$F$500,4)","v":{"$error":"#N/A"}},{"$f":"VLOOKUP(B117,Emp_Master!$A$4:$F$500,5)","v":{"$error":"#N/A"}},{"$f":"VLOOKUP(B117,Emp_Master!$A$4:$F$500,6)","v":{"$error":"#N/A"}}]
[null,null,{"$f":"VLOOKUP(B118,Emp_Master!$A$4:$F$500,2)","v":{"$error":"#N/A"}},{"$f":"VLOOKUP(B118,Emp_Master!$A$4:$F$500,3)","v":{"$error":"#N/A"}},{"$f":"VLOOKUP(B118,Emp_Master!$A$4:$F$500,4)","v":{"$error":"#N/A"}},{"$f":"VLOOKUP(B118,Emp_Master!$A$4:$F$500,5)","v":{"$error":"#N/A"}},{"$f":"VLOOKUP(B118,Emp_Master!$A$4:$F$500,6)","v":{"$error":"#N/A"}}]
[null,null,{"$f":"VLOOKUP(B119,Emp_Master!$A$4:$F$500,2)","v":{"$error":"#N/A"}},{"$f":"VLOOKUP(B119,Emp_Master!$A$4:$F$500,3)","v":{"$error":"#N/A"}},{"$f":"VLOOKUP(B119,Emp_Master!$A$4:$F$500,4)","v":{"$error":"#N/A"}},{"$f":"VLOOKUP(B119,Emp_Master!$A$4:$F$500,5)","v":{"$error":"#N/A"}},{"$f":"VLOOKUP(B119,Emp_Master!$A$4:$F$500,6)","v":{"$error":"#N/A"}}]
[null,null,{"$f":"VLOOKUP(B120,Emp_Master!$A$4:$F$500,2)","v":{"$error":"#N/A"}},{"$f":"VLOOKUP(B120,Emp_Master!$A$4:$F$500,3)","v":{"$error":"#N/A"}},{"$f":"VLOOKUP(B120,Emp_Master!$A$4:$F$500,4)","v":{"$error":"#N/A"}},{"$f":"VLOOKUP(B120,Emp_Master!$A$4:$F$500,5)","v":{"$error":"#N/A"}},{"$f":"VLOOKUP(B120,Emp_Master!$A$4:$F$500,6)","v":{"$error":"#N/A"}}]
[null,null,{"$f":"VLOOKUP(B121,Emp_Master!$A$4:$F$500,2)","v":{"$error":"#N/A"}},{"$f":"VLOOKUP(B121,Emp_Master!$A$4:$F$500,3)","v":{"$error":"#N/A"}},{"$f":"VLOOKUP(B121,Emp_Master!$A$4:$F$500,4)","v":{"$error":"#N/A"}},{"$f":"VLOOKUP(B121,Emp_Master!$A$4:$F$500,5)","v":{"$error":"#N/A"}},{"$f":"VLOOKUP(B121,Emp_Master!$A$4:$F$500,6)","v":{"$error":"#N/A"}}]
[null,null,{"$f":"VLOOKUP(B122,Emp_Master!$A$4:$F$500,2)","v":{"$error":"#N/A"}},{"$f":"VLOOKUP(B122,Emp_Master!$A$4:$F$500,3)","v":{"$error":"#N/A"}},{"$f":"VLOOKUP(B122,Emp_Master!$A$4:$F$500,4)","v":{"$error":"#N/A"}},{"$f":"VLOOKUP(B122,Emp_Master!$A$4:$F$500,5)","v":{"$error":"#N/A"}},{"$f":"VLOOKUP(B122,Emp_Master!$A$4:$F$500,6)","v":{"$error":"#N/A"}}]
[null,null,{"$f":"VLOOKUP(B123,Emp_Master!$A$4:$F$500,2)","v":{"$error":"#N/A"}},{"$f":"VLOOKUP(B123,Emp_Master!$A$4:$F$500,3)","v":{"$error":"#N/A"}},{"$f":"VLOOKUP(B123,Emp_Master!$A$4:$F$500,4)","v":{"$error":"#N/A"}},{"$f":"VLOOKUP(B123,Emp_Master!$A$4:$F$500,5)","v":{"$error":"#N/A"}},{"$f":"VLOOKUP(B123,Emp_Master!$A$4:$F$500,6)","v":{"$error":"#N/A"}}]
[null,null,{"$f":"VLOOKUP(B124,Emp_Master!$A$4:$F$500,2)","v":{"$error":"#N/A"}},{"$f":"VLOOKUP(B124,Emp_Master!$A$4:$F$500,3)","v":{"$error":"#N/A"}},{"$f":"VLOOKUP(B124,Emp_Master!$A$4:$F$500,4)","v":{"$error":"#N/A"}},{"$f":"VLOOKUP(B124,Emp_Master!$A$4:$F$500,5)","v":{"$error":"#N/A"}},{"$f":"VLOOKUP(B124,Emp_Master!$A$4:$F$500,6)","v":{"$error":"#N/A"}}]
[null,null,{"$f":"VLOOKUP(B125,Emp_Master!$A$4:$F$500,2)","v":{"$error":"#N/A"}},{"$f":"VLOOKUP(B125,Emp_Master!$A$4:$F$500,3)","v":{"$error":"#N/A"}},{"$f":"VLOOKUP(B125,Emp_Master!$A$4:$F$500,4)","v":{"$error":"#N/A"}},{"$f":"VLOOKUP(B125,Emp_Master!$A$4:$F$500,5)","v":{"$error":"#N/A"}},{"$f":"VLOOKUP(B125,Emp_Master!$A$4:$F$500,6)","v":{"$error":"#N/A"}}]
[null,null,{"$f":"VLOOKUP(B126,Emp_Master!$A$4:$F$500,2)","v":{"$error":"#N/A"}},{"$f":"VLOOKUP(B126,Emp_Master!$A$4:$F$500,3)","v":{"$error":"#N/A"}},{"$f":"VLOOKUP(B126,Emp_Master!$A$4:$F$500,4)","v":{"$error":"#N/A"}},{"$f":"VLOOKUP(B126,Emp_Master!$A$4:$F$500,5)","v":{"$error":"#N/A"}},{"$f":"VLOOKUP(B126,Emp_Master!$A$4:$F$500,6)","v":{"$error":"#N/A"}}]
[null,null,{"$f":"VLOOKUP(B127,Emp_Master!$A$4:$F$500,2)","v":{"$error":"#N/A"}},{"$f":"VLOOKUP(B127,Emp_Master!$A$4:$F$500,3)","v":{"$error":"#N/A"}},{"$f":"VLOOKUP(B127,Emp_Master!$A$4:$F$500,4)","v":{"$error":"#N/A"}},{"$f":"VLOOKUP(B127,Emp_Master!$A$4:$F$500,5)","v":{"$error":"#N/A"}},{"$f":"VLOOKUP(B127,Emp_Master!$A$4:$F$500,6)","v":{"$error":"#N/A"}}]
[null,null,{"$f":"VLOOKUP(B128,Emp_Master!$A$4:$F$500,2)","v":{"$error":"#N/A"}},{"$f":"VLOOKUP(B128,Emp_Master!$A$4:$F$500,3)","v":{"$error":"#N/A"}},{"$f":"VLOOKUP(B128,Emp_Master!$A$4:$F$500,4)","v":{"$error":"#N/A"}},{"$f":"VLOOKUP(B128,Emp_Master!$A$4:$F$500,5)","v":{"$error":"#N/A"}},{"$f":"VLOOKUP(B128,Emp_Master!$A$4:$F$500,6)","v":{"$error":"#N/A"}}]
[null,null,{"$f":"VLOOKUP(B129,Emp_Master!$A$4:$F$500,2)","v":{"$error":"#N/A"}},{"$f":"VLOOKUP(B129,Emp_Master!$A$4:$F$500,3)","v":{"$error":"#N/A"}},{"$f":"VLOOKUP(B129,Emp_Master!$A$4:$F$500,4)","v":{"$error":"#N/A"}},{"$f":"VLOOKUP(B129,Emp_Master!$A$4:$F$500,5)","v":{"$error":"#N/A"}},{"$f":"VLOOKUP(B129,Emp_Master!$A$4:$F$500,6)","v":{"$error":"#N/A"}}]
[null,null,{"$f":"VLOOKUP(B130,Emp_Master!$A$4:$F$500,2)","v":{"$error":"#N/A"}},{"$f":"VLOOKUP(B130,Emp_Master!$A$4:$F$500,3)","v":{"$error":"#N/A"}},{"$f":"VLOOKUP(B130,Emp_Master!$A$4:$F$500,4)","v":{"$error":"#N/A"}},{"$f":"VLOOKUP(B130,Emp_Master!$A$4:$F$500,5)","v":{"$error":"#N/A"}},{"$f":"VLOOKUP(B130,Emp_Master!$A$4:$F$500,6)","v":{"$error":"#N/A"}}]
[null,null,{"$f":"VLOOKUP(B131,Emp_Master!$A$4:$F$500,2)","v":{"$error":"#N/A"}},{"$f":"VLOOKUP(B131,Emp_Master!$A$4:$F$500,3)","v":{"$error":"#N/A"}},{"$f":"VLOOKUP(B131,Emp_Master!$A$4:$F$500,4)","v":{"$error":"#N/A"}},{"$f":"VLOOKUP(B131,Emp_Master!$A$4:$F$500,5)","v":{"$error":"#N/A"}},{"$f":"VLOOKUP(B131,Emp_Master!$A$4:$F$500,6)","v":{"$error":"#N/A"}}]
[null,null,{"$f":"VLOOKUP(B132,Emp_Master!$A$4:$F$500,2)","v":{"$error":"#N/A"}},{"$f":"VLOOKUP(B132,Emp_Master!$A$4:$F$500,3)","v":{"$error":"#N/A"}},{"$f":"VLOOKUP(B132,Emp_Master!$A$4:$F$500,4)","v":{"$error":"#N/A"}},{"$f":"VLOOKUP(B132,Emp_Master!$A$4:$F$500,5)","v":{"$error":"#N/A"}},{"$f":"VLOOKUP(B132,Emp_Master!$A$4:$F$500,6)","v":{"$error":"#N/A"}}]
[null,null,{"$f":"VLOOKUP(B133,Emp_Master!$A$4:$F$500,2)","v":{"$error":"#N/A"}},{"$f":"VLOOKUP(B133,Emp_Master!$A$4:$F$500,3)","v":{"$error":"#N/A"}},{"$f":"VLOOKUP(B133,Emp_Master!$A$4:$F$500,4)","v":{"$error":"#N/A"}},{"$f":"VLOOKUP(B133,Emp_Master!$A$4:$F$500,5)","v":{"$error":"#N/A"}},{"$f":"VLOOKUP(B133,Emp_Master!$A$4:$F$500,6)","v":{"$error":"#N/A"}}]
[null,null,{"$f":"VLOOKUP(B134,Emp_Master!$A$4:$F$500,2)","v":{"$error":"#N/A"}},{"$f":"VLOOKUP(B134,Emp_Master!$A$4:$F$500,3)","v":{"$error":"#N/A"}},{"$f":"VLOOKUP(B134,Emp_Master!$A$4:$F$500,4)","v":{"$error":"#N/A"}},{"$f":"VLOOKUP(B134,Emp_Master!$A$4:$F$500,5)","v":{"$error":"#N/A"}},{"$f":"VLOOKUP(B134,Emp_Master!$A$4:$F$500,6)","v":{"$error":"#N/A"}}]
[null,null,{"$f":"VLOOKUP(B135,Emp_Master!$A$4:$F$500,2)","v":{"$error":"#N/A"}},{"$f":"VLOOKUP(B135,Emp_Master!$A$4:$F$500,3)","v":{"$error":"#N/A"}},{"$f":"VLOOKUP(B135,Emp_Master!$A$4:$F$500,4)","v":{"$error":"#N/A"}},{"$f":"VLOOKUP(B135,Emp_Master!$A$4:$F$500,5)","v":{"$error":"#N/A"}},{"$f":"VLOOKUP(B135,Emp_Master!$A$4:$F$500,6)","v":{"$error":"#N/A"}}]
[null,null,{"$f":"VLOOKUP(B136,Emp_Master!$A$4:$F$500,2)","v":{"$error":"#N/A"}},{"$f":"VLOOKUP(B136,Emp_Master!$A$4:$F$500,3)","v":{"$error":"#N/A"}},{"$f":"VLOOKUP(B136,Emp_Master!$A$4:$F$500,4)","v":{"$error":"#N/A"}},{"$f":"VLOOKUP(B136,Emp_Master!$A$4:$F$500,5)","v":{"$error":"#N/A"}},{"$f":"VLOOKUP(B136,Emp_Master!$A$4:$F$500,6)","v":{"$error":"#N/A"}}]
[null,null,{"$f":"VLOOKUP(B137,Emp_Master!$A$4:$F$500,2)","v":{"$error":"#N/A"}},{"$f":"VLOOKUP(B137,Emp_Master!$A$4:$F$500,3)","v":{"$error":"#N/A"}},{"$f":"VLOOKUP(B137,Emp_Master!$A$4:$F$500,4)","v":{"$error":"#N/A"}},{"$f":"VLOOKUP(B137,Emp_Master!$A$4:$F$500,5)","v":{"$error":"#N/A"}},{"$f":"VLOOKUP(B137,Emp_Master!$A$4:$F$500,6)","v":{"$error":"#N/A"}}]
[null,null,{"$f":"VLOOKUP(B138,Emp_Master!$A$4:$F$500,2)","v":{"$error":"#N/A"}},{"$f":"VLOOKUP(B138,Emp_Master!$A$4:$F$500,3)","v":{"$error":"#N/A"}},{"$f":"VLOOKUP(B138,Emp_Master!$A$4:$F$500,4)","v":{"$error":"#N/A"}},{"$f":"VLOOKUP(B138,Emp_Master!$A$4:$F$500,5)","v":{"$error":"#N/A"}},{"$f":"VLOOKUP(B138,Emp_Master!$A$4:$F$500,6)","v":{"$error":"#N/A"}}]
[null,null,{"$f":"VLOOKUP(B139,Emp_Master!$A$4:$F$500,2)","v":{"$error":"#N/A"}},{"$f":"VLOOKUP(B139,Emp_Master!$A$4:$F$500,3)","v":{"$error":"#N/A"}},{"$f":"VLOOKUP(B139,Emp_Master!$A$4:$F$500,4)","v":{"$error":"#N/A"}},{"$f":"VLOOKUP(B139,Emp_Master!$A$4:$F$500,5)","v":{"$error":"#N/A"}},{"$f":"VLOOKUP(B139,Emp_Master!$A$4:$F$500,6)","v":{"$error":"#N/A"}}]
[null,null,{"$f":"VLOOKUP(B140,Emp_Master!$A$4:$F$500,2)","v":{"$error":"#N/A"}},{"$f":"VLOOKUP(B140,Emp_Master!$A$4:$F$500,3)","v":{"$error":"#N/A"}},{"$f":"VLOOKUP(B140,Emp_Master!$A$4:$F$500,4)","v":{"$error":"#N/A"}},{"$f":"VLOOKUP(B140,Emp_Master!$A$4:$F$500,5)","v":{"$error":"#N/A"}},{"$f":"VLOOKUP(B140,Emp_Master!$A$4:$F$500,6)","v":{"$error":"#N/A"}}]
[null,null,{"$f":"VLOOKUP(B141,Emp_Master!$A$4:$F$500,2)","v":{"$error":"#N/A"}},{"$f":"VLOOKUP(B141,Emp_Master!$A$4:$F$500,3)","v":{"$error":"#N/A"}},{"$f":"VLOOKUP(B141,Emp_Master!$A$4:$F$500,4)","v":{"$error":"#N/A"}},{"$f":"VLOOKUP(B141,Emp_Master!$A$4:$F$500,5)","v":{"$error":"#N/A"}},{"$f":"VLOOKUP(B141,Emp_Master!$A$4:$F$500,6)","v":{"$error":"#N/A"}}]
[null,null,{"$f":"VLOOKUP(B142,Emp_Master!$A$4:$F$500,2)","v":{"$error":"#N/A"}},{"$f":"VLOOKUP(B142,Emp_Master!$A$4:$F$500,3)","v":{"$error":"#N/A"}},{"$f":"VLOOKUP(B142,Emp_Master!$A$4:$F$500,4)","v":{"$error":"#N/A"}},{"$f":"VLOOKUP(B142,Emp_Master!$A$4:$F$500,5)","v":{"$error":"#N/A"}},{"$f":"VLOOKUP(B142,Emp_Master!$A$4:$F$500,6)","v":{"$error":"#N/A"}}]
[null,null,{"$f":"VLOOKUP(B143,Emp_Master!$A$4:$F$500,2)","v":{"$error":"#N/A"}},{"$f":"VLOOKUP(B143,Emp_Master!$A$4:$F$500,3)","v":{"$error":"#N/A"}},{"$f":"VLOOKUP(B143,Emp_Master!$A$4:$F$500,4)","v":{"$error":"#N/A"}},{"$f":"VLOOKUP(B143,Emp_Master!$A$4:$F$500,5)","v":{"$error":"#N/A"}},{"$f":"VLOOKUP(B143,Emp_Master!$A$4:$F$500,6)","v":{"$error":"#N/A"}}]
[null,null,{"$f":"VLOOKUP(B144,Emp_Master!$A$4:$F$500,2)","v":{"$error":"#N/A"}},{"$f":"VLOOKUP(B144,Emp_Master!$A$4:$F$500,3)","v":{"$error":"#N/A"}},{"$f":"VLOOKUP(B144,Emp_Master!$A$4:$F$500,4)","v":{"$error":"#N/A"}},{"$f":"VLOOKUP(B144,Emp_Master!$A$4:$F$500,5)","v":{"$error":"#N/A"}},{"$f":"VLOOKUP(B144,Emp_Master!$A$4:$F$500,6)","v":{"$error":"#N/A"}}]
[null,null,{"$f":"VLOOKUP(B145,Emp_Master!$A$4:$F$500,2)","v":{"$error":"#N/A"}},{"$f":"VLOOKUP(B145,Emp_Master!$A$4:$F$500,3)","v":{"$error":"#N/A"}},{"$f":"VLOOKUP(B145,Emp_Master!$A$4:$F$500,4)","v":{"$error":"#N/A"}},{"$f":"VLOOKUP(B145,Emp_Master!$A$4:$F$500,5)","v":{"$error":"#N/A"}},{"$f":"VLOOKUP(B145,Emp_Master!$A$4:$F$500,6)","v":{"$error":"#N/A"}}]
[null,null,{"$f":"VLOOKUP(B146,Emp_Master!$A$4:$F$500,2)","v":{"$error":"#N/A"}},{"$f":"VLOOKUP(B146,Emp_Master!$A$4:$F$500,3)","v":{"$error":"#N/A"}},{"$f":"VLOOKUP(B146,Emp_Master!$A$4:$F$500,4)","v":{"$error":"#N/A"}},{"$f":"VLOOKUP(B146,Emp_Master!$A$4:$F$500,5)","v":{"$error":"#N/A"}},{"$f":"VLOOKUP(B146,Emp_Master!$A$4:$F$500,6)","v":{"$error":"#N/A"}}]
[null,null,{"$f":"VLOOKUP(B147,Emp_Master!$A$4:$F$500,2)","v":{"$error":"#N/A"}},{"$f":"VLOOKUP(B147,Emp_Master!$A$4:$F$500,3)","v":{"$error":"#N/A"}},{"$f":"VLOOKUP(B147,Emp_Master!$A$4:$F$500,4)","v":{"$error":"#N/A"}},{"$f":"VLOOKUP(B147,Emp_Master!$A$4:$F$500,5)","v":{"$error":"#N/A"}},{"$f":"VLOOKUP(B147,Emp_Master!$A$4:$F$500,6)","v":{"$error":"#N/A"}}]
[null,null,{"$f":"VLOOKUP(B148,Emp_Master!$A$4:$F$500,2)","v":{"$error":"#N/A"}},{"$f":"VLOOKUP(B148,Emp_Master!$A$4:$F$500,3)","v":{"$error":"#N/A"}},{"$f":"VLOOKUP(B148,Emp_Master!$A$4:$F$500,4)","v":{"$error":"#N/A"}},{"$f":"VLOOKUP(B148,Emp_Master!$A$4:$F$500,5)","v":{"$error":"#N/A"}},{"$f":"VLOOKUP(B148,Emp_Master!$A$4:$F$500,6)","v":{"$error":"#N/A"}}]
[null,null,{"$f":"VLOOKUP(B149,Emp_Master!$A$4:$F$500,2)","v":{"$error":"#N/A"}},{"$f":"VLOOKUP(B149,Emp_Master!$A$4:$F$500,3)","v":{"$error":"#N/A"}},{"$f":"VLOOKUP(B149,Emp_Master!$A$4:$F$500,4)","v":{"$error":"#N/A"}},{"$f":"VLOOKUP(B149,Emp_Master!$A$4:$F$500,5)","v":{"$error":"#N/A"}},{"$f":"VLOOKUP(B149,Emp_Master!$A$4:$F$500,6)","v":{"$error":"#N/A"}}]
[null,null,{"$f":"VLOOKUP(B150,Emp_Master!$A$4:$F$500,2)","v":{"$error":"#N/A"}},{"$f":"VLOOKUP(B150,Emp_Master!$A$4:$F$500,3)","v":{"$error":"#N/A"}},{"$f":"VLOOKUP(B150,Emp_Master!$A$4:$F$500,4)","v":{"$error":"#N/A"}},{"$f":"VLOOKUP(B150,Emp_Master!$A$4:$F$500,5)","v":{"$error":"#N/A"}},{"$f":"VLOOKUP(B150,Emp_Master!$A$4:$F$500,6)","v":{"$error":"#N/A"}}]
[null,null,{"$f":"VLOOKUP(B151,Emp_Master!$A$4:$F$500,2)","v":{"$error":"#N/A"}},{"$f":"VLOOKUP(B151,Emp_Master!$A$4:$F$500,3)","v":{"$error":"#N/A"}},{"$f":"VLOOKUP(B151,Emp_Master!$A$4:$F$500,4)","v":{"$error":"#N/A"}},{"$f":"VLOOKUP(B151,Emp_Master!$A$4:$F$500,5)","v":{"$error":"#N/A"}},{"$f":"VLOOKUP(B151,Emp_Master!$A$4:$F$500,6)","v":{"$error":"#N/A"}}]
[null,null,{"$f":"VLOOKUP(B152,Emp_Master!$A$4:$F$500,2)","v":{"$error":"#N/A"}},{"$f":"VLOOKUP(B152,Emp_Master!$A$4:$F$500,3)","v":{"$error":"#N/A"}},{"$f":"VLOOKUP(B152,Emp_Master!$A$4:$F$500,4)","v":{"$error":"#N/A"}},{"$f":"VLOOKUP(B152,Emp_Master!$A$4:$F$500,5)","v":{"$error":"#N/A"}},{"$f":"VLOOKUP(B152,Emp_Master!$A$4:$F$500,6)","v":{"$error":"#N/A"}}]
[null,null,{"$f":"VLOOKUP(B153,Emp_Master!$A$4:$F$500,2)","v":{"$error":"#N/A"}},{"$f":"VLOOKUP(B153,Emp_Master!$A$4:$F$500,3)","v":{"$error":"#N/A"}},{"$f":"VLOOKUP(B153,Emp_Master!$A$4:$F$500,4)","v":{"$error":"#N/A"}},{"$f":"VLOOKUP(B153,Emp_Master!$A$4:$F$500,5)","v":{"$error":"#N/A"}},{"$f":"VLOOKUP(B153,Emp_Master!$A$4:$F$500,6)","v":{"$error":"#N/A"}}]
[null,null,{"$f":"VLOOKUP(B154,Emp_Master!$A$4:$F$500,2)","v":{"$error":"#N/A"}},{"$f":"VLOOKUP(B154,Emp_Master!$A$4:$F$500,3)","v":{"$error":"#N/A"}},{"$f":"VLOOKUP(B154,Emp_Master!$A$4:$F$500,4)","v":{"$error":"#N/A"}},{"$f":"VLOOKUP(B154,Emp_Master!$A$4:$F$500,5)","v":{"$error":"#N/A"}},{"$f":"VLOOKUP(B154,Emp_Master!$A$4:$F$500,6)","v":{"$error":"#N/A"}}]
[null,null,{"$f":"VLOOKUP(B155,Emp_Master!$A$4:$F$500,2)","v":{"$error":"#N/A"}},{"$f":"VLOOKUP(B155,Emp_Master!$A$4:$F$500,3)","v":{"$error":"#N/A"}},{"$f":"VLOOKUP(B155,Emp_Master!$A$4:$F$500,4)","v":{"$error":"#N/A"}},{"$f":"VLOOKUP(B155,Emp_Master!$A$4:$F$500,5)","v":{"$error":"#N/A"}},{"$f":"VLOOKUP(B155,Emp_Master!$A$4:$F$500,6)","v":{"$error":"#N/A"}}]
[null,null,{"$f":"VLOOKUP(B156,Emp_Master!$A$4:$F$500,2)","v":{"$error":"#N/A"}},{"$f":"VLOOKUP(B156,Emp_Master!$A$4:$F$500,3)","v":{"$error":"#N/A"}},{"$f":"VLOOKUP(B156,Emp_Master!$A$4:$F$500,4)","v":{"$error":"#N/A"}},{"$f":"VLOOKUP(B156,Emp_Master!$A$4:$F$500,5)","v":{"$error":"#N/A"}},{"$f":"VLOOKUP(B156,Emp_Master!$A$4:$F$500,6)","v":{"$error":"#N/A"}}]
[null,null,{"$f":"VLOOKUP(B157,Emp_Master!$A$4:$F$500,2)","v":{"$error":"#N/A"}},{"$f":"VLOOKUP(B157,Emp_Master!$A$4:$F$500,3)","v":{"$error":"#N/A"}},{"$f":"VLOOKUP(B157,Emp_Master!$A$4:$F$500,4)","v":{"$error":"#N/A"}},{"$f":"VLOOKUP(B157,Emp_Master!$A$4:$F$500,5)","v":{"$error":"#N/A"}},{"$f":"VLOOKUP(B157,Emp_Master!$A$4:$F$500,6)","v":{"$error":"#N/A"}}]
[null,null,{"$f":"VLOOKUP(B158,Emp_Master!$A$4:$F$500,2)","v":{"$error":"#N/A"}},{"$f":"VLOOKUP(B158,Emp_Master!$A$4:$F$500,3)","v":{"$error":"#N/A"}},{"$f":"VLOOKUP(B158,Emp_Master!$A$4:$F$500,4)","v":{"$error":"#N/A"}},{"$f":"VLOOKUP(B158,Emp_Master!$A$4:$F$500,5)","v":{"$error":"#N/A"}},{"$f":"VLOOKUP(B158,Emp_Master!$A$4:$F$500,6)","v":{"$error":"#N/A"}}]
[null,null,{"$f":"VLOOKUP(B159,Emp_Master!$A$4:$F$500,2)","v":{"$error":"#N/A"}},{"$f":"VLOOKUP(B159,Emp_Master!$A$4:$F$500,3)","v":{"$error":"#N/A"}},{"$f":"VLOOKUP(B159,Emp_Master!$A$4:$F$500,4)","v":{"$error":"#N/A"}},{"$f":"VLOOKUP(B159,Emp_Master!$A$4:$F$500,5)","v":{"$error":"#N/A"}},{"$f":"VLOOKUP(B159,Emp_Master!$A$4:$F$500,6)","v":{"$error":"#N/A"}}]
[null,null,{"$f":"VLOOKUP(B160,Emp_Master!$A$4:$F$500,2)","v":{"$error":"#N/A"}},{"$f":"VLOOKUP(B160,Emp_Master!$A$4:$F$500,3)","v":{"$error":"#N/A"}},{"$f":"VLOOKUP(B160,Emp_Master!$A$4:$F$500,4)","v":{"$error":"#N/A"}},{"$f":"VLOOKUP(B160,Emp_Master!$A$4:$F$500,5)","v":{"$error":"#N/A"}},{"$f":"VLOOKUP(B160,Emp_Master!$A$4:$F$500,6)","v":{"$error":"#N/A"}}]
[null,null,{"$f":"VLOOKUP(B161,Emp_Master!$A$4:$F$500,2)","v":{"$error":"#N/A"}},{"$f":"VLOOKUP(B161,Emp_Master!$A$4:$F$500,3)","v":{"$error":"#N/A"}},{"$f":"VLOOKUP(B161,Emp_Master!$A$4:$F$500,4)","v":{"$error":"#N/A"}},{"$f":"VLOOKUP(B161,Emp_Master!$A$4:$F$500,5)","v":{"$error":"#N/A"}},{"$f":"VLOOKUP(B161,Emp_Master!$A$4:$F$500,6)","v":{"$error":"#N/A"}}]
[null,null,{"$f":"VLOOKUP(B162,Emp_Master!$A$4:$F$500,2)","v":{"$error":"#N/A"}},{"$f":"VLOOKUP(B162,Emp_Master!$A$4:$F$500,3)","v":{"$error":"#N/A"}},{"$f":"VLOOKUP(B162,Emp_Master!$A$4:$F$500,4)","v":{"$error":"#N/A"}},{"$f":"VLOOKUP(B162,Emp_Master!$A$4:$F$500,5)","v":{"$error":"#N/A"}},{"$f":"VLOOKUP(B162,Emp_Master!$A$4:$F$500,6)","v":{"$error":"#N/A"}}]
[null,null,{"$f":"VLOOKUP(B163,Emp_Master!$A$4:$F$500,2)","v":{"$error":"#N/A"}},{"$f":"VLOOKUP(B163,Emp_Master!$A$4:$F$500,3)","v":{"$error":"#N/A"}},{"$f":"VLOOKUP(B163,Emp_Master!$A$4:$F$500,4)","v":{"$error":"#N/A"}},{"$f":"VLOOKUP(B163,Emp_Master!$A$4:$F$500,5)","v":{"$error":"#N/A"}},{"$f":"VLOOKUP(B163,Emp_Master!$A$4:$F$500,6)","v":{"$error":"#N/A"}}]
[null,null,{"$f":"VLOOKUP(B164,Emp_Master!$A$4:$F$500,2)","v":{"$error":"#N/A"}},{"$f":"VLOOKUP(B164,Emp_Master!$A$4:$F$500,3)","v":{"$error":"#N/A"}},{"$f":"VLOOKUP(B164,Emp_Master!$A$4:$F$500,4)","v":{"$error":"#N/A"}},{"$f":"VLOOKUP(B164,Emp_Master!$A$4:$F$500,5)","v":{"$error":"#N/A"}},{"$f":"VLOOKUP(B164,Emp_Master!$A$4:$F$500,6)","v":{"$error":"#N/A"}}]
[null,null,{"$f":"VLOOKUP(B165,Emp_Master!$A$4:$F$500,2)","v":{"$error":"#N/A"}},{"$f":"VLOOKUP(B165,Emp_Master!$A$4:$F$500,3)","v":{"$error":"#N/A"}},{"$f":"VLOOKUP(B165,Emp_Master!$A$4:$F$500,4)","v":{"$error":"#N/A"}},{"$f":"VLOOKUP(B165,Emp_Master!$A$4:$F$500,5)","v":{"$error":"#N/A"}},{"$f":"VLOOKUP(B165,Emp_Master!$A$4:$F$500,6)","v":{"$error":"#N/A"}}]
[null,null,{"$f":"VLOOKUP(B166,Emp_Master!$A$4:$F$500,2)","v":{"$error":"#N/A"}},{"$f":"VLOOKUP(B166,Emp_Master!$A$4:$F$500,3)","v":{"$error":"#N/A"}},{"$f":"VLOOKUP(B166,Emp_Master!$A$4:$F$500,4)","v":{"$error":"#N/A"}},{"$f":"VLOOKUP(B166,Emp_Master!$A$4:$F$500,5)","v":{"$error":"#N/A"}},{"$f":"VLOOKUP(B166,Emp_Master!$A$4:$F$500,6)","v":{"$error":"#N/A"}}]
[null,null,{"$f":"VLOOKUP(B167,Emp_Master!$A$4:$F$500,2)","v":{"$error":"#N/A"}},{"$f":"VLOOKUP(B167,Emp_Master!$A$4:$F$500,3)","v":{"$error":"#N/A"}},{"$f":"VLOOKUP(B167,Emp_Master!$A$4:$F$500,4)","v":{"$error":"#N/A"}},{"$f":"VLOOKUP(B167,Emp_Master!$A$4:$F$500,5)","v":{"$error":"#N/A"}},{"$f":"VLOOKUP(B167,Emp_Master!$A$4:$F$500,6)","v":{"$error":"#N/A"}}]
[null,null,{"$f":"VLOOKUP(B168,Emp_Master!$A$4:$F$500,2)","v":{"$error":"#N/A"}},{"$f":"VLOOKUP(B168,Emp_Master!$A$4:$F$500,3)","v":{"$error":"#N/A"}},{"$f":"VLOOKUP(B168,Emp_Master!$A$4:$F$500,4)","v":{"$error":"#N/A"}},{"$f":"VLOOKUP(B168,Emp_Master!$A$4:$F$500,5)","v":{"$error":"#N/A"}},{"$f":"VLOOKUP(B168,Emp_Master!$A$4:$F$500,6)","v":{"$error":"#N/A"}}]
[null,null,{"$f":"VLOOKUP(B169,Emp_Master!$A$4:$F$500,2)","v":{"$error":"#N/A"}},{"$f":"VLOOKUP(B169,Emp_Master!$A$4:$F$500,3)","v":{"$error":"#N/A"}},{"$f":"VLOOKUP(B169,Emp_Master!$A$4:$F$500,4)","v":{"$error":"#N/A"}},{"$f":"VLOOKUP(B169,Emp_Master!$A$4:$F$500,5)","v":{"$error":"#N/A"}},{"$f":"VLOOKUP(B169,Emp_Master!$A$4:$F$500,6)","v":{"$error":"#N/A"}}]
[null,null,{"$f":"VLOOKUP(B170,Emp_Master!$A$4:$F$500,2)","v":{"$error":"#N/A"}},{"$f":"VLOOKUP(B170,Emp_Master!$A$4:$F$500,3)","v":{"$error":"#N/A"}},{"$f":"VLOOKUP(B170,Emp_Master!$A$4:$F$500,4)","v":{"$error":"#N/A"}},{"$f":"VLOOKUP(B170,Emp_Master!$A$4:$F$500,5)","v":{"$error":"#N/A"}},{"$f":"VLOOKUP(B170,Emp_Master!$A$4:$F$500,6)","v":{"$error":"#N/A"}}]
[null,null,{"$f":"VLOOKUP(B171,Emp_Master!$A$4:$F$500,2)","v":{"$error":"#N/A"}},{"$f":"VLOOKUP(B171,Emp_Master!$A$4:$F$500,3)","v":{"$error":"#N/A"}},{"$f":"VLOOKUP(B171,Emp_Master!$A$4:$F$500,4)","v":{"$error":"#N/A"}},{"$f":"VLOOKUP(B171,Emp_Master!$A$4:$F$500,5)","v":{"$error":"#N/A"}},{"$f":"VLOOKUP(B171,Emp_Master!$A$4:$F$500,6)","v":{"$error":"#N/A"}}]
[null,null,{"$f":"VLOOKUP(B172,Emp_Master!$A$4:$F$500,2)","v":{"$error":"#N/A"}},{"$f":"VLOOKUP(B172,Emp_Master!$A$4:$F$500,3)","v":{"$error":"#N/A"}},{"$f":"VLOOKUP(B172,Emp_Master!$A$4:$F$500,4)","v":{"$error":"#N/A"}},{"$f":"VLOOKUP(B172,Emp_Master!$A$4:$F$500,5)","v":{"$error":"#N/A"}},{"$f":"VLOOKUP(B172,Emp_Master!$A$4:$F$500,6)","v":{"$error":"#N/A"}}]
[null,null,{"$f":"VLOOKUP(B173,Emp_Master!$A$4:$F$500,2)","v":{"$error":"#N/A"}},{"$f":"VLOOKUP(B173,Emp_Master!$A$4:$F$500,3)","v":{"$error":"#N/A"}},{"$f":"VLOOKUP(B173,Emp_Master!$A$4:$F$500,4)","v":{"$error":"#N/A"}},{"$f":"VLOOKUP(B173,Emp_Master!$A$4:$F$500,5)","v":{"$error":"#N/A"}},{"$f":"VLOOKUP(B173,Emp_Master!$A$4:$F$500,6)","v":{"$error":"#N/A"}}]
[null,null,{"$f":"VLOOKUP(B174,Emp_Master!$A$4:$F$500,2)","v":{"$error":"#N/A"}},{"$f":"VLOOKUP(B174,Emp_Master!$A$4:$F$500,3)","v":{"$error":"#N/A"}},{"$f":"VLOOKUP(B174,Emp_Master!$A$4:$F$500,4)","v":{"$error":"#N/A"}},{"$f":"VLOOKUP(B174,Emp_Master!$A$4:$F$500,5)","v":{"$error":"#N/A"}},{"$f":"VLOOKUP(B174,Emp_Master!$A$4:$F$500,6)","v":{"$error":"#N/A"}}]
[null,null,{"$f":"VLOOKUP(B175,Emp_Master!$A$4:$F$500,2)","v":{"$error":"#N/A"}},{"$f":"VLOOKUP(B175,Emp_Master!$A$4:$F$500,3)","v":{"$error":"#N/A"}},{"$f":"VLOOKUP(B175,Emp_Master!$A$4:$F$500,4)","v":{"$error":"#N/A"}},{"$f":"VLOOKUP(B175,Emp_Master!$A$4:$F$500,5)","v":{"$error":"#N/A"}},{"$f":"VLOOKUP(B175,Emp_Master!$A$4:$F$500,6)","v":{"$error":"#N/A"}}]
[null,null,{"$f":"VLOOKUP(B176,Emp_Master!$A$4:$F$500,2)","v":{"$error":"#N/A"}},{"$f":"VLOOKUP(B176,Emp_Master!$A$4:$F$500,3)","v":{"$error":"#N/A"}},{"$f":"VLOOKUP(B176,Emp_Master!$A$4:$F$500,4)","v":{"$error":"#N/A"}},{"$f":"VLOOKUP(B176,Emp_Master!$A$4:$F$500,5)","v":{"$error":"#N/A"}},{"$f":"VLOOKUP(B176,Emp_Master!$A$4:$F$500,6)","v":{"$error":"#N/A"}}]
[null,null,{"$f":"VLOOKUP(B177,Emp_Master!$A$4:$F$500,2)","v":{"$error":"#N/A"}},{"$f":"VLOOKUP(B177,Emp_Master!$A$4:$F$500,3)","v":{"$error":"#N/A"}},{"$f":"VLOOKUP(B177,Emp_Master!$A$4:$F$500,4)","v":{"$error":"#N/A"}},{"$f":"VLOOKUP(B177,Emp_Master!$A$4:$F$500,5)","v":{"$error":"#N/A"}},{"$f":"VLOOKUP(B177,Emp_Master!$A$4:$F$500,6)","v":{"$error":"#N/A"}}]
[null,null,{"$f":"VLOOKUP(B178,Emp_Master!$A$4:$F$500,2)","v":{"$error":"#N/A"}},{"$f":"VLOOKUP(B178,Emp_Master!$A$4:$F$500,3)","v":{"$error":"#N/A"}},{"$f":"VLOOKUP(B178,Emp_Master!$A$4:$F$500,4)","v":{"$error":"#N/A"}},{"$f":"VLOOKUP(B178,Emp_Master!$A$4:$F$500,5)","v":{"$error":"#N/A"}},{"$f":"VLOOKUP(B178,Emp_Master!$A$4:$F$500,6)","v":{"$error":"#N/A"}}]
[null,null,{"$f":"VLOOKUP(B179,Emp_Master!$A$4:$F$500,2)","v":{"$error":"#N/A"}},{"$f":"VLOOKUP(B179,Emp_Master!$A$4:$F$500,3)","v":{"$error":"#N/A"}},{"$f":"VLOOKUP(B179,Emp_Master!$A$4:$F$500,4)","v":{"$error":"#N/A"}},{"$f":"VLOOKUP(B179,Emp_Master!$A$4:$F$500,5)","v":{"$error":"#N/A"}},{"$f":"VLOOKUP(B179,Emp_Master!$A$4:$F$500,6)","v":{"$error":"#N/A"}}]
[null,null,{"$f":"VLOOKUP(B180,Emp_Master!$A$4:$F$500,2)","v":{"$error":"#N/A"}},{"$f":"VLOOKUP(B180,Emp_Master!$A$4:$F$500,3)","v":{"$error":"#N/A"}},{"$f":"VLOOKUP(B180,Emp_Master!$A$4:$F$500,4)","v":{"$error":"#N/A"}},{"$f":"VLOOKUP(B180,Emp_Master!$A$4:$F$500,5)","v":{"$error":"#N/A"}},{"$f":"VLOOKUP(B180,Emp_Master!$A$4:$F$500,6)","v":{"$error":"#N/A"}}]
[null,null,{"$f":"VLOOKUP(B181,Emp_Master!$A$4:$F$500,2)","v":{"$error":"#N/A"}},{"$f":"VLOOKUP(B181,Emp_Master!$A$4:$F$500,3)","v":{"$error":"#N/A"}},{"$f":"VLOOKUP(B181,Emp_Master!$A$4:$F$500,4)","v":{"$error":"#N/A"}},{"$f":"VLOOKUP(B181,Emp_Master!$A$4:$F$500,5)","v":{"$error":"#N/A"}},{"$f":"VLOOKUP(B181,Emp_Master!$A$4:$F$500,6)","v":{"$error":"#N/A"}}]
[null,null,{"$f":"VLOOKUP(B182,Emp_Master!$A$4:$F$500,2)","v":{"$error":"#N/A"}},{"$f":"VLOOKUP(B182,Emp_Master!$A$4:$F$500,3)","v":{"$error":"#N/A"}},{"$f":"VLOOKUP(B182,Emp_Master!$A$4:$F$500,4)","v":{"$error":"#N/A"}},{"$f":"VLOOKUP(B182,Emp_Master!$A$4:$F$500,5)","v":{"$error":"#N/A"}},{"$f":"VLOOKUP(B182,Emp_Master!$A$4:$F$500,6)","v":{"$error":"#N/A"}}]
[null,null,{"$f":"VLOOKUP(B183,Emp_Master!$A$4:$F$500,2)","v":{"$error":"#N/A"}},{"$f":"VLOOKUP(B183,Emp_Master!$A$4:$F$500,3)","v":{"$error":"#N/A"}},{"$f":"VLOOKUP(B183,Emp_Master!$A$4:$F$500,4)","v":{"$error":"#N/A"}},{"$f":"VLOOKUP(B183,Emp_Master!$A$4:$F$500,5)","v":{"$error":"#N/A"}},{"$f":"VLOOKUP(B183,Emp_Master!$A$4:$F$500,6)","v":{"$error":"#N/A"}}]
[null,null,{"$f":"VLOOKUP(B184,Emp_Master!$A$4:$F$500,2)","v":{"$error":"#N/A"}},{"$f":"VLOOKUP(B184,Emp_Master!$A$4:$F$500,3)","v":{"$error":"#N/A"}},{"$f":"VLOOKUP(B184,Emp_Master!$A$4:$F$500,4)","v":{"$error":"#N/A"}},{"$f":"VLOOKUP(B184,Emp_Master!$A$4:$F$500,5)","v":{"$error":"#N/A"}},{"$f":"VLOOKUP(B184,Emp_Master!$A$4:$F$500,6)","v":{"$error":"#N/A"}}]
[null,null,{"$f":"VLOOKUP(B185,Emp_Master!$A$4:$F$500,2)","v":{"$error":"#N/A"}},{"$f":"VLOOKUP(B185,Emp_Master!$A$4:$F$500,3)","v":{"$error":"#N/A"}},{"$f":"VLOOKUP(B185,Emp_Master!$A$4:$F$500,4)","v":{"$error":"#N/A"}},{"$f":"VLOOKUP(B185,Emp_Master!$A$4:$F$500,5)","v":{"$error":"#N/A"}},{"$f":"VLOOKUP(B185,Emp_Master!$A$4:$F$500,6)","v":{"$error":"#N/A"}}]
[null,null,{"$f":"VLOOKUP(B186,Emp_Master!$A$4:$F$500,2)","v":{"$error":"#N/A"}},{"$f":"VLOOKUP(B186,Emp_Master!$A$4:$F$500,3)","v":{"$error":"#N/A"}},{"$f":"VLOOKUP(B186,Emp_Master!$A$4:$F$500,4)","v":{"$error":"#N/A"}},{"$f":"VLOOKUP(B186,Emp_Master!$A$4:$F$500,5)","v":{"$error":"#N/A"}},{"$f":"VLOOKUP(B186,Emp_Master!$A$4:$F$500,6)","v":{"$error":"#N/A"}}]
[null,null,{"$f":"VLOOKUP(B187,Emp_Master!$A$4:$F$500,2)","v":{"$error":"#N/A"}},{"$f":"VLOOKUP(B187,Emp_Master!$A$4:$F$500,3)","v":{"$error":"#N/A"}},{"$f":"VLOOKUP(B187,Emp_Master!$A$4:$F$500,4)","v":{"$error":"#N/A"}},{"$f":"VLOOKUP(B187,Emp_Master!$A$4:$F$500,5)","v":{"$error":"#N/A"}},{"$f":"VLOOKUP(B187,Emp_Master!$A$4:$F$500,6)","v":{"$error":"#N/A"}}]
[null,null,{"$f":"VLOOKUP(B188,Emp_Master!$A$4:$F$500,2)","v":{"$error":"#N/A"}},{"$f":"VLOOKUP(B188,Emp_Master!$A$4:$F$500,3)","v":{"$error":"#N/A"}},{"$f":"VLOOKUP(B188,Emp_Master!$A$4:$F$500,4)","v":{"$error":"#N/A"}},{"$f":"VLOOKUP(B188,Emp_Master!$A$4:$F$500,5)","v":{"$error":"#N/A"}},{"$f":"VLOOKUP(B188,Emp_Master!$A$4:$F$500,6)","v":{"$error":"#N/A"}}]
[null,null,{"$f":"VLOOKUP(B189,Emp_Master!$A$4:$F$500,2)","v":{"$error":"#N/A"}},{"$f":"VLOOKUP(B189,Emp_Master!$A$4:$F$500,3)","v":{"$error":"#N/A"}},{"$f":"VLOOKUP(B189,Emp_Master!$A$4:$F$500,4)","v":{"$error":"#N/A"}},{"$f":"VLOOKUP(B189,Emp_Master!$A$4:$F$500,5)","v":{"$error":"#N/A"}},{"$f":"VLOOKUP(B189,Emp_Master!$A$4:$F$500,6)","v":{"$error":"#N/A"}}]
[null,null,{"$f":"VLOOKUP(B190,Emp_Master!$A$4:$F$500,2)","v":{"$error":"#N/A"}},{"$f":"VLOOKUP(B190,Emp_Master!$A$4:$F$500,3)","v":{"$error":"#N/A"}},{"$f":"VLOOKUP(B190,Emp_Master!$A$4:$F$500,4)","v":{"$error":"#N/A"}},{"$f":"VLOOKUP(B190,Emp_Master!$A$4:$F$500,5)","v":{"$error":"#N/A"}},{"$f":"VLOOKUP(B190,Emp_Master!$A$4:$F$500,6)","v":{"$error":"#N/A"}}]
[null,null,{"$f":"VLOOKUP(B191,Emp_Master!$A$4:$F$500,2)","v":{"$error":"#N/A"}},{"$f":"VLOOKUP(B191,Emp_Master!$A$4:$F$500,3)","v":{"$error":"#N/A"}},{"$f":"VLOOKUP(B191,Emp_Master!$A$4:$F$500,4)","v":{"$error":"#N/A"}},{"$f":"VLOOKUP(B191,Emp_Master!$A$4:$F$500,5)","v":{"$error":"#N/A"}},{"$f":"VLOOKUP(B191,Emp_Master!$A$4:$F$500,6)","v":{"$error":"#N/A"}}]
[null,null,{"$f":"VLOOKUP(B192,Emp_Master!$A$4:$F$500,2)","v":{"$error":"#N/A"}},{"$f":"VLOOKUP(B192,Emp_Master!$A$4:$F$500,3)","v":{"$error":"#N/A"}},{"$f":"VLOOKUP(B192,Emp_Master!$A$4:$F$500,4)","v":{"$error":"#N/A"}},{"$f":"VLOOKUP(B192,Emp_Master!$A$4:$F$500,5)","v":{"$error":"#N/A"}},{"$f":"VLOOKUP(B192,Emp_Master!$A$4:$F$500,6)","v":{"$error":"#N/A"}}]
[null,null,{"$f":"VLOOKUP(B193,Emp_Master!$A$4:$F$500,2)","v":{"$error":"#N/A"}},{"$f":"VLOOKUP(B193,Emp_Master!$A$4:$F$500,3)","v":{"$error":"#N/A"}},{"$f":"VLOOKUP(B193,Emp_Master!$A$4:$F$500,4)","v":{"$error":"#N/A"}},{"$f":"VLOOKUP(B193,Emp_Master!$A$4:$F$500,5)","v":{"$error":"#N/A"}},{"$f":"VLOOKUP(B193,Emp_Master!$A$4:$F$500,6)","v":{"$error":"#N/A"}}]
[null,null,{"$f":"VLOOKUP(B194,Emp_Master!$A$4:$F$500,2)","v":{"$error":"#N/A"}},{"$f":"VLOOKUP(B194,Emp_Master!$A$4:$F$500,3)","v":{"$error":"#N/A"}},{"$f":"VLOOKUP(B194,Emp_Master!$A$4:$F$500,4)","v":{"$error":"#N/A"}},{"$f":"VLOOKUP(B194,Emp_Master!$A$4:$F$500,5)","v":{"$error":"#N/A"}},{"$f":"VLOOKUP(B194,Emp_Master!$A$4:$F$500,6)","v":{"$error":"#N/A"}}]
[null,null,{"$f":"VLOOKUP(B195,Emp_Master!$A$4:$F$500,2)","v":{"$error":"#N/A"}},{"$f":"VLOOKUP(B195,Emp_Master!$A$4:$F$500,3)","v":{"$error":"#N/A"}},{"$f":"VLOOKUP(B195,Emp_Master!$A$4:$F$500,4)","v":{"$error":"#N/A"}},{"$f":"VLOOKUP(B195,Emp_Master!$A$4:$F$500,5)","v":{"$error":"#N/A"}},{"$f":"VLOOKUP(B195,Emp_Master!$A$4:$F$500,6)","v":{"$error":"#N/A"}}]
[null,null,{"$f":"VLOOKUP(B196,Emp_Master!$A$4:$F$500,2)","v":{"$error":"#N/A"}},{"$f":"VLOOKUP(B196,Emp_Master!$A$4:$F$500,3)","v":{"$error":"#N/A"}},{"$f":"VLOOKUP(B196,Emp_Master!$A$4:$F$500,4)","v":{"$error":"#N/A"}},{"$f":"VLOOKUP(B196,Emp_Master!$A$4:$F$500,5)","v":{"$error":"#N/A"}},{"$f":"VLOOKUP(B196,Emp_Master!$A$4:$F$500,6)","v":{"$error":"#N/A"}}]
[null,null,{"$f":"VLOOKUP(B197,Emp_Master!$A$4:$F$500,2)","v":{"$error":"#N/A"}},{"$f":"VLOOKUP(B197,Emp_Master!$A$4:$F$500,3)","v":{"$error":"#N/A"}},{"$f":"VLOOKUP(B197,Emp_Master!$A$4:$F$500,4)","v":{"$error":"#N/A"}},{"$f":"VLOOKUP(B197,Emp_Master!$A$4:$F$500,5)","v":{"$error":"#N/A"}},{"$f":"VLOOKUP(B197,Emp_Master!$A$4:$F$500,6)","v":{"$error":"#N/A"}}]
[null,null,{"$f":"VLOOKUP(B198,Emp_Master!$A$4:$F$500,2)","v":{"$error":"#N/A"}},{"$f":"VLOOKUP(B198,Emp_Master!$A$4:$F$500,3)","v":{"$error":"#N/A"}},{"$f":"VLOOKUP(B198,Emp_Master!$A$4:$F$500,4)","v":{"$error":"#N/A"}},{"$f":"VLOOKUP(B198,Emp_Master!$A$4:$F$500,5)","v":{"$error":"#N/A"}},{"$f":"VLOOKUP(B198,Emp_Master!$A$4:$F$500,6)","v":{"$error":"#N/A"}}]
[null,null,{"$f":"VLOOKUP(B199,Emp_Master!$A$4:$F$500,2)","v":{"$error":"#N/A"}},{"$f":"VLOOKUP(B199,Emp_Master!$A$4:$F$500,3)","v":{"$error":"#N/A"}},{"$f":"VLOOKUP(B199,Emp_Master!$A$4:$F$500,4)","v":{"$error":"#N/A"}},{"$f":"VLOOKUP(B199,Emp_Master!$A$4:$F$500,5)","v":{"$error":"#N/A"}},{"$f":"VLOOKUP(B199,Emp_Master!$A$4:$F$500,6)","v":{"$error":"#N/A"}}]
[null,null,{"$f":"VLOOKUP(B200,Emp_Master!$A$4:$F$500,2)","v":{"$error":"#N/A"}},{"$f":"VLOOKUP(B200,Emp_Master!$A$4:$F$500,3)","v":{"$error":"#N/A"}},{"$f":"VLOOKUP(B200,Emp_Master!$A$4:$F$500,4)","v":{"$error":"#N/A"}},{"$f":"VLOOKUP(B200,Emp_Master!$A$4:$F$500,5)","v":{"$error":"#N/A"}},{"$f":"VLOOKUP(B200,Emp_Master!$A$4:$F$500,6)","v":{"$error":"#N/A"}}]
[null,null,{"$f":"VLOOKUP(B201,Emp_Master!$A$4:$F$500,2)","v":{"$error":"#N/A"}},{"$f":"VLOOKUP(B201,Emp_Master!$A$4:$F$500,3)","v":{"$error":"#N/A"}},{"$f":"VLOOKUP(B201,Emp_Master!$A$4:$F$500,4)","v":{"$error":"#N/A"}},{"$f":"VLOOKUP(B201,Emp_Master!$A$4:$F$500,5)","v":{"$error":"#N/A"}},{"$f":"VLOOKUP(B201,Emp_Master!$A$4:$F$500,6)","v":{"$error":"#N/A"}}]
[null,null,{"$f":"VLOOKUP(B202,Emp_Master!$A$4:$F$500,2)","v":{"$error":"#N/A"}},{"$f":"VLOOKUP(B202,Emp_Master!$A$4:$F$500,3)","v":{"$error":"#N/A"}},{"$f":"VLOOKUP(B202,Emp_Master!$A$4:$F$500,4)","v":{"$error":"#N/A"}},{"$f":"VLOOKUP(B202,Emp_Master!$A$4:$F$500,5)","v":{"$error":"#N/A"}},{"$f":"VLOOKUP(B202,Emp_Master!$A$4:$F$500,6)","v":{"$error":"#N/A"}}]
[null,null,{"$f":"VLOOKUP(B203,Emp_Master!$A$4:$F$500,2)","v":{"$error":"#N/A"}},{"$f":"VLOOKUP(B203,Emp_Master!$A$4:$F$500,3)","v":{"$error":"#N/A"}},{"$f":"VLOOKUP(B203,Emp_Master!$A$4:$F$500,4)","v":{"$error":"#N/A"}},{"$f":"VLOOKUP(B203,Emp_Master!$A$4:$F$500,5)","v":{"$error":"#N/A"}},{"$f":"VLOOKUP(B203,Emp_Master!$A$4:$F$500,6)","v":{"$error":"#N/A"}}]
[null,null,{"$f":"VLOOKUP(B204,Emp_Master!$A$4:$F$500,2)","v":{"$error":"#N/A"}},{"$f":"VLOOKUP(B204,Emp_Master!$A$4:$F$500,3)","v":{"$error":"#N/A"}},{"$f":"VLOOKUP(B204,Emp_Master!$A$4:$F$500,4)","v":{"$error":"#N/A"}},{"$f":"VLOOKUP(B204,Emp_Master!$A$4:$F$500,5)","v":{"$error":"#N/A"}},{"$f":"VLOOKUP(B204,Emp_Master!$A$4:$F$500,6)","v":{"$error":"#N/A"}}]
[null,null,{"$f":"VLOOKUP(B205,Emp_Master!$A$4:$F$500,2)","v":{"$error":"#N/A"}},{"$f":"VLOOKUP(B205,Emp_Master!$A$4:$F$500,3)","v":{"$error":"#N/A"}},{"$f":"VLOOKUP(B205,Emp_Master!$A$4:$F$500,4)","v":{"$error":"#N/A"}},{"$f":"VLOOKUP(B205,Emp_Master!$A$4:$F$500,5)","v":{"$error":"#N/A"}},{"$f":"VLOOKUP(B205,Emp_Master!$A$4:$F$500,6)","v":{"$error":"#N/A"}}]
[null,null,{"$f":"VLOOKUP(B206,Emp_Master!$A$4:$F$500,2)","v":{"$error":"#N/A"}},{"$f":"VLOOKUP(B206,Emp_Master!$A$4:$F$500,3)","v":{"$error":"#N/A"}},{"$f":"VLOOKUP(B206,Emp_Master!$A$4:$F$500,4)","v":{"$error":"#N/A"}},{"$f":"VLOOKUP(B206,Emp_Master!$A$4:$F$500,5)","v":{"$error":"#N/A"}},{"$f":"VLOOKUP(B206,Emp_Master!$A$4:$F$500,6)","v":{"$error":"#N/A"}}]
[null,null,{"$f":"VLOOKUP(B207,Emp_Master!$A$4:$F$500,2)","v":{"$error":"#N/A"}},{"$f":"VLOOKUP(B207,Emp_Master!$A$4:$F$500,3)","v":{"$error":"#N/A"}},{"$f":"VLOOKUP(B207,Emp_Master!$A$4:$F$500,4)","v":{"$error":"#N/A"}},{"$f":"VLOOKUP(B207,Emp_Master!$A$4:$F$500,5)","v":{"$error":"#N/A"}},{"$f":"VLOOKUP(B207,Emp_Master!$A$4:$F$500,6)","v":{"$error":"#N/A"}}]
[null,null,{"$f":"VLOOKUP(B208,Emp_Master!$A$4:$F$500,2)","v":{"$error":"#N/A"}},{"$f":"VLOOKUP(B208,Emp_Master!$A$4:$F$500,3)","v":{"$error":"#N/A"}},{"$f":"VLOOKUP(B208,Emp_Master!$A$4:$F$500,4)","v":{"$error":"#N/A"}},{"$f":"VLOOKUP(B208,Emp_Master!$A$4:$F$500,5)","v":{"$error":"#N/A"}},{"$f":"VLOOKUP(B208,Emp_Master!$A$4:$F$500,6)","v":{"$error":"#N/A"}}]
[null,null,{"$f":"VLOOKUP(B209,Emp_Master!$A$4:$F$500,2)","v":{"$error":"#N/A"}},{"$f":"VLOOKUP(B209,Emp_Master!$A$4:$F$500,3)","v":{"$error":"#N/A"}},{"$f":"VLOOKUP(B209,Emp_Master!$A$4:$F$500,4)","v":{"$error":"#N/A"}},{"$f":"VLOOKUP(B209,Emp_Master!$A$4:$F$500,5)","v":{"$error":"#N/A"}},{"$f":"VLOOKUP(B209,Emp_Master!$A$4:$F$500,6)","v":{"$error":"#N/A"}}]
[null,null,{"$f":"VLOOKUP(B210,Emp_Master!$A$4:$F$500,2)","v":{"$error":"#N/A"}},{"$f":"VLOOKUP(B210,Emp_Master!$A$4:$F$500,3)","v":{"$error":"#N/A"}},{"$f":"VLOOKUP(B210,Emp_Master!$A$4:$F$500,4)","v":{"$error":"#N/A"}},{"$f":"VLOOKUP(B210,Emp_Master!$A$4:$F$500,5)","v":{"$error":"#N/A"}},{"$f":"VLOOKUP(B210,Emp_Master!$A$4:$F$500,6)","v":{"$error":"#N/A"}}]
[null,null,{"$f":"VLOOKUP(B211,Emp_Master!$A$4:$F$500,2)","v":{"$error":"#N/A"}},{"$f":"VLOOKUP(B211,Emp_Master!$A$4:$F$500,3)","v":{"$error":"#N/A"}},{"$f":"VLOOKUP(B211,Emp_Master!$A$4:$F$500,4)","v":{"$error":"#N/A"}},{"$f":"VLOOKUP(B211,Emp_Master!$A$4:$F$500,5)","v":{"$error":"#N/A"}},{"$f":"VLOOKUP(B211,Emp_Master!$A$4:$F$500,6)","v":{"$error":"#N/A"}}]
[null,null,{"$f":"VLOOKUP(B212,Emp_Master!$A$4:$F$500,2)","v":{"$error":"#N/A"}},{"$f":"VLOOKUP(B212,Emp_Master!$A$4:$F$500,3)","v":{"$error":"#N/A"}},{"$f":"VLOOKUP(B212,Emp_Master!$A$4:$F$500,4)","v":{"$error":"#N/A"}},{"$f":"VLOOKUP(B212,Emp_Master!$A$4:$F$500,5)","v":{"$error":"#N/A"}},{"$f":"VLOOKUP(B212,Emp_Master!$A$4:$F$500,6)","v":{"$error":"#N/A"}}]
[null,null,{"$f":"VLOOKUP(B213,Emp_Master!$A$4:$F$500,2)","v":{"$error":"#N/A"}},{"$f":"VLOOKUP(B213,Emp_Master!$A$4:$F$500,3)","v":{"$error":"#N/A"}},{"$f":"VLOOKUP(B213,Emp_Master!$A$4:$F$500,4)","v":{"$error":"#N/A"}},{"$f":"VLOOKUP(B213,Emp_Master!$A$4:$F$500,5)","v":{"$error":"#N/A"}},{"$f":"VLOOKUP(B213,Emp_Master!$A$4:$F$500,6)","v":{"$error":"#N/A"}}]
[null,null,{"$f":"VLOOKUP(B214,Emp_Master!$A$4:$F$500,2)","v":{"$error":"#N/A"}},{"$f":"VLOOKUP(B214,Emp_Master!$A$4:$F$500,3)","v":{"$error":"#N/A"}},{"$f":"VLOOKUP(B214,Emp_Master!$A$4:$F$500,4)","v":{"$error":"#N/A"}},{"$f":"VLOOKUP(B214,Emp_Master!$A$4:$F$500,5)","v":{"$error":"#N/A"}},{"$f":"VLOOKUP(B214,Emp_Master!$A$4:$F$500,6)","v":{"$error":"#N/A"}}]
[null,null,{"$f":"VLOOKUP(B215,Emp_Master!$A$4:$F$500,2)","v":{"$error":"#N/A"}},{"$f":"VLOOKUP(B215,Emp_Master!$A$4:$F$500,3)","v":{"$error":"#N/A"}},{"$f":"VLOOKUP(B215,Emp_Master!$A$4:$F$500,4)","v":{"$error":"#N/A"}},{"$f":"VLOOKUP(B215,Emp_Master!$A$4:$F$500,5)","v":{"$error":"#N/A"}},{"$f":"VLOOKUP(B215,Emp_Master!$A$4:$F$500,6)","v":{"$error":"#N/A"}}]
[null,null,{"$f":"VLOOKUP(B216,Emp_Master!$A$4:$F$500,2)","v":{"$error":"#N/A"}},{"$f":"VLOOKUP(B216,Emp_Master!$A$4:$F$500,3)","v":{"$error":"#N/A"}},{"$f":"VLOOKUP(B216,Emp_Master!$A$4:$F$500,4)","v":{"$error":"#N/A"}},{"$f":"VLOOKUP(B216,Emp_Master!$A$4:$F$500,5)","v":{"$error":"#N/A"}},{"$f":"VLOOKUP(B216,Emp_Master!$A$4:$F$500,6)","v":{"$error":"#N/A"}}]
[null,null,{"$f":"VLOOKUP(B217,Emp_Master!$A$4:$F$500,2)","v":{"$error":"#N/A"}},{"$f":"VLOOKUP(B217,Emp_Master!$A$4:$F$500,3)","v":{"$error":"#N/A"}},{"$f":"VLOOKUP(B217,Emp_Master!$A$4:$F$500,4)","v":{"$error":"#N/A"}},{"$f":"VLOOKUP(B217,Emp_Master!$A$4:$F$500,5)","v":{"$error":"#N/A"}},{"$f":"VLOOKUP(B217,Emp_Master!$A$4:$F$500,6)","v":{"$error":"#N/A"}}]
[null,null,{"$f":"VLOOKUP(B218,Emp_Master!$A$4:$F$500,2)","v":{"$error":"#N/A"}},{"$f":"VLOOKUP(B218,Emp_Master!$A$4:$F$500,3)","v":{"$error":"#N/A"}},{"$f":"VLOOKUP(B218,Emp_Master!$A$4:$F$500,4)","v":{"$error":"#N/A"}},{"$f":"VLOOKUP(B218,Emp_Master!$A$4:$F$500,5)","v":{"$error":"#N/A"}},{"$f":"VLOOKUP(B218,Emp_Master!$A$4:$F$500,6)","v":{"$error":"#N/A"}}]
[null,null,{"$f":"VLOOKUP(B219,Emp_Master!$A$4:$F$500,2)","v":{"$error":"#N/A"}},{"$f":"VLOOKUP(B219,Emp_Master!$A$4:$F$500,3)","v":{"$error":"#N/A"}},{"$f":"VLOOKUP(B219,Emp_Master!$A$4:$F$500,4)","v":{"$error":"#N/A"}},{"$f":"VLOOKUP(B219,Emp_Master!$A$4:$F$500,5)","v":{"$error":"#N/A"}},{"$f":"VLOOKUP(B219,Emp_Master!$A$4:$F$500,6)","v":{"$error":"#N/A"}}]
[null,null,{"$f":"VLOOKUP(B220,Emp_Master!$A$4:$F$500,2)","v":{"$error":"#N/A"}},{"$f":"VLOOKUP(B220,Emp_Master!$A$4:$F$500,3)","v":{"$error":"#N/A"}},{"$f":"VLOOKUP(B220,Emp_Master!$A$4:$F$500,4)","v":{"$error":"#N/A"}},{"$f":"VLOOKUP(B220,Emp_Master!$A$4:$F$500,5)","v":{"$error":"#N/A"}},{"$f":"VLOOKUP(B220,Emp_Master!$A$4:$F$500,6)","v":{"$error":"#N/A"}}]
[null,null,{"$f":"VLOOKUP(B221,Emp_Master!$A$4:$F$500,2)","v":{"$error":"#N/A"}},{"$f":"VLOOKUP(B221,Emp_Master!$A$4:$F$500,3)","v":{"$error":"#N/A"}},{"$f":"VLOOKUP(B221,Emp_Master!$A$4:$F$500,4)","v":{"$error":"#N/A"}},{"$f":"VLOOKUP(B221,Emp_Master!$A$4:$F$500,5)","v":{"$error":"#N/A"}},{"$f":"VLOOKUP(B221,Emp_Master!$A$4:$F$500,6)","v":{"$error":"#N/A"}}]
[null,null,{"$f":"VLOOKUP(B222,Emp_Master!$A$4:$F$500,2)","v":{"$error":"#N/A"}},{"$f":"VLOOKUP(B222,Emp_Master!$A$4:$F$500,3)","v":{"$error":"#N/A"}},{"$f":"VLOOKUP(B222,Emp_Master!$A$4:$F$500,4)","v":{"$error":"#N/A"}},{"$f":"VLOOKUP(B222,Emp_Master!$A$4:$F$500,5)","v":{"$error":"#N/A"}},{"$f":"VLOOKUP(B222,Emp_Master!$A$4:$F$500,6)","v":{"$error":"#N/A"}}]
[null,null,{"$f":"VLOOKUP(B223,Emp_Master!$A$4:$F$500,2)","v":{"$error":"#N/A"}},{"$f":"VLOOKUP(B223,Emp_Master!$A$4:$F$500,3)","v":{"$error":"#N/A"}},{"$f":"VLOOKUP(B223,Emp_Master!$A$4:$F$500,4)","v":{"$error":"#N/A"}},{"$f":"VLOOKUP(B223,Emp_Master!$A$4:$F$500,5)","v":{"$error":"#N/A"}},{"$f":"VLOOKUP(B223,Emp_Master!$A$4:$F$500,6)","v":{"$error":"#N/A"}}]
[null,null,{"$f":"VLOOKUP(B224,Emp_Master!$A$4:$F$500,2)","v":{"$error":"#N/A"}},{"$f":"VLOOKUP(B224,Emp_Master!$A$4:$F$500,3)","v":{"$error":"#N/A"}},{"$f":"VLOOKUP(B224,Emp_Master!$A$4:$F$500,4)","v":{"$error":"#N/A"}},{"$f":"VLOOKUP(B224,Emp_Master!$A$4:$F$500,5)","v":{"$error":"#N/A"}},{"$f":"VLOOKUP(B224,Emp_Master!$A$4:$F$500,6)","v":{"$error":"#N/A"}}]
[null,null,{"$f":"VLOOKUP(B225,Emp_Master!$A$4:$F$500,2)","v":{"$error":"#N/A"}},{"$f":"VLOOKUP(B225,Emp_Master!$A$4:$F$500,3)","v":{"$error":"#N/A"}},{"$f":"VLOOKUP(B225,Emp_Master!$A$4:$F$500,4)","v":{"$error":"#N/A"}},{"$f":"VLOOKUP(B225,Emp_Master!$A$4:$F$500,5)","v":{"$error":"#N/A"}},{"$f":"VLOOKUP(B225,Emp_Master!$A$4:$F$500,6)","v":{"$error":"#N/A"}}]
[null,null,{"$f":"VLOOKUP(B226,Emp_Master!$A$4:$F$500,2)","v":{"$error":"#N/A"}},{"$f":"VLOOKUP(B226,Emp_Master!$A$4:$F$500,3)","v":{"$error":"#N/A"}},{"$f":"VLOOKUP(B226,Emp_Master!$A$4:$F$500,4)","v":{"$error":"#N/A"}},{"$f":"VLOOKUP(B226,Emp_Master!$A$4:$F$500,5)","v":{"$error":"#N/A"}},{"$f":"VLOOKUP(B226,Emp_Master!$A$4:$F$500,6)","v":{"$error":"#N/A"}}]
[null,null,{"$f":"VLOOKUP(B227,Emp_Master!$A$4:$F$500,2)","v":{"$error":"#N/A"}},{"$f":"VLOOKUP(B227,Emp_Master!$A$4:$F$500,3)","v":{"$error":"#N/A"}},{"$f":"VLOOKUP(B227,Emp_Master!$A$4:$F$500,4)","v":{"$error":"#N/A"}},{"$f":"VLOOKUP(B227,Emp_Master!$A$4:$F$500,5)","v":{"$error":"#N/A"}},{"$f":"VLOOKUP(B227,Emp_Master!$A$4:$F$500,6)","v":{"$error":"#N/A"}}]
[null,null,{"$f":"VLOOKUP(B228,Emp_Master!$A$4:$F$500,2)","v":{"$error":"#N/A"}},{"$f":"VLOOKUP(B228,Emp_Master!$A$4:$F$500,3)","v":{"$error":"#N/A"}},{"$f":"VLOOKUP(B228,Emp_Master!$A$4:$F$500,4)","v":{"$error":"#N/A"}},{"$f":"VLOOKUP(B228,Emp_Master!$A$4:$F$500,5)","v":{"$error":"#N/A"}},{"$f":"VLOOKUP(B228,Emp_Master!$A$4:$F$500,6)","v":{"$error":"#N/A"}}]
[null,null,{"$f":"VLOOKUP(B229,Emp_Master!$A$4:$F$500,2)","v":{"$error":"#N/A"}},{"$f":"VLOOKUP(B229,Emp_Master!$A$4:$F$500,3)","v":{"$error":"#N/A"}},{"$f":"VLOOKUP(B229,Emp_Master!$A$4:$F$500,4)","v":{"$error":"#N/A"}},{"$f":"VLOOKUP(B229,Emp_Master!$A$4:$F$500,5)","v":{"$error":"#N/A"}},{"$f":"VLOOKUP(B229,Emp_Master!$A$4:$F$500,6)","v":{"$error":"#N/A"}}]
[null,null,{"$f":"VLOOKUP(B230,Emp_Master!$A$4:$F$500,2)","v":{"$error":"#N/A"}},{"$f":"VLOOKUP(B230,Emp_Master!$A$4:$F$500,3)","v":{"$error":"#N/A"}},{"$f":"VLOOKUP(B230,Emp_Master!$A$4:$F$500,4)","v":{"$error":"#N/A"}},{"$f":"VLOOKUP(B230,Emp_Master!$A$4:$F$500,5)","v":{"$error":"#N/A"}},{"$f":"VLOOKUP(B230,Emp_Master!$A$4:$F$500,6)","v":{"$error":"#N/A"}}]
[null,null,{"$f":"VLOOKUP(B231,Emp_Master!$A$4:$F$500,2)","v":{"$error":"#N/A"}},{"$f":"VLOOKUP(B231,Emp_Master!$A$4:$F$500,3)","v":{"$error":"#N/A"}},{"$f":"VLOOKUP(B231,Emp_Master!$A$4:$F$500,4)","v":{"$error":"#N/A"}},{"$f":"VLOOKUP(B231,Emp_Master!$A$4:$F$500,5)","v":{"$error":"#N/A"}},{"$f":"VLOOKUP(B231,Emp_Master!$A$4:$F$500,6)","v":{"$error":"#N/A"}}]
[null,null,{"$f":"VLOOKUP(B232,Emp_Master!$A$4:$F$500,2)","v":{"$error":"#N/A"}},{"$f":"VLOOKUP(B232,Emp_Master!$A$4:$F$500,3)","v":{"$error":"#N/A"}},{"$f":"VLOOKUP(B232,Emp_Master!$A$4:$F$500,4)","v":{"$error":"#N/A"}},{"$f":"VLOOKUP(B232,Emp_Master!$A$4:$F$500,5)","v":{"$error":"#N/A"}},{"$f":"VLOOKUP(B232,Emp_Master!$A$4:$F$500,6)","v":{"$error":"#N/A"}}]
[null,null,{"$f":"VLOOKUP(B233,Emp_Master!$A$4:$F$500,2)","v":{"$error":"#N/A"}},{"$f":"VLOOKUP(B233,Emp_Master!$A$4:$F$500,3)","v":{"$error":"#N/A"}},{"$f":"VLOOKUP(B233,Emp_Master!$A$4:$F$500,4)","v":{"$error":"#N/A"}},{"$f":"VLOOKUP(B233,Emp_Master!$A$4:$F$500,5)","v":{"$error":"#N/A"}},{"$f":"VLOOKUP(B233,Emp_Master!$A$4:$F$500,6)","v":{"$error":"#N/A"}}]
[null,null,{"$f":"VLOOKUP(B234,Emp_Master!$A$4:$F$500,2)","v":{"$error":"#N/A"}},{"$f":"VLOOKUP(B234,Emp_Master!$A$4:$F$500,3)","v":{"$error":"#N/A"}},{"$f":"VLOOKUP(B234,Emp_Master!$A$4:$F$500,4)","v":{"$error":"#N/A"}},{"$f":"VLOOKUP(B234,Emp_Master!$A$4:$F$500,5)","v":{"$error":"#N/A"}},{"$f":"VLOOKUP(B234,Emp_Master!$A$4:$F$500,6)","v":{"$error":"#N/A"}}]
[null,null,{"$f":"VLOOKUP(B235,Emp_Master!$A$4:$F$500,2)","v":{"$error":"#N/A"}},{"$f":"VLOOKUP(B235,Emp_Master!$A$4:$F$500,3)","v":{"$error":"#N/A"}},{"$f":"VLOOKUP(B235,Emp_Master!$A$4:$F$500,4)","v":{"$error":"#N/A"}},{"$f":"VLOOKUP(B235,Emp_Master!$A$4:$F$500,5)","v":{"$error":"#N/A"}},{"$f":"VLOOKUP(B235,Emp_Master!$A$4:$F$500,6)","v":{"$error":"#N/A"}}]
[null,null,{"$f":"VLOOKUP(B236,Emp_Master!$A$4:$F$500,2)","v":{"$error":"#N/A"}},{"$f":"VLOOKUP(B236,Emp_Master!$A$4:$F$500,3)","v":{"$error":"#N/A"}},{"$f":"VLOOKUP(B236,Emp_Master!$A$4:$F$500,4)","v":{"$error":"#N/A"}},{"$f":"VLOOKUP(B236,Emp_Master!$A$4:$F$500,5)","v":{"$error":"#N/A"}},{"$f":"VLOOKUP(B236,Emp_Master!$A$4:$F$500,6)","v":{"$error":"#N/A"}}]
[null,null,{"$f":"VLOOKUP(B237,Emp_Master!$A$4:$F$500,2)","v":{"$error":"#N/A"}},{"$f":"VLOOKUP(B237,Emp_Master!$A$4:$F$500,3)","v":{"$error":"#N/A"}},{"$f":"VLOOKUP(B237,Emp_Master!$A$4:$F$500,4)","v":{"$error":"#N/A"}},{"$f":"VLOOKUP(B237,Emp_Master!$A$4:$F$500,5)","v":{"$error":"#N/A"}},{"$f":"VLOOKUP(B237,Emp_Master!$A$4:$F$500,6)","v":{"$error":"#N/A"}}]
[null,null,{"$f":"VLOOKUP(B238,Emp_Master!$A$4:$F$500,2)","v":{"$error":"#N/A"}},{"$f":"VLOOKUP(B238,Emp_Master!$A$4:$F$500,3)","v":{"$error":"#N/A"}},{"$f":"VLOOKUP(B238,Emp_Master!$A$4:$F$500,4)","v":{"$error":"#N/A"}},{"$f":"VLOOKUP(B238,Emp_Master!$A$4:$F$500,5)","v":{"$error":"#N/A"}},{"$f":"VLOOKUP(B238,Emp_Master!$A$4:$F$500,6)","v":{"$error":"#N/A"}}]
[null,null,{"$f":"VLOOKUP(B239,Emp_Master!$A$4:$F$500,2)","v":{"$error":"#N/A"}},{"$f":"VLOOKUP(B239,Emp_Master!$A$4:$F$500,3)","v":{"$error":"#N/A"}},{"$f":"VLOOKUP(B239,Emp_Master!$A$4:$F$500,4)","v":{"$error":"#N/A"}},{"$f":"VLOOKUP(B239,Emp_Master!$A$4:$F$500,5)","v":{"$error":"#N/A"}},{"$f":"VLOOKUP(B239,Emp_Master!$A$4:$F$500,6)","v":{"$error":"#N/A"}}]
[null,null,{"$f":"VLOOKUP(B240,Emp_Master!$A$4:$F$500,2)","v":{"$error":"#N/A"}},{"$f":"VLOOKUP(B240,Emp_Master!$A$4:$F$500,3)","v":{"$error":"#N/A"}},{"$f":"VLOOKUP(B240,Emp_Master!$A$4:$F$500,4)","v":{"$error":"#N/A"}},{"$f":"VLOOKUP(B240,Emp_Master!$A$4:$F$500,5)","v":{"$error":"#N/A"}},{"$f":"VLOOKUP(B240,Emp_Master!$A$4:$F$500,6)","v":{"$error":"#N/A"}}]
[null,null,{"$f":"VLOOKUP(B241,Emp_Master!$A$4:$F$500,2)","v":{"$error":"#N/A"}},{"$f":"VLOOKUP(B241,Emp_Master!$A$4:$F$500,3)","v":{"$error":"#N/A"}},{"$f":"VLOOKUP(B241,Emp_Master!$A$4:$F$500,4)","v":{"$error":"#N/A"}},{"$f":"VLOOKUP(B241,Emp_Master!$A$4:$F$500,5)","v":{"$error":"#N/A"}},{"$f":"VLOOKUP(B241,Emp_Master!$A$4:$F$500,6)","v":{"$error":"#N/A"}}]
[null,null,{"$f":"VLOOKUP(B242,Emp_Master!$A$4:$F$500,2)","v":{"$error":"#N/A"}},{"$f":"VLOOKUP(B242,Emp_Master!$A$4:$F$500,3)","v":{"$error":"#N/A"}},{"$f":"VLOOKUP(B242,Emp_Master!$A$4:$F$500,4)","v":{"$error":"#N/A"}},{"$f":"VLOOKUP(B242,Emp_Master!$A$4:$F$500,5)","v":{"$error":"#N/A"}},{"$f":"VLOOKUP(B242,Emp_Master!$A$4:$F$500,6)","v":{"$error":"#N/A"}}]
[null,null,{"$f":"VLOOKUP(B243,Emp_Master!$A$4:$F$500,2)","v":{"$error":"#N/A"}},{"$f":"VLOOKUP(B243,Emp_Master!$A$4:$F$500,3)","v":{"$error":"#N/A"}},{"$f":"VLOOKUP(B243,Emp_Master!$A$4:$F$500,4)","v":{"$error":"#N/A"}},{"$f":"VLOOKUP(B243,Emp_Master!$A$4:$F$500,5)","v":{"$error":"#N/A"}},{"$f":"VLOOKUP(B243,Emp_Master!$A$4:$F$500,6)","v":{"$error":"#N/A"}}]
[null,null,{"$f":"VLOOKUP(B244,Emp_Master!$A$4:$F$500,2)","v":{"$error":"#N/A"}},{"$f":"VLOOKUP(B244,Emp_Master!$A$4:$F$500,3)","v":{"$error":"#N/A"}},{"$f":"VLOOKUP(B244,Emp_Master!$A$4:$F$500,4)","v":{"$error":"#N/A"}},{"$f":"VLOOKUP(B244,Emp_Master!$A$4:$F$500,5)","v":{"$error":"#N/A"}},{"$f":"VLOOKUP(B244,Emp_Master!$A$4:$F$500,6)","v":{"$error":"#N/A"}}]
[null,null,{"$f":"VLOOKUP(B245,Emp_Master!$A$4:$F$500,2)","v":{"$error":"#N/A"}},{"$f":"VLOOKUP(B245,Emp_Master!$A$4:$F$500,3)","v":{"$error":"#N/A"}},{"$f":"VLOOKUP(B245,Emp_Master!$A$4:$F$500,4)","v":{"$error":"#N/A"}},{"$f":"VLOOKUP(B245,Emp_Master!$A$4:$F$500,5)","v":{"$error":"#N/A"}},{"$f":"VLOOKUP(B245,Emp_Master!$A$4:$F$500,6)","v":{"$error":"#N/A"}}]
[null,null,{"$f":"VLOOKUP(B246,Emp_Master!$A$4:$F$500,2)","v":{"$error":"#N/A"}},{"$f":"VLOOKUP(B246,Emp_Master!$A$4:$F$500,3)","v":{"$error":"#N/A"}},{"$f":"VLOOKUP(B246,Emp_Master!$A$4:$F$500,4)","v":{"$error":"#N/A"}},{"$f":"VLOOKUP(B246,Emp_Master!$A$4:$F$500,5)","v":{"$error":"#N/A"}},{"$f":"VLOOKUP(B246,Emp_Master!$A$4:$F$500,6)","v":{"$error":"#N/A"}}]
[null,null,{"$f":"VLOOKUP(B247,Emp_Master!$A$4:$F$500,2)","v":{"$error":"#N/A"}},{"$f":"VLOOKUP(B247,Emp_Master!$A$4:$F$500,3)","v":{"$error":"#N/A"}},{"$f":"VLOOKUP(B247,Emp_Master!$A$4:$F$500,4)","v":{"$error":"#N/A"}},{"$f":"VLOOKUP(B247,Emp_Master!$A$4:$F$500,5)","v":{"$error":"#N/A"}},{"$f":"VLOOKUP(B247,Emp_Master!$A$4:$F$500,6)","v":{"$error":"#N/A"}}]
[null,null,{"$f":"VLOOKUP(B248,Emp_Master!$A$4:$F$500,2)","v":{"$error":"#N/A"}},{"$f":"VLOOKUP(B248,Emp_Master!$A$4:$F$500,3)","v":{"$error":"#N/A"}},{"$f":"VLOOKUP(B248,Emp_Master!$A$4:$F$500,4)","v":{"$error":"#N/A"}},{"$f":"VLOOKUP(B248,Emp_Master!$A$4:$F$500,5)","v":{"$error":"#N/A"}},{"$f":"VLOOKUP(B248,Emp_Master!$A$4:$F$500,6)","v":{"$error":"#N/A"}}]
[null,null,{"$f":"VLOOKUP(B249,Emp_Master!$A$4:$F$500,2)","v":{"$error":"#N/A"}},{"$f":"VLOOKUP(B249,Emp_Master!$A$4:$F$500,3)","v":{"$error":"#N/A"}},{"$f":"VLOOKUP(B249,Emp_Master!$A$4:$F$500,4)","v":{"$error":"#N/A"}},{"$f":"VLOOKUP(B249,Emp_Master!$A$4:$F$500,5)","v":{"$error":"#N/A"}},{"$f":"VLOOKUP(B249,Emp_Master!$A$4:$F$500,6)","v":{"$error":"#N/A"}}]
[null,null,{"$f":"VLOOKUP(B250,Emp_Master!$A$4:$F$500,2)","v":{"$error":"#N/A"}},{"$f":"VLOOKUP(B250,Emp_Master!$A$4:$F$500,3)","v":{"$error":"#N/A"}},{"$f":"VLOOKUP(B250,Emp_Master!$A$4:$F$500,4)","v":{"$error":"#N/A"}},{"$f":"VLOOKUP(B250,Emp_Master!$A$4:$F$500,5)","v":{"$error":"#N/A"}},{"$f":"VLOOKUP(B250,Emp_Master!$A$4:$F$500,6)","v":{"$error":"#N/A"}}]
[null,null,{"$f":"VLOOKUP(B251,Emp_Master!$A$4:$F$500,2)","v":{"$error":"#N/A"}},{"$f":"VLOOKUP(B251,Emp_Master!$A$4:$F$500,3)","v":{"$error":"#N/A"}},{"$f":"VLOOKUP(B251,Emp_Master!$A$4:$F$500,4)","v":{"$error":"#N/A"}},{"$f":"VLOOKUP(B251,Emp_Master!$A$4:$F$500,5)","v":{"$error":"#N/A"}},{"$f":"VLOOKUP(B251,Emp_Master!$A$4:$F$500,6)","v":{"$error":"#N/A"}}]
[null,null,{"$f":"VLOOKUP(B252,Emp_Master!$A$4:$F$500,2)","v":{"$error":"#N/A"}},{"$f":"VLOOKUP(B252,Emp_Master!$A$4:$F$500,3)","v":{"$error":"#N/A"}},{"$f":"VLOOKUP(B252,Emp_Master!$A$4:$F$500,4)","v":{"$error":"#N/A"}},{"$f":"VLOOKUP(B252,Emp_Master!$A$4:$F$500,5)","v":{"$error":"#N/A"}},{"$f":"VLOOKUP(B252,Emp_Master!$A$4:$F$500,6)","v":{"$error":"#N/A"}}]
[null,null,{"$f":"VLOOKUP(B253,Emp_Master!$A$4:$F$500,2)","v":{"$error":"#N/A"}},{"$f":"VLOOKUP(B253,Emp_Master!$A$4:$F$500,3)","v":{"$error":"#N/A"}},{"$f":"VLOOKUP(B253,Emp_Master!$A$4:$F$500,4)","v":{"$error":"#N/A"}},{"$f":"VLOOKUP(B253,Emp_Master!$A$4:$F$500,5)","v":{"$error":"#N/A"}},{"$f":"VLOOKUP(B253,Emp_Master!$A$4:$F$500,6)","v":{"$error":"#N/A"}}]
[null,null,{"$f":"VLOOKUP(B254,Emp_Master!$A$4:$F$500,2)","v":{"$error":"#N/A"}},{"$f":"VLOOKUP(B254,Emp_Master!$A$4:$F$500,3)","v":{"$error":"#N/A"}},{"$f":"VLOOKUP(B254,Emp_Master!$A$4:$F$500,4)","v":{"$error":"#N/A"}},{"$f":"VLOOKUP(B254,Emp_Master!$A$4:$F$500,5)","v":{"$error":"#N/A"}},{"$f":"VLOOKUP(B254,Emp_Master!$A$4:$F$500,6)","v":{"$error":"#N/A"}}]
[null,null,{"$f":"VLOOKUP(B255,Emp_Master!$A$4:$F$500,2)","v":{"$error":"#N/A"}},{"$f":"VLOOKUP(B255,Emp_Master!$A$4:$F$500,3)","v":{"$error":"#N/A"}},{"$f":"VLOOKUP(B255,Emp_Master!$A$4:$F$500,4)","v":{"$error":"#N/A"}},{"$f":"VLOOKUP(B255,Emp_Master!$A$4:$F$500,5)","v":{"$error":"#N/A"}},{"$f":"VLOOKUP(B255,Emp_Master!$A$4:$F$500,6)","v":{"$error":"#N/A"}}]
[null,null,{"$f":"VLOOKUP(B256,Emp_Master!$A$4:$F$500,2)","v":{"$error":"#N/A"}},{"$f":"VLOOKUP(B256,Emp_Master!$A$4:$F$500,3)","v":{"$error":"#N/A"}},{"$f":"VLOOKUP(B256,Emp_Master!$A$4:$F$500,4)","v":{"$error":"#N/A"}},{"$f":"VLOOKUP(B256,Emp_Master!$A$4:$F$500,5)","v":{"$error":"#N/A"}},{"$f":"VLOOKUP(B256,Emp_Master!$A$4:$F$500,6)","v":{"$error":"#N/A"}}]
[null,null,{"$f":"VLOOKUP(B257,Emp_Master!$A$4:$F$500,2)","v":{"$error":"#N/A"}},{"$f":"VLOOKUP(B257,Emp_Master!$A$4:$F$500,3)","v":{"$error":"#N/A"}},{"$f":"VLOOKUP(B257,Emp_Master!$A$4:$F$500,4)","v":{"$error":"#N/A"}},{"$f":"VLOOKUP(B257,Emp_Master!$A$4:$F$500,5)","v":{"$error":"#N/A"}},{"$f":"VLOOKUP(B257,Emp_Master!$A$4:$F$500,6)","v":{"$error":"#N/A"}}]
[null,null,{"$f":"VLOOKUP(B258,Emp_Master!$A$4:$F$500,2)","v":{"$error":"#N/A"}},{"$f":"VLOOKUP(B258,Emp_Master!$A$4:$F$500,3)","v":{"$error":"#N/A"}},{"$f":"VLOOKUP(B258,Emp_Master!$A$4:$F$500,4)","v":{"$error":"#N/A"}},{"$f":"VLOOKUP(B258,Emp_Master!$A$4:$F$500,5)","v":{"$error":"#N/A"}},{"$f":"VLOOKUP(B258,Emp_Master!$A$4:$F$500,6)","v":{"$error":"#N/A"}}]
[null,null,{"$f":"VLOOKUP(B259,Emp_Master!$A$4:$F$500,2)","v":{"$error":"#N/A"}},{"$f":"VLOOKUP(B259,Emp_Master!$A$4:$F$500,3)","v":{"$error":"#N/A"}},{"$f":"VLOOKUP(B259,Emp_Master!$A$4:$F$500,4)","v":{"$error":"#N/A"}},{"$f":"VLOOKUP(B259,Emp_Master!$A$4:$F$500,5)","v":{"$error":"#N/A"}},{"$f":"VLOOKUP(B259,Emp_Master!$A$4:$F$500,6)","v":{"$error":"#N/A"}}]
[null,null,{"$f":"VLOOKUP(B260,Emp_Master!$A$4:$F$500,2)","v":{"$error":"#N/A"}},{"$f":"VLOOKUP(B260,Emp_Master!$A$4:$F$500,3)","v":{"$error":"#N/A"}},{"$f":"VLOOKUP(B260,Emp_Master!$A$4:$F$500,4)","v":{"$error":"#N/A"}},{"$f":"VLOOKUP(B260,Emp_Master!$A$4:$F$500,5)","v":{"$error":"#N/A"}},{"$f":"VLOOKUP(B260,Emp_Master!$A$4:$F$500,6)","v":{"$error":"#N/A"}}]
[null,null,{"$f":"VLOOKUP(B261,Emp_Master!$A$4:$F$500,2)","v":{"$error":"#N/A"}},{"$f":"VLOOKUP(B261,Emp_Master!$A$4:$F$500,3)","v":{"$error":"#N/A"}},{"$f":"VLOOKUP(B261,Emp_Master!$A$4:$F$500,4)","v":{"$error":"#N/A"}},{"$f":"VLOOKUP(B261,Emp_Master!$A$4:$F$500,5)","v":{"$error":"#N/A"}},{"$f":"VLOOKUP(B261,Emp_Master!$A$4:$F$500,6)","v":{"$error":"#N/A"}}]
[null,null,{"$f":"VLOOKUP(B262,Emp_Master!$A$4:$F$500,2)","v":{"$error":"#N/A"}},{"$f":"VLOOKUP(B262,Emp_Master!$A$4:$F$500,3)","v":{"$error":"#N/A"}},{"$f":"VLOOKUP(B262,Emp_Master!$A$4:$F$500,4)","v":{"$error":"#N/A"}},{"$f":"VLOOKUP(B262,Emp_Master!$A$4:$F$500,5)","v":{"$error":"#N/A"}},{"$f":"VLOOKUP(B262,Emp_Master!$A$4:$F$500,6)","v":{"$error":"#N/A"}}]
[null,null,{"$f":"VLOOKUP(B263,Emp_Master!$A$4:$F$500,2)","v":{"$error":"#N/A"}},{"$f":"VLOOKUP(B263,Emp_Master!$A$4:$F$500,3)","v":{"$error":"#N/A"}},{"$f":"VLOOKUP(B263,Emp_Master!$A$4:$F$500,4)","v":{"$error":"#N/A"}},{"$f":"VLOOKUP(B263,Emp_Master!$A$4:$F$500,5)","v":{"$error":"#N/A"}},{"$f":"VLOOKUP(B263,Emp_Master!$A$4:$F$500,6)","v":{"$error":"#N/A"}}]
[null,null,{"$f":"VLOOKUP(B264,Emp_Master!$A$4:$F$500,2)","v":{"$error":"#N/A"}},{"$f":"VLOOKUP(B264,Emp_Master!$A$4:$F$500,3)","v":{"$error":"#N/A"}},{"$f":"VLOOKUP(B264,Emp_Master!$A$4:$F$500,4)","v":{"$error":"#N/A"}},{"$f":"VLOOKUP(B264,Emp_Master!$A$4:$F$500,5)","v":{"$error":"#N/A"}},{"$f":"VLOOKUP(B264,Emp_Master!$A$4:$F$500,6)","v":{"$error":"#N/A"}}]
[null,null,{"$f":"VLOOKUP(B265,Emp_Master!$A$4:$F$500,2)","v":{"$error":"#N/A"}},{"$f":"VLOOKUP(B265,Emp_Master!$A$4:$F$500,3)","v":{"$error":"#N/A"}},{"$f":"VLOOKUP(B265,Emp_Master!$A$4:$F$500,4)","v":{"$error":"#N/A"}},{"$f":"VLOOKUP(B265,Emp_Master!$A$4:$F$500,5)","v":{"$error":"#N/A"}},{"$f":"VLOOKUP(B265,Emp_Master!$A$4:$F$500,6)","v":{"$error":"#N/A"}}]
[null,null,{"$f":"VLOOKUP(B266,Emp_Master!$A$4:$F$500,2)","v":{"$error":"#N/A"}},{"$f":"VLOOKUP(B266,Emp_Master!$A$4:$F$500,3)","v":{"$error":"#N/A"}},{"$f":"VLOOKUP(B266,Emp_Master!$A$4:$F$500,4)","v":{"$error":"#N/A"}},{"$f":"VLOOKUP(B266,Emp_Master!$A$4:$F$500,5)","v":{"$error":"#N/A"}},{"$f":"VLOOKUP(B266,Emp_Master!$A$4:$F$500,6)","v":{"$error":"#N/A"}}]
[null,null,{"$f":"VLOOKUP(B267,Emp_Master!$A$4:$F$500,2)","v":{"$error":"#N/A"}},{"$f":"VLOOKUP(B267,Emp_Master!$A$4:$F$500,3)","v":{"$error":"#N/A"}},{"$f":"VLOOKUP(B267,Emp_Master!$A$4:$F$500,4)","v":{"$error":"#N/A"}},{"$f":"VLOOKUP(B267,Emp_Master!$A$4:$F$500,5)","v":{"$error":"#N/A"}},{"$f":"VLOOKUP(B267,Emp_Master!$A$4:$F$500,6)","v":{"$error":"#N/A"}}]
[null,null,{"$f":"VLOOKUP(B268,Emp_Master!$A$4:$F$500,2)","v":{"$error":"#N/A"}},{"$f":"VLOOKUP(B268,Emp_Master!$A$4:$F$500,3)","v":{"$error":"#N/A"}},{"$f":"VLOOKUP(B268,Emp_Master!$A$4:$F$500,4)","v":{"$error":"#N/A"}},{"$f":"VLOOKUP(B268,Emp_Master!$A$4:$F$500,5)","v":{"$error":"#N/A"}},{"$f":"VLOOKUP(B268,Emp_Master!$A$4:$F$500,6)","v":{"$error":"#N/A"}}]
[null,null,{"$f":"VLOOKUP(B269,Emp_Master!$A$4:$F$500,2)","v":{"$error":"#N/A"}},{"$f":"VLOOKUP(B269,Emp_Master!$A$4:$F$500,3)","v":{"$error":"#N/A"}},{"$f":"VLOOKUP(B269,Emp_Master!$A$4:$F$500,4)","v":{"$error":"#N/A"}},{"$f":"VLOOKUP(B269,Emp_Master!$A$4:$F$500,5)","v":{"$error":"#N/A"}},{"$f":"VLOOKUP(B269,Emp_Master!$A$4:$F$500,6)","v":{"$error":"#N/A"}}]
[null,null,{"$f":"VLOOKUP(B270,Emp_Master!$A$4:$F$500,2)","v":{"$error":"#N/A"}},{"$f":"VLOOKUP(B270,Emp_Master!$A$4:$F$500,3)","v":{"$error":"#N/A"}},{"$f":"VLOOKUP(B270,Emp_Master!$A$4:$F$500,4)","v":{"$error":"#N/A"}},{"$f":"VLOOKUP(B270,Emp_Master!$A$4:$F$500,5)","v":{"$error":"#N/A"}},{"$f":"VLOOKUP(B270,Emp_Master!$A$4:$F$500,6)","v":{"$error":"#N/A"}}]
[null,null,{"$f":"VLOOKUP(B271,Emp_Master!$A$4:$F$500,2)","v":{"$error":"#N/A"}},{"$f":"VLOOKUP(B271,Emp_Master!$A$4:$F$500,3)","v":{"$error":"#N/A"}},{"$f":"VLOOKUP(B271,Emp_Master!$A$4:$F$500,4)","v":{"$error":"#N/A"}},{"$f":"VLOOKUP(B271,Emp_Master!$A$4:$F$500,5)","v":{"$error":"#N/A"}},{"$f":"VLOOKUP(B271,Emp_Master!$A$4:$F$500,6)","v":{"$error":"#N/A"}}]
[null,null,{"$f":"VLOOKUP(B272,Emp_Master!$A$4:$F$500,2)","v":{"$error":"#N/A"}},{"$f":"VLOOKUP(B272,Emp_Master!$A$4:$F$500,3)","v":{"$error":"#N/A"}},{"$f":"VLOOKUP(B272,Emp_Master!$A$4:$F$500,4)","v":{"$error":"#N/A"}},{"$f":"VLOOKUP(B272,Emp_Master!$A$4:$F$500,5)","v":{"$error":"#N/A"}},{"$f":"VLOOKUP(B272,Emp_Master!$A$4:$F$500,6)","v":{"$error":"#N/A"}}]
[null,null,{"$f":"VLOOKUP(B273,Emp_Master!$A$4:$F$500,2)","v":{"$error":"#N/A"}},{"$f":"VLOOKUP(B273,Emp_Master!$A$4:$F$500,3)","v":{"$error":"#N/A"}},{"$f":"VLOOKUP(B273,Emp_Master!$A$4:$F$500,4)","v":{"$error":"#N/A"}},{"$f":"VLOOKUP(B273,Emp_Master!$A$4:$F$500,5)","v":{"$error":"#N/A"}},{"$f":"VLOOKUP(B273,Emp_Master!$A$4:$F$500,6)","v":{"$error":"#N/A"}}]
[null,null,{"$f":"VLOOKUP(B274,Emp_Master!$A$4:$F$500,2)","v":{"$error":"#N/A"}},{"$f":"VLOOKUP(B274,Emp_Master!$A$4:$F$500,3)","v":{"$error":"#N/A"}},{"$f":"VLOOKUP(B274,Emp_Master!$A$4:$F$500,4)","v":{"$error":"#N/A"}},{"$f":"VLOOKUP(B274,Emp_Master!$A$4:$F$500,5)","v":{"$error":"#N/A"}},{"$f":"VLOOKUP(B274,Emp_Master!$A$4:$F$500,6)","v":{"$error":"#N/A"}}]
[null,null,{"$f":"VLOOKUP(B275,Emp_Master!$A$4:$F$500,2)","v":{"$error":"#N/A"}},{"$f":"VLOOKUP(B275,Emp_Master!$A$4:$F$500,3)","v":{"$error":"#N/A"}},{"$f":"VLOOKUP(B275,Emp_Master!$A$4:$F$500,4)","v":{"$error":"#N/A"}},{"$f":"VLOOKUP(B275,Emp_Master!$A$4:$F$500,5)","v":{"$error":"#N/A"}},{"$f":"VLOOKUP(B275,Emp_Master!$A$4:$F$500,6)","v":{"$error":"#N/A"}}]
[null,null,{"$f":"VLOOKUP(B276,Emp_Master!$A$4:$F$500,2)","v":{"$error":"#N/A"}},{"$f":"VLOOKUP(B276,Emp_Master!$A$4:$F$500,3)","v":{"$error":"#N/A"}},{"$f":"VLOOKUP(B276,Emp_Master!$A$4:$F$500,4)","v":{"$error":"#N/A"}},{"$f":"VLOOKUP(B276,Emp_Master!$A$4:$F$500,5)","v":{"$error":"#N/A"}},{"$f":"VLOOKUP(B276,Emp_Master!$A$4:$F$500,6)","v":{"$error":"#N/A"}}]
[null,null,{"$f":"VLOOKUP(B277,Emp_Master!$A$4:$F$500,2)","v":{"$error":"#N/A"}},{"$f":"VLOOKUP(B277,Emp_Master!$A$4:$F$500,3)","v":{"$error":"#N/A"}},{"$f":"VLOOKUP(B277,Emp_Master!$A$4:$F$500,4)","v":{"$error":"#N/A"}},{"$f":"VLOOKUP(B277,Emp_Master!$A$4:$F$500,5)","v":{"$error":"#N/A"}},{"$f":"VLOOKUP(B277,Emp_Master!$A$4:$F$500,6)","v":{"$error":"#N/A"}}]
[null,null,{"$f":"VLOOKUP(B278,Emp_Master!$A$4:$F$500,2)","v":{"$error":"#N/A"}},{"$f":"VLOOKUP(B278,Emp_Master!$A$4:$F$500,3)","v":{"$error":"#N/A"}},{"$f":"VLOOKUP(B278,Emp_Master!$A$4:$F$500,4)","v":{"$error":"#N/A"}},{"$f":"VLOOKUP(B278,Emp_Master!$A$4:$F$500,5)","v":{"$error":"#N/A"}},{"$f":"VLOOKUP(B278,Emp_Master!$A$4:$F$500,6)","v":{"$error":"#N/A"}}]
[null,null,{"$f":"VLOOKUP(B279,Emp_Master!$A$4:$F$500,2)","v":{"$error":"#N/A"}},{"$f":"VLOOKUP(B279,Emp_Master!$A$4:$F$500,3)","v":{"$error":"#N/A"}},{"$f":"VLOOKUP(B279,Emp_Master!$A$4:$F$500,4)","v":{"$error":"#N/A"}},{"$f":"VLOOKUP(B279,Emp_Master!$A$4:$F$500,5)","v":{"$error":"#N/A"}},{"$f":"VLOOKUP(B279,Emp_Master!$A$4:$F$500,6)","v":{"$error":"#N/A"}}]
[null,null,{"$f":"VLOOKUP(B280,Emp_Master!$A$4:$F$500,2)","v":{"$error":"#N/A"}},{"$f":"VLOOKUP(B280,Emp_Master!$A$4:$F$500,3)","v":{"$error":"#N/A"}},{"$f":"VLOOKUP(B280,Emp_Master!$A$4:$F$500,4)","v":{"$error":"#N/A"}},{"$f":"VLOOKUP(B280,Emp_Master!$A$4:$F$500,5)","v":{"$error":"#N/A"}},{"$f":"VLOOKUP(B280,Emp_Master!$A$4:$F$500,6)","v":{"$error":"#N/A"}}]
[null,null,{"$f":"VLOOKUP(B281,Emp_Master!$A$4:$F$500,2)","v":{"$error":"#N/A"}},{"$f":"VLOOKUP(B281,Emp_Master!$A$4:$F$500,3)","v":{"$error":"#N/A"}},{"$f":"VLOOKUP(B281,Emp_Master!$A$4:$F$500,4)","v":{"$error":"#N/A"}},{"$f":"VLOOKUP(B281,Emp_Master!$A$4:$F$500,5)","v":{"$error":"#N/A"}},{"$f":"VLOOKUP(B281,Emp_Master!$A$4:$F$500,6)","v":{"$error":"#N/A"}}]
[null,null,{"$f":"VLOOKUP(B282,Emp_Master!$A$4:$F$500,2)","v":{"$error":"#N/A"}},{"$f":"VLOOKUP(B282,Emp_Master!$A$4:$F$500,3)","v":{"$error":"#N/A"}},{"$f":"VLOOKUP(B282,Emp_Master!$A$4:$F$500,4)","v":{"$error":"#N/A"}},{"$f":"VLOOKUP(B282,Emp_Master!$A$4:$F$500,5)","v":{"$error":"#N/A"}},{"$f":"VLOOKUP(B282,Emp_Master!$A$4:$F$500,6)","v":{"$error":"#N/A"}}]
[null,null,{"$f":"VLOOKUP(B283,Emp_Master!$A$4:$F$500,2)","v":{"$error":"#N/A"}},{"$f":"VLOOKUP(B283,Emp_Master!$A$4:$F$500,3)","v":{"$error":"#N/A"}},{"$f":"VLOOKUP(B283,Emp_Master!$A$4:$F$500,4)","v":{"$error":"#N/A"}},{"$f":"VLOOKUP(B283,Emp_Master!$A$4:$F$500,5)","v":{"$error":"#N/A"}},{"$f":"VLOOKUP(B283,Emp_Master!$A$4:$F$500,6)","v":{"$error":"#N/A"}}]
[null,null,{"$f":"VLOOKUP(B284,Emp_Master!$A$4:$F$500,2)","v":{"$error":"#N/A"}},{"$f":"VLOOKUP(B284,Emp_Master!$A$4:$F$500,3)","v":{"$error":"#N/A"}},{"$f":"VLOOKUP(B284,Emp_Master!$A$4:$F$500,4)","v":{"$error":"#N/A"}},{"$f":"VLOOKUP(B284,Emp_Master!$A$4:$F$500,5)","v":{"$error":"#N/A"}},{"$f":"VLOOKUP(B284,Emp_Master!$A$4:$F$500,6)","v":{"$error":"#N/A"}}]
[null,null,{"$f":"VLOOKUP(B285,Emp_Master!$A$4:$F$500,2)","v":{"$error":"#N/A"}},{"$f":"VLOOKUP(B285,Emp_Master!$A$4:$F$500,3)","v":{"$error":"#N/A"}},{"$f":"VLOOKUP(B285,Emp_Master!$A$4:$F$500,4)","v":{"$error":"#N/A"}},{"$f":"VLOOKUP(B285,Emp_Master!$A$4:$F$500,5)","v":{"$error":"#N/A"}},{"$f":"VLOOKUP(B285,Emp_Master!$A$4:$F$500,6)","v":{"$error":"#N/A"}}]
[null,null,{"$f":"VLOOKUP(B286,Emp_Master!$A$4:$F$500,2)","v":{"$error":"#N/A"}},{"$f":"VLOOKUP(B286,Emp_Master!$A$4:$F$500,3)","v":{"$error":"#N/A"}},{"$f":"VLOOKUP(B286,Emp_Master!$A$4:$F$500,4)","v":{"$error":"#N/A"}},{"$f":"VLOOKUP(B286,Emp_Master!$A$4:$F$500,5)","v":{"$error":"#N/A"}},{"$f":"VLOOKUP(B286,Emp_Master!$A$4:$F$500,6)","v":{"$error":"#N/A"}}]
[null,null,{"$f":"VLOOKUP(B287,Emp_Master!$A$4:$F$500,2)","v":{"$error":"#N/A"}},{"$f":"VLOOKUP(B287,Emp_Master!$A$4:$F$500,3)","v":{"$error":"#N/A"}},{"$f":"VLOOKUP(B287,Emp_Master!$A$4:$F$500,4)","v":{"$error":"#N/A"}},{"$f":"VLOOKUP(B287,Emp_Master!$A$4:$F$500,5)","v":{"$error":"#N/A"}},{"$f":"VLOOKUP(B287,Emp_Master!$A$4:$F$500,6)","v":{"$error":"#N/A"}}]
[null,null,{"$f":"VLOOKUP(B288,Emp_Master!$A$4:$F$500,2)","v":{"$error":"#N/A"}},{"$f":"VLOOKUP(B288,Emp_Master!$A$4:$F$500,3)","v":{"$error":"#N/A"}},{"$f":"VLOOKUP(B288,Emp_Master!$A$4:$F$500,4)","v":{"$error":"#N/A"}},{"$f":"VLOOKUP(B288,Emp_Master!$A$4:$F$500,5)","v":{"$error":"#N/A"}},{"$f":"VLOOKUP(B288,Emp_Master!$A$4:$F$500,6)","v":{"$error":"#N/A"}}]
[null,null,{"$f":"VLOOKUP(B289,Emp_Master!$A$4:$F$500,2)","v":{"$error":"#N/A"}},{"$f":"VLOOKUP(B289,Emp_Master!$A$4:$F$500,3)","v":{"$error":"#N/A"}},{"$f":"VLOOKUP(B289,Emp_Master!$A$4:$F$500,4)","v":{"$error":"#N/A"}},{"$f":"VLOOKUP(B289,Emp_Master!$A$4:$F$500,5)","v":{"$error":"#N/A"}},{"$f":"VLOOKUP(B289,Emp_Master!$A$4:$F$500,6)","v":{"$error":"#N/A"}}]
[null,null,{"$f":"VLOOKUP(B290,Emp_Master!$A$4:$F$500,2)","v":{"$error":"#N/A"}},{"$f":"VLOOKUP(B290,Emp_Master!$A$4:$F$500,3)","v":{"$error":"#N/A"}},{"$f":"VLOOKUP(B290,Emp_Master!$A$4:$F$500,4)","v":{"$error":"#N/A"}},{"$f":"VLOOKUP(B290,Emp_Master!$A$4:$F$500,5)","v":{"$error":"#N/A"}},{"$f":"VLOOKUP(B290,Emp_Master!$A$4:$F$500,6)","v":{"$error":"#N/A"}}]
[null,null,{"$f":"VLOOKUP(B291,Emp_Master!$A$4:$F$500,2)","v":{"$error":"#N/A"}},{"$f":"VLOOKUP(B291,Emp_Master!$A$4:$F$500,3)","v":{"$error":"#N/A"}},{"$f":"VLOOKUP(B291,Emp_Master!$A$4:$F$500,4)","v":{"$error":"#N/A"}},{"$f":"VLOOKUP(B291,Emp_Master!$A$4:$F$500,5)","v":{"$error":"#N/A"}},{"$f":"VLOOKUP(B291,Emp_Master!$A$4:$F$500,6)","v":{"$error":"#N/A"}}]
[null,null,{"$f":"VLOOKUP(B292,Emp_Master!$A$4:$F$500,2)","v":{"$error":"#N/A"}},{"$f":"VLOOKUP(B292,Emp_Master!$A$4:$F$500,3)","v":{"$error":"#N/A"}},{"$f":"VLOOKUP(B292,Emp_Master!$A$4:$F$500,4)","v":{"$error":"#N/A"}},{"$f":"VLOOKUP(B292,Emp_Master!$A$4:$F$500,5)","v":{"$error":"#N/A"}},{"$f":"VLOOKUP(B292,Emp_Master!$A$4:$F$500,6)","v":{"$error":"#N/A"}}]
[null,null,{"$f":"VLOOKUP(B293,Emp_Master!$A$4:$F$500,2)","v":{"$error":"#N/A"}},{"$f":"VLOOKUP(B293,Emp_Master!$A$4:$F$500,3)","v":{"$error":"#N/A"}},{"$f":"VLOOKUP(B293,Emp_Master!$A$4:$F$500,4)","v":{"$error":"#N/A"}},{"$f":"VLOOKUP(B293,Emp_Master!$A$4:$F$500,5)","v":{"$error":"#N/A"}},{"$f":"VLOOKUP(B293,Emp_Master!$A$4:$F$500,6)","v":{"$error":"#N/A"}}]
[null,null,{"$f":"VLOOKUP(B294,Emp_Master!$A$4:$F$500,2)","v":{"$error":"#N/A"}},{"$f":"VLOOKUP(B294,Emp_Master!$A$4:$F$500,3)","v":{"$error":"#N/A"}},{"$f":"VLOOKUP(B294,Emp_Master!$A$4:$F$500,4)","v":{"$error":"#N/A"}},{"$f":"VLOOKUP(B294,Emp_Master!$A$4:$F$500,5)","v":{"$error":"#N/A"}},{"$f":"VLOOKUP(B294,Emp_Master!$A$4:$F$500,6)","v":{"$error":"#N/A"}}]
[null,null,{"$f":"VLOOKUP(B295,Emp_Master!$A$4:$F$500,2)","v":{"$error":"#N/A"}},{"$f":"VLOOKUP(B295,Emp_Master!$A$4:$F$500,3)","v":{"$error":"#N/A"}},{"$f":"VLOOKUP(B295,Emp_Master!$A$4:$F$500,4)","v":{"$error":"#N/A"}},{"$f":"VLOOKUP(B295,Emp_Master!$A$4:$F$500,5)","v":{"$error":"#N/A"}},{"$f":"VLOOKUP(B295,Emp_Master!$A$4:$F$500,6)","v":{"$error":"#N/A"}}]
[null,null,{"$f":"VLOOKUP(B296,Emp_Master!$A$4:$F$500,2)","v":{"$error":"#N/A"}},{"$f":"VLOOKUP(B296,Emp_Master!$A$4:$F$500,3)","v":{"$error":"#N/A"}},{"$f":"VLOOKUP(B296,Emp_Master!$A$4:$F$500,4)","v":{"$error":"#N/A"}},{"$f":"VLOOKUP(B296,Emp_Master!$A$4:$F$500,5)","v":{"$error":"#N/A"}},{"$f":"VLOOKUP(B296,Emp_Master!$A$4:$F$500,6)","v":{"$error":"#N/A"}}]
[null,null,{"$f":"VLOOKUP(B297,Emp_Master!$A$4:$F$500,2)","v":{"$error":"#N/A"}},{"$f":"VLOOKUP(B297,Emp_Master!$A$4:$F$500,3)","v":{"$error":"#N/A"}},{"$f":"VLOOKUP(B297,Emp_Master!$A$4:$F$500,4)","v":{"$error":"#N/A"}},{"$f":"VLOOKUP(B297,Emp_Master!$A$4:$F$500,5)","v":{"$error":"#N/A"}},{"$f":"VLOOKUP(B297,Emp_Master!$A$4:$F$500,6)","v":{"$error":"#N/A"}}]
[null,null,{"$f":"VLOOKUP(B298,Emp_Master!$A$4:$F$500,2)","v":{"$error":"#N/A"}},{"$f":"VLOOKUP(B298,Emp_Master!$A$4:$F$500,3)","v":{"$error":"#N/A"}},{"$f":"VLOOKUP(B298,Emp_Master!$A$4:$F$500,4)","v":{"$error":"#N/A"}},{"$f":"VLOOKUP(B298,Emp_Master!$A$4:$F$500,5)","v":{"$error":"#N/A"}},{"$f":"VLOOKUP(B298,Emp_Master!$A$4:$F$500,6)","v":{"$error":"#N/A"}}]
[null,null,{"$f":"VLOOKUP(B299,Emp_Master!$A$4:$F$500,2)","v":{"$error":"#N/A"}},{"$f":"VLOOKUP(B299,Emp_Master!$A$4:$F$500,3)","v":{"$error":"#N/A"}},{"$f":"VLOOKUP(B299,Emp_Master!$A$4:$F$500,4)","v":{"$error":"#N/A"}},{"$f":"VLOOKUP(B299,Emp_Master!$A$4:$F$500,5)","v":{"$error":"#N/A"}},{"$f":"VLOOKUP(B299,Emp_Master!$A$4:$F$500,6)","v":{"$error":"#N/A"}}]
[null,null,{"$f":"VLOOKUP(B300,Emp_Master!$A$4:$F$500,2)","v":{"$error":"#N/A"}},{"$f":"VLOOKUP(B300,Emp_Master!$A$4:$F$500,3)","v":{"$error":"#N/A"}},{"$f":"VLOOKUP(B300,Emp_Master!$A$4:$F$500,4)","v":{"$error":"#N/A"}},{"$f":"VLOOKUP(B300,Emp_Master!$A$4:$F$500,5)","v":{"$error":"#N/A"}},{"$f":"VLOOKUP(B300,Emp_Master!$A$4:$F$500,6)","v":{"$error":"#N/A"}}]
[null,null,{"$f":"VLOOKUP(B301,Emp_Master!$A$4:$F$500,2)","v":{"$error":"#N/A"}},{"$f":"VLOOKUP(B301,Emp_Master!$A$4:$F$500,3)","v":{"$error":"#N/A"}},{"$f":"VLOOKUP(B301,Emp_Master!$A$4:$F$500,4)","v":{"$error":"#N/A"}},{"$f":"VLOOKUP(B301,Emp_Master!$A$4:$F$500,5)","v":{"$error":"#N/A"}},{"$f":"VLOOKUP(B301,Emp_Master!$A$4:$F$500,6)","v":{"$error":"#N/A"}}]
[null,null,{"$f":"VLOOKUP(B302,Emp_Master!$A$4:$F$500,2)","v":{"$error":"#N/A"}},{"$f":"VLOOKUP(B302,Emp_Master!$A$4:$F$500,3)","v":{"$error":"#N/A"}},{"$f":"VLOOKUP(B302,Emp_Master!$A$4:$F$500,4)","v":{"$error":"#N/A"}},{"$f":"VLOOKUP(B302,Emp_Master!$A$4:$F$500,5)","v":{"$error":"#N/A"}},{"$f":"VLOOKUP(B302,Emp_Master!$A$4:$F$500,6)","v":{"$error":"#N/A"}}]
[null,null,{"$f":"VLOOKUP(B303,Emp_Master!$A$4:$F$500,2)","v":{"$error":"#N/A"}},{"$f":"VLOOKUP(B303,Emp_Master!$A$4:$F$500,3)","v":{"$error":"#N/A"}},{"$f":"VLOOKUP(B303,Emp_Master!$A$4:$F$500,4)","v":{"$error":"#N/A"}},{"$f":"VLOOKUP(B303,Emp_Master!$A$4:$F$500,5)","v":{"$error":"#N/A"}},{"$f":"VLOOKUP(B303,Emp_Master!$A$4:$F$500,6)","v":{"$error":"#N/A"}}]
[null,null,{"$f":"VLOOKUP(B304,Emp_Master!$A$4:$F$500,2)","v":{"$error":"#N/A"}},{"$f":"VLOOKUP(B304,Emp_Master!$A$4:$F$500,3)","v":{"$error":"#N/A"}},{"$f":"VLOOKUP(B304,Emp_Master!$A$4:$F$500,4)","v":{"$error":"#N/A"}},{"$f":"VLOOKUP(B304,Emp_Master!$A$4:$F$500,5)","v":{"$error":"#N/A"}},{"$f":"VLOOKUP(B304,Emp_Master!$A$4:$F$500,6)","v":{"$error":"#N/A"}}]
[null,null,{"$f":"VLOOKUP(B305,Emp_Master!$A$4:$F$500,2)","v":{"$error":"#N/A"}},{"$f":"VLOOKUP(B305,Emp_Master!$A$4:$F$500,3)","v":{"$error":"#N/A"}},{"$f":"VLOOKUP(B305,Emp_Master!$A$4:$F$500,4)","v":{"$error":"#N/A"}},{"$f":"VLOOKUP(B305,Emp_Master!$A$4:$F$500,5)","v":{"$error":"#N/A"}},{"$f":"VLOOKUP(B305,Emp_Master!$A$4:$F$500,6)","v":{"$error":"#N/A"}}]
[null,null,{"$f":"VLOOKUP(B306,Emp_Master!$A$4:$F$500,2)","v":{"$error":"#N/A"}},{"$f":"VLOOKUP(B306,Emp_Master!$A$4:$F$500,3)","v":{"$error":"#N/A"}},{"$f":"VLOOKUP(B306,Emp_Master!$A$4:$F$500,4)","v":{"$error":"#N/A"}},{"$f":"VLOOKUP(B306,Emp_Master!$A$4:$F$500,5)","v":{"$error":"#N/A"}},{"$f":"VLOOKUP(B306,Emp_Master!$A$4:$F$500,6)","v":{"$error":"#N/A"}}]
[null,null,{"$f":"VLOOKUP(B307,Emp_Master!$A$4:$F$500,2)","v":{"$error":"#N/A"}},{"$f":"VLOOKUP(B307,Emp_Master!$A$4:$F$500,3)","v":{"$error":"#N/A"}},{"$f":"VLOOKUP(B307,Emp_Master!$A$4:$F$500,4)","v":{"$error":"#N/A"}},{"$f":"VLOOKUP(B307,Emp_Master!$A$4:$F$500,5)","v":{"$error":"#N/A"}},{"$f":"VLOOKUP(B307,Emp_Master!$A$4:$F$500,6)","v":{"$error":"#N/A"}}]
[null,null,{"$f":"VLOOKUP(B308,Emp_Master!$A$4:$F$500,2)","v":{"$error":"#N/A"}},{"$f":"VLOOKUP(B308,Emp_Master!$A$4:$F$500,3)","v":{"$error":"#N/A"}},{"$f":"VLOOKUP(B308,Emp_Master!$A$4:$F$500,4)","v":{"$error":"#N/A"}},{"$f":"VLOOKUP(B308,Emp_Master!$A$4:$F$500,5)","v":{"$error":"#N/A"}},{"$f":"VLOOKUP(B308,Emp_Master!$A$4:$F$500,6)","v":{"$error":"#N/A"}}]
[null,null,{"$f":"VLOOKUP(B309,Emp_Master!$A$4:$F$500,2)","v":{"$error":"#N/A"}},{"$f":"VLOOKUP(B309,Emp_Master!$A$4:$F$500,3)","v":{"$error":"#N/A"}},{"$f":"VLOOKUP(B309,Emp_Master!$A$4:$F$500,4)","v":{"$error":"#N/A"}},{"$f":"VLOOKUP(B309,Emp_Master!$A$4:$F$500,5)","v":{"$error":"#N/A"}},{"$f":"VLOOKUP(B309,Emp_Master!$A$4:$F$500,6)","v":{"$error":"#N/A"}}]
[null,null,{"$f":"VLOOKUP(B310,Emp_Master!$A$4:$F$500,2)","v":{"$error":"#N/A"}},{"$f":"VLOOKUP(B310,Emp_Master!$A$4:$F$500,3)","v":{"$error":"#N/A"}},{"$f":"VLOOKUP(B310,Emp_Master!$A$4:$F$500,4)","v":{"$error":"#N/A"}},{"$f":"VLOOKUP(B310,Emp_Master!$A$4:$F$500,5)","v":{"$error":"#N/A"}},{"$f":"VLOOKUP(B310,Emp_Master!$A$4:$F$500,6)","v":{"$error":"#N/A"}}]
[null,null,{"$f":"VLOOKUP(B311,Emp_Master!$A$4:$F$500,2)","v":{"$error":"#N/A"}},{"$f":"VLOOKUP(B311,Emp_Master!$A$4:$F$500,3)","v":{"$error":"#N/A"}},{"$f":"VLOOKUP(B311,Emp_Master!$A$4:$F$500,4)","v":{"$error":"#N/A"}},{"$f":"VLOOKUP(B311,Emp_Master!$A$4:$F$500,5)","v":{"$error":"#N/A"}},{"$f":"VLOOKUP(B311,Emp_Master!$A$4:$F$500,6)","v":{"$error":"#N/A"}}]
[null,null,{"$f":"VLOOKUP(B312,Emp_Master!$A$4:$F$500,2)","v":{"$error":"#N/A"}},{"$f":"VLOOKUP(B312,Emp_Master!$A$4:$F$500,3)","v":{"$error":"#N/A"}},{"$f":"VLOOKUP(B312,Emp_Master!$A$4:$F$500,4)","v":{"$error":"#N/A"}},{"$f":"VLOOKUP(B312,Emp_Master!$A$4:$F$500,5)","v":{"$error":"#N/A"}},{"$f":"VLOOKUP(B312,Emp_Master!$A$4:$F$500,6)","v":{"$error":"#N/A"}}]
[null,null,{"$f":"VLOOKUP(B313,Emp_Master!$A$4:$F$500,2)","v":{"$error":"#N/A"}},{"$f":"VLOOKUP(B313,Emp_Master!$A$4:$F$500,3)","v":{"$error":"#N/A"}},{"$f":"VLOOKUP(B313,Emp_Master!$A$4:$F$500,4)","v":{"$error":"#N/A"}},{"$f":"VLOOKUP(B313,Emp_Master!$A$4:$F$500,5)","v":{"$error":"#N/A"}},{"$f":"VLOOKUP(B313,Emp_Master!$A$4:$F$500,6)","v":{"$error":"#N/A"}}]
[null,null,{"$f":"VLOOKUP(B314,Emp_Master!$A$4:$F$500,2)","v":{"$error":"#N/A"}},{"$f":"VLOOKUP(B314,Emp_Master!$A$4:$F$500,3)","v":{"$error":"#N/A"}},{"$f":"VLOOKUP(B314,Emp_Master!$A$4:$F$500,4)","v":{"$error":"#N/A"}},{"$f":"VLOOKUP(B314,Emp_Master!$A$4:$F$500,5)","v":{"$error":"#N/A"}},{"$f":"VLOOKUP(B314,Emp_Master!$A$4:$F$500,6)","v":{"$error":"#N/A"}}]
[null,null,{"$f":"VLOOKUP(B315,Emp_Master!$A$4:$F$500,2)","v":{"$error":"#N/A"}},{"$f":"VLOOKUP(B315,Emp_Master!$A$4:$F$500,3)","v":{"$error":"#N/A"}},{"$f":"VLOOKUP(B315,Emp_Master!$A$4:$F$500,4)","v":{"$error":"#N/A"}},{"$f":"VLOOKUP(B315,Emp_Master!$A$4:$F$500,5)","v":{"$error":"#N/A"}},{"$f":"VLOOKUP(B315,Emp_Master!$A$4:$F$500,6)","v":{"$error":"#N/A"}}]
[null,null,{"$f":"VLOOKUP(B316,Emp_Master!$A$4:$F$500,2)","v":{"$error":"#N/A"}},{"$f":"VLOOKUP(B316,Emp_Master!$A$4:$F$500,3)","v":{"$error":"#N/A"}},{"$f":"VLOOKUP(B316,Emp_Master!$A$4:$F$500,4)","v":{"$error":"#N/A"}},{"$f":"VLOOKUP(B316,Emp_Master!$A$4:$F$500,5)","v":{"$error":"#N/A"}},{"$f":"VLOOKUP(B316,Emp_Master!$A$4:$F$500,6)","v":{"$error":"#N/A"}}]
[null,null,{"$f":"VLOOKUP(B317,Emp_Master!$A$4:$F$500,2)","v":{"$error":"#N/A"}},{"$f":"VLOOKUP(B317,Emp_Master!$A$4:$F$500,3)","v":{"$error":"#N/A"}},{"$f":"VLOOKUP(B317,Emp_Master!$A$4:$F$500,4)","v":{"$error":"#N/A"}},{"$f":"VLOOKUP(B317,Emp_Master!$A$4:$F$500,5)","v":{"$error":"#N/A"}},{"$f":"VLOOKUP(B317,Emp_Master!$A$4:$F$500,6)","v":{"$error":"#N/A"}}]
[null,null,{"$f":"VLOOKUP(B318,Emp_Master!$A$4:$F$500,2)","v":{"$error":"#N/A"}},{"$f":"VLOOKUP(B318,Emp_Master!$A$4:$F$500,3)","v":{"$error":"#N/A"}},{"$f":"VLOOKUP(B318,Emp_Master!$A$4:$F$500,4)","v":{"$error":"#N/A"}},{"$f":"VLOOKUP(B318,Emp_Master!$A$4:$F$500,5)","v":{"$error":"#N/A"}},{"$f":"VLOOKUP(B318,Emp_Master!$A$4:$F$500,6)","v":{"$error":"#N/A"}}]
[null,null,{"$f":"VLOOKUP(B319,Emp_Master!$A$4:$F$500,2)","v":{"$error":"#N/A"}},{"$f":"VLOOKUP(B319,Emp_Master!$A$4:$F$500,3)","v":{"$error":"#N/A"}},{"$f":"VLOOKUP(B319,Emp_Master!$A$4:$F$500,4)","v":{"$error":"#N/A"}},{"$f":"VLOOKUP(B319,Emp_Master!$A$4:$F$500,5)","v":{"$error":"#N/A"}},{"$f":"VLOOKUP(B319,Emp_Master!$A$4:$F$500,6)","v":{"$error":"#N/A"}}]
[null,null,{"$f":"VLOOKUP(B320,Emp_Master!$A$4:$F$500,2)","v":{"$error":"#N/A"}},{"$f":"VLOOKUP(B320,Emp_Master!$A$4:$F$500,3)","v":{"$error":"#N/A"}},{"$f":"VLOOKUP(B320,Emp_Master!$A$4:$F$500,4)","v":{"$error":"#N/A"}},{"$f":"VLOOKUP(B320,Emp_Master!$A$4:$F$500,5)","v":{"$error":"#N/A"}},{"$f":"VLOOKUP(B320,Emp_Master!$A$4:$F$500,6)","v":{"$error":"#N/A"}}]
[null,null,{"$f":"VLOOKUP(B321,Emp_Master!$A$4:$F$500,2)","v":{"$error":"#N/A"}},{"$f":"VLOOKUP(B321,Emp_Master!$A$4:$F$500,3)","v":{"$error":"#N/A"}},{"$f":"VLOOKUP(B321,Emp_Master!$A$4:$F$500,4)","v":{"$error":"#N/A"}},{"$f":"VLOOKUP(B321,Emp_Master!$A$4:$F$500,5)","v":{"$error":"#N/A"}},{"$f":"VLOOKUP(B321,Emp_Master!$A$4:$F$500,6)","v":{"$error":"#N/A"}}]
[null,null,{"$f":"VLOOKUP(B322,Emp_Master!$A$4:$F$500,2)","v":{"$error":"#N/A"}},{"$f":"VLOOKUP(B322,Emp_Master!$A$4:$F$500,3)","v":{"$error":"#N/A"}},{"$f":"VLOOKUP(B322,Emp_Master!$A$4:$F$500,4)","v":{"$error":"#N/A"}},{"$f":"VLOOKUP(B322,Emp_Master!$A$4:$F$500,5)","v":{"$error":"#N/A"}},{"$f":"VLOOKUP(B322,Emp_Master!$A$4:$F$500,6)","v":{"$error":"#N/A"}}]
[null,null,{"$f":"VLOOKUP(B323,Emp_Master!$A$4:$F$500,2)","v":{"$error":"#N/A"}},{"$f":"VLOOKUP(B323,Emp_Master!$A$4:$F$500,3)","v":{"$error":"#N/A"}},{"$f":"VLOOKUP(B323,Emp_Master!$A$4:$F$500,4)","v":{"$error":"#N/A"}},{"$f":"VLOOKUP(B323,Emp_Master!$A$4:$F$500,5)","v":{"$error":"#N/A"}},{"$f":"VLOOKUP(B323,Emp_Master!$A$4:$F$500,6)","v":{"$error":"#N/A"}}]
[null,null,{"$f":"VLOOKUP(B324,Emp_Master!$A$4:$F$500,2)","v":{"$error":"#N/A"}},{"$f":"VLOOKUP(B324,Emp_Master!$A$4:$F$500,3)","v":{"$error":"#N/A"}},{"$f":"VLOOKUP(B324,Emp_Master!$A$4:$F$500,4)","v":{"$error":"#N/A"}},{"$f":"VLOOKUP(B324,Emp_Master!$A$4:$F$500,5)","v":{"$error":"#N/A"}},{"$f":"VLOOKUP(B324,Emp_Master!$A$4:$F$500,6)","v":{"$error":"#N/A"}}]
[null,null,{"$f":"VLOOKUP(B325,Emp_Master!$A$4:$F$500,2)","v":{"$error":"#N/A"}},{"$f":"VLOOKUP(B325,Emp_Master!$A$4:$F$500,3)","v":{"$error":"#N/A"}},{"$f":"VLOOKUP(B325,Emp_Master!$A$4:$F$500,4)","v":{"$error":"#N/A"}},{"$f":"VLOOKUP(B325,Emp_Master!$A$4:$F$500,5)","v":{"$error":"#N/A"}},{"$f":"VLOOKUP(B325,Emp_Master!$A$4:$F$500,6)","v":{"$error":"#N/A"}}]
[null,null,{"$f":"VLOOKUP(B326,Emp_Master!$A$4:$F$500,2)","v":{"$error":"#N/A"}},{"$f":"VLOOKUP(B326,Emp_Master!$A$4:$F$500,3)","v":{"$error":"#N/A"}},{"$f":"VLOOKUP(B326,Emp_Master!$A$4:$F$500,4)","v":{"$error":"#N/A"}},{"$f":"VLOOKUP(B326,Emp_Master!$A$4:$F$500,5)","v":{"$error":"#N/A"}},{"$f":"VLOOKUP(B326,Emp_Master!$A$4:$F$500,6)","v":{"$error":"#N/A"}}]
[null,null,{"$f":"VLOOKUP(B327,Emp_Master!$A$4:$F$500,2)","v":{"$error":"#N/A"}},{"$f":"VLOOKUP(B327,Emp_Master!$A$4:$F$500,3)","v":{"$error":"#N/A"}},{"$f":"VLOOKUP(B327,Emp_Master!$A$4:$F$500,4)","v":{"$error":"#N/A"}},{"$f":"VLOOKUP(B327,Emp_Master!$A$4:$F$500,5)","v":{"$error":"#N/A"}},{"$f":"VLOOKUP(B327,Emp_Master!$A$4:$F$500,6)","v":{"$error":"#N/A"}}]
[null,null,{"$f":"VLOOKUP(B328,Emp_Master!$A$4:$F$500,2)","v":{"$error":"#N/A"}},{"$f":"VLOOKUP(B328,Emp_Master!$A$4:$F$500,3)","v":{"$error":"#N/A"}},{"$f":"VLOOKUP(B328,Emp_Master!$A$4:$F$500,4)","v":{"$error":"#N/A"}},{"$f":"VLOOKUP(B328,Emp_Master!$A$4:$F$500,5)","v":{"$error":"#N/A"}},{"$f":"VLOOKUP(B328,Emp_Master!$A$4:$F$500,6)","v":{"$error":"#N/A"}}]
[null,null,{"$f":"VLOOKUP(B329,Emp_Master!$A$4:$F$500,2)","v":{"$error":"#N/A"}},{"$f":"VLOOKUP(B329,Emp_Master!$A$4:$F$500,3)","v":{"$error":"#N/A"}},{"$f":"VLOOKUP(B329,Emp_Master!$A$4:$F$500,4)","v":{"$error":"#N/A"}},{"$f":"VLOOKUP(B329,Emp_Master!$A$4:$F$500,5)","v":{"$error":"#N/A"}},{"$f":"VLOOKUP(B329,Emp_Master!$A$4:$F$500,6)","v":{"$error":"#N/A"}}]
[null,null,{"$f":"VLOOKUP(B330,Emp_Master!$A$4:$F$500,2)","v":{"$error":"#N/A"}},{"$f":"VLOOKUP(B330,Emp_Master!$A$4:$F$500,3)","v":{"$error":"#N/A"}},{"$f":"VLOOKUP(B330,Emp_Master!$A$4:$F$500,4)","v":{"$error":"#N/A"}},{"$f":"VLOOKUP(B330,Emp_Master!$A$4:$F$500,5)","v":{"$error":"#N/A"}},{"$f":"VLOOKUP(B330,Emp_Master!$A$4:$F$500,6)","v":{"$error":"#N/A"}}]
[null,null,{"$f":"VLOOKUP(B331,Emp_Master!$A$4:$F$500,2)","v":{"$error":"#N/A"}},{"$f":"VLOOKUP(B331,Emp_Master!$A$4:$F$500,3)","v":{"$error":"#N/A"}},{"$f":"VLOOKUP(B331,Emp_Master!$A$4:$F$500,4)","v":{"$error":"#N/A"}},{"$f":"VLOOKUP(B331,Emp_Master!$A$4:$F$500,5)","v":{"$error":"#N/A"}},{"$f":"VLOOKUP(B331,Emp_Master!$A$4:$F$500,6)","v":{"$error":"#N/A"}}]
[null,null,{"$f":"VLOOKUP(B332,Emp_Master!$A$4:$F$500,2)","v":{"$error":"#N/A"}},{"$f":"VLOOKUP(B332,Emp_Master!$A$4:$F$500,3)","v":{"$error":"#N/A"}},{"$f":"VLOOKUP(B332,Emp_Master!$A$4:$F$500,4)","v":{"$error":"#N/A"}},{"$f":"VLOOKUP(B332,Emp_Master!$A$4:$F$500,5)","v":{"$error":"#N/A"}},{"$f":"VLOOKUP(B332,Emp_Master!$A$4:$F$500,6)","v":{"$error":"#N/A"}}]
[null,null,{"$f":"VLOOKUP(B333,Emp_Master!$A$4:$F$500,2)","v":{"$error":"#N/A"}},{"$f":"VLOOKUP(B333,Emp_Master!$A$4:$F$500,3)","v":{"$error":"#N/A"}},{"$f":"VLOOKUP(B333,Emp_Master!$A$4:$F$500,4)","v":{"$error":"#N/A"}},{"$f":"VLOOKUP(B333,Emp_Master!$A$4:$F$500,5)","v":{"$error":"#N/A"}},{"$f":"VLOOKUP(B333,Emp_Master!$A$4:$F$500,6)","v":{"$error":"#N/A"}}]
[null,null,{"$f":"VLOOKUP(B334,Emp_Master!$A$4:$F$500,2)","v":{"$error":"#N/A"}},{"$f":"VLOOKUP(B334,Emp_Master!$A$4:$F$500,3)","v":{"$error":"#N/A"}},{"$f":"VLOOKUP(B334,Emp_Master!$A$4:$F$500,4)","v":{"$error":"#N/A"}},{"$f":"VLOOKUP(B334,Emp_Master!$A$4:$F$500,5)","v":{"$error":"#N/A"}},{"$f":"VLOOKUP(B334,Emp_Master!$A$4:$F$500,6)","v":{"$error":"#N/A"}}]
[null,null,{"$f":"VLOOKUP(B335,Emp_Master!$A$4:$F$500,2)","v":{"$error":"#N/A"}},{"$f":"VLOOKUP(B335,Emp_Master!$A$4:$F$500,3)","v":{"$error":"#N/A"}},{"$f":"VLOOKUP(B335,Emp_Master!$A$4:$F$500,4)","v":{"$error":"#N/A"}},{"$f":"VLOOKUP(B335,Emp_Master!$A$4:$F$500,5)","v":{"$error":"#N/A"}},{"$f":"VLOOKUP(B335,Emp_Master!$A$4:$F$500,6)","v":{"$error":"#N/A"}}]
[null,null,{"$f":"VLOOKUP(B336,Emp_Master!$A$4:$F$500,2)","v":{"$error":"#N/A"}},{"$f":"VLOOKUP(B336,Emp_Master!$A$4:$F$500,3)","v":{"$error":"#N/A"}},{"$f":"VLOOKUP(B336,Emp_Master!$A$4:$F$500,4)","v":{"$error":"#N/A"}},{"$f":"VLOOKUP(B336,Emp_Master!$A$4:$F$500,5)","v":{"$error":"#N/A"}},{"$f":"VLOOKUP(B336,Emp_Master!$A$4:$F$500,6)","v":{"$error":"#N/A"}}]
[null,null,{"$f":"VLOOKUP(B337,Emp_Master!$A$4:$F$500,2)","v":{"$error":"#N/A"}},{"$f":"VLOOKUP(B337,Emp_Master!$A$4:$F$500,3)","v":{"$error":"#N/A"}},{"$f":"VLOOKUP(B337,Emp_Master!$A$4:$F$500,4)","v":{"$error":"#N/A"}},{"$f":"VLOOKUP(B337,Emp_Master!$A$4:$F$500,5)","v":{"$error":"#N/A"}},{"$f":"VLOOKUP(B337,Emp_Master!$A$4:$F$500,6)","v":{"$error":"#N/A"}}]
[null,null,{"$f":"VLOOKUP(B338,Emp_Master!$A$4:$F$500,2)","v":{"$error":"#N/A"}},{"$f":"VLOOKUP(B338,Emp_Master!$A$4:$F$500,3)","v":{"$error":"#N/A"}},{"$f":"VLOOKUP(B338,Emp_Master!$A$4:$F$500,4)","v":{"$error":"#N/A"}},{"$f":"VLOOKUP(B338,Emp_Master!$A$4:$F$500,5)","v":{"$error":"#N/A"}},{"$f":"VLOOKUP(B338,Emp_Master!$A$4:$F$500,6)","v":{"$error":"#N/A"}}]
[null,null,{"$f":"VLOOKUP(B339,Emp_Master!$A$4:$F$500,2)","v":{"$error":"#N/A"}},{"$f":"VLOOKUP(B339,Emp_Master!$A$4:$F$500,3)","v":{"$error":"#N/A"}},{"$f":"VLOOKUP(B339,Emp_Master!$A$4:$F$500,4)","v":{"$error":"#N/A"}},{"$f":"VLOOKUP(B339,Emp_Master!$A$4:$F$500,5)","v":{"$error":"#N/A"}},{"$f":"VLOOKUP(B339,Emp_Master!$A$4:$F$500,6)","v":{"$error":"#N/A"}}]
[null,null,{"$f":"VLOOKUP(B340,Emp_Master!$A$4:$F$500,2)","v":{"$error":"#N/A"}},{"$f":"VLOOKUP(B340,Emp_Master!$A$4:$F$500,3)","v":{"$error":"#N/A"}},{"$f":"VLOOKUP(B340,Emp_Master!$A$4:$F$500,4)","v":{"$error":"#N/A"}},{"$f":"VLOOKUP(B340,Emp_Master!$A$4:$F$500,5)","v":{"$error":"#N/A"}},{"$f":"VLOOKUP(B340,Emp_Master!$A$4:$F$500,6)","v":{"$error":"#N/A"}}]
[null,null,{"$f":"VLOOKUP(B341,Emp_Master!$A$4:$F$500,2)","v":{"$error":"#N/A"}},{"$f":"VLOOKUP(B341,Emp_Master!$A$4:$F$500,3)","v":{"$error":"#N/A"}},{"$f":"VLOOKUP(B341,Emp_Master!$A$4:$F$500,4)","v":{"$error":"#N/A"}},{"$f":"VLOOKUP(B341,Emp_Master!$A$4:$F$500,5)","v":{"$error":"#N/A"}},{"$f":"VLOOKUP(B341,Emp_Master!$A$4:$F$500,6)","v":{"$error":"#N/A"}}]
[null,null,{"$f":"VLOOKUP(B342,Emp_Master!$A$4:$F$500,2)","v":{"$error":"#N/A"}},{"$f":"VLOOKUP(B342,Emp_Master!$A$4:$F$500,3)","v":{"$error":"#N/A"}},{"$f":"VLOOKUP(B342,Emp_Master!$A$4:$F$500,4)","v":{"$error":"#N/A"}},{"$f":"VLOOKUP(B342,Emp_Master!$A$4:$F$500,5)","v":{"$error":"#N/A"}},{"$f":"VLOOKUP(B342,Emp_Master!$A$4:$F$500,6)","v":{"$error":"#N/A"}}]
[null,null,{"$f":"VLOOKUP(B343,Emp_Master!$A$4:$F$500,2)","v":{"$error":"#N/A"}},{"$f":"VLOOKUP(B343,Emp_Master!$A$4:$F$500,3)","v":{"$error":"#N/A"}},{"$f":"VLOOKUP(B343,Emp_Master!$A$4:$F$500,4)","v":{"$error":"#N/A"}},{"$f":"VLOOKUP(B343,Emp_Master!$A$4:$F$500,5)","v":{"$error":"#N/A"}},{"$f":"VLOOKUP(B343,Emp_Master!$A$4:$F$500,6)","v":{"$error":"#N/A"}}]
[null,null,{"$f":"VLOOKUP(B344,Emp_Master!$A$4:$F$500,2)","v":{"$error":"#N/A"}},{"$f":"VLOOKUP(B344,Emp_Master!$A$4:$F$500,3)","v":{"$error":"#N/A"}},{"$f":"VLOOKUP(B344,Emp_Master!$A$4:$F$500,4)","v":{"$error":"#N/A"}},{"$f":"VLOOKUP(B344,Emp_Master!$A$4:$F$500,5)","v":{"$error":"#N/A"}},{"$f":"VLOOKUP(B344,Emp_Master!$A$4:$F$500,6)","v":{"$error":"#N/A"}}]
[null,null,{"$f":"VLOOKUP(B345,Emp_Master!$A$4:$F$500,2)","v":{"$error":"#N/A"}},{"$f":"VLOOKUP(B345,Emp_Master!$A$4:$F$500,3)","v":{"$error":"#N/A"}},{"$f":"VLOOKUP(B345,Emp_Master!$A$4:$F$500,4)","v":{"$error":"#N/A"}},{"$f":"VLOOKUP(B345,Emp_Master!$A$4:$F$500,5)","v":{"$error":"#N/A"}},{"$f":"VLOOKUP(B345,Emp_Master!$A$4:$F$500,6)","v":{"$error":"#N/A"}}]
[null,null,{"$f":"VLOOKUP(B346,Emp_Master!$A$4:$F$500,2)","v":{"$error":"#N/A"}},{"$f":"VLOOKUP(B346,Emp_Master!$A$4:$F$500,3)","v":{"$error":"#N/A"}},{"$f":"VLOOKUP(B346,Emp_Master!$A$4:$F$500,4)","v":{"$error":"#N/A"}},{"$f":"VLOOKUP(B346,Emp_Master!$A$4:$F$500,5)","v":{"$error":"#N/A"}},{"$f":"VLOOKUP(B346,Emp_Master!$A$4:$F$500,6)","v":{"$error":"#N/A"}}]
[null,null,{"$f":"VLOOKUP(B347,Emp_Master!$A$4:$F$500,2)","v":{"$error":"#N/A"}},{"$f":"VLOOKUP(B347,Emp_Master!$A$4:$F$500,3)","v":{"$error":"#N/A"}},{"$f":"VLOOKUP(B347,Emp_Master!$A$4:$F$500,4)","v":{"$error":"#N/A"}},{"$f":"VLOOKUP(B347,Emp_Master!$A$4:$F$500,5)","v":{"$error":"#N/A"}},{"$f":"VLOOKUP(B347,Emp_Master!$A$4:$F$500,6)","v":{"$error":"#N/A"}}]
[null,null,{"$f":"VLOOKUP(B348,Emp_Master!$A$4:$F$500,2)","v":{"$error":"#N/A"}},{"$f":"VLOOKUP(B348,Emp_Master!$A$4:$F$500,3)","v":{"$error":"#N/A"}},{"$f":"VLOOKUP(B348,Emp_Master!$A$4:$F$500,4)","v":{"$error":"#N/A"}},{"$f":"VLOOKUP(B348,Emp_Master!$A$4:$F$500,5)","v":{"$error":"#N/A"}},{"$f":"VLOOKUP(B348,Emp_Master!$A$4:$F$500,6)","v":{"$error":"#N/A"}}]
[null,null,{"$f":"VLOOKUP(B349,Emp_Master!$A$4:$F$500,2)","v":{"$error":"#N/A"}},{"$f":"VLOOKUP(B349,Emp_Master!$A$4:$F$500,3)","v":{"$error":"#N/A"}},{"$f":"VLOOKUP(B349,Emp_Master!$A$4:$F$500,4)","v":{"$error":"#N/A"}},{"$f":"VLOOKUP(B349,Emp_Master!$A$4:$F$500,5)","v":{"$error":"#N/A"}},{"$f":"VLOOKUP(B349,Emp_Master!$A$4:$F$500,6)","v":{"$error":"#N/A"}}]
[null,null,{"$f":"VLOOKUP(B350,Emp_Master!$A$4:$F$500,2)","v":{"$error":"#N/A"}},{"$f":"VLOOKUP(B350,Emp_Master!$A$4:$F$500,3)","v":{"$error":"#N/A"}},{"$f":"VLOOKUP(B350,Emp_Master!$A$4:$F$500,4)","v":{"$error":"#N/A"}},{"$f":"VLOOKUP(B350,Emp_Master!$A$4:$F$500,5)","v":{"$error":"#N/A"}},{"$f":"VLOOKUP(B350,Emp_Master!$A$4:$F$500,6)","v":{"$error":"#N/A"}}]
[null,null,{"$f":"VLOOKUP(B351,Emp_Master!$A$4:$F$500,2)","v":{"$error":"#N/A"}},{"$f":"VLOOKUP(B351,Emp_Master!$A$4:$F$500,3)","v":{"$error":"#N/A"}},{"$f":"VLOOKUP(B351,Emp_Master!$A$4:$F$500,4)","v":{"$error":"#N/A"}},{"$f":"VLOOKUP(B351,Emp_Master!$A$4:$F$500,5)","v":{"$error":"#N/A"}},{"$f":"VLOOKUP(B351,Emp_Master!$A$4:$F$500,6)","v":{"$error":"#N/A"}}]
[null,null,{"$f":"VLOOKUP(B352,Emp_Master!$A$4:$F$500,2)","v":{"$error":"#N/A"}},{"$f":"VLOOKUP(B352,Emp_Master!$A$4:$F$500,3)","v":{"$error":"#N/A"}},{"$f":"VLOOKUP(B352,Emp_Master!$A$4:$F$500,4)","v":{"$error":"#N/A"}},{"$f":"VLOOKUP(B352,Emp_Master!$A$4:$F$500,5)","v":{"$error":"#N/A"}},{"$f":"VLOOKUP(B352,Emp_Master!$A$4:$F$500,6)","v":{"$error":"#N/A"}}]
[null,null,{"$f":"VLOOKUP(B353,Emp_Master!$A$4:$F$500,2)","v":{"$error":"#N/A"}},{"$f":"VLOOKUP(B353,Emp_Master!$A$4:$F$500,3)","v":{"$error":"#N/A"}},{"$f":"VLOOKUP(B353,Emp_Master!$A$4:$F$500,4)","v":{"$error":"#N/A"}},{"$f":"VLOOKUP(B353,Emp_Master!$A$4:$F$500,5)","v":{"$error":"#N/A"}},{"$f":"VLOOKUP(B353,Emp_Master!$A$4:$F$500,6)","v":{"$error":"#N/A"}}]
[null,null,{"$f":"VLOOKUP(B354,Emp_Master!$A$4:$F$500,2)","v":{"$error":"#N/A"}},{"$f":"VLOOKUP(B354,Emp_Master!$A$4:$F$500,3)","v":{"$error":"#N/A"}},{"$f":"VLOOKUP(B354,Emp_Master!$A$4:$F$500,4)","v":{"$error":"#N/A"}},{"$f":"VLOOKUP(B354,Emp_Master!$A$4:$F$500,5)","v":{"$error":"#N/A"}},{"$f":"VLOOKUP(B354,Emp_Master!$A$4:$F$500,6)","v":{"$error":"#N/A"}}]
[null,null,{"$f":"VLOOKUP(B355,Emp_Master!$A$4:$F$500,2)","v":{"$error":"#N/A"}},{"$f":"VLOOKUP(B355,Emp_Master!$A$4:$F$500,3)","v":{"$error":"#N/A"}},{"$f":"VLOOKUP(B355,Emp_Master!$A$4:$F$500,4)","v":{"$error":"#N/A"}},{"$f":"VLOOKUP(B355,Emp_Master!$A$4:$F$500,5)","v":{"$error":"#N/A"}},{"$f":"VLOOKUP(B355,Emp_Master!$A$4:$F$500,6)","v":{"$error":"#N/A"}}]
[null,null,{"$f":"VLOOKUP(B356,Emp_Master!$A$4:$F$500,2)","v":{"$error":"#N/A"}},{"$f":"VLOOKUP(B356,Emp_Master!$A$4:$F$500,3)","v":{"$error":"#N/A"}},{"$f":"VLOOKUP(B356,Emp_Master!$A$4:$F$500,4)","v":{"$error":"#N/A"}},{"$f":"VLOOKUP(B356,Emp_Master!$A$4:$F$500,5)","v":{"$error":"#N/A"}},{"$f":"VLOOKUP(B356,Emp_Master!$A$4:$F$500,6)","v":{"$error":"#N/A"}}]
[null,null,{"$f":"VLOOKUP(B357,Emp_Master!$A$4:$F$500,2)","v":{"$error":"#N/A"}},{"$f":"VLOOKUP(B357,Emp_Master!$A$4:$F$500,3)","v":{"$error":"#N/A"}},{"$f":"VLOOKUP(B357,Emp_Master!$A$4:$F$500,4)","v":{"$error":"#N/A"}},{"$f":"VLOOKUP(B357,Emp_Master!$A$4:$F$500,5)","v":{"$error":"#N/A"}},{"$f":"VLOOKUP(B357,Emp_Master!$A$4:$F$500,6)","v":{"$error":"#N/A"}}]
[null,null,{"$f":"VLOOKUP(B358,Emp_Master!$A$4:$F$500,2)","v":{"$error":"#N/A"}},{"$f":"VLOOKUP(B358,Emp_Master!$A$4:$F$500,3)","v":{"$error":"#N/A"}},{"$f":"VLOOKUP(B358,Emp_Master!$A$4:$F$500,4)","v":{"$error":"#N/A"}},{"$f":"VLOOKUP(B358,Emp_Master!$A$4:$F$500,5)","v":{"$error":"#N/A"}},{"$f":"VLOOKUP(B358,Emp_Master!$A$4:$F$500,6)","v":{"$error":"#N/A"}}]
[null,null,{"$f":"VLOOKUP(B359,Emp_Master!$A$4:$F$500,2)","v":{"$error":"#N/A"}},{"$f":"VLOOKUP(B359,Emp_Master!$A$4:$F$500,3)","v":{"$error":"#N/A"}},{"$f":"VLOOKUP(B359,Emp_Master!$A$4:$F$500,4)","v":{"$error":"#N/A"}},{"$f":"VLOOKUP(B359,Emp_Master!$A$4:$F$500,5)","v":{"$error":"#N/A"}},{"$f":"VLOOKUP(B359,Emp_Master!$A$4:$F$500,6)","v":{"$error":"#N/A"}}]
[null,null,{"$f":"VLOOKUP(B360,Emp_Master!$A$4:$F$500,2)","v":{"$error":"#N/A"}},{"$f":"VLOOKUP(B360,Emp_Master!$A$4:$F$500,3)","v":{"$error":"#N/A"}},{"$f":"VLOOKUP(B360,Emp_Master!$A$4:$F$500,4)","v":{"$error":"#N/A"}},{"$f":"VLOOKUP(B360,Emp_Master!$A$4:$F$500,5)","v":{"$error":"#N/A"}},{"$f":"VLOOKUP(B360,Emp_Master!$A$4:$F$500,6)","v":{"$error":"#N/A"}}]
[null,null,{"$f":"VLOOKUP(B361,Emp_Master!$A$4:$F$500,2)","v":{"$error":"#N/A"}},{"$f":"VLOOKUP(B361,Emp_Master!$A$4:$F$500,3)","v":{"$error":"#N/A"}},{"$f":"VLOOKUP(B361,Emp_Master!$A$4:$F$500,4)","v":{"$error":"#N/A"}},{"$f":"VLOOKUP(B361,Emp_Master!$A$4:$F$500,5)","v":{"$error":"#N/A"}},{"$f":"VLOOKUP(B361,Emp_Master!$A$4:$F$500,6)","v":{"$error":"#N/A"}}]
[null,null,{"$f":"VLOOKUP(B362,Emp_Master!$A$4:$F$500,2)","v":{"$error":"#N/A"}},{"$f":"VLOOKUP(B362,Emp_Master!$A$4:$F$500,3)","v":{"$error":"#N/A"}},{"$f":"VLOOKUP(B362,Emp_Master!$A$4:$F$500,4)","v":{"$error":"#N/A"}},{"$f":"VLOOKUP(B362,Emp_Master!$A$4:$F$500,5)","v":{"$error":"#N/A"}},{"$f":"VLOOKUP(B362,Emp_Master!$A$4:$F$500,6)","v":{"$error":"#N/A"}}]
[null,null,{"$f":"VLOOKUP(B363,Emp_Master!$A$4:$F$500,2)","v":{"$error":"#N/A"}},{"$f":"VLOOKUP(B363,Emp_Master!$A$4:$F$500,3)","v":{"$error":"#N/A"}},{"$f":"VLOOKUP(B363,Emp_Master!$A$4:$F$500,4)","v":{"$error":"#N/A"}},{"$f":"VLOOKUP(B363,Emp_Master!$A$4:$F$500,5)","v":{"$error":"#N/A"}},{"$f":"VLOOKUP(B363,Emp_Master!$A$4:$F$500,6)","v":{"$error":"#N/A"}}]
[null,null,{"$f":"VLOOKUP(B364,Emp_Master!$A$4:$F$500,2)","v":{"$error":"#N/A"}},{"$f":"VLOOKUP(B364,Emp_Master!$A$4:$F$500,3)","v":{"$error":"#N/A"}},{"$f":"VLOOKUP(B364,Emp_Master!$A$4:$F$500,4)","v":{"$error":"#N/A"}},{"$f":"VLOOKUP(B364,Emp_Master!$A$4:$F$500,5)","v":{"$error":"#N/A"}},{"$f":"VLOOKUP(B364,Emp_Master!$A$4:$F$500,6)","v":{"$error":"#N/A"}}]
[null,null,{"$f":"VLOOKUP(B365,Emp_Master!$A$4:$F$500,2)","v":{"$error":"#N/A"}},{"$f":"VLOOKUP(B365,Emp_Master!$A$4:$F$500,3)","v":{"$error":"#N/A"}},{"$f":"VLOOKUP(B365,Emp_Master!$A$4:$F$500,4)","v":{"$error":"#N/A"}},{"$f":"VLOOKUP(B365,Emp_Master!$A$4:$F$500,5)","v":{"$error":"#N/A"}},{"$f":"VLOOKUP(B365,Emp_Master!$A$4:$F$500,6)","v":{"$error":"#N/A"}}]
[null,null,{"$f":"VLOOKUP(B366,Emp_Master!$A$4:$F$500,2)","v":{"$error":"#N/A"}},{"$f":"VLOOKUP(B366,Emp_Master!$A$4:$F$500,3)","v":{"$error":"#N/A"}},{"$f":"VLOOKUP(B366,Emp_Master!$A$4:$F$500,4)","v":{"$error":"#N/A"}},{"$f":"VLOOKUP(B366,Emp_Master!$A$4:$F$500,5)","v":{"$error":"#N/A"}},{"$f":"VLOOKUP(B366,Emp_Master!$A$4:$F$500,6)","v":{"$error":"#N/A"}}]
[null,null,{"$f":"VLOOKUP(B367,Emp_Master!$A$4:$F$500,2)","v":{"$error":"#N/A"}},{"$f":"VLOOKUP(B367,Emp_Master!$A$4:$F$500,3)","v":{"$error":"#N/A"}},{"$f":"VLOOKUP(B367,Emp_Master!$A$4:$F$500,4)","v":{"$error":"#N/A"}},{"$f":"VLOOKUP(B367,Emp_Master!$A$4:$F$500,5)","v":{"$error":"#N/A"}},{"$f":"VLOOKUP(B367,Emp_Master!$A$4:$F$500,6)","v":{"$error":"#N/A"}}]
[null,null,{"$f":"VLOOKUP(B368,Emp_Master!$A$4:$F$500,2)","v":{"$error":"#N/A"}},{"$f":"VLOOKUP(B368,Emp_Master!$A$4:$F$500,3)","v":{"$error":"#N/A"}},{"$f":"VLOOKUP(B368,Emp_Master!$A$4:$F$500,4)","v":{"$error":"#N/A"}},{"$f":"VLOOKUP(B368,Emp_Master!$A$4:$F$500,5)","v":{"$error":"#N/A"}},{"$f":"VLOOKUP(B368,Emp_Master!$A$4:$F$500,6)","v":{"$error":"#N/A"}}]
[null,null,{"$f":"VLOOKUP(B369,Emp_Master!$A$4:$F$500,2)","v":{"$error":"#N/A"}},{"$f":"VLOOKUP(B369,Emp_Master!$A$4:$F$500,3)","v":{"$error":"#N/A"}},{"$f":"VLOOKUP(B369,Emp_Master!$A$4:$F$500,4)","v":{"$error":"#N/A"}},{"$f":"VLOOKUP(B369,Emp_Master!$A$4:$F$500,5)","v":{"$error":"#N/A"}},{"$f":"VLOOKUP(B369,Emp_Master!$A$4:$F$500,6)","v":{"$error":"#N/A"}}]
[null,null,{"$f":"VLOOKUP(B370,Emp_Master!$A$4:$F$500,2)","v":{"$error":"#N/A"}},{"$f":"VLOOKUP(B370,Emp_Master!$A$4:$F$500,3)","v":{"$error":"#N/A"}},{"$f":"VLOOKUP(B370,Emp_Master!$A$4:$F$500,4)","v":{"$error":"#N/A"}},{"$f":"VLOOKUP(B370,Emp_Master!$A$4:$F$500,5)","v":{"$error":"#N/A"}},{"$f":"VLOOKUP(B370,Emp_Master!$A$4:$F$500,6)","v":{"$error":"#N/A"}}]
[null,null,{"$f":"VLOOKUP(B371,Emp_Master!$A$4:$F$500,2)","v":{"$error":"#N/A"}},{"$f":"VLOOKUP(B371,Emp_Master!$A$4:$F$500,3)","v":{"$error":"#N/A"}},{"$f":"VLOOKUP(B371,Emp_Master!$A$4:$F$500,4)","v":{"$error":"#N/A"}},{"$f":"VLOOKUP(B371,Emp_Master!$A$4:$F$500,5)","v":{"$error":"#N/A"}},{"$f":"VLOOKUP(B371,Emp_Master!$A$4:$F$500,6)","v":{"$error":"#N/A"}}]
[null,null,{"$f":"VLOOKUP(B372,Emp_Master!$A$4:$F$500,2)","v":{"$error":"#N/A"}},{"$f":"VLOOKUP(B372,Emp_Master!$A$4:$F$500,3)","v":{"$error":"#N/A"}},{"$f":"VLOOKUP(B372,Emp_Master!$A$4:$F$500,4)","v":{"$error":"#N/A"}},{"$f":"VLOOKUP(B372,Emp_Master!$A$4:$F$500,5)","v":{"$error":"#N/A"}},{"$f":"VLOOKUP(B372,Emp_Master!$A$4:$F$500,6)","v":{"$error":"#N/A"}}]
[null,null,{"$f":"VLOOKUP(B373,Emp_Master!$A$4:$F$500,2)","v":{"$error":"#N/A"}},{"$f":"VLOOKUP(B373,Emp_Master!$A$4:$F$500,3)","v":{"$error":"#N/A"}},{"$f":"VLOOKUP(B373,Emp_Master!$A$4:$F$500,4)","v":{"$error":"#N/A"}},{"$f":"VLOOKUP(B373,Emp_Master!$A$4:$F$500,5)","v":{"$error":"#N/A"}},{"$f":"VLOOKUP(B373,Emp_Master!$A$4:$F$500,6)","v":{"$error":"#N/A"}}]
[null,null,{"$f":"VLOOKUP(B374,Emp_Master!$A$4:$F$500,2)","v":{"$error":"#N/A"}},{"$f":"VLOOKUP(B374,Emp_Master!$A$4:$F$500,3)","v":{"$error":"#N/A"}},{"$f":"VLOOKUP(B374,Emp_Master!$A$4:$F$500,4)","v":{"$error":"#N/A"}},{"$f":"VLOOKUP(B374,Emp_Master!$A$4:$F$500,5)","v":{"$error":"#N/A"}},{"$f":"VLOOKUP(B374,Emp_Master!$A$4:$F$500,6)","v":{"$error":"#N/A"}}]
[null,null,{"$f":"VLOOKUP(B375,Emp_Master!$A$4:$F$500,2)","v":{"$error":"#N/A"}},{"$f":"VLOOKUP(B375,Emp_Master!$A$4:$F$500,3)","v":{"$error":"#N/A"}},{"$f":"VLOOKUP(B375,Emp_Master!$A$4:$F$500,4)","v":{"$error":"#N/A"}},{"$f":"VLOOKUP(B375,Emp_Master!$A$4:$F$500,5)","v":{"$error":"#N/A"}},{"$f":"VLOOKUP(B375,Emp_Master!$A$4:$F$500,6)","v":{"$error":"#N/A"}}]
[null,null,{"$f":"VLOOKUP(B376,Emp_Master!$A$4:$F$500,2)","v":{"$error":"#N/A"}},{"$f":"VLOOKUP(B376,Emp_Master!$A$4:$F$500,3)","v":{"$error":"#N/A"}},{"$f":"VLOOKUP(B376,Emp_Master!$A$4:$F$500,4)","v":{"$error":"#N/A"}},{"$f":"VLOOKUP(B376,Emp_Master!$A$4:$F$500,5)","v":{"$error":"#N/A"}},{"$f":"VLOOKUP(B376,Emp_Master!$A$4:$F$500,6)","v":{"$error":"#N/A"}}]
[null,null,{"$f":"VLOOKUP(B377,Emp_Master!$A$4:$F$500,2)","v":{"$error":"#N/A"}},{"$f":"VLOOKUP(B377,Emp_Master!$A$4:$F$500,3)","v":{"$error":"#N/A"}},{"$f":"VLOOKUP(B377,Emp_Master!$A$4:$F$500,4)","v":{"$error":"#N/A"}},{"$f":"VLOOKUP(B377,Emp_Master!$A$4:$F$500,5)","v":{"$error":"#N/A"}},{"$f":"VLOOKUP(B377,Emp_Master!$A$4:$F$500,6)","v":{"$error":"#N/A"}}]
[null,null,{"$f":"VLOOKUP(B378,Emp_Master!$A$4:$F$500,2)","v":{"$error":"#N/A"}},{"$f":"VLOOKUP(B378,Emp_Master!$A$4:$F$500,3)","v":{"$error":"#N/A"}},{"$f":"VLOOKUP(B378,Emp_Master!$A$4:$F$500,4)","v":{"$error":"#N/A"}},{"$f":"VLOOKUP(B378,Emp_Master!$A$4:$F$500,5)","v":{"$error":"#N/A"}},{"$f":"VLOOKUP(B378,Emp_Master!$A$4:$F$500,6)","v":{"$error":"#N/A"}}]
[null,null,{"$f":"VLOOKUP(B379,Emp_Master!$A$4:$F$500,2)","v":{"$error":"#N/A"}},{"$f":"VLOOKUP(B379,Emp_Master!$A$4:$F$500,3)","v":{"$error":"#N/A"}},{"$f":"VLOOKUP(B379,Emp_Master!$A$4:$F$500,4)","v":{"$error":"#N/A"}},{"$f":"VLOOKUP(B379,Emp_Master!$A$4:$F$500,5)","v":{"$error":"#N/A"}},{"$f":"VLOOKUP(B379,Emp_Master!$A$4:$F$500,6)","v":{"$error":"#N/A"}}]
[null,null,{"$f":"VLOOKUP(B380,Emp_Master!$A$4:$F$500,2)","v":{"$error":"#N/A"}},{"$f":"VLOOKUP(B380,Emp_Master!$A$4:$F$500,3)","v":{"$error":"#N/A"}},{"$f":"VLOOKUP(B380,Emp_Master!$A$4:$F$500,4)","v":{"$error":"#N/A"}},{"$f":"VLOOKUP(B380,Emp_Master!$A$4:$F$500,5)","v":{"$error":"#N/A"}},{"$f":"VLOOKUP(B380,Emp_Master!$A$4:$F$500,6)","v":{"$error":"#N/A"}}]
[null,null,{"$f":"VLOOKUP(B381,Emp_Master!$A$4:$F$500,2)","v":{"$error":"#N/A"}},{"$f":"VLOOKUP(B381,Emp_Master!$A$4:$F$500,3)","v":{"$error":"#N/A"}},{"$f":"VLOOKUP(B381,Emp_Master!$A$4:$F$500,4)","v":{"$error":"#N/A"}},{"$f":"VLOOKUP(B381,Emp_Master!$A$4:$F$500,5)","v":{"$error":"#N/A"}},{"$f":"VLOOKUP(B381,Emp_Master!$A$4:$F$500,6)","v":{"$error":"#N/A"}}]
[null,null,{"$f":"VLOOKUP(B382,Emp_Master!$A$4:$F$500,2)","v":{"$error":"#N/A"}},{"$f":"VLOOKUP(B382,Emp_Master!$A$4:$F$500,3)","v":{"$error":"#N/A"}},{"$f":"VLOOKUP(B382,Emp_Master!$A$4:$F$500,4)","v":{"$error":"#N/A"}},{"$f":"VLOOKUP(B382,Emp_Master!$A$4:$F$500,5)","v":{"$error":"#N/A"}},{"$f":"VLOOKUP(B382,Emp_Master!$A$4:$F$500,6)","v":{"$error":"#N/A"}}]
[null,null,{"$f":"VLOOKUP(B383,Emp_Master!$A$4:$F$500,2)","v":{"$error":"#N/A"}},{"$f":"VLOOKUP(B383,Emp_Master!$A$4:$F$500,3)","v":{"$error":"#N/A"}},{"$f":"VLOOKUP(B383,Emp_Master!$A$4:$F$500,4)","v":{"$error":"#N/A"}},{"$f":"VLOOKUP(B383,Emp_Master!$A$4:$F$500,5)","v":{"$error":"#N/A"}},{"$f":"VLOOKUP(B383,Emp_Master!$A$4:$F$500,6)","v":{"$error":"#N/A"}}]
[null,null,{"$f":"VLOOKUP(B384,Emp_Master!$A$4:$F$500,2)","v":{"$error":"#N/A"}},{"$f":"VLOOKUP(B384,Emp_Master!$A$4:$F$500,3)","v":{"$error":"#N/A"}},{"$f":"VLOOKUP(B384,Emp_Master!$A$4:$F$500,4)","v":{"$error":"#N/A"}},{"$f":"VLOOKUP(B384,Emp_Master!$A$4:$F$500,5)","v":{"$error":"#N/A"}},{"$f":"VLOOKUP(B384,Emp_Master!$A$4:$F$500,6)","v":{"$error":"#N/A"}}]
[null,null,{"$f":"VLOOKUP(B385,Emp_Master!$A$4:$F$500,2)","v":{"$error":"#N/A"}},{"$f":"VLOOKUP(B385,Emp_Master!$A$4:$F$500,3)","v":{"$error":"#N/A"}},{"$f":"VLOOKUP(B385,Emp_Master!$A$4:$F$500,4)","v":{"$error":"#N/A"}},{"$f":"VLOOKUP(B385,Emp_Master!$A$4:$F$500,5)","v":{"$error":"#N/A"}},{"$f":"VLOOKUP(B385,Emp_Master!$A$4:$F$500,6)","v":{"$error":"#N/A"}}]
[null,null,{"$f":"VLOOKUP(B386,Emp_Master!$A$4:$F$500,2)","v":{"$error":"#N/A"}},{"$f":"VLOOKUP(B386,Emp_Master!$A$4:$F$500,3)","v":{"$error":"#N/A"}},{"$f":"VLOOKUP(B386,Emp_Master!$A$4:$F$500,4)","v":{"$error":"#N/A"}},{"$f":"VLOOKUP(B386,Emp_Master!$A$4:$F$500,5)","v":{"$error":"#N/A"}},{"$f":"VLOOKUP(B386,Emp_Master!$A$4:$F$500,6)","v":{"$error":"#N/A"}}]
[null,null,{"$f":"VLOOKUP(B387,Emp_Master!$A$4:$F$500,2)","v":{"$error":"#N/A"}},{"$f":"VLOOKUP(B387,Emp_Master!$A$4:$F$500,3)","v":{"$error":"#N/A"}},{"$f":"VLOOKUP(B387,Emp_Master!$A$4:$F$500,4)","v":{"$error":"#N/A"}},{"$f":"VLOOKUP(B387,Emp_Master!$A$4:$F$500,5)","v":{"$error":"#N/A"}},{"$f":"VLOOKUP(B387,Emp_Master!$A$4:$F$500,6)","v":{"$error":"#N/A"}}]
[null,null,{"$f":"VLOOKUP(B388,Emp_Master!$A$4:$F$500,2)","v":{"$error":"#N/A"}},{"$f":"VLOOKUP(B388,Emp_Master!$A$4:$F$500,3)","v":{"$error":"#N/A"}},{"$f":"VLOOKUP(B388,Emp_Master!$A$4:$F$500,4)","v":{"$error":"#N/A"}},{"$f":"VLOOKUP(B388,Emp_Master!$A$4:$F$500,5)","v":{"$error":"#N/A"}},{"$f":"VLOOKUP(B388,Emp_Master!$A$4:$F$500,6)","v":{"$error":"#N/A"}}]
[null,null,{"$f":"VLOOKUP(B389,Emp_Master!$A$4:$F$500,2)","v":{"$error":"#N/A"}},{"$f":"VLOOKUP(B389,Emp_Master!$A$4:$F$500,3)","v":{"$error":"#N/A"}},{"$f":"VLOOKUP(B389,Emp_Master!$A$4:$F$500,4)","v":{"$error":"#N/A"}},{"$f":"VLOOKUP(B389,Emp_Master!$A$4:$F$500,5)","v":{"$error":"#N/A"}},{"$f":"VLOOKUP(B389,Emp_Master!$A$4:$F$500,6)","v":{"$error":"#N/A"}}]
[null,null,{"$f":"VLOOKUP(B390,Emp_Master!$A$4:$F$500,2)","v":{"$error":"#N/A"}},{"$f":"VLOOKUP(B390,Emp_Master!$A$4:$F$500,3)","v":{"$error":"#N/A"}},{"$f":"VLOOKUP(B390,Emp_Master!$A$4:$F$500,4)","v":{"$error":"#N/A"}},{"$f":"VLOOKUP(B390,Emp_Master!$A$4:$F$500,5)","v":{"$error":"#N/A"}},{"$f":"VLOOKUP(B390,Emp_Master!$A$4:$F$500,6)","v":{"$error":"#N/A"}}]
[null,null,{"$f":"VLOOKUP(B391,Emp_Master!$A$4:$F$500,2)","v":{"$error":"#N/A"}},{"$f":"VLOOKUP(B391,Emp_Master!$A$4:$F$500,3)","v":{"$error":"#N/A"}},{"$f":"VLOOKUP(B391,Emp_Master!$A$4:$F$500,4)","v":{"$error":"#N/A"}},{"$f":"VLOOKUP(B391,Emp_Master!$A$4:$F$500,5)","v":{"$error":"#N/A"}},{"$f":"VLOOKUP(B391,Emp_Master!$A$4:$F$500,6)","v":{"$error":"#N/A"}}]
[null,null,{"$f":"VLOOKUP(B392,Emp_Master!$A$4:$F$500,2)","v":{"$error":"#N/A"}},{"$f":"VLOOKUP(B392,Emp_Master!$A$4:$F$500,3)","v":{"$error":"#N/A"}},{"$f":"VLOOKUP(B392,Emp_Master!$A$4:$F$500,4)","v":{"$error":"#N/A"}},{"$f":"VLOOKUP(B392,Emp_Master!$A$4:$F$500,5)","v":{"$error":"#N/A"}},{"$f":"VLOOKUP(B392,Emp_Master!$A$4:$F$500,6)","v":{"$error":"#N/A"}}]
[null,null,{"$f":"VLOOKUP(B393,Emp_Master!$A$4:$F$500,2)","v":{"$error":"#N/A"}},{"$f":"VLOOKUP(B393,Emp_Master!$A$4:$F$500,3)","v":{"$error":"#N/A"}},{"$f":"VLOOKUP(B393,Emp_Master!$A$4:$F$500,4)","v":{"$error":"#N/A"}},{"$f":"VLOOKUP(B393,Emp_Master!$A$4:$F$500,5)","v":{"$error":"#N/A"}},{"$f":"VLOOKUP(B393,Emp_Master!$A$4:$F$500,6)","v":{"$error":"#N/A"}}]
[null,null,{"$f":"VLOOKUP(B394,Emp_Master!$A$4:$F$500,2)","v":{"$error":"#N/A"}},{"$f":"VLOOKUP(B394,Emp_Master!$A$4:$F$500,3)","v":{"$error":"#N/A"}},{"$f":"VLOOKUP(B394,Emp_Master!$A$4:$F$500,4)","v":{"$error":"#N/A"}},{"$f":"VLOOKUP(B394,Emp_Master!$A$4:$F$500,5)","v":{"$error":"#N/A"}},{"$f":"VLOOKUP(B394,Emp_Master!$A$4:$F$500,6)","v":{"$error":"#N/A"}}]
[null,null,{"$f":"VLOOKUP(B395,Emp_Master!$A$4:$F$500,2)","v":{"$error":"#N/A"}},{"$f":"VLOOKUP(B395,Emp_Master!$A$4:$F$500,3)","v":{"$error":"#N/A"}},{"$f":"VLOOKUP(B395,Emp_Master!$A$4:$F$500,4)","v":{"$error":"#N/A"}},{"$f":"VLOOKUP(B395,Emp_Master!$A$4:$F$500,5)","v":{"$error":"#N/A"}},{"$f":"VLOOKUP(B395,Emp_Master!$A$4:$F$500,6)","v":{"$error":"#N/A"}}]
[null,null,{"$f":"VLOOKUP(B396,Emp_Master!$A$4:$F$500,2)","v":{"$error":"#N/A"}},{"$f":"VLOOKUP(B396,Emp_Master!$A$4:$F$500,3)","v":{"$error":"#N/A"}},{"$f":"VLOOKUP(B396,Emp_Master!$A$4:$F$500,4)","v":{"$error":"#N/A"}},{"$f":"VLOOKUP(B396,Emp_Master!$A$4:$F$500,5)","v":{"$error":"#N/A"}},{"$f":"VLOOKUP(B396,Emp_Master!$A$4:$F$500,6)","v":{"$error":"#N/A"}}]
[null,null,{"$f":"VLOOKUP(B397,Emp_Master!$A$4:$F$500,2)","v":{"$error":"#N/A"}},{"$f":"VLOOKUP(B397,Emp_Master!$A$4:$F$500,3)","v":{"$error":"#N/A"}},{"$f":"VLOOKUP(B397,Emp_Master!$A$4:$F$500,4)","v":{"$error":"#N/A"}},{"$f":"VLOOKUP(B397,Emp_Master!$A$4:$F$500,5)","v":{"$error":"#N/A"}},{"$f":"VLOOKUP(B397,Emp_Master!$A$4:$F$500,6)","v":{"$error":"#N/A"}}]
[null,null,{"$f":"VLOOKUP(B398,Emp_Master!$A$4:$F$500,2)","v":{"$error":"#N/A"}},{"$f":"VLOOKUP(B398,Emp_Master!$A$4:$F$500,3)","v":{"$error":"#N/A"}},{"$f":"VLOOKUP(B398,Emp_Master!$A$4:$F$500,4)","v":{"$error":"#N/A"}},{"$f":"VLOOKUP(B398,Emp_Master!$A$4:$F$500,5)","v":{"$error":"#N/A"}},{"$f":"VLOOKUP(B398,Emp_Master!$A$4:$F$500,6)","v":{"$error":"#N/A"}}]
[null,null,{"$f":"VLOOKUP(B399,Emp_Master!$A$4:$F$500,2)","v":{"$error":"#N/A"}},{"$f":"VLOOKUP(B399,Emp_Master!$A$4:$F$500,3)","v":{"$error":"#N/A"}},{"$f":"VLOOKUP(B399,Emp_Master!$A$4:$F$500,4)","v":{"$error":"#N/A"}},{"$f":"VLOOKUP(B399,Emp_Master!$A$4:$F$500,5)","v":{"$error":"#N/A"}},{"$f":"VLOOKUP(B399,Emp_Master!$A$4:$F$500,6)","v":{"$error":"#N/A"}}]
[null,null,{"$f":"VLOOKUP(B400,Emp_Master!$A$4:$F$500,2)","v":{"$error":"#N/A"}},{"$f":"VLOOKUP(B400,Emp_Master!$A$4:$F$500,3)","v":{"$error":"#N/A"}},{"$f":"VLOOKUP(B400,Emp_Master!$A$4:$F$500,4)","v":{"$error":"#N/A"}},{"$f":"VLOOKUP(B400,Emp_Master!$A$4:$F$500,5)","v":{"$error":"#N/A"}},{"$f":"VLOOKUP(B400,Emp_Master!$A$4:$F$500,6)","v":{"$error":"#N/A"}}]
[null,null,{"$f":"VLOOKUP(B401,Emp_Master!$A$4:$F$500,2)","v":{"$error":"#N/A"}},{"$f":"VLOOKUP(B401,Emp_Master!$A$4:$F$500,3)","v":{"$error":"#N/A"}},{"$f":"VLOOKUP(B401,Emp_Master!$A$4:$F$500,4)","v":{"$error":"#N/A"}},{"$f":"VLOOKUP(B401,Emp_Master!$A$4:$F$500,5)","v":{"$error":"#N/A"}},{"$f":"VLOOKUP(B401,Emp_Master!$A$4:$F$500,6)","v":{"$error":"#N/A"}}]
[null,null,{"$f":"VLOOKUP(B402,Emp_Master!$A$4:$F$500,2)","v":{"$error":"#N/A"}},{"$f":"VLOOKUP(B402,Emp_Master!$A$4:$F$500,3)","v":{"$error":"#N/A"}},{"$f":"VLOOKUP(B402,Emp_Master!$A$4:$F$500,4)","v":{"$error":"#N/A"}},{"$f":"VLOOKUP(B402,Emp_Master!$A$4:$F$500,5)","v":{"$error":"#N/A"}},{"$f":"VLOOKUP(B402,Emp_Master!$A$4:$F$500,6)","v":{"$error":"#N/A"}}]
[null,null,{"$f":"VLOOKUP(B403,Emp_Master!$A$4:$F$500,2)","v":{"$error":"#N/A"}},{"$f":"VLOOKUP(B403,Emp_Master!$A$4:$F$500,3)","v":{"$error":"#N/A"}},{"$f":"VLOOKUP(B403,Emp_Master!$A$4:$F$500,4)","v":{"$error":"#N/A"}},{"$f":"VLOOKUP(B403,Emp_Master!$A$4:$F$500,5)","v":{"$error":"#N/A"}},{"$f":"VLOOKUP(B403,Emp_Master!$A$4:$F$500,6)","v":{"$error":"#N/A"}}]
[null,null,{"$f":"VLOOKUP(B404,Emp_Master!$A$4:$F$500,2)","v":{"$error":"#N/A"}},{"$f":"VLOOKUP(B404,Emp_Master!$A$4:$F$500,3)","v":{"$error":"#N/A"}},{"$f":"VLOOKUP(B404,Emp_Master!$A$4:$F$500,4)","v":{"$error":"#N/A"}},{"$f":"VLOOKUP(B404,Emp_Master!$A$4:$F$500,5)","v":{"$error":"#N/A"}},{"$f":"VLOOKUP(B404,Emp_Master!$A$4:$F$500,6)","v":{"$error":"#N/A"}}]
[null,null,{"$f":"VLOOKUP(B405,Emp_Master!$A$4:$F$500,2)","v":{"$error":"#N/A"}},{"$f":"VLOOKUP(B405,Emp_Master!$A$4:$F$500,3)","v":{"$error":"#N/A"}},{"$f":"VLOOKUP(B405,Emp_Master!$A$4:$F$500,4)","v":{"$error":"#N/A"}},{"$f":"VLOOKUP(B405,Emp_Master!$A$4:$F$500,5)","v":{"$error":"#N/A"}},{"$f":"VLOOKUP(B405,Emp_Master!$A$4:$F$500,6)","v":{"$error":"#N/A"}}]
[null,null,{"$f":"VLOOKUP(B406,Emp_Master!$A$4:$F$500,2)","v":{"$error":"#N/A"}},{"$f":"VLOOKUP(B406,Emp_Master!$A$4:$F$500,3)","v":{"$error":"#N/A"}},{"$f":"VLOOKUP(B406,Emp_Master!$A$4:$F$500,4)","v":{"$error":"#N/A"}},{"$f":"VLOOKUP(B406,Emp_Master!$A$4:$F$500,5)","v":{"$error":"#N/A"}},{"$f":"VLOOKUP(B406,Emp_Master!$A$4:$F$500,6)","v":{"$error":"#N/A"}}]
[null,null,{"$f":"VLOOKUP(B407,Emp_Master!$A$4:$F$500,2)","v":{"$error":"#N/A"}},{"$f":"VLOOKUP(B407,Emp_Master!$A$4:$F$500,3)","v":{"$error":"#N/A"}},{"$f":"VLOOKUP(B407,Emp_Master!$A$4:$F$500,4)","v":{"$error":"#N/A"}},{"$f":"VLOOKUP(B407,Emp_Master!$A$4:$F$500,5)","v":{"$error":"#N/A"}},{"$f":"VLOOKUP(B407,Emp_Master!$A$4:$F$500,6)","v":{"$error":"#N/A"}}]
[null,null,{"$f":"VLOOKUP(B408,Emp_Master!$A$4:$F$500,2)","v":{"$error":"#N/A"}},{"$f":"VLOOKUP(B408,Emp_Master!$A$4:$F$500,3)","v":{"$error":"#N/A"}},{"$f":"VLOOKUP(B408,Emp_Master!$A$4:$F$500,4)","v":{"$error":"#N/A"}},{"$f":"VLOOKUP(B408,Emp_Master!$A$4:$F$500,5)","v":{"$error":"#N/A"}},{"$f":"VLOOKUP(B408,Emp_Master!$A$4:$F$500,6)","v":{"$error":"#N/A"}}]
[null,null,{"$f":"VLOOKUP(B409,Emp_Master!$A$4:$F$500,2)","v":{"$error":"#N/A"}},{"$f":"VLOOKUP(B409,Emp_Master!$A$4:$F$500,3)","v":{"$error":"#N/A"}},{"$f":"VLOOKUP(B409,Emp_Master!$A$4:$F$500,4)","v":{"$error":"#N/A"}},{"$f":"VLOOKUP(B409,Emp_Master!$A$4:$F$500,5)","v":{"$error":"#N/A"}},{"$f":"VLOOKUP(B409,Emp_Master!$A$4:$F$500,6)","v":{"$error":"#N/A"}}]
[null,null,{"$f":"VLOOKUP(B410,Emp_Master!$A$4:$F$500,2)","v":{"$error":"#N/A"}},{"$f":"VLOOKUP(B410,Emp_Master!$A$4:$F$500,3)","v":{"$error":"#N/A"}},{"$f":"VLOOKUP(B410,Emp_Master!$A$4:$F$500,4)","v":{"$error":"#N/A"}},{"$f":"VLOOKUP(B410,Emp_Master!$A$4:$F$500,5)","v":{"$error":"#N/A"}},{"$f":"VLOOKUP(B410,Emp_Master!$A$4:$F$500,6)","v":{"$error":"#N/A"}}]
[null,null,{"$f":"VLOOKUP(B411,Emp_Master!$A$4:$F$500,2)","v":{"$error":"#N/A"}},{"$f":"VLOOKUP(B411,Emp_Master!$A$4:$F$500,3)","v":{"$error":"#N/A"}},{"$f":"VLOOKUP(B411,Emp_Master!$A$4:$F$500,4)","v":{"$error":"#N/A"}},{"$f":"VLOOKUP(B411,Emp_Master!$A$4:$F$500,5)","v":{"$error":"#N/A"}},{"$f":"VLOOKUP(B411,Emp_Master!$A$4:$F$500,6)","v":{"$error":"#N/A"}}]
[null,null,{"$f":"VLOOKUP(B412,Emp_Master!$A$4:$F$500,2)","v":{"$error":"#N/A"}},{"$f":"VLOOKUP(B412,Emp_Master!$A$4:$F$500,3)","v":{"$error":"#N/A"}},{"$f":"VLOOKUP(B412,Emp_Master!$A$4:$F$500,4)","v":{"$error":"#N/A"}},{"$f":"VLOOKUP(B412,Emp_Master!$A$4:$F$500,5)","v":{"$error":"#N/A"}},{"$f":"VLOOKUP(B412,Emp_Master!$A$4:$F$500,6)","v":{"$error":"#N/A"}}]
[null,null,{"$f":"VLOOKUP(B413,Emp_Master!$A$4:$F$500,2)","v":{"$error":"#N/A"}},{"$f":"VLOOKUP(B413,Emp_Master!$A$4:$F$500,3)","v":{"$error":"#N/A"}},{"$f":"VLOOKUP(B413,Emp_Master!$A$4:$F$500,4)","v":{"$error":"#N/A"}},{"$f":"VLOOKUP(B413,Emp_Master!$A$4:$F$500,5)","v":{"$error":"#N/A"}},{"$f":"VLOOKUP(B413,Emp_Master!$A$4:$F$500,6)","v":{"$error":"#N/A"}}]
[null,null,{"$f":"VLOOKUP(B414,Emp_Master!$A$4:$F$500,2)","v":{"$error":"#N/A"}},{"$f":"VLOOKUP(B414,Emp_Master!$A$4:$F$500,3)","v":{"$error":"#N/A"}},{"$f":"VLOOKUP(B414,Emp_Master!$A$4:$F$500,4)","v":{"$error":"#N/A"}},{"$f":"VLOOKUP(B414,Emp_Master!$A$4:$F$500,5)","v":{"$error":"#N/A"}},{"$f":"VLOOKUP(B414,Emp_Master!$A$4:$F$500,6)","v":{"$error":"#N/A"}}]
[null,null,{"$f":"VLOOKUP(B415,Emp_Master!$A$4:$F$500,2)","v":{"$error":"#N/A"}},{"$f":"VLOOKUP(B415,Emp_Master!$A$4:$F$500,3)","v":{"$error":"#N/A"}},{"$f":"VLOOKUP(B415,Emp_Master!$A$4:$F$500,4)","v":{"$error":"#N/A"}},{"$f":"VLOOKUP(B415,Emp_Master!$A$4:$F$500,5)","v":{"$error":"#N/A"}},{"$f":"VLOOKUP(B415,Emp_Master!$A$4:$F$500,6)","v":{"$error":"#N/A"}}]
[null,null,{"$f":"VLOOKUP(B416,Emp_Master!$A$4:$F$500,2)","v":{"$error":"#N/A"}},{"$f":"VLOOKUP(B416,Emp_Master!$A$4:$F$500,3)","v":{"$error":"#N/A"}},{"$f":"VLOOKUP(B416,Emp_Master!$A$4:$F$500,4)","v":{"$error":"#N/A"}},{"$f":"VLOOKUP(B416,Emp_Master!$A$4:$F$500,5)","v":{"$error":"#N/A"}},{"$f":"VLOOKUP(B416,Emp_Master!$A$4:$F$500,6)","v":{"$error":"#N/A"}}]
[null,null,{"$f":"VLOOKUP(B417,Emp_Master!$A$4:$F$500,2)","v":{"$error":"#N/A"}},{"$f":"VLOOKUP(B417,Emp_Master!$A$4:$F$500,3)","v":{"$error":"#N/A"}},{"$f":"VLOOKUP(B417,Emp_Master!$A$4:$F$500,4)","v":{"$error":"#N/A"}},{"$f":"VLOOKUP(B417,Emp_Master!$A$4:$F$500,5)","v":{"$error":"#N/A"}},{"$f":"VLOOKUP(B417,Emp_Master!$A$4:$F$500,6)","v":{"$error":"#N/A"}}]
[null,null,{"$f":"VLOOKUP(B418,Emp_Master!$A$4:$F$500,2)","v":{"$error":"#N/A"}},{"$f":"VLOOKUP(B418,Emp_Master!$A$4:$F$500,3)","v":{"$error":"#N/A"}},{"$f":"VLOOKUP(B418,Emp_Master!$A$4:$F$500,4)","v":{"$error":"#N/A"}},{"$f":"VLOOKUP(B418,Emp_Master!$A$4:$F$500,5)","v":{"$error":"#N/A"}},{"$f":"VLOOKUP(B418,Emp_Master!$A$4:$F$500,6)","v":{"$error":"#N/A"}}]
[null,null,{"$f":"VLOOKUP(B419,Emp_Master!$A$4:$F$500,2)","v":{"$error":"#N/A"}},{"$f":"VLOOKUP(B419,Emp_Master!$A$4:$F$500,3)","v":{"$error":"#N/A"}},{"$f":"VLOOKUP(B419,Emp_Master!$A$4:$F$500,4)","v":{"$error":"#N/A"}},{"$f":"VLOOKUP(B419,Emp_Master!$A$4:$F$500,5)","v":{"$error":"#N/A"}},{"$f":"VLOOKUP(B419,Emp_Master!$A$4:$F$500,6)","v":{"$error":"#N/A"}}]
[null,null,{"$f":"VLOOKUP(B420,Emp_Master!$A$4:$F$500,2)","v":{"$error":"#N/A"}},{"$f":"VLOOKUP(B420,Emp_Master!$A$4:$F$500,3)","v":{"$error":"#N/A"}},{"$f":"VLOOKUP(B420,Emp_Master!$A$4:$F$500,4)","v":{"$error":"#N/A"}},{"$f":"VLOOKUP(B420,Emp_Master!$A$4:$F$500,5)","v":{"$error":"#N/A"}},{"$f":"VLOOKUP(B420,Emp_Master!$A$4:$F$500,6)","v":{"$error":"#N/A"}}]
[null,null,{"$f":"VLOOKUP(B421,Emp_Master!$A$4:$F$500,2)","v":{"$error":"#N/A"}},{"$f":"VLOOKUP(B421,Emp_Master!$A$4:$F$500,3)","v":{"$error":"#N/A"}},{"$f":"VLOOKUP(B421,Emp_Master!$A$4:$F$500,4)","v":{"$error":"#N/A"}},{"$f":"VLOOKUP(B421,Emp_Master!$A$4:$F$500,5)","v":{"$error":"#N/A"}},{"$f":"VLOOKUP(B421,Emp_Master!$A$4:$F$500,6)","v":{"$error":"#N/A"}}]
[null,null,{"$f":"VLOOKUP(B422,Emp_Master!$A$4:$F$500,2)","v":{"$error":"#N/A"}},{"$f":"VLOOKUP(B422,Emp_Master!$A$4:$F$500,3)","v":{"$error":"#N/A"}},{"$f":"VLOOKUP(B422,Emp_Master!$A$4:$F$500,4)","v":{"$error":"#N/A"}},{"$f":"VLOOKUP(B422,Emp_Master!$A$4:$F$500,5)","v":{"$error":"#N/A"}},{"$f":"VLOOKUP(B422,Emp_Master!$A$4:$F$500,6)","v":{"$error":"#N/A"}}]
[null,null,{"$f":"VLOOKUP(B423,Emp_Master!$A$4:$F$500,2)","v":{"$error":"#N/A"}},{"$f":"VLOOKUP(B423,Emp_Master!$A$4:$F$500,3)","v":{"$error":"#N/A"}},{"$f":"VLOOKUP(B423,Emp_Master!$A$4:$F$500,4)","v":{"$error":"#N/A"}},{"$f":"VLOOKUP(B423,Emp_Master!$A$4:$F$500,5)","v":{"$error":"#N/A"}},{"$f":"VLOOKUP(B423,Emp_Master!$A$4:$F$500,6)","v":{"$error":"#N/A"}}]
[null,null,{"$f":"VLOOKUP(B424,Emp_Master!$A$4:$F$500,2)","v":{"$error":"#N/A"}},{"$f":"VLOOKUP(B424,Emp_Master!$A$4:$F$500,3)","v":{"$error":"#N/A"}},{"$f":"VLOOKUP(B424,Emp_Master!$A$4:$F$500,4)","v":{"$error":"#N/A"}},{"$f":"VLOOKUP(B424,Emp_Master!$A$4:$F$500,5)","v":{"$error":"#N/A"}},{"$f":"VLOOKUP(B424,Emp_Master!$A$4:$F$500,6)","v":{"$error":"#N/A"}}]
[null,null,{"$f":"VLOOKUP(B425,Emp_Master!$A$4:$F$500,2)","v":{"$error":"#N/A"}},{"$f":"VLOOKUP(B425,Emp_Master!$A$4:$F$500,3)","v":{"$error":"#N/A"}},{"$f":"VLOOKUP(B425,Emp_Master!$A$4:$F$500,4)","v":{"$error":"#N/A"}},{"$f":"VLOOKUP(B425,Emp_Master!$A$4:$F$500,5)","v":{"$error":"#N/A"}},{"$f":"VLOOKUP(B425,Emp_Master!$A$4:$F$500,6)","v":{"$error":"#N/A"}}]
[null,null,{"$f":"VLOOKUP(B426,Emp_Master!$A$4:$F$500,2)","v":{"$error":"#N/A"}},{"$f":"VLOOKUP(B426,Emp_Master!$A$4:$F$500,3)","v":{"$error":"#N/A"}},{"$f":"VLOOKUP(B426,Emp_Master!$A$4:$F$500,4)","v":{"$error":"#N/A"}},{"$f":"VLOOKUP(B426,Emp_Master!$A$4:$F$500,5)","v":{"$error":"#N/A"}},{"$f":"VLOOKUP(B426,Emp_Master!$A$4:$F$500,6)","v":{"$error":"#N/A"}}]
[null,null,{"$f":"VLOOKUP(B427,Emp_Master!$A$4:$F$500,2)","v":{"$error":"#N/A"}},{"$f":"VLOOKUP(B427,Emp_Master!$A$4:$F$500,3)","v":{"$error":"#N/A"}},{"$f":"VLOOKUP(B427,Emp_Master!$A$4:$F$500,4)","v":{"$error":"#N/A"}},{"$f":"VLOOKUP(B427,Emp_Master!$A$4:$F$500,5)","v":{"$error":"#N/A"}},{"$f":"VLOOKUP(B427,Emp_Master!$A$4:$F$500,6)","v":{"$error":"#N/A"}}]
[null,null,{"$f":"VLOOKUP(B428,Emp_Master!$A$4:$F$500,2)","v":{"$error":"#N/A"}},{"$f":"VLOOKUP(B428,Emp_Master!$A$4:$F$500,3)","v":{"$error":"#N/A"}},{"$f":"VLOOKUP(B428,Emp_Master!$A$4:$F$500,4)","v":{"$error":"#N/A"}},{"$f":"VLOOKUP(B428,Emp_Master!$A$4:$F$500,5)","v":{"$error":"#N/A"}},{"$f":"VLOOKUP(B428,Emp_Master!$A$4:$F$500,6)","v":{"$error":"#N/A"}}]
[null,null,{"$f":"VLOOKUP(B429,Emp_Master!$A$4:$F$500,2)","v":{"$error":"#N/A"}},{"$f":"VLOOKUP(B429,Emp_Master!$A$4:$F$500,3)","v":{"$error":"#N/A"}},{"$f":"VLOOKUP(B429,Emp_Master!$A$4:$F$500,4)","v":{"$error":"#N/A"}},{"$f":"VLOOKUP(B429,Emp_Master!$A$4:$F$500,5)","v":{"$error":"#N/A"}},{"$f":"VLOOKUP(B429,Emp_Master!$A$4:$F$500,6)","v":{"$error":"#N/A"}}]
[null,null,{"$f":"VLOOKUP(B430,Emp_Master!$A$4:$F$500,2)","v":{"$error":"#N/A"}},{"$f":"VLOOKUP(B430,Emp_Master!$A$4:$F$500,3)","v":{"$error":"#N/A"}},{"$f":"VLOOKUP(B430,Emp_Master!$A$4:$F$500,4)","v":{"$error":"#N/A"}},{"$f":"VLOOKUP(B430,Emp_Master!$A$4:$F$500,5)","v":{"$error":"#N/A"}},{"$f":"VLOOKUP(B430,Emp_Master!$A$4:$F$500,6)","v":{"$error":"#N/A"}}]
[null,null,{"$f":"VLOOKUP(B431,Emp_Master!$A$4:$F$500,2)","v":{"$error":"#N/A"}},{"$f":"VLOOKUP(B431,Emp_Master!$A$4:$F$500,3)","v":{"$error":"#N/A"}},{"$f":"VLOOKUP(B431,Emp_Master!$A$4:$F$500,4)","v":{"$error":"#N/A"}},{"$f":"VLOOKUP(B431,Emp_Master!$A$4:$F$500,5)","v":{"$error":"#N/A"}},{"$f":"VLOOKUP(B431,Emp_Master!$A$4:$F$500,6)","v":{"$error":"#N/A"}}]
[null,null,{"$f":"VLOOKUP(B432,Emp_Master!$A$4:$F$500,2)","v":{"$error":"#N/A"}},{"$f":"VLOOKUP(B432,Emp_Master!$A$4:$F$500,3)","v":{"$error":"#N/A"}},{"$f":"VLOOKUP(B432,Emp_Master!$A$4:$F$500,4)","v":{"$error":"#N/A"}},{"$f":"VLOOKUP(B432,Emp_Master!$A$4:$F$500,5)","v":{"$error":"#N/A"}},{"$f":"VLOOKUP(B432,Emp_Master!$A$4:$F$500,6)","v":{"$error":"#N/A"}}]
[null,null,{"$f":"VLOOKUP(B433,Emp_Master!$A$4:$F$500,2)","v":{"$error":"#N/A"}},{"$f":"VLOOKUP(B433,Emp_Master!$A$4:$F$500,3)","v":{"$error":"#N/A"}},{"$f":"VLOOKUP(B433,Emp_Master!$A$4:$F$500,4)","v":{"$error":"#N/A"}},{"$f":"VLOOKUP(B433,Emp_Master!$A$4:$F$500,5)","v":{"$error":"#N/A"}},{"$f":"VLOOKUP(B433,Emp_Master!$A$4:$F$500,6)","v":{"$error":"#N/A"}}]
[null,null,{"$f":"VLOOKUP(B434,Emp_Master!$A$4:$F$500,2)","v":{"$error":"#N/A"}},{"$f":"VLOOKUP(B434,Emp_Master!$A$4:$F$500,3)","v":{"$error":"#N/A"}},{"$f":"VLOOKUP(B434,Emp_Master!$A$4:$F$500,4)","v":{"$error":"#N/A"}},{"$f":"VLOOKUP(B434,Emp_Master!$A$4:$F$500,5)","v":{"$error":"#N/A"}},{"$f":"VLOOKUP(B434,Emp_Master!$A$4:$F$500,6)","v":{"$error":"#N/A"}}]
[null,null,{"$f":"VLOOKUP(B435,Emp_Master!$A$4:$F$500,2)","v":{"$error":"#N/A"}},{"$f":"VLOOKUP(B435,Emp_Master!$A$4:$F$500,3)","v":{"$error":"#N/A"}},{"$f":"VLOOKUP(B435,Emp_Master!$A$4:$F$500,4)","v":{"$error":"#N/A"}},{"$f":"VLOOKUP(B435,Emp_Master!$A$4:$F$500,5)","v":{"$error":"#N/A"}},{"$f":"VLOOKUP(B435,Emp_Master!$A$4:$F$500,6)","v":{"$error":"#N/A"}}]
[null,null,{"$f":"VLOOKUP(B436,Emp_Master!$A$4:$F$500,2)","v":{"$error":"#N/A"}},{"$f":"VLOOKUP(B436,Emp_Master!$A$4:$F$500,3)","v":{"$error":"#N/A"}},{"$f":"VLOOKUP(B436,Emp_Master!$A$4:$F$500,4)","v":{"$error":"#N/A"}},{"$f":"VLOOKUP(B436,Emp_Master!$A$4:$F$500,5)","v":{"$error":"#N/A"}},{"$f":"VLOOKUP(B436,Emp_Master!$A$4:$F$500,6)","v":{"$error":"#N/A"}}]
[null,null,{"$f":"VLOOKUP(B437,Emp_Master!$A$4:$F$500,2)","v":{"$error":"#N/A"}},{"$f":"VLOOKUP(B437,Emp_Master!$A$4:$F$500,3)","v":{"$error":"#N/A"}},{"$f":"VLOOKUP(B437,Emp_Master!$A$4:$F$500,4)","v":{"$error":"#N/A"}},{"$f":"VLOOKUP(B437,Emp_Master!$A$4:$F$500,5)","v":{"$error":"#N/A"}},{"$f":"VLOOKUP(B437,Emp_Master!$A$4:$F$500,6)","v":{"$error":"#N/A"}}]
[null,null,{"$f":"VLOOKUP(B438,Emp_Master!$A$4:$F$500,2)","v":{"$error":"#N/A"}},{"$f":"VLOOKUP(B438,Emp_Master!$A$4:$F$500,3)","v":{"$error":"#N/A"}},{"$f":"VLOOKUP(B438,Emp_Master!$A$4:$F$500,4)","v":{"$error":"#N/A"}},{"$f":"VLOOKUP(B438,Emp_Master!$A$4:$F$500,5)","v":{"$error":"#N/A"}},{"$f":"VLOOKUP(B438,Emp_Master!$A$4:$F$500,6)","v":{"$error":"#N/A"}}]
[null,null,{"$f":"VLOOKUP(B439,Emp_Master!$A$4:$F$500,2)","v":{"$error":"#N/A"}},{"$f":"VLOOKUP(B439,Emp_Master!$A$4:$F$500,3)","v":{"$error":"#N/A"}},{"$f":"VLOOKUP(B439,Emp_Master!$A$4:$F$500,4)","v":{"$error":"#N/A"}},{"$f":"VLOOKUP(B439,Emp_Master!$A$4:$F$500,5)","v":{"$error":"#N/A"}},{"$f":"VLOOKUP(B439,Emp_Master!$A$4:$F$500,6)","v":{"$error":"#N/A"}}]
[null,null,{"$f":"VLOOKUP(B440,Emp_Master!$A$4:$F$500,2)","v":{"$error":"#N/A"}},{"$f":"VLOOKUP(B440,Emp_Master!$A$4:$F$500,3)","v":{"$error":"#N/A"}},{"$f":"VLOOKUP(B440,Emp_Master!$A$4:$F$500,4)","v":{"$error":"#N/A"}},{"$f":"VLOOKUP(B440,Emp_Master!$A$4:$F$500,5)","v":{"$error":"#N/A"}},{"$f":"VLOOKUP(B440,Emp_Master!$A$4:$F$500,6)","v":{"$error":"#N/A"}}]
[null,null,{"$f":"VLOOKUP(B441,Emp_Master!$A$4:$F$500,2)","v":{"$error":"#N/A"}},{"$f":"VLOOKUP(B441,Emp_Master!$A$4:$F$500,3)","v":{"$error":"#N/A"}},{"$f":"VLOOKUP(B441,Emp_Master!$A$4:$F$500,4)","v":{"$error":"#N/A"}},{"$f":"VLOOKUP(B441,Emp_Master!$A$4:$F$500,5)","v":{"$error":"#N/A"}},{"$f":"VLOOKUP(B441,Emp_Master!$A$4:$F$500,6)","v":{"$error":"#N/A"}}]
[null,null,{"$f":"VLOOKUP(B442,Emp_Master!$A$4:$F$500,2)","v":{"$error":"#N/A"}},{"$f":"VLOOKUP(B442,Emp_Master!$A$4:$F$500,3)","v":{"$error":"#N/A"}},{"$f":"VLOOKUP(B442,Emp_Master!$A$4:$F$500,4)","v":{"$error":"#N/A"}},{"$f":"VLOOKUP(B442,Emp_Master!$A$4:$F$500,5)","v":{"$error":"#N/A"}},{"$f":"VLOOKUP(B442,Emp_Master!$A$4:$F$500,6)","v":{"$error":"#N/A"}}]
[null,null,{"$f":"VLOOKUP(B443,Emp_Master!$A$4:$F$500,2)","v":{"$error":"#N/A"}},{"$f":"VLOOKUP(B443,Emp_Master!$A$4:$F$500,3)","v":{"$error":"#N/A"}},{"$f":"VLOOKUP(B443,Emp_Master!$A$4:$F$500,4)","v":{"$error":"#N/A"}},{"$f":"VLOOKUP(B443,Emp_Master!$A$4:$F$500,5)","v":{"$error":"#N/A"}},{"$f":"VLOOKUP(B443,Emp_Master!$A$4:$F$500,6)","v":{"$error":"#N/A"}}]
[null,null,{"$f":"VLOOKUP(B444,Emp_Master!$A$4:$F$500,2)","v":{"$error":"#N/A"}},{"$f":"VLOOKUP(B444,Emp_Master!$A$4:$F$500,3)","v":{"$error":"#N/A"}},{"$f":"VLOOKUP(B444,Emp_Master!$A$4:$F$500,4)","v":{"$error":"#N/A"}},{"$f":"VLOOKUP(B444,Emp_Master!$A$4:$F$500,5)","v":{"$error":"#N/A"}},{"$f":"VLOOKUP(B444,Emp_Master!$A$4:$F$500,6)","v":{"$error":"#N/A"}}]
[null,null,{"$f":"VLOOKUP(B445,Emp_Master!$A$4:$F$500,2)","v":{"$error":"#N/A"}},{"$f":"VLOOKUP(B445,Emp_Master!$A$4:$F$500,3)","v":{"$error":"#N/A"}},{"$f":"VLOOKUP(B445,Emp_Master!$A$4:$F$500,4)","v":{"$error":"#N/A"}},{"$f":"VLOOKUP(B445,Emp_Master!$A$4:$F$500,5)","v":{"$error":"#N/A"}},{"$f":"VLOOKUP(B445,Emp_Master!$A$4:$F$500,6)","v":{"$error":"#N/A"}}]
[null,null,{"$f":"VLOOKUP(B446,Emp_Master!$A$4:$F$500,2)","v":{"$error":"#N/A"}},{"$f":"VLOOKUP(B446,Emp_Master!$A$4:$F$500,3)","v":{"$error":"#N/A"}},{"$f":"VLOOKUP(B446,Emp_Master!$A$4:$F$500,4)","v":{"$error":"#N/A"}},{"$f":"VLOOKUP(B446,Emp_Master!$A$4:$F$500,5)","v":{"$error":"#N/A"}},{"$f":"VLOOKUP(B446,Emp_Master!$A$4:$F$500,6)","v":{"$error":"#N/A"}}]
[null,null,{"$f":"VLOOKUP(B447,Emp_Master!$A$4:$F$500,2)","v":{"$error":"#N/A"}},{"$f":"VLOOKUP(B447,Emp_Master!$A$4:$F$500,3)","v":{"$error":"#N/A"}},{"$f":"VLOOKUP(B447,Emp_Master!$A$4:$F$500,4)","v":{"$error":"#N/A"}},{"$f":"VLOOKUP(B447,Emp_Master!$A$4:$F$500,5)","v":{"$error":"#N/A"}},{"$f":"VLOOKUP(B447,Emp_Master!$A$4:$F$500,6)","v":{"$error":"#N/A"}}]
[null,null,{"$f":"VLOOKUP(B448,Emp_Master!$A$4:$F$500,2)","v":{"$error":"#N/A"}},{"$f":"VLOOKUP(B448,Emp_Master!$A$4:$F$500,3)","v":{"$error":"#N/A"}},{"$f":"VLOOKUP(B448,Emp_Master!$A$4:$F$500,4)","v":{"$error":"#N/A"}},{"$f":"VLOOKUP(B448,Emp_Master!$A$4:$F$500,5)","v":{"$error":"#N/A"}},{"$f":"VLOOKUP(B448,Emp_Master!$A$4:$F$500,6)","v":{"$error":"#N/A"}}]
[null,null,{"$f":"VLOOKUP(B449,Emp_Master!$A$4:$F$500,2)","v":{"$error":"#N/A"}},{"$f":"VLOOKUP(B449,Emp_Master!$A$4:$F$500,3)","v":{"$error":"#N/A"}},{"$f":"VLOOKUP(B449,Emp_Master!$A$4:$F$500,4)","v":{"$error":"#N/A"}},{"$f":"VLOOKUP(B449,Emp_Master!$A$4:$F$500,5)","v":{"$error":"#N/A"}},{"$f":"VLOOKUP(B449,Emp_Master!$A$4:$F$500,6)","v":{"$error":"#N/A"}}]
[null,null,{"$f":"VLOOKUP(B450,Emp_Master!$A$4:$F$500,2)","v":{"$error":"#N/A"}},{"$f":"VLOOKUP(B450,Emp_Master!$A$4:$F$500,3)","v":{"$error":"#N/A"}},{"$f":"VLOOKUP(B450,Emp_Master!$A$4:$F$500,4)","v":{"$error":"#N/A"}},{"$f":"VLOOKUP(B450,Emp_Master!$A$4:$F$500,5)","v":{"$error":"#N/A"}},{"$f":"VLOOKUP(B450,Emp_Master!$A$4:$F$500,6)","v":{"$error":"#N/A"}}]
[null,null,{"$f":"VLOOKUP(B451,Emp_Master!$A$4:$F$500,2)","v":{"$error":"#N/A"}},{"$f":"VLOOKUP(B451,Emp_Master!$A$4:$F$500,3)","v":{"$error":"#N/A"}},{"$f":"VLOOKUP(B451,Emp_Master!$A$4:$F$500,4)","v":{"$error":"#N/A"}},{"$f":"VLOOKUP(B451,Emp_Master!$A$4:$F$500,5)","v":{"$error":"#N/A"}},{"$f":"VLOOKUP(B451,Emp_Master!$A$4:$F$500,6)","v":{"$error":"#N/A"}}]
[null,null,{"$f":"VLOOKUP(B452,Emp_Master!$A$4:$F$500,2)","v":{"$error":"#N/A"}},{"$f":"VLOOKUP(B452,Emp_Master!$A$4:$F$500,3)","v":{"$error":"#N/A"}},{"$f":"VLOOKUP(B452,Emp_Master!$A$4:$F$500,4)","v":{"$error":"#N/A"}},{"$f":"VLOOKUP(B452,Emp_Master!$A$4:$F$500,5)","v":{"$error":"#N/A"}},{"$f":"VLOOKUP(B452,Emp_Master!$A$4:$F$500,6)","v":{"$error":"#N/A"}}]
[null,null,{"$f":"VLOOKUP(B453,Emp_Master!$A$4:$F$500,2)","v":{"$error":"#N/A"}},{"$f":"VLOOKUP(B453,Emp_Master!$A$4:$F$500,3)","v":{"$error":"#N/A"}},{"$f":"VLOOKUP(B453,Emp_Master!$A$4:$F$500,4)","v":{"$error":"#N/A"}},{"$f":"VLOOKUP(B453,Emp_Master!$A$4:$F$500,5)","v":{"$error":"#N/A"}},{"$f":"VLOOKUP(B453,Emp_Master!$A$4:$F$500,6)","v":{"$error":"#N/A"}}]
[null,null,{"$f":"VLOOKUP(B454,Emp_Master!$A$4:$F$500,2)","v":{"$error":"#N/A"}},{"$f":"VLOOKUP(B454,Emp_Master!$A$4:$F$500,3)","v":{"$error":"#N/A"}},{"$f":"VLOOKUP(B454,Emp_Master!$A$4:$F$500,4)","v":{"$error":"#N/A"}},{"$f":"VLOOKUP(B454,Emp_Master!$A$4:$F$500,5)","v":{"$error":"#N/A"}},{"$f":"VLOOKUP(B454,Emp_Master!$A$4:$F$500,6)","v":{"$error":"#N/A"}}]
[null,null,{"$f":"VLOOKUP(B455,Emp_Master!$A$4:$F$500,2)","v":{"$error":"#N/A"}},{"$f":"VLOOKUP(B455,Emp_Master!$A$4:$F$500,3)","v":{"$error":"#N/A"}},{"$f":"VLOOKUP(B455,Emp_Master!$A$4:$F$500,4)","v":{"$error":"#N/A"}},{"$f":"VLOOKUP(B455,Emp_Master!$A$4:$F$500,5)","v":{"$error":"#N/A"}},{"$f":"VLOOKUP(B455,Emp_Master!$A$4:$F$500,6)","v":{"$error":"#N/A"}}]
[null,null,{"$f":"VLOOKUP(B456,Emp_Master!$A$4:$F$500,2)","v":{"$error":"#N/A"}},{"$f":"VLOOKUP(B456,Emp_Master!$A$4:$F$500,3)","v":{"$error":"#N/A"}},{"$f":"VLOOKUP(B456,Emp_Master!$A$4:$F$500,4)","v":{"$error":"#N/A"}},{"$f":"VLOOKUP(B456,Emp_Master!$A$4:$F$500,5)","v":{"$error":"#N/A"}},{"$f":"VLOOKUP(B456,Emp_Master!$A$4:$F$500,6)","v":{"$error":"#N/A"}}]
[null,null,{"$f":"VLOOKUP(B457,Emp_Master!$A$4:$F$500,2)","v":{"$error":"#N/A"}},{"$f":"VLOOKUP(B457,Emp_Master!$A$4:$F$500,3)","v":{"$error":"#N/A"}},{"$f":"VLOOKUP(B457,Emp_Master!$A$4:$F$500,4)","v":{"$error":"#N/A"}},{"$f":"VLOOKUP(B457,Emp_Master!$A$4:$F$500,5)","v":{"$error":"#N/A"}},{"$f":"VLOOKUP(B457,Emp_Master!$A$4:$F$500,6)","v":{"$error":"#N/A"}}]
[null,null,{"$f":"VLOOKUP(B458,Emp_Master!$A$4:$F$500,2)","v":{"$error":"#N/A"}},{"$f":"VLOOKUP(B458,Emp_Master!$A$4:$F$500,3)","v":{"$error":"#N/A"}},{"$f":"VLOOKUP(B458,Emp_Master!$A$4:$F$500,4)","v":{"$error":"#N/A"}},{"$f":"VLOOKUP(B458,Emp_Master!$A$4:$F$500,5)","v":{"$error":"#N/A"}},{"$f":"VLOOKUP(B458,Emp_Master!$A$4:$F$500,6)","v":{"$error":"#N/A"}}]
[null,null,{"$f":"VLOOKUP(B459,Emp_Master!$A$4:$F$500,2)","v":{"$error":"#N/A"}},{"$f":"VLOOKUP(B459,Emp_Master!$A$4:$F$500,3)","v":{"$error":"#N/A"}},{"$f":"VLOOKUP(B459,Emp_Master!$A$4:$F$500,4)","v":{"$error":"#N/A"}},{"$f":"VLOOKUP(B459,Emp_Master!$A$4:$F$500,5)","v":{"$error":"#N/A"}},{"$f":"VLOOKUP(B459,Emp_Master!$A$4:$F$500,6)","v":{"$error":"#N/A"}}]
[null,null,{"$f":"VLOOKUP(B460,Emp_Master!$A$4:$F$500,2)","v":{"$error":"#N/A"}},{"$f":"VLOOKUP(B460,Emp_Master!$A$4:$F$500,3)","v":{"$error":"#N/A"}},{"$f":"VLOOKUP(B460,Emp_Master!$A$4:$F$500,4)","v":{"$error":"#N/A"}},{"$f":"VLOOKUP(B460,Emp_Master!$A$4:$F$500,5)","v":{"$error":"#N/A"}},{"$f":"VLOOKUP(B460,Emp_Master!$A$4:$F$500,6)","v":{"$error":"#N/A"}}]
[null,null,{"$f":"VLOOKUP(B461,Emp_Master!$A$4:$F$500,2)","v":{"$error":"#N/A"}},{"$f":"VLOOKUP(B461,Emp_Master!$A$4:$F$500,3)","v":{"$error":"#N/A"}},{"$f":"VLOOKUP(B461,Emp_Master!$A$4:$F$500,4)","v":{"$error":"#N/A"}},{"$f":"VLOOKUP(B461,Emp_Master!$A$4:$F$500,5)","v":{"$error":"#N/A"}},{"$f":"VLOOKUP(B461,Emp_Master!$A$4:$F$500,6)","v":{"$error":"#N/A"}}]
[null,null,{"$f":"VLOOKUP(B462,Emp_Master!$A$4:$F$500,2)","v":{"$error":"#N/A"}},{"$f":"VLOOKUP(B462,Emp_Master!$A$4:$F$500,3)","v":{"$error":"#N/A"}},{"$f":"VLOOKUP(B462,Emp_Master!$A$4:$F$500,4)","v":{"$error":"#N/A"}},{"$f":"VLOOKUP(B462,Emp_Master!$A$4:$F$500,5)","v":{"$error":"#N/A"}},{"$f":"VLOOKUP(B462,Emp_Master!$A$4:$F$500,6)","v":{"$error":"#N/A"}}]
[null,null,{"$f":"VLOOKUP(B463,Emp_Master!$A$4:$F$500,2)","v":{"$error":"#N/A"}},{"$f":"VLOOKUP(B463,Emp_Master!$A$4:$F$500,3)","v":{"$error":"#N/A"}},{"$f":"VLOOKUP(B463,Emp_Master!$A$4:$F$500,4)","v":{"$error":"#N/A"}},{"$f":"VLOOKUP(B463,Emp_Master!$A$4:$F$500,5)","v":{"$error":"#N/A"}},{"$f":"VLOOKUP(B463,Emp_Master!$A$4:$F$500,6)","v":{"$error":"#N/A"}}]
[null,null,{"$f":"VLOOKUP(B464,Emp_Master!$A$4:$F$500,2)","v":{"$error":"#N/A"}},{"$f":"VLOOKUP(B464,Emp_Master!$A$4:$F$500,3)","v":{"$error":"#N/A"}},{"$f":"VLOOKUP(B464,Emp_Master!$A$4:$F$500,4)","v":{"$error":"#N/A"}},{"$f":"VLOOKUP(B464,Emp_Master!$A$4:$F$500,5)","v":{"$error":"#N/A"}},{"$f":"VLOOKUP(B464,Emp_Master!$A$4:$F$500,6)","v":{"$error":"#N/A"}}]
[null,null,{"$f":"VLOOKUP(B465,Emp_Master!$A$4:$F$500,2)","v":{"$error":"#N/A"}},{"$f":"VLOOKUP(B465,Emp_Master!$A$4:$F$500,3)","v":{"$error":"#N/A"}},{"$f":"VLOOKUP(B465,Emp_Master!$A$4:$F$500,4)","v":{"$error":"#N/A"}},{"$f":"VLOOKUP(B465,Emp_Master!$A$4:$F$500,5)","v":{"$error":"#N/A"}},{"$f":"VLOOKUP(B465,Emp_Master!$A$4:$F$500,6)","v":{"$error":"#N/A"}}]
[null,null,{"$f":"VLOOKUP(B466,Emp_Master!$A$4:$F$500,2)","v":{"$error":"#N/A"}},{"$f":"VLOOKUP(B466,Emp_Master!$A$4:$F$500,3)","v":{"$error":"#N/A"}},{"$f":"VLOOKUP(B466,Emp_Master!$A$4:$F$500,4)","v":{"$error":"#N/A"}},{"$f":"VLOOKUP(B466,Emp_Master!$A$4:$F$500,5)","v":{"$error":"#N/A"}},{"$f":"VLOOKUP(B466,Emp_Master!$A$4:$F$500,6)","v":{"$error":"#N/A"}}]
[null,null,{"$f":"VLOOKUP(B467,Emp_Master!$A$4:$F$500,2)","v":{"$error":"#N/A"}},{"$f":"VLOOKUP(B467,Emp_Master!$A$4:$F$500,3)","v":{"$error":"#N/A"}},{"$f":"VLOOKUP(B467,Emp_Master!$A$4:$F$500,4)","v":{"$error":"#N/A"}},{"$f":"VLOOKUP(B467,Emp_Master!$A$4:$F$500,5)","v":{"$error":"#N/A"}},{"$f":"VLOOKUP(B467,Emp_Master!$A$4:$F$500,6)","v":{"$error":"#N/A"}}]
[null,null,{"$f":"VLOOKUP(B468,Emp_Master!$A$4:$F$500,2)","v":{"$error":"#N/A"}},{"$f":"VLOOKUP(B468,Emp_Master!$A$4:$F$500,3)","v":{"$error":"#N/A"}},{"$f":"VLOOKUP(B468,Emp_Master!$A$4:$F$500,4)","v":{"$error":"#N/A"}},{"$f":"VLOOKUP(B468,Emp_Master!$A$4:$F$500,5)","v":{"$error":"#N/A"}},{"$f":"VLOOKUP(B468,Emp_Master!$A$4:$F$500,6)","v":{"$error":"#N/A"}}]
[null,null,{"$f":"VLOOKUP(B469,Emp_Master!$A$4:$F$500,2)","v":{"$error":"#N/A"}},{"$f":"VLOOKUP(B469,Emp_Master!$A$4:$F$500,3)","v":{"$error":"#N/A"}},{"$f":"VLOOKUP(B469,Emp_Master!$A$4:$F$500,4)","v":{"$error":"#N/A"}},{"$f":"VLOOKUP(B469,Emp_Master!$A$4:$F$500,5)","v":{"$error":"#N/A"}},{"$f":"VLOOKUP(B469,Emp_Master!$A$4:$F$500,6)","v":{"$error":"#N/A"}}]
[null,null,{"$f":"VLOOKUP(B470,Emp_Master!$A$4:$F$500,2)","v":{"$error":"#N/A"}},{"$f":"VLOOKUP(B470,Emp_Master!$A$4:$F$500,3)","v":{"$error":"#N/A"}},{"$f":"VLOOKUP(B470,Emp_Master!$A$4:$F$500,4)","v":{"$error":"#N/A"}},{"$f":"VLOOKUP(B470,Emp_Master!$A$4:$F$500,5)","v":{"$error":"#N/A"}},{"$f":"VLOOKUP(B470,Emp_Master!$A$4:$F$500,6)","v":{"$error":"#N/A"}}]
[null,null,{"$f":"VLOOKUP(B471,Emp_Master!$A$4:$F$500,2)","v":{"$error":"#N/A"}},{"$f":"VLOOKUP(B471,Emp_Master!$A$4:$F$500,3)","v":{"$error":"#N/A"}},{"$f":"VLOOKUP(B471,Emp_Master!$A$4:$F$500,4)","v":{"$error":"#N/A"}},{"$f":"VLOOKUP(B471,Emp_Master!$A$4:$F$500,5)","v":{"$error":"#N/A"}},{"$f":"VLOOKUP(B471,Emp_Master!$A$4:$F$500,6)","v":{"$error":"#N/A"}}]
[null,null,{"$f":"VLOOKUP(B472,Emp_Master!$A$4:$F$500,2)","v":{"$error":"#N/A"}},{"$f":"VLOOKUP(B472,Emp_Master!$A$4:$F$500,3)","v":{"$error":"#N/A"}},{"$f":"VLOOKUP(B472,Emp_Master!$A$4:$F$500,4)","v":{"$error":"#N/A"}},{"$f":"VLOOKUP(B472,Emp_Master!$A$4:$F$500,5)","v":{"$error":"#N/A"}},{"$f":"VLOOKUP(B472,Emp_Master!$A$4:$F$500,6)","v":{"$error":"#N/A"}}]
[null,null,{"$f":"VLOOKUP(B473,Emp_Master!$A$4:$F$500,2)","v":{"$error":"#N/A"}},{"$f":"VLOOKUP(B473,Emp_Master!$A$4:$F$500,3)","v":{"$error":"#N/A"}},{"$f":"VLOOKUP(B473,Emp_Master!$A$4:$F$500,4)","v":{"$error":"#N/A"}},{"$f":"VLOOKUP(B473,Emp_Master!$A$4:$F$500,5)","v":{"$error":"#N/A"}},{"$f":"VLOOKUP(B473,Emp_Master!$A$4:$F$500,6)","v":{"$error":"#N/A"}}]
[null,null,{"$f":"VLOOKUP(B474,Emp_Master!$A$4:$F$500,2)","v":{"$error":"#N/A"}},{"$f":"VLOOKUP(B474,Emp_Master!$A$4:$F$500,3)","v":{"$error":"#N/A"}},{"$f":"VLOOKUP(B474,Emp_Master!$A$4:$F$500,4)","v":{"$error":"#N/A"}},{"$f":"VLOOKUP(B474,Emp_Master!$A$4:$F$500,5)","v":{"$error":"#N/A"}},{"$f":"VLOOKUP(B474,Emp_Master!$A$4:$F$500,6)","v":{"$error":"#N/A"}}]
[null,null,{"$f":"VLOOKUP(B475,Emp_Master!$A$4:$F$500,2)","v":{"$error":"#N/A"}},{"$f":"VLOOKUP(B475,Emp_Master!$A$4:$F$500,3)","v":{"$error":"#N/A"}},{"$f":"VLOOKUP(B475,Emp_Master!$A$4:$F$500,4)","v":{"$error":"#N/A"}},{"$f":"VLOOKUP(B475,Emp_Master!$A$4:$F$500,5)","v":{"$error":"#N/A"}},{"$f":"VLOOKUP(B475,Emp_Master!$A$4:$F$500,6)","v":{"$error":"#N/A"}}]
[null,null,{"$f":"VLOOKUP(B476,Emp_Master!$A$4:$F$500,2)","v":{"$error":"#N/A"}},{"$f":"VLOOKUP(B476,Emp_Master!$A$4:$F$500,3)","v":{"$error":"#N/A"}},{"$f":"VLOOKUP(B476,Emp_Master!$A$4:$F$500,4)","v":{"$error":"#N/A"}},{"$f":"VLOOKUP(B476,Emp_Master!$A$4:$F$500,5)","v":{"$error":"#N/A"}},{"$f":"VLOOKUP(B476,Emp_Master!$A$4:$F$500,6)","v":{"$error":"#N/A"}}]
[null,null,{"$f":"VLOOKUP(B477,Emp_Master!$A$4:$F$500,2)","v":{"$error":"#N/A"}},{"$f":"VLOOKUP(B477,Emp_Master!$A$4:$F$500,3)","v":{"$error":"#N/A"}},{"$f":"VLOOKUP(B477,Emp_Master!$A$4:$F$500,4)","v":{"$error":"#N/A"}},{"$f":"VLOOKUP(B477,Emp_Master!$A$4:$F$500,5)","v":{"$error":"#N/A"}},{"$f":"VLOOKUP(B477,Emp_Master!$A$4:$F$500,6)","v":{"$error":"#N/A"}}]
[null,null,{"$f":"VLOOKUP(B478,Emp_Master!$A$4:$F$500,2)","v":{"$error":"#N/A"}},{"$f":"VLOOKUP(B478,Emp_Master!$A$4:$F$500,3)","v":{"$error":"#N/A"}},{"$f":"VLOOKUP(B478,Emp_Master!$A$4:$F$500,4)","v":{"$error":"#N/A"}},{"$f":"VLOOKUP(B478,Emp_Master!$A$4:$F$500,5)","v":{"$error":"#N/A"}},{"$f":"VLOOKUP(B478,Emp_Master!$A$4:$F$500,6)","v":{"$error":"#N/A"}}]
[null,null,{"$f":"VLOOKUP(B479,Emp_Master!$A$4:$F$500,2)","v":{"$error":"#N/A"}},{"$f":"VLOOKUP(B479,Emp_Master!$A$4:$F$500,3)","v":{"$error":"#N/A"}},{"$f":"VLOOKUP(B479,Emp_Master!$A$4:$F$500,4)","v":{"$error":"#N/A"}},{"$f":"VLOOKUP(B479,Emp_Master!$A$4:$F$500,5)","v":{"$error":"#N/A"}},{"$f":"VLOOKUP(B479,Emp_Master!$A$4:$F$500,6)","v":{"$error":"#N/A"}}]
[null,null,{"$f":"VLOOKUP(B480,Emp_Master!$A$4:$F$500,2)","v":{"$error":"#N/A"}},{"$f":"VLOOKUP(B480,Emp_Master!$A$4:$F$500,3)","v":{"$error":"#N/A"}},{"$f":"VLOOKUP(B480,Emp_Master!$A$4:$F$500,4)","v":{"$error":"#N/A"}},{"$f":"VLOOKUP(B480,Emp_Master!$A$4:$F$500,5)","v":{"$error":"#N/A"}},{"$f":"VLOOKUP(B480,Emp_Master!$A$4:$F$500,6)","v":{"$error":"#N/A"}}]
[null,null,{"$f":"VLOOKUP(B481,Emp_Master!$A$4:$F$500,2)","v":{"$error":"#N/A"}},{"$f":"VLOOKUP(B481,Emp_Master!$A$4:$F$500,3)","v":{"$error":"#N/A"}},{"$f":"VLOOKUP(B481,Emp_Master!$A$4:$F$500,4)","v":{"$error":"#N/A"}},{"$f":"VLOOKUP(B481,Emp_Master!$A$4:$F$500,5)","v":{"$error":"#N/A"}},{"$f":"VLOOKUP(B481,Emp_Master!$A$4:$F$500,6)","v":{"$error":"#N/A"}}]
[null,null,{"$f":"VLOOKUP(B482,Emp_Master!$A$4:$F$500,2)","v":{"$error":"#N/A"}},{"$f":"VLOOKUP(B482,Emp_Master!$A$4:$F$500,3)","v":{"$error":"#N/A"}},{"$f":"VLOOKUP(B482,Emp_Master!$A$4:$F$500,4)","v":{"$error":"#N/A"}},{"$f":"VLOOKUP(B482,Emp_Master!$A$4:$F$500,5)","v":{"$error":"#N/A"}},{"$f":"VLOOKUP(B482,Emp_Master!$A$4:$F$500,6)","v":{"$error":"#N/A"}}]
[null,null,{"$f":"VLOOKUP(B483,Emp_Master!$A$4:$F$500,2)","v":{"$error":"#N/A"}},{"$f":"VLOOKUP(B483,Emp_Master!$A$4:$F$500,3)","v":{"$error":"#N/A"}},{"$f":"VLOOKUP(B483,Emp_Master!$A$4:$F$500,4)","v":{"$error":"#N/A"}},{"$f":"VLOOKUP(B483,Emp_Master!$A$4:$F$500,5)","v":{"$error":"#N/A"}},{"$f":"VLOOKUP(B483,Emp_Master!$A$4:$F$500,6)","v":{"$error":"#N/A"}}]
[null,null,{"$f":"VLOOKUP(B484,Emp_Master!$A$4:$F$500,2)","v":{"$error":"#N/A"}},{"$f":"VLOOKUP(B484,Emp_Master!$A$4:$F$500,3)","v":{"$error":"#N/A"}},{"$f":"VLOOKUP(B484,Emp_Master!$A$4:$F$500,4)","v":{"$error":"#N/A"}},{"$f":"VLOOKUP(B484,Emp_Master!$A$4:$F$500,5)","v":{"$error":"#N/A"}},{"$f":"VLOOKUP(B484,Emp_Master!$A$4:$F$500,6)","v":{"$error":"#N/A"}}]
[null,null,{"$f":"VLOOKUP(B485,Emp_Master!$A$4:$F$500,2)","v":{"$error":"#N/A"}},{"$f":"VLOOKUP(B485,Emp_Master!$A$4:$F$500,3)","v":{"$error":"#N/A"}},{"$f":"VLOOKUP(B485,Emp_Master!$A$4:$F$500,4)","v":{"$error":"#N/A"}},{"$f":"VLOOKUP(B485,Emp_Master!$A$4:$F$500,5)","v":{"$error":"#N/A"}},{"$f":"VLOOKUP(B485,Emp_Master!$A$4:$F$500,6)","v":{"$error":"#N/A"}}]
[null,null,{"$f":"VLOOKUP(B486,Emp_Master!$A$4:$F$500,2)","v":{"$error":"#N/A"}},{"$f":"VLOOKUP(B486,Emp_Master!$A$4:$F$500,3)","v":{"$error":"#N/A"}},{"$f":"VLOOKUP(B486,Emp_Master!$A$4:$F$500,4)","v":{"$error":"#N/A"}},{"$f":"VLOOKUP(B486,Emp_Master!$A$4:$F$500,5)","v":{"$error":"#N/A"}},{"$f":"VLOOKUP(B486,Emp_Master!$A$4:$F$500,6)","v":{"$error":"#N/A"}}]
[null,null,{"$f":"VLOOKUP(B487,Emp_Master!$A$4:$F$500,2)","v":{"$error":"#N/A"}},{"$f":"VLOOKUP(B487,Emp_Master!$A$4:$F$500,3)","v":{"$error":"#N/A"}},{"$f":"VLOOKUP(B487,Emp_Master!$A$4:$F$500,4)","v":{"$error":"#N/A"}},{"$f":"VLOOKUP(B487,Emp_Master!$A$4:$F$500,5)","v":{"$error":"#N/A"}},{"$f":"VLOOKUP(B487,Emp_Master!$A$4:$F$500,6)","v":{"$error":"#N/A"}}]
[null,null,{"$f":"VLOOKUP(B488,Emp_Master!$A$4:$F$500,2)","v":{"$error":"#N/A"}},{"$f":"VLOOKUP(B488,Emp_Master!$A$4:$F$500,3)","v":{"$error":"#N/A"}},{"$f":"VLOOKUP(B488,Emp_Master!$A$4:$F$500,4)","v":{"$error":"#N/A"}},{"$f":"VLOOKUP(B488,Emp_Master!$A$4:$F$500,5)","v":{"$error":"#N/A"}},{"$f":"VLOOKUP(B488,Emp_Master!$A$4:$F$500,6)","v":{"$error":"#N/A"}}]
[null,null,{"$f":"VLOOKUP(B489,Emp_Master!$A$4:$F$500,2)","v":{"$error":"#N/A"}},{"$f":"VLOOKUP(B489,Emp_Master!$A$4:$F$500,3)","v":{"$error":"#N/A"}},{"$f":"VLOOKUP(B489,Emp_Master!$A$4:$F$500,4)","v":{"$error":"#N/A"}},{"$f":"VLOOKUP(B489,Emp_Master!$A$4:$F$500,5)","v":{"$error":"#N/A"}},{"$f":"VLOOKUP(B489,Emp_Master!$A$4:$F$500,6)","v":{"$error":"#N/A"}}]
[null,null,{"$f":"VLOOKUP(B490,Emp_Master!$A$4:$F$500,2)","v":{"$error":"#N/A"}},{"$f":"VLOOKUP(B490,Emp_Master!$A$4:$F$500,3)","v":{"$error":"#N/A"}},{"$f":"VLOOKUP(B490,Emp_Master!$A$4:$F$500,4)","v":{"$error":"#N/A"}},{"$f":"VLOOKUP(B490,Emp_Master!$A$4:$F$500,5)","v":{"$error":"#N/A"}},{"$f":"VLOOKUP(B490,Emp_Master!$A$4:$F$500,6)","v":{"$error":"#N/A"}}]
[null,null,{"$f":"VLOOKUP(B491,Emp_Master!$A$4:$F$500,2)","v":{"$error":"#N/A"}},{"$f":"VLOOKUP(B491,Emp_Master!$A$4:$F$500,3)","v":{"$error":"#N/A"}},{"$f":"VLOOKUP(B491,Emp_Master!$A$4:$F$500,4)","v":{"$error":"#N/A"}},{"$f":"VLOOKUP(B491,Emp_Master!$A$4:$F$500,5)","v":{"$error":"#N/A"}},{"$f":"VLOOKUP(B491,Emp_Master!$A$4:$F$500,6)","v":{"$error":"#N/A"}}]
[null,null,{"$f":"VLOOKUP(B492,Emp_Master!$A$4:$F$500,2)","v":{"$error":"#N/A"}},{"$f":"VLOOKUP(B492,Emp_Master!$A$4:$F$500,3)","v":{"$error":"#N/A"}},{"$f":"VLOOKUP(B492,Emp_Master!$A$4:$F$500,4)","v":{"$error":"#N/A"}},{"$f":"VLOOKUP(B492,Emp_Master!$A$4:$F$500,5)","v":{"$error":"#N/A"}},{"$f":"VLOOKUP(B492,Emp_Master!$A$4:$F$500,6)","v":{"$error":"#N/A"}}]
[null,null,{"$f":"VLOOKUP(B493,Emp_Master!$A$4:$F$500,2)","v":{"$error":"#N/A"}},{"$f":"VLOOKUP(B493,Emp_Master!$A$4:$F$500,3)","v":{"$error":"#N/A"}},{"$f":"VLOOKUP(B493,Emp_Master!$A$4:$F$500,4)","v":{"$error":"#N/A"}},{"$f":"VLOOKUP(B493,Emp_Master!$A$4:$F$500,5)","v":{"$error":"#N/A"}},{"$f":"VLOOKUP(B493,Emp_Master!$A$4:$F$500,6)","v":{"$error":"#N/A"}}]
[null,null,{"$f":"VLOOKUP(B494,Emp_Master!$A$4:$F$500,2)","v":{"$error":"#N/A"}},{"$f":"VLOOKUP(B494,Emp_Master!$A$4:$F$500,3)","v":{"$error":"#N/A"}},{"$f":"VLOOKUP(B494,Emp_Master!$A$4:$F$500,4)","v":{"$error":"#N/A"}},{"$f":"VLOOKUP(B494,Emp_Master!$A$4:$F$500,5)","v":{"$error":"#N/A"}},{"$f":"VLOOKUP(B494,Emp_Master!$A$4:$F$500,6)","v":{"$error":"#N/A"}}]
[null,null,{"$f":"VLOOKUP(B495,Emp_Master!$A$4:$F$500,2)","v":{"$error":"#N/A"}},{"$f":"VLOOKUP(B495,Emp_Master!$A$4:$F$500,3)","v":{"$error":"#N/A"}},{"$f":"VLOOKUP(B495,Emp_Master!$A$4:$F$500,4)","v":{"$error":"#N/A"}},{"$f":"VLOOKUP(B495,Emp_Master!$A$4:$F$500,5)","v":{"$error":"#N/A"}},{"$f":"VLOOKUP(B495,Emp_Master!$A$4:$F$500,6)","v":{"$error":"#N/A"}}]
[null,null,{"$f":"VLOOKUP(B496,Emp_Master!$A$4:$F$500,2)","v":{"$error":"#N/A"}},{"$f":"VLOOKUP(B496,Emp_Master!$A$4:$F$500,3)","v":{"$error":"#N/A"}},{"$f":"VLOOKUP(B496,Emp_Master!$A$4:$F$500,4)","v":{"$error":"#N/A"}},{"$f":"VLOOKUP(B496,Emp_Master!$A$4:$F$500,5)","v":{"$error":"#N/A"}},{"$f":"VLOOKUP(B496,Emp_Master!$A$4:$F$500,6)","v":{"$error":"#N/A"}}]
[null,null,{"$f":"VLOOKUP(B497,Emp_Master!$A$4:$F$500,2)","v":{"$error":"#N/A"}},{"$f":"VLOOKUP(B497,Emp_Master!$A$4:$F$500,3)","v":{"$error":"#N/A"}},{"$f":"VLOOKUP(B497,Emp_Master!$A$4:$F$500,4)","v":{"$error":"#N/A"}},{"$f":"VLOOKUP(B497,Emp_Master!$A$4:$F$500,5)","v":{"$error":"#N/A"}},{"$f":"VLOOKUP(B497,Emp_Master!$A$4:$F$500,6)","v":{"$error":"#N/A"}}]
[null,null,{"$f":"VLOOKUP(B498,Emp_Master!$A$4:$F$500,2)","v":{"$error":"#N/A"}},{"$f":"VLOOKUP(B498,Emp_Master!$A$4:$F$500,3)","v":{"$error":"#N/A"}},{"$f":"VLOOKUP(B498,Emp_Master!$A$4:$F$500,4)","v":{"$error":"#N/A"}},{"$f":"VLOOKUP(B498,Emp_Master!$A$4:$F$500,5)","v":{"$error":"#N/A"}},{"$f":"VLOOKUP(B498,Emp_Master!$A$4:$F$500,6)","v":{"$error":"#N/A"}}]
[null,null,{"$f":"VLOOKUP(B499,Emp_Master!$A$4:$F$500,2)","v":{"$error":"#N/A"}},{"$f":"VLOOKUP(B499,Emp_Master!$A$4:$F$500,3)","v":{"$error":"#N/A"}},{"$f":"VLOOKUP(B499,Emp_Master!$A$4:$F$500,4)","v":{"$error":"#N/A"}},{"$f":"VLOOKUP(B499,Emp_Master!$A$4:$F$500,5)","v":{"$error":"#N/A"}},{"$f":"VLOOKUP(B499,Emp_Master!$A$4:$F$500,6)","v":{"$error":"#N/A"}}]
[null,null,{"$f":"VLOOKUP(B500,Emp_Master!$A$4:$F$500,2)","v":{"$error":"#N/A"}},{"$f":"VLOOKUP(B500,Emp_Master!$A$4:$F$500,3)","v":{"$error":"#N/A"}},{"$f":"VLOOKUP(B500,Emp_Master!$A$4:$F$500,4)","v":{"$error":"#N/A"}},{"$f":"VLOOKUP(B500,Emp_Master!$A$4:$F$500,5)","v":{"$error":"#N/A"}},{"$f":"VLOOKUP(B500,Emp_Master!$A$4:$F$500,6)","v":{"$error":"#N/A"}}]
[]
[]
[]
[]
[]
[]
[]
[]
[]
[]
[]
[]
[]
[]
[]
[]
[]
[]
[]
[]
[]
[]
[]
[]
[]
[]
[]
[]
[]
[]
[]
[]
[]
[]
[]
[]
[]
[]
[]
[]
[]
[]
[]
[]
[]
[]
[]
[]
[null,{"$f":"Emp_Master!A4","v":0}]
[null,{"$f":"Emp_Master!A5","v":0}]
[null,{"$f":"Emp_Master!A6","v":0}]
[null,{"$f":"Emp_Master!A7","v":0}]
[null,{"$f":"Emp_Master!A8","v":0}]
[null,{"$f":"Emp_Master!A9","v":0}]
[null,{"$f":"Emp_Master!A10","v":0}]
[null,{"$f":"Emp_Master!A11","v":0}]
[null,{"$f":"Emp_Master!A12","v":0}]
[null,{"$f":"Emp_Master!A13","v":0}]
[null,{"$f":"Emp_Master!A14","v":0}]
[null,{"$f":"Emp_Master!A15","v":0}]
[null,{"$f":"Emp_Master!A16","v":0}]
[null,{"$f":"Emp_Master!A17","v":0}]
[null,{"$f":"Emp_Master!A18","v":0}]
[null,{"$f":"Emp_Master!A19","v":0}]
[null,{"$f":"Emp_Master!A20","v":0}]
[null,{"$f":"Emp_Master!A21","v":0}]
[null,{"$f":"Emp_Master!A22","v":0}]
[null,{"$f":"Emp_Master!A23","v":0}]
[null,{"$f":"Emp_Master!A24","v":0}]
[null,{"$f":"Emp_Master!A25","v":0}]
[null,{"$f":"Emp_Master!A26","v":0}]
[null,{"$f":"Emp_Master!A27","v":0}]
[null,{"$f":"Emp_Master!A28","v":0}]
[null,{"$f":"Emp_Master!A29","v":0}]
[null,{"$f":"Emp_Master!A30","v":0}]
[null,{"$f":"Emp_Master!A31","v":0}]
[null,{"$f":"Emp_Master!A32","v":0}]
[null,{"$f":"Emp_Master!A33","v":0}]
[null,{"$f":"Emp_Master!A34","v":0}]
[null,{"$f":"Emp_Master!A35","v":0}]
[null,{"$f":"Emp_Master!A36","v":0}]
[null,{"$f":"Emp_Master!A37","v":0}]
[null,{"$f":"Emp_Master!A38","v":0}]
[null,{"$f":"Emp_Master!A39","v":0}]
[null,{"$f":"Emp_Master!A40","v":0}]
[null,{"$f":"Emp_Master!A41","v":0}]
[null,{"$f":"Emp_Master!A42","v":0}]
[null,{"$f":"Emp_Master!A43","v":0}]
[null,{"$f":"Emp_Master!A44","v":0}]
[null,{"$f":"Emp_Master!A45","v":0}]
[null,{"$f":"Emp_Master!A46","v":0}]
[null,{"$f":"Emp_Master!A47","v":0}]
[null,{"$f":"Emp_Master!A48","v":0}]
[null,{"$f":"Emp_Master!A49","v":0}]
[null,{"$f":"Emp_Master!A50","v":0}]
[null,{"$f":"Emp_Master!A51","v":0}]
[null,{"$f":"Emp_Master!A52","v":0}]
[null,{"$f":"Emp_Master!A53","v":0}]
[null,{"$f":"Emp_Master!A54","v":0}]
[null,{"$f":"Emp_Master!A55","v":0}]
[null,{"$f":"Emp_Master!A56","v":0}]
[null,{"$f":"Emp_Master!A57","v":0}]
[null,{"$f":"Emp_Master!A58","v":0}]
[null,{"$f":"Emp_Master!A59","v":0}]
[null,{"$f":"Emp_Master!A60","v":0}]
[null,{"$f":"Emp_Master!A61","v":0}]
[null,{"$f":"Emp_Master!A62","v":0}]
[null,{"$f":"Emp_Master!A63","v":0}]
[null,{"$f":"Emp_Master!A64","v":0}]
[null,{"$f":"Emp_Master!A65","v":0}]
[null,{"$f":"Emp_Master!A66","v":0}]
[null,{"$f":"Emp_Master!A67","v":0}]
[null,{"$f":"Emp_Master!A68","v":0}]
[null,{"$f":"Emp_Master!A69","v":0}]
[null,{"$f":"Emp_Master!A70","v":0}]
[null,{"$f":"Emp_Master!A71","v":0}]
[null,{"$f":"Emp_Master!A72","v":0}]
[null,{"$f":"Emp_Master!A73","v":0}]
[null,{"$f":"Emp_Master!A74","v":0}]
[null,{"$f":"Emp_Master!A75","v":0}]
[null,{"$f":"Emp_Master!A76","v":0}]
[null,{"$f":"Emp_Master!A77","v":0}]
[null,{"$f":"Emp_Master!A78","v":0}]
[null,{"$f":"Emp_Master!A79","v":0}]
[null,{"$f":"Emp_Master!A80","v":0}]
[null,{"$f":"Emp_Master!A81","v":0}]
[null,{"$f":"Emp_Master!A82","v":0}]
[null,{"$f":"Emp_Master!A83","v":0}]
[null,{"$f":"Emp_Master!A84","v":0}]
[null,{"$f":"Emp_Master!A85","v":0}]
[null,{"$f":"Emp_Master!A86","v":0}]
[null,{"$f":"Emp_Master!A87","v":0}]
[null,{"$f":"Emp_Master!A88","v":0}]
[null,{"$f":"Emp_Master!A89","v":0}]
[null,{"$f":"Emp_Master!A90","v":0}]
[null,{"$f":"Emp_Master!A91","v":0}]
[null,{"$f":"Emp_Master!A92","v":0}]
[null,{"$f":"Emp_Master!A93","v":0}]
[null,{"$f":"Emp_Master!A94","v":0}]
[null,{"$f":"Emp_Master!A95","v":0}]
[null,{"$f":"Emp_Master!A96","v":0}]
[null,{"$f":"Emp_Master!A97","v":0}]
[null,{"$f":"Emp_Master!A98","v":0}]
[null,{"$f":"Emp_Master!A99","v":0}]
[null,{"$f":"Emp_Master!A100","v":0}]
[null,{"$f":"Emp_Master!A101","v":0}]
[null,{"$f":"Emp_Master!A102","v":0}]
[null,{"$f":"Emp_Master!A103","v":0}]
[null,{"$f":"Emp_Master!A104","v":0}]
[null,{"$f":"Emp_Master!A105","v":0}]
[null,{"$f":"Emp_Master!A106","v":0}]
[null,{"$f":"Emp_Master!A107","v":0}]
[null,{"$f":"Emp_Master!A108","v":0}]
[null,{"$f":"Emp_Master!A109","v":0}]
[null,{"$f":"Emp_Master!A110","v":0}]
[null,{"$f":"Emp_Master!A111","v":0}]
[null,{"$f":"Emp_Master!A112","v":0}]
[null,{"$f":"Emp_Master!A113","v":0}]
[null,{"$f":"Emp_Master!A114","v":0}]
[null,{"$f":"Emp_Master!A115","v":0}]
[null,{"$f":"Emp_Master!A116","v":0}]
[null,{"$f":"Emp_Master!A117","v":0}]
[null,{"$f":"Emp_Master!A118","v":0}]
[null,{"$f":"Emp_Master!A119","v":0}]
[null,{"$f":"Emp_Master!A120","v":0}]
[null,{"$f":"Emp_Master!A121","v":0}]
[null,{"$f":"Emp_Master!A122","v":0}]
[null,{"$f":"Emp_Master!A123","v":0}]
[null,{"$f":"Emp_Master!A124","v":0}]
[null,{"$f":"Emp_Master!A125","v":0}]
[null,{"$f":"Emp_Master!A126","v":0}]
[null,{"$f":"Emp_Master!A127","v":0}]
[null,{"$f":"Emp_Master!A128","v":0}]
[null,{"$f":"Emp_Master!A129","v":0}]
[null,{"$f":"Emp_Master!A130","v":0}]
[null,{"$f":"Emp_Master!A131","v":0}]
[null,{"$f":"Emp_Master!A132","v":0}]
[null,{"$f":"Emp_Master!A133","v":0}]
[null,{"$f":"Emp_Master!A134","v":0}]
[null,{"$f":"Emp_Master!A135","v":0}]
[null,{"$f":"Emp_Master!A136","v":0}]
[null,{"$f":"Emp_Master!A137","v":0}]
[null,{"$f":"Emp_Master!A138","v":0}]
[null,{"$f":"Emp_Master!A139","v":0}]
[null,{"$f":"Emp_Master!A140","v":0}]
[null,{"$f":"Emp_Master!A141","v":0}]
[null,{"$f":"Emp_Master!A142","v":0}]
[null,{"$f":"Emp_Master!A143","v":0}]
[null,{"$f":"Emp_Master!A144","v":0}]
[null,{"$f":"Emp_Master!A145","v":0}]
[null,{"$f":"Emp_Master!A146","v":0}]
[null,{"$f":"Emp_Master!A147","v":0}]
[null,{"$f":"Emp_Master!A148","v":0}]
[null,{"$f":"Emp_Master!A149","v":0}]
[null,{"$f":"Emp_Master!A150","v":0}]
[null,{"$f":"Emp_Master!A151","v":0}]
[null,{"$f":"Emp_Master!A152","v":0}]
[null,{"$f":"Emp_Master!A153","v":0}]
[null,{"$f":"Emp_Master!A154","v":0}]
[null,{"$f":"Emp_Master!A155","v":0}]
[null,{"$f":"Emp_Master!A156","v":0}]
[null,{"$f":"Emp_Master!A157","v":0}]
[null,{"$f":"Emp_Master!A158","v":0}]
[null,{"$f":"Emp_Master!A159","v":0}]
[null,{"$f":"Emp_Master!A160","v":0}]
[null,{"$f":"Emp_Master!A161","v":0}]
[null,{"$f":"Emp_Master!A162","v":0}]
[null,{"$f":"Emp_Master!A163","v":0}]
[null,{"$f":"Emp_Master!A164","v":0}]
[null,{"$f":"Emp_Master!A165","v":0}]
[null,{"$f":"Emp_Master!A166","v":0}]
[null,{"$f":"Emp_Master!A167","v":0}]
[null,{"$f":"Emp_Master!A168","v":0}]
[null,{"$f":"Emp_Master!A169","v":0}]
[null,{"$f":"Emp_Master!A170","v":0}]
[null,{"$f":"Emp_Master!A171","v":0}]
[null,{"$f":"Emp_Master!A172","v":0}]
[null,{"$f":"Emp_Master!A173","v":0}]
[null,{"$f":"Emp_Master!A174","v":0}]
[null,{"$f":"Emp_Master!A175","v":0}]
[null,{"$f":"Emp_Master!A176","v":0}]
[null,{"$f":"Emp_Master!A177","v":0}]
[null,{"$f":"Emp_Master!A178","v":0}]
[null,{"$f":"Emp_Master!A179","v":0}]
[null,{"$f":"Emp_Master!A180","v":0}]
[null,{"$f":"Emp_Master!A181","v":0}]
[null,{"$f":"Emp_Master!A182","v":0}]
[null,{"$f":"Emp_Master!A183","v":0}]
[null,{"$f":"Emp_Master!A184","v":0}]
[null,{"$f":"Emp_Master!A185","v":0}]
[null,{"$f":"Emp_Master!A186","v":0}]
[null,{"$f":"Emp_Master!A187","v":0}]
[null,{"$f":"Emp_Master!A188","v":0}]
[null,{"$f":"Emp_Master!A189","v":0}]
[null,{"$f":"Emp_Master!A190","v":0}]
[null,{"$f":"Emp_Master!A191","v":0}]
[null,{"$f":"Emp_Master!A192","v":0}]
[null,{"$f":"Emp_Master!A193","v":0}]
[null,{"$f":"Emp_Master!A194","v":0}]
[null,{"$f":"Emp_Master!A195","v":0}]
[null,{"$f":"Emp_Master!A196","v":0}]
[null,{"$f":"Emp_Master!A197","v":0}]
[null,{"$f":"Emp_Master!A198","v":0}]
[null,{"$f":"Emp_Master!A199","v":0}]
[null,{"$f":"Emp_Master!A200","v":0}]
[null,{"$f":"Emp_Master!A201","v":0}]
[null,{"$f":"Emp_Master!A202","v":0}]
[null,{"$f":"Emp_Master!A203","v":0}]
[null,{"$f":"Emp_Master!A204","v":0}]
[null,{"$f":"Emp_Master!A205","v":0}]
[null,{"$f":"Emp_Master!A206","v":0}]
[null,{"$f":"Emp_Master!A207","v":0}]
[null,{"$f":"Emp_Master!A208","v":0}]
[null,{"$f":"Emp_Master!A209","v":0}]
[null,{"$f":"Emp_Master!A210","v":0}]
[null,{"$f":"Emp_Master!A211","v":0}]
[null,{"$f":"Emp_Master!A212","v":0}]
[null,{"$f":"Emp_Master!A213","v":0}]
[null,{"$f":"Emp_Master!A214","v":0}]
[null,{"$f":"Emp_Master!A215","v":0}]
[null,{"$f":"Emp_Master!A216","v":0}]
[null,{"$f":"Emp_Master!A217","v":0}]
[null,{"$f":"Emp_Master!A218","v":0}]
[null,{"$f":"Emp_Master!A219","v":0}]
[null,{"$f":"Emp_Master!A220","v":0}]
[null,{"$f":"Emp_Master!A221","v":0}]
[null,{"$f":"Emp_Master!A222","v":0}]
[null,{"$f":"Emp_Master!A223","v":0}]
[null,{"$f":"Emp_Master!A224","v":0}]
[null,{"$f":"Emp_Master!A225","v":0}]
[null,{"$f":"Emp_Master!A226","v":0}]
[null,{"$f":"Emp_Master!A227","v":0}]
[null,{"$f":"Emp_Master!A228","v":0}]
[null,{"$f":"Emp_Master!A229","v":0}]
[null,{"$f":"Emp_Master!A230","v":0}]
[null,{"$f":"Emp_Master!A231","v":0}]
[null,{"$f":"Emp_Master!A232","v":0}]
[null,{"$f":"Emp_Master!A233","v":0}]
[null,{"$f":"Emp_Master!A234","v":0}]
[null,{"$f":"Emp_Master!A235","v":0}]
[null,{"$f":"Emp_Master!A236","v":0}]
[null,{"$f":"Emp_Master!A237","v":0}]
[null,{"$f":"Emp_Master!A238","v":0}]
[null,{"$f":"Emp_Master!A239","v":0}]
[null,{"$f":"Emp_Master!A240","v":0}]
[null,{"$f":"Emp_Master!A241","v":0}]
[null,{"$f":"Emp_Master!A242","v":0}]
[null,{"$f":"Emp_Master!A243","v":0}]
[null,{"$f":"Emp_Master!A244","v":0}]
[null,{"$f":"Emp_Master!A245","v":0}]
[null,{"$f":"Emp_Master!A246","v":0}]
[null,{"$f":"Emp_Master!A247","v":0}]
[null,{"$f":"Emp_Master!A248","v":0}]
[null,{"$f":"Emp_Master!A249","v":0}]
[null,{"$f":"Emp_Master!A250","v":0}]
[null,{"$f":"Emp_Master!A251","v":0}]
[null,{"$f":"Emp_Master!A252","v":0}]
[null,{"$f":"Emp_Master!A253","v":0}]
[null,{"$f":"Emp_Master!A254","v":0}]
[null,{"$f":"Emp_Master!A255","v":0}]
[null,{"$f":"Emp_Master!A256","v":0}]
[null,{"$f":"Emp_Master!A257","v":0}]
[null,{"$f":"Emp_Master!A258","v":0}]
[null,{"$f":"Emp_Master!A259","v":0}]
[null,{"$f":"Emp_Master!A260","v":0}]
[null,{"$f":"Emp_Master!A261","v":0}]
[null,{"$f":"Emp_Master!A262","v":0}]
[null,{"$f":"Emp_Master!A263","v":0}]
[null,{"$f":"Emp_Master!A264","v":0}]
[null,{"$f":"Emp_Master!A265","v":0}]
[null,{"$f":"Emp_Master!A266","v":0}]
[null,{"$f":"Emp_Master!A267","v":0}]
[null,{"$f":"Emp_Master!A268","v":0}]
[null,{"$f":"Emp_Master!A269","v":0}]
[null,{"$f":"Emp_Master!A270","v":0}]
[null,{"$f":"Emp_Master!A271","v":0}]
[null,{"$f":"Emp_Master!A272","v":0}]
[null,{"$f":"Emp_Master!A273","v":0}]
[null,{"$f":"Emp_Master!A274","v":0}]
[null,{"$f":"Emp_Master!A275","v":0}]
[null,{"$f":"Emp_Master!A276","v":0}]
[null,{"$f":"Emp_Master!A277","v":0}]
[null,{"$f":"Emp_Master!A278","v":0}]
[null,{"$f":"Emp_Master!A279","v":0}]
[null,{"$f":"Emp_Master!A280","v":0}]
[null,{"$f":"Emp_Master!A281","v":0}]
[null,{"$f":"Emp_Master!A282","v":0}]
[null,{"$f":"Emp_Master!A283","v":0}]
[null,{"$f":"Emp_Master!A284","v":0}]
[null,{"$f":"Emp_Master!A285","v":0}]
[null,{"$f":"Emp_Master!A286","v":0}]
[null,{"$f":"Emp_Master!A287","v":0}]
[null,{"$f":"Emp_Master!A288","v":0}]
[null,{"$f":"Emp_Master!A289","v":0}]
[null,{"$f":"Emp_Master!A290","v":0}]
[null,{"$f":"Emp_Master!A291","v":0}]
[null,{"$f":"Emp_Master!A292","v":0}]
[null,{"$f":"Emp_Master!A293","v":0}]
[null,{"$f":"Emp_Master!A294","v":0}]
[null,{"$f":"Emp_Master!A295","v":0}]
[null,{"$f":"Emp_Master!A296","v":0}]
[null,{"$f":"Emp_Master!A297","v":0}]
[null,{"$f":"Emp_Master!A298","v":0}]
[null,{"$f":"Emp_Master!A299","v":0}]
[null,{"$f":"Emp_Master!A300","v":0}]
[null,{"$f":"Emp_Master!A301","v":0}]
[null,{"$f":"Emp_Master!A302","v":0}]
[null,{"$f":"Emp_Master!A303","v":0}]
[null,{"$f":"Emp_Master!A304","v":0}]
[null,{"$f":"Emp_Master!A305","v":0}]
[null,{"$f":"Emp_Master!A306","v":0}]
[null,{"$f":"Emp_Master!A307","v":0}]
[null,{"$f":"Emp_Master!A308","v":0}]
[null,{"$f":"Emp_Master!A309","v":0}]
[null,{"$f":"Emp_Master!A310","v":0}]
[null,{"$f":"Emp_Master!A311","v":0}]
[null,{"$f":"Emp_Master!A312","v":0}]
[null,{"$f":"Emp_Master!A313","v":0}]
[null,{"$f":"Emp_Master!A314","v":0}]
[null,{"$f":"Emp_Master!A315","v":0}]
[null,{"$f":"Emp_Master!A316","v":0}]
[null,{"$f":"Emp_Master!A317","v":0}]
[null,{"$f":"Emp_Master!A318","v":0}]
[null,{"$f":"Emp_Master!A319","v":0}]
[null,{"$f":"Emp_Master!A320","v":0}]
[null,{"$f":"Emp_Master!A321","v":0}]
[null,{"$f":"Emp_Master!A322","v":0}]
[null,{"$f":"Emp_Master!A323","v":0}]
[null,{"$f":"Emp_Master!A324","v":0}]
[null,{"$f":"Emp_Master!A325","v":0}]
[null,{"$f":"Emp_Master!A326","v":0}]
[null,{"$f":"Emp_Master!A327","v":0}]
[null,{"$f":"Emp_Master!A328","v":0}]
[null,{"$f":"Emp_Master!A329","v":0}]
[null,{"$f":"Emp_Master!A330","v":0}]
[null,{"$f":"Emp_Master!A331","v":0}]
[null,{"$f":"Emp_Master!A332","v":0}]
[null,{"$f":"Emp_Master!A333","v":0}]
[null,{"$f":"Emp_Master!A334","v":0}]
[null,{"$f":"Emp_Master!A335","v":0}]
[null,{"$f":"Emp_Master!A336","v":0}]
[null,{"$f":"Emp_Master!A337","v":0}]
[null,{"$f":"Emp_Master!A338","v":0}]
[null,{"$f":"Emp_Master!A339","v":0}]
[null,{"$f":"Emp_Master!A340","v":0}]
[null,{"$f":"Emp_Master!A341","v":0}]
[null,{"$f":"Emp_Master!A342","v":0}]
[null,{"$f":"Emp_Master!A343","v":0}]
[null,{"$f":"Emp_Master!A344","v":0}]
[null,{"$f":"Emp_Master!A345","v":0}]
[null,{"$f":"Emp_Master!A346","v":0}]
[null,{"$f":"Emp_Master!A347","v":0}]
[null,{"$f":"Emp_Master!A348","v":0}]
[null,{"$f":"Emp_Master!A349","v":0}]
[null,{"$f":"Emp_Master!A350","v":0}]
[null,{"$f":"Emp_Master!A351","v":0}]
[null,{"$f":"Emp_Master!A352","v":0}]
[null,{"$f":"Emp_Master!A353","v":0}]
[null,{"$f":"Emp_Master!A354","v":0}]
[null,{"$f":"Emp_Master!A355","v":0}]
[null,{"$f":"Emp_Master!A356","v":0}]
[null,{"$f":"Emp_Master!A357","v":0}]
[null,{"$f":"Emp_Master!A358","v":0}]
[null,{"$f":"Emp_Master!A359","v":0}]
[null,{"$f":"Emp_Master!A360","v":0}]
[null,{"$f":"Emp_Master!A361","v":0}]
[null,{"$f":"Emp_Master!A362","v":0}]
[null,{"$f":"Emp_Master!A363","v":0}]
[null,{"$f":"Emp_Master!A364","v":0}]
[null,{"$f":"Emp_Master!A365","v":0}]
[null,{"$f":"Emp_Master!A366","v":0}]
[null,{"$f":"Emp_Master!A367","v":0}]
[null,{"$f":"Emp_Master!A368","v":0}]
[null,{"$f":"Emp_Master!A369","v":0}]
[null,{"$f":"Emp_Master!A370","v":0}]
[null,{"$f":"Emp_Master!A371","v":0}]
[null,{"$f":"Emp_Master!A372","v":0}]
[null,{"$f":"Emp_Master!A373","v":0}]
[null,{"$f":"Emp_Master!A374","v":0}]
[null,{"$f":"Emp_Master!A375","v":0}]
[null,{"$f":"Emp_Master!A376","v":0}]
[null,{"$f":"Emp_Master!A377","v":0}]
[null,{"$f":"Emp_Master!A378","v":0}]
[null,{"$f":"Emp_Master!A379","v":0}]
[null,{"$f":"Emp_Master!A380","v":0}]
[null,{"$f":"Emp_Master!A381","v":0}]
[null,{"$f":"Emp_Master!A382","v":0}]
[null,{"$f":"Emp_Master!A383","v":0}]
[null,{"$f":"Emp_Master!A384","v":0}]
[null,{"$f":"Emp_Master!A385","v":0}]
[null,{"$f":"Emp_Master!A386","v":0}]
[null,{"$f":"Emp_Master!A387","v":0}]
[null,{"$f":"Emp_Master!A388","v":0}]
[null,{"$f":"Emp_Master!A389","v":0}]
[null,{"$f":"Emp_Master!A390","v":0}]
[null,{"$f":"Emp_Master!A391","v":0}]
[null,{"$f":"Emp_Master!A392","v":0}]
[null,{"$f":"Emp_Master!A393","v":0}]
[null,{"$f":"Emp_Master!A394","v":0}]
[null,{"$f":"Emp_Master!A395","v":0}]
[null,{"$f":"Emp_Master!A396","v":0}]
[null,{"$f":"Emp_Master!A397","v":0}]
[null,{"$f":"Emp_Master!A398","v":0}]
[null,{"$f":"Emp_Master!A399","v":0}]
[null,{"$f":"Emp_Master!A400","v":0}]
[null,{"$f":"Emp_Master!A401","v":0}]
[null,{"$f":"Emp_Master!A402","v":0}]
[null,{"$f":"Emp_Master!A403","v":0}]
[null,{"$f":"Emp_Master!A404","v":0}]
[null,{"$f":"Emp_Master!A405","v":0}]
[null,{"$f":"Emp_Master!A406","v":0}]
[null,{"$f":"Emp_Master!A407","v":0}]
[null,{"$f":"Emp_Master!A408","v":0}]
[null,{"$f":"Emp_Master!A409","v":0}]
[null,{"$f":"Emp_Master!A410","v":0}]
[null,{"$f":"Emp_Master!A411","v":0}]
[null,{"$f":"Emp_Master!A412","v":0}]
[null,{"$f":"Emp_Master!A413","v":0}]
[null,{"$f":"Emp_Master!A414","v":0}]
[null,{"$f":"Emp_Master!A415","v":0}]
[null,{"$f":"Emp_Master!A416","v":0}]
[null,{"$f":"Emp_Master!A417","v":0}]
[null,{"$f":"Emp_Master!A418","v":0}]
[null,{"$f":"Emp_Master!A419","v":0}]
[null,{"$f":"Emp_Master!A420","v":0}]
[null,{"$f":"Emp_Master!A421","v":0}]
[null,{"$f":"Emp_Master!A422","v":0}]
[null,{"$f":"Emp_Master!A423","v":0}]
[null,{"$f":"Emp_Master!A424","v":0}]
[null,{"$f":"Emp_Master!A425","v":0}]
[null,{"$f":"Emp_Master!A426","v":0}]
[null,{"$f":"Emp_Master!A427","v":0}]
[null,{"$f":"Emp_Master!A428","v":0}]
[null,{"$f":"Emp_Master!A429","v":0}]
[null,{"$f":"Emp_Master!A430","v":0}]
[null,{"$f":"Emp_Master!A431","v":0}]
[null,{"$f":"Emp_Master!A432","v":0}]
[null,{"$f":"Emp_Master!A433","v":0}]
[null,{"$f":"Emp_Master!A434","v":0}]
[null,{"$f":"Emp_Master!A435","v":0}]
[null,{"$f":"Emp_Master!A436","v":0}]
[null,{"$f":"Emp_Master!A437","v":0}]
[null,{"$f":"Emp_Master!A438","v":0}]
[null,{"$f":"Emp_Master!A439","v":0}]
[null,{"$f":"Emp_Master!A440","v":0}]
[null,{"$f":"Emp_Master!A441","v":0}]
[null,{"$f":"Emp_Master!A442","v":0}]
[null,{"$f":"Emp_Master!A443","v":0}]
[null,{"$f":"Emp_Master!A444","v":0}]
[null,{"$f":"Emp_Master!A445","v":0}]
[null,{"$f":"Emp_Master!A446","v":0}]
[null,{"$f":"Emp_Master!A447","v":0}]
[null,{"$f":"Emp_Master!A448","v":0}]
[null,{"$f":"Emp_Master!A449","v":0}]
[null,{"$f":"Emp_Master!A450","v":0}]
[null,{"$f":"Emp_Master!A451","v":0}]
[null,{"$f":"Emp_Master!A452","v":0}]
[null,{"$f":"Emp_Master!A453","v":0}]
[null,{"$f":"Emp_Master!A454","v":0}]
[null,{"$f":"Emp_Master!A455","v":0}]

{"sheet":"Repo_Emp","index":4,"n_rows":8,"n_cols":10,"rows_kept":8,"cut":false,"hidden":true,"merged":[[0,4,0,5],[3,6,4,6]]}
[{"$f":"Data_Entry!C1","v":0},null,null,null,"Summary of Agreement utilisation",null,null,null,null,"Y"]
[null,null,null,null,"Used(Nos)",{"$f":"COUNTIFS(Data_Entry!B4:B500,Repo_Emp!B6,Data_Entry!J4:J500,Repo_Emp!J1)","v":0},null,null,null,"N"]
[null,null,null,null,"In hand(Nos)",{"$f":"COUNTIFS(Data_Entry!B4:B500,Repo_Emp!B6,Data_Entry!J4:J500,Repo_Emp!J2)","v":0}]
["Employee Wise Franchise Agreeent utilisation details",null,null,null,"Total Issued(Nos)",{"$f":"+F3+F2","v":0}]
[]
["Emp_Code","(Multiple Items)","Name:",{"$f":"VLOOKUP(B6,Emp_Master!$A$4:$F$500,2)","v":{"$error":"#N/A"}},"Email id:",{"$f":"VLOOKUP(B6,Emp_Master!$A$4:$F$500,5)","v":{"$error":"#N/A"}}]
["Zone:",{"$f":"VLOOKUP(B6,Emp_Master!$A$4:$F$500,3)","v":{"$error":"#N/A"}},"Location:",{"$f":"VLOOKUP(B6,Emp_Master!$A$4:$F$500,4)","v":{"$error":"#N/A"}},"Mobile:",{"$f":"VLOOKUP(B6,Emp_Master!$A$4:$F$500,6)","v":{"$error":"#N/A"}}]
["Franchise Agr. Sr. No.","Issue Dt","Signed by Prospect ( Y / N)","Name of Prospect","Agreement Signed Dt.","Proposed Location","Business Model"]

{"sheet":"Repo_Zone","index":5,"n_rows":5,"n_cols":11,"rows_kept":5,"cut":false,"hidden":true,"merged":[[0,6,0,7],[1,9,2,10]]}
[{"$f":"Data_Entry!C1","v":0},null,null,null,null,null,"Summary of Agreement utilisation",null,null,null,"y"]
["Zone Wise Franchise Agreeent utilisation details",null,null,null,null,null,"Used(Nos)",{"$f":"COUNTIFS(Data_Entry!D4:D500,Repo_Zone!B3,Data_Entry!J4:J500,Repo_Zone!K1)","v":0}]
["Zone","(Multiple Items)",null,null,null,null,"In hand(Nos)",{"$f":"COUNTIFS(Data_Entry!D4:D500,Repo_Zone!B3,Data_Entry!J4:J500,Repo_Zone!K2)","v":0}]
["Select single zone only at a time",null,null,null,null,null,"Total Issued(Nos)",{"$f":"+H3+H2","v":0}]
["Emp_Code","Employee Name","Location","Issue Dt","Signed by Prospect ( Y / N)","Agreement Signed Dt.","Name of Prospect","Proposed Location","Business Model"]

{"sheet":"Repo_Sum","index":6,"n_rows":14,"n_cols":14,"rows_kept":14,"cut":false,"hidden":true,"merged":[[4,4,4,8],[2,2,2,9],[4,2,5,2],[4,14,5,15]]}
[null,null,{"$f":"Repo_Zone!A1","v":0}]
[null,null,null,null,null,null,"As on ",null,{"$f":"TODAY()","v":"2015-08-18"}]
[null,null,"Summary of Franchise Agreement Utilisation",null,null,null,null,null,null,null,null,null,null,"y"]
[null,null,null,null,null,null,null,null,null,null,null,null,null,"n"]
[null,null,"Zone",null,"Franchise Agreement (nos)"]
[null,null,null,null,"Utilised",null,"In hand",null,"Total"]
[null,null,"East",null,{"$f":"COUNTIFS(Data_Entry!D4:D500,Repo_Sum!C7,Data_Entry!J4:J500,Repo_Sum!N3)","v":0},null,{"$f":"COUNTIFS(Data_Entry!F4:F500,Repo_Sum!C7,Data_Entry!L4:L500,Repo_Sum!N4)","v":0},null,{"$f":"+G7+E7","v":0}]
[]
[null,null,"West",null,{"$f":"COUNTIFS(Data_Entry!D4:D500,Repo_Sum!C9,Data_Entry!J4:J500,Repo_Sum!N3)","v":0},null,{"$f":"COUNTIFS(Data_Entry!D4:D500,Repo_Sum!C9,Data_Entry!J4:J500,Repo_Sum!N4)","v":0},null,{"$f":"+G9+E9","v":0}]
[]
[null,null,"North",null,{"$f":"COUNTIFS(Data_Entry!D4:D500,Repo_Sum!C11,Data_Entry!J4:J500,Repo_Sum!N3)","v":0},null,{"$f":"COUNTIFS(Data_Entry!D4:D500,Repo_Sum!C11,Data_Entry!J4:J500,Repo_Sum!N4)","v":0},null,{"$f":"+G11+E11","v":0}]
[]
[null,null,"South",null,{"$f":"COUNTIFS(Data_Entry!D4:D500,Repo_Sum!C13,Data_Entry!J4:J500,Repo_Sum!N3)","v":0},null,{"$f":"COUNTIFS(Data_Entry!D4:D500,Repo_Sum!C13,Data_Entry!J4:J500,Repo_Sum!N4)","v":0},null,{"$f":"+G13+E13","v":0}]
[null,null,"Total",null,{"$f":"SUM(E7:E13)","v":0},null,{"$f":"SUM(G7:G13)","v":0},null,{"$f":"SUM(I7:I13)","v":0}]