{"text_format":"1","workbook":"xlsx","n_sheets":9,"sheets":["Help","Menu","Emp_Master","Salary_Structure","Salary_Entitlement","Deduction","Sheet8","Pay_Slip","Branch_Salary"],"not_rendered":{"charts":0,"images":0,"macros":1,"external_links":0,"defined_names":5,"comments":0,"pivot_tables":1},"unopened":[],"bounds":{"document_bytes":16777216,"sheet_cells":100000,"rows_first":2000,"rows_last":500,"rows_between":2000,"halvings":0,"cell_chars":16384,"cell_head_chars":4096},"cells_cut":0,"cells_raw":0,"read":"whole","date_system":"1900"}

{"sheet":"Help","index":0,"n_rows":13,"n_cols":13,"rows_kept":13,"cut":false,"hidden":false,"merged":[[7,1,7,14],[1,1,1,14],[2,1,2,14],[4,1,4,14],[5,1,5,14],[6,1,6,14],[3,1,3,14],[12,11,12,14],[8,1,8,14],[9,1,9,14],[10,1,10,14],[11,1,11,11],[11,12,11,14]]}
[]
[null,"How to Use"]
[null,"Step 1: This file contanis some macros hence in security option please set it macro enabled. Otherwise it would not work properly."]
[null,"              At first create your employee master. To do the same go to \"Employee Master\" and put relevant data in respective fields marked in \"green\" color."]
[null,"              If the relevant field doesn't not suit you just leave blank. Be minutely key in the data as it will retrieve in your Pay slip and report."]
[null,"Step 2: As you have already updated your employee master, now you need to key in the information of salary structure for each employee as per their entitlement."]
[null,"              Go to Salary Structure and fill only the cells marked in \"green\" color. Please select Employee Code from the drop down list. Put break up of gross salary.   Select \"Pay Scale Applicable\" from the drop down list. This is mainly to account for salary revision/increment and capture the data accordingly."]
[null,"Step 3: To process salary for the month go to \"Process Salary for the Month\". Choose relevant Month, Year, Pay scale Applicable and Employee Code from Drop Down list and feed data accordingly. Leave keep cell blank which is not applicable to you."]
[null,"Step 4: Go to Salary Deduction section. Choose relevant Month, Year, Employee Code from drop down list and put relevant information accordingly in cells marked as \"green\""]
[null,"Step 5: Well you have done almost. Before print the Pay Slip Just check your salary register. Go Salary Report. Select respective Branch, Month, Year from drop down list and get it cross checked."]
[null,"Step 6: Every thing is in order? If OK , then take print of each employee. To do the sam go to Generate Pay Slip. Select Employee Code, Month, Year, \"Pay Scale Applicable\" and take Print."]
[null,"Note: This is standard Pay slip format. However it may vary as per the organisation's need and can be customised accordingly.",null,null,null,null,null,null,null,null,null,null,"Developed by : Prodip Das"]
[null,null,null,null,null,null,null,null,null,null,null,"Email:prodipdas08@gmail.com"]

{"sheet":"Menu","index":1,"n_rows":22,"n_cols":10,"rows_kept":22,"cut":false,"hidden":false,"merged":[[1,3,1,11]]}
[]
[null,null,null,"PAY SLIP - MENU"]
[]
[null,null,null,null,null,"EMPLOYEE MASTER"]
[]
[null,null,null,null,null,"SALARY STRUCTURE"]
[]
[null,null,null,null,null,"PROCESS SALARY FOR THE MONTH"]
[]
[null,null,null,null,null,"SALARY DEDUCTION"]
[]
[null,null,null,null,null,"SALARY REPORT"]
[]
[null,null,null,null,null,"PRINT PAY SLIP"]
[]
[]
[]
[]
[]
[]
[null,null,null,null,null,null,null,null,null,"Designed by : Prodip Das"]
[null,null,null,null,null,null,null,null,null,"email id: prodipdas08@gmail.com"]

{"sheet":"Emp_Master","index":2,"n_rows":2,"n_cols":15,"rows_kept":2,"cut":false,"hidden":true,"merged":[]}
[null,"Co Name",null,"Address",null,"Tele Phone",null,"Website",null,"Email id:"]
[null,"Emp_Code","Emp_Name","Department","Designation","Grade","Location","Branch","DOJ","Bank Name","Bank A/c No","PAN No.","P.F No.","ESI No.","Date of Resignation"]

{"sheet":"Salary_Structure","index":3,"n_rows":1048,"n_cols":13,"rows_kept":1048,"cut":false,"hidden":true,"merged":[]}
[1,{"$f":"+A1+1","v":2},{"$f":"+B1+1","v":3},4,5,6,7,8,9,10]
[]
["Emp_Code","Emp_Name","Basi+DA","House Rent Allowance","Conveyance Allowance","Education Allowane","Special Allowance","Other Allowance","Gross Salary","Pay Scale Applicable"]
[null,{"$f":"VLOOKUP(A4,Emp_Master!$B$3:$P$500,2)","v":{"$error":"#N/A"}},null,null,null,null,null,null,{"$f":"SUM(C4:H4)","v":0},null,null,null,2015]
[null,{"$f":"VLOOKUP(A5,Emp_Master!$B$3:$P$500,2)","v":{"$error":"#N/A"}},null,null,null,null,null,null,{"$f":"SUM(C5:H5)","v":0},null,null,null,2016]
[null,{"$f":"VLOOKUP(A6,Emp_Master!$B$3:$P$500,2)","v":{"$error":"#N/A"}},null,null,null,null,null,null,{"$f":"SUM(C6:H6)","v":0},null,null,null,2017]
[null,{"$f":"VLOOKUP(A7,Emp_Master!$B$3:$P$500,2)","v":{"$error":"#N/A"}},null,null,null,null,null,null,{"$f":"SUM(C7:H7)","v":0},null,null,null,2018]
[null,{"$f":"VLOOKUP(A8,Emp_Master!$B$3:$P$500,2)","v":{"$error":"#N/A"}},null,null,null,null,null,null,0,null,null,null,2019]
[null,{"$f":"VLOOKUP(A9,Emp_Master!$B$3:$P$500,2)","v":{"$error":"#N/A"}},null,null,null,null,null,null,0,null,null,null,2020]
[null,{"$f":"VLOOKUP(A10,Emp_Master!$B$3:$P$500,2)","v":{"$error":"#N/A"}},null,null,null,null,null,null,0,null,null,null,2021]
[null,{"$f":"VLOOKUP(A11,Emp_Master!$B$3:$P$500,2)","v":{"$error":"#N/A"}},null,null,null,null,null,null,0,null,null,null,2022]
[null,{"$f":"VLOOKUP(A12,Emp_Master!$B$3:$P$500,2)","v":{"$error":"#N/A"}},null,null,null,null,null,null,0,null,null,null,2023]
[null,{"$f":"VLOOKUP(A13,Emp_Master!$B$3:$P$500,2)","v":{"$error":"#N/A"}},null,null,null,null,null,null,0,null,null,null,2024]
[null,{"$f":"VLOOKUP(A14,Emp_Master!$B$3:$P$500,2)","v":{"$error":"#N/A"}},null,null,null,null,null,null,0,null,null,null,2025]
[null,{"$f":"VLOOKUP(A15,Emp_Master!$B$3:$P$500,2)","v":{"$error":"#N/A"}},null,null,null,null,null,null,0]
[null,{"$f":"VLOOKUP(A16,Emp_Master!$B$3:$P$500,2)","v":{"$error":"#N/A"}},null,null,null,null,null,null,0]
[null,{"$f":"VLOOKUP(A17,Emp_Master!$B$3:$P$500,2)","v":{"$error":"#N/A"}},null,null,null,null,null,null,0]
[null,{"$f":"VLOOKUP(A18,Emp_Master!$B$3:$P$500,2)","v":{"$error":"#N/A"}},null,null,null,null,null,null,0]
[null,{"$f":"VLOOKUP(A19,Emp_Master!$B$3:$P$500,2)","v":{"$error":"#N/A"}},null,null,null,null,null,null,0]
[null,{"$f":"VLOOKUP(A20,Emp_Master!$B$3:$P$500,2)","v":{"$error":"#N/A"}},null,null,null,null,null,null,0]
[null,{"$f":"VLOOKUP(A21,Emp_Master!$B$3:$P$500,2)","v":{"$error":"#N/A"}},null,null,null,null,null,null,0]
[null,{"$f":"VLOOKUP(A22,Emp_Master!$B$3:$P$500,2)","v":{"$error":"#N/A"}},null,null,null,null,null,null,0]
[null,{"$f":"VLOOKUP(A23,Emp_Master!$B$3:$P$500,2)","v":{"$error":"#N/A"}},null,null,null,null,null,null,0]
[null,{"$f":"VLOOKUP(A24,Emp_Master!$B$3:$P$500,2)","v":{"$error":"#N/A"}},null,null,null,null,null,null,0]
[null,{"$f":"VLOOKUP(A25,Emp_Master!$B$3:$P$500,2)","v":{"$error":"#N/A"}},null,null,null,null,null,null,0]
[null,{"$f":"VLOOKUP(A26,Emp_Master!$B$3:$P$500,2)","v":{"$error":"#N/A"}},null,null,null,null,null,null,0]
[null,{"$f":"VLOOKUP(A27,Emp_Master!$B$3:$P$500,2)","v":{"$error":"#N/A"}},null,null,null,null,null,null,0]
[null,{"$f":"VLOOKUP(A28,Emp_Master!$B$3:$P$500,2)","v":{"$error":"#N/A"}},null,null,null,null,null,null,0]
[null,{"$f":"VLOOKUP(A29,Emp_Master!$B$3:$P$500,2)","v":{"$error":"#N/A"}},null,null,null,null,null,null,0]
[null,{"$f":"VLOOKUP(A30,Emp_Master!$B$3:$P$500,2)","v":{"$error":"#N/A"}},null,null,null,null,null,null,0]
[null,{"$f":"VLOOKUP(A31,Emp_Master!$B$3:$P$500,2)","v":{"$error":"#N/A"}},null,null,null,null,null,null,0]
[null,{"$f":"VLOOKUP(A32,Emp_Master!$B$3:$P$500,2)","v":{"$error":"#N/A"}},null,null,null,null,null,null,0]
[null,{"$f":"VLOOKUP(A33,Emp_Master!$B$3:$P$500,2)","v":{"$error":"#N/A"}},null,null,null,null,null,null,0]
[null,{"$f":"VLOOKUP(A34,Emp_Master!$B$3:$P$500,2)","v":{"$error":"#N/A"}},null,null,null,null,null,null,0]
[null,{"$f":"VLOOKUP(A35,Emp_Master!$B$3:$P$500,2)","v":{"$error":"#N/A"}},null,null,null,null,null,null,0]
[null,{"$f":"VLOOKUP(A36,Emp_Master!$B$3:$P$500,2)","v":{"$error":"#N/A"}},null,null,null,null,null,null,0]
[null,{"$f":"VLOOKUP(A37,Emp_Master!$B$3:$P$500,2)","v":{"$error":"#N/A"}},null,null,null,null,null,null,0]
[null,{"$f":"VLOOKUP(A38,Emp_Master!$B$3:$P$500,2)","v":{"$error":"#N/A"}},null,null,null,null,null,null,0]
[null,{"$f":"VLOOKUP(A39,Emp_Master!$B$3:$P$500,2)","v":{"$error":"#N/A"}},null,null,null,null,null,null,0]
[null,{"$f":"VLOOKUP(A40,Emp_Master!$B$3:$P$500,2)","v":{"$error":"#N/A"}},null,null,null,null,null,null,0]
[null,{"$f":"VLOOKUP(A41,Emp_Master!$B$3:$P$500,2)","v":{"$error":"#N/A"}},null,null,null,null,null,null,0]
[null,{"$f":"VLOOKUP(A42,Emp_Master!$B$3:$P$500,2)","v":{"$error":"#N/A"}},null,null,null,null,null,null,0]
[null,{"$f":"VLOOKUP(A43,Emp_Master!$B$3:$P$500,2)","v":{"$error":"#N/A"}},null,null,null,null,null,null,0]
[null,{"$f":"VLOOKUP(A44,Emp_Master!$B$3:$P$500,2)","v":{"$error":"#N/A"}},null,null,null,null,null,null,0]
[null,{"$f":"VLOOKUP(A45,Emp_Master!$B$3:$P$500,2)","v":{"$error":"#N/A"}},null,null,null,null,null,null,0]
[null,{"$f":"VLOOKUP(A46,Emp_Master!$B$3:$P$500,2)","v":{"$error":"#N/A"}},null,null,null,null,null,null,0]
[null,{"$f":"VLOOKUP(A47,Emp_Master!$B$3:$P$500,2)","v":{"$error":"#N/A"}},null,null,null,null,null,null,0]
[null,{"$f":"VLOOKUP(A48,Emp_Master!$B$3:$P$500,2)","v":{"$error":"#N/A"}},null,null,null,null,null,null,0]
[null,{"$f":"VLOOKUP(A49,Emp_Master!$B$3:$P$500,2)","v":{"$error":"#N/A"}},null,null,null,null,null,null,0]
[null,{"$f":"VLOOKUP(A50,Emp_Master!$B$3:$P$500,2)","v":{"$error":"#N/A"}},null,null,null,null,null,null,0]
[null,{"$f":"VLOOKUP(A51,Emp_Master!$B$3:$P$500,2)","v":{"$error":"#N/A"}},null,null,null,null,null,null,0]
[null,{"$f":"VLOOKUP(A52,Emp_Master!$B$3:$P$500,2)","v":{"$error":"#N/A"}},null,null,null,null,null,null,0]
[null,{"$f":"VLOOKUP(A53,Emp_Master!$B$3:$P$500,2)","v":{"$error":"#N/A"}},null,null,null,null,null,null,0]
[null,{"$f":"VLOOKUP(A54,Emp_Master!$B$3:$P$500,2)","v":{"$error":"#N/A"}},null,null,null,null,null,null,0]
[null,{"$f":"VLOOKUP(A55,Emp_Master!$B$3:$P$500,2)","v":{"$error":"#N/A"}},null,null,null,null,null,null,0]
[null,{"$f":"VLOOKUP(A56,Emp_Master!$B$3:$P$500,2)","v":{"$error":"#N/A"}},null,null,null,null,null,null,0]
[null,{"$f":"VLOOKUP(A57,Emp_Master!$B$3:$P$500,2)","v":{"$error":"#N/A"}},null,null,null,null,null,null,0]
[null,{"$f":"VLOOKUP(A58,Emp_Master!$B$3:$P$500,2)","v":{"$error":"#N/A"}},null,null,null,null,null,null,0]
[null,{"$f":"VLOOKUP(A59,Emp_Master!$B$3:$P$500,2)","v":{"$error":"#N/A"}},null,null,null,null,null,null,0]
[null,{"$f":"VLOOKUP(A60,Emp_Master!$B$3:$P$500,2)","v":{"$error":"#N/A"}},null,null,null,null,null,null,0]
[null,{"$f":"VLOOKUP(A61,Emp_Master!$B$3:$P$500,2)","v":{"$error":"#N/A"}},null,null,null,null,null,null,0]
[null,{"$f":"VLOOKUP(A62,Emp_Master!$B$3:$P$500,2)","v":{"$error":"#N/A"}},null,null,null,null,null,null,0]
[null,{"$f":"VLOOKUP(A63,Emp_Master!$B$3:$P$500,2)","v":{"$error":"#N/A"}},null,null,null,null,null,null,0]
[null,{"$f":"VLOOKUP(A64,Emp_Master!$B$3:$P$500,2)","v":{"$error":"#N/A"}},null,null,null,null,null,null,0]
[null,{"$f":"VLOOKUP(A65,Emp_Master!$B$3:$P$500,2)","v":{"$error":"#N/A"}},null,null,null,null,null,null,0]
[null,{"$f":"VLOOKUP(A66,Emp_Master!$B$3:$P$500,2)","v":{"$error":"#N/A"}},null,null,null,null,null,null,0]
[null,{"$f":"VLOOKUP(A67,Emp_Master!$B$3:$P$500,2)","v":{"$error":"#N/A"}},null,null,null,null,null,null,0]
[null,{"$f":"VLOOKUP(A68,Emp_Master!$B$3:$P$500,2)","v":{"$error":"#N/A"}},null,null,null,null,null,null,0]
[null,{"$f":"VLOOKUP(A69,Emp_Master!$B$3:$P$500,2)","v":{"$error":"#N/A"}},null,null,null,null,null,null,0]
[null,{"$f":"VLOOKUP(A70,Emp_Master!$B$3:$P$500,2)","v":{"$error":"#N/A"}},null,null,null,null,null,null,0]
[null,{"$f":"VLOOKUP(A71,Emp_Master!$B$3:$P$500,2)","v":{"$error":"#N/A"}},null,null,null,null,null,null,{"$f":"SUM(C71:H71)","v":0}]
[null,{"$f":"VLOOKUP(A72,Emp_Master!$B$3:$P$500,2)","v":{"$error":"#N/A"}},null,null,null,null,null,null,0]
[null,{"$f":"VLOOKUP(A73,Emp_Master!$B$3:$P$500,2)","v":{"$error":"#N/A"}},null,null,null,null,null,null,0]
[null,{"$f":"VLOOKUP(A74,Emp_Master!$B$3:$P$500,2)","v":{"$error":"#N/A"}},null,null,null,null,null,null,0]
[null,{"$f":"VLOOKUP(A75,Emp_Master!$B$3:$P$500,2)","v":{"$error":"#N/A"}},null,null,null,null,null,null,0]
[null,{"$f":"VLOOKUP(A76,Emp_Master!$B$3:$P$500,2)","v":{"$error":"#N/A"}},null,null,null,null,null,null,0]
[null,{"$f":"VLOOKUP(A77,Emp_Master!$B$3:$P$500,2)","v":{"$error":"#N/A"}},null,null,null,null,null,null,0]
[null,{"$f":"VLOOKUP(A78,Emp_Master!$B$3:$P$500,2)","v":{"$error":"#N/A"}},null,null,null,null,null,null,0]
[null,{"$f":"VLOOKUP(A79,Emp_Master!$B$3:$P$500,2)","v":{"$error":"#N/A"}},null,null,null,null,null,null,0]
[null,{"$f":"VLOOKUP(A80,Emp_Master!$B$3:$P$500,2)","v":{"$error":"#N/A"}},null,null,null,null,null,null,0]
[null,{"$f":"VLOOKUP(A81,Emp_Master!$B$3:$P$500,2)","v":{"$error":"#N/A"}},null,null,null,null,null,null,0]
[null,{"$f":"VLOOKUP(A82,Emp_Master!$B$3:$P$500,2)","v":{"$error":"#N/A"}},null,null,null,null,null,null,0]
[null,{"$f":"VLOOKUP(A83,Emp_Master!$B$3:$P$500,2)","v":{"$error":"#N/A"}},null,null,null,null,null,null,0]
[null,{"$f":"VLOOKUP(A84,Emp_Master!$B$3:$P$500,2)","v":{"$error":"#N/A"}},null,null,null,null,null,null,0]
[null,{"$f":"VLOOKUP(A85,Emp_Master!$B$3:$P$500,2)","v":{"$error":"#N/A"}},null,null,null,null,null,null,0]
[null,{"$f":"VLOOKUP(A86,Emp_Master!$B$3:$P$500,2)","v":{"$error":"#N/A"}},null,null,null,null,null,null,0]
[null,{"$f":"VLOOKUP(A87,Emp_Master!$B$3:$P$500,2)","v":{"$error":"#N/A"}},null,null,null,null,null,null,0]
[null,{"$f":"VLOOKUP(A88,Emp_Master!$B$3:$P$500,2)","v":{"$error":"#N/A"}},null,null,null,null,null,null,0]
[null,{"$f":"VLOOKUP(A89,Emp_Master!$B$3:$P$500,2)","v":{"$error":"#N/A"}},null,null,null,null,null,null,0]
[null,{"$f":"VLOOKUP(A90,Emp_Master!$B$3:$P$500,2)","v":{"$error":"#N/A"}},null,null,null,null,null,null,0]
[null,{"$f":"VLOOKUP(A91,Emp_Master!$B$3:$P$500,2)","v":{"$error":"#N/A"}},null,null,null,null,null,null,0]
[null,{"$f":"VLOOKUP(A92,Emp_Master!$B$3:$P$500,2)","v":{"$error":"#N/A"}},null,null,null,null,null,null,0]
[null,{"$f":"VLOOKUP(A93,Emp_Master!$B$3:$P$500,2)","v":{"$error":"#N/A"}},null,null,null,null,null,null,0]
[null,{"$f":"VLOOKUP(A94,Emp_Master!$B$3:$P$500,2)","v":{"$error":"#N/A"}},null,null,null,null,null,null,0]
[null,{"$f":"VLOOKUP(A95,Emp_Master!$B$3:$P$500,2)","v":{"$error":"#N/A"}},null,null,null,null,null,null,0]
[null,{"$f":"VLOOKUP(A96,Emp_Master!$B$3:$P$500,2)","v":{"$error":"#N/A"}},null,null,null,null,null,null,0]
[null,{"$f":"VLOOKUP(A97,Emp_Master!$B$3:$P$500,2)","v":{"$error":"#N/A"}},null,null,null,null,null,null,0]
[null,{"$f":"VLOOKUP(A98,Emp_Master!$B$3:$P$500,2)","v":{"$error":"#N/A"}},null,null,null,null,null,null,0]
[null,{"$f":"VLOOKUP(A99,Emp_Master!$B$3:$P$500,2)","v":{"$error":"#N/A"}},null,null,null,null,null,null,0]
[null,{"$f":"VLOOKUP(A100,Emp_Master!$B$3:$P$500,2)","v":{"$error":"#N/A"}},null,null,null,null,null,null,0]
[null,{"$f":"VLOOKUP(A101,Emp_Master!$B$3:$P$500,2)","v":{"$error":"#N/A"}},null,null,null,null,null,null,0]
[null,{"$f":"VLOOKUP(A102,Emp_Master!$B$3:$P$500,2)","v":{"$error":"#N/A"}},null,null,null,null,null,null,0]
[null,{"$f":"VLOOKUP(A103,Emp_Master!$B$3:$P$500,2)","v":{"$error":"#N/A"}},null,null,null,null,null,null,0]
[null,{"$f":"VLOOKUP(A104,Emp_Master!$B$3:$P$500,2)","v":{"$error":"#N/A"}},null,null,null,null,null,null,0]
[null,{"$f":"VLOOKUP(A105,Emp_Master!$B$3:$P$500,2)","v":{"$error":"#N/A"}},null,null,null,null,null,null,0]
[null,{"$f":"VLOOKUP(A106,Emp_Master!$B$3:$P$500,2)","v":{"$error":"#N/A"}},null,null,null,null,null,null,0]
[null,{"$f":"VLOOKUP(A107,Emp_Master!$B$3:$P$500,2)","v":{"$error":"#N/A"}},null,null,null,null,null,null,0]
[null,{"$f":"VLOOKUP(A108,Emp_Master!$B$3:$P$500,2)","v":{"$error":"#N/A"}},null,null,null,null,null,null,0]
[null,{"$f":"VLOOKUP(A109,Emp_Master!$B$3:$P$500,2)","v":{"$error":"#N/A"}},null,null,null,null,null,null,0]
[null,{"$f":"VLOOKUP(A110,Emp_Master!$B$3:$P$500,2)","v":{"$error":"#N/A"}},null,null,null,null,null,null,0]
[null,{"$f":"VLOOKUP(A111,Emp_Master!$B$3:$P$500,2)","v":{"$error":"#N/A"}},null,null,null,null,null,null,0]
[null,{"$f":"VLOOKUP(A112,Emp_Master!$B$3:$P$500,2)","v":{"$error":"#N/A"}},null,null,null,null,null,null,0]
[null,{"$f":"VLOOKUP(A113,Emp_Master!$B$3:$P$500,2)","v":{"$error":"#N/A"}},null,null,null,null,null,null,0]
[null,{"$f":"VLOOKUP(A114,Emp_Master!$B$3:$P$500,2)","v":{"$error":"#N/A"}},null,null,null,null,null,null,0]
[null,{"$f":"VLOOKUP(A115,Emp_Master!$B$3:$P$500,2)","v":{"$error":"#N/A"}},null,null,null,null,null,null,0]
[null,{"$f":"VLOOKUP(A116,Emp_Master!$B$3:$P$500,2)","v":{"$error":"#N/A"}},null,null,null,null,null,null,0]
[null,{"$f":"VLOOKUP(A117,Emp_Master!$B$3:$P$500,2)","v":{"$error":"#N/A"}},null,null,null,null,null,null,0]
[null,{"$f":"VLOOKUP(A118,Emp_Master!$B$3:$P$500,2)","v":{"$error":"#N/A"}},null,null,null,null,null,null,0]
[null,{"$f":"VLOOKUP(A119,Emp_Master!$B$3:$P$500,2)","v":{"$error":"#N/A"}},null,null,null,null,null,null,0]
[null,{"$f":"VLOOKUP(A120,Emp_Master!$B$3:$P$500,2)","v":{"$error":"#N/A"}},null,null,null,null,null,null,0]
[null,{"$f":"VLOOKUP(A121,Emp_Master!$B$3:$P$500,2)","v":{"$error":"#N/A"}},null,null,null,null,null,null,0]
[null,{"$f":"VLOOKUP(A122,Emp_Master!$B$3:$P$500,2)","v":{"$error":"#N/A"}},null,null,null,null,null,null,0]
[null,{"$f":"VLOOKUP(A123,Emp_Master!$B$3:$P$500,2)","v":{"$error":"#N/A"}},null,null,null,null,null,null,0]
[null,{"$f":"VLOOKUP(A124,Emp_Master!$B$3:$P$500,2)","v":{"$error":"#N/A"}},null,null,null,null,null,null,0]
[null,{"$f":"VLOOKUP(A125,Emp_Master!$B$3:$P$500,2)","v":{"$error":"#N/A"}},null,null,null,null,null,null,0]
[null,{"$f":"VLOOKUP(A126,Emp_Master!$B$3:$P$500,2)","v":{"$error":"#N/A"}},null,null,null,null,null,null,0]
[null,{"$f":"VLOOKUP(A127,Emp_Master!$B$3:$P$500,2)","v":{"$error":"#N/A"}},null,null,null,null,null,null,0]
[null,{"$f":"VLOOKUP(A128,Emp_Master!$B$3:$P$500,2)","v":{"$error":"#N/A"}},null,null,null,null,null,null,0]
[null,{"$f":"VLOOKUP(A129,Emp_Master!$B$3:$P$500,2)","v":{"$error":"#N/A"}},null,null,null,null,null,null,0]
[null,{"$f":"VLOOKUP(A130,Emp_Master!$B$3:$P$500,2)","v":{"$error":"#N/A"}},null,null,null,null,null,null,0]
[null,{"$f":"VLOOKUP(A131,Emp_Master!$B$3:$P$500,2)","v":{"$error":"#N/A"}},null,null,null,null,null,null,0]
[null,{"$f":"VLOOKUP(A132,Emp_Master!$B$3:$P$500,2)","v":{"$error":"#N/A"}},null,null,null,null,null,null,0]
[null,{"$f":"VLOOKUP(A133,Emp_Master!$B$3:$P$500,2)","v":{"$error":"#N/A"}},null,null,null,null,null,null,0]
[null,{"$f":"VLOOKUP(A134,Emp_Master!$B$3:$P$500,2)","v":{"$error":"#N/A"}},null,null,null,null,null,null,0]
[null,{"$f":"VLOOKUP(A135,Emp_Master!$B$3:$P$500,2)","v":{"$error":"#N/A"}},null,null,null,null,null,null,{"$f":"SUM(C135:H135)","v":0}]
[null,{"$f":"VLOOKUP(A136,Emp_Master!$B$3:$P$500,2)","v":{"$error":"#N/A"}},null,null,null,null,null,null,0]
[null,{"$f":"VLOOKUP(A137,Emp_Master!$B$3:$P$500,2)","v":{"$error":"#N/A"}},null,null,null,null,null,null,0]
[null,{"$f":"VLOOKUP(A138,Emp_Master!$B$3:$P$500,2)","v":{"$error":"#N/A"}},null,null,null,null,null,null,0]
[null,{"$f":"VLOOKUP(A139,Emp_Master!$B$3:$P$500,2)","v":{"$error":"#N/A"}},null,null,null,null,null,null,0]
[null,{"$f":"VLOOKUP(A140,Emp_Master!$B$3:$P$500,2)","v":{"$error":"#N/A"}},null,null,null,null,null,null,0]
[null,{"$f":"VLOOKUP(A141,Emp_Master!$B$3:$P$500,2)","v":{"$error":"#N/A"}},null,null,null,null,null,null,0]
[null,{"$f":"VLOOKUP(A142,Emp_Master!$B$3:$P$500,2)","v":{"$error":"#N/A"}},null,null,null,null,null,null,0]
[null,{"$f":"VLOOKUP(A143,Emp_Master!$B$3:$P$500,2)","v":{"$error":"#N/A"}},null,null,null,null,null,null,0]
[null,{"$f":"VLOOKUP(A144,Emp_Master!$B$3:$P$500,2)","v":{"$error":"#N/A"}},null,null,null,null,null,null,0]
[null,{"$f":"VLOOKUP(A145,Emp_Master!$B$3:$P$500,2)","v":{"$error":"#N/A"}},null,null,null,null,null,null,0]
[null,{"$f":"VLOOKUP(A146,Emp_Master!$B$3:$P$500,2)","v":{"$error":"#N/A"}},null,null,null,null,null,null,0]
[null,{"$f":"VLOOKUP(A147,Emp_Master!$B$3:$P$500,2)","v":{"$error":"#N/A"}},null,null,null,null,null,null,0]
[null,{"$f":"VLOOKUP(A148,Emp_Master!$B$3:$P$500,2)","v":{"$error":"#N/A"}},null,null,null,null,null,null,0]
[null,{"$f":"VLOOKUP(A149,Emp_Master!$B$3:$P$500,2)","v":{"$error":"#N/A"}},null,null,null,null,null,null,0]
[null,{"$f":"VLOOKUP(A150,Emp_Master!$B$3:$P$500,2)","v":{"$error":"#N/A"}},null,null,null,null,null,null,0]
[null,{"$f":"VLOOKUP(A151,Emp_Master!$B$3:$P$500,2)","v":{"$error":"#N/A"}},null,null,null,null,null,null,0]
[null,{"$f":"VLOOKUP(A152,Emp_Master!$B$3:$P$500,2)","v":{"$error":"#N/A"}},null,null,null,null,null,null,0]
[null,{"$f":"VLOOKUP(A153,Emp_Master!$B$3:$P$500,2)","v":{"$error":"#N/A"}},null,null,null,null,null,null,0]
[null,{"$f":"VLOOKUP(A154,Emp_Master!$B$3:$P$500,2)","v":{"$error":"#N/A"}},null,null,null,null,null,null,0]
[null,{"$f":"VLOOKUP(A155,Emp_Master!$B$3:$P$500,2)","v":{"$error":"#N/A"}},null,null,null,null,null,null,0]
[null,{"$f":"VLOOKUP(A156,Emp_Master!$B$3:$P$500,2)","v":{"$error":"#N/A"}},null,null,null,null,null,null,0]
[null,{"$f":"VLOOKUP(A157,Emp_Master!$B$3:$P$500,2)","v":{"$error":"#N/A"}},null,null,null,null,null,null,0]
[null,{"$f":"VLOOKUP(A158,Emp_Master!$B$3:$P$500,2)","v":{"$error":"#N/A"}},null,null,null,null,null,null,0]
[null,{"$f":"VLOOKUP(A159,Emp_Master!$B$3:$P$500,2)","v":{"$error":"#N/A"}},null,null,null,null,null,null,0]
[null,{"$f":"VLOOKUP(A160,Emp_Master!$B$3:$P$500,2)","v":{"$error":"#N/A"}},null,null,null,null,null,null,0]
[null,{"$f":"VLOOKUP(A161,Emp_Master!$B$3:$P$500,2)","v":{"$error":"#N/A"}},null,null,null,null,null,null,0]
[null,{"$f":"VLOOKUP(A162,Emp_Master!$B$3:$P$500,2)","v":{"$error":"#N/A"}},null,null,null,null,null,null,0]
[null,{"$f":"VLOOKUP(A163,Emp_Master!$B$3:$P$500,2)","v":{"$error":"#N/A"}},null,null,null,null,null,null,0]
[null,{"$f":"VLOOKUP(A164,Emp_Master!$B$3:$P$500,2)","v":{"$error":"#N/A"}},null,null,null,null,null,null,0]
[null,{"$f":"VLOOKUP(A165,Emp_Master!$B$3:$P$500,2)","v":{"$error":"#N/A"}},null,null,null,null,null,null,0]
[null,{"$f":"VLOOKUP(A166,Emp_Master!$B$3:$P$500,2)","v":{"$error":"#N/A"}},null,null,null,null,null,null,0]
[null,{"$f":"VLOOKUP(A167,Emp_Master!$B$3:$P$500,2)","v":{"$error":"#N/A"}},null,null,null,null,null,null,0]
[null,{"$f":"VLOOKUP(A168,Emp_Master!$B$3:$P$500,2)","v":{"$error":"#N/A"}},null,null,null,null,null,null,0]
[null,{"$f":"VLOOKUP(A169,Emp_Master!$B$3:$P$500,2)","v":{"$error":"#N/A"}},null,null,null,null,null,null,0]
[null,{"$f":"VLOOKUP(A170,Emp_Master!$B$3:$P$500,2)","v":{"$error":"#N/A"}},null,null,null,null,null,null,0]
[null,{"$f":"VLOOKUP(A171,Emp_Master!$B$3:$P$500,2)","v":{"$error":"#N/A"}},null,null,null,null,null,null,0]
[null,{"$f":"VLOOKUP(A172,Emp_Master!$B$3:$P$500,2)","v":{"$error":"#N/A"}},null,null,null,null,null,null,0]
[null,{"$f":"VLOOKUP(A173,Emp_Master!$B$3:$P$500,2)","v":{"$error":"#N/A"}},null,null,null,null,null,null,0]
[null,{"$f":"VLOOKUP(A174,Emp_Master!$B$3:$P$500,2)","v":{"$error":"#N/A"}},null,null,null,null,null,null,0]
[null,{"$f":"VLOOKUP(A175,Emp_Master!$B$3:$P$500,2)","v":{"$error":"#N/A"}},null,null,null,null,null,null,0]
[null,{"$f":"VLOOKUP(A176,Emp_Master!$B$3:$P$500,2)","v":{"$error":"#N/A"}},null,null,null,null,null,null,0]
[null,{"$f":"VLOOKUP(A177,Emp_Master!$B$3:$P$500,2)","v":{"$error":"#N/A"}},null,null,null,null,null,null,0]
[null,{"$f":"VLOOKUP(A178,Emp_Master!$B$3:$P$500,2)","v":{"$error":"#N/A"}},null,null,null,null,null,null,0]
[null,{"$f":"VLOOKUP(A179,Emp_Master!$B$3:$P$500,2)","v":{"$error":"#N/A"}},null,null,null,null,null,null,0]
[null,{"$f":"VLOOKUP(A180,Emp_Master!$B$3:$P$500,2)","v":{"$error":"#N/A"}},null,null,null,null,null,null,0]
[null,{"$f":"VLOOKUP(A181,Emp_Master!$B$3:$P$500,2)","v":{"$error":"#N/A"}},null,null,null,null,null,null,0]
[null,{"$f":"VLOOKUP(A182,Emp_Master!$B$3:$P$500,2)","v":{"$error":"#N/A"}},null,null,null,null,null,null,0]
[null,{"$f":"VLOOKUP(A183,Emp_Master!$B$3:$P$500,2)","v":{"$error":"#N/A"}},null,null,null,null,null,null,0]
[null,{"$f":"VLOOKUP(A184,Emp_Master!$B$3:$P$500,2)","v":{"$error":"#N/A"}},null,null,null,null,null,null,0]
[null,{"$f":"VLOOKUP(A185,Emp_Master!$B$3:$P$500,2)","v":{"$error":"#N/A"}},null,null,null,null,null,null,0]
[null,{"$f":"VLOOKUP(A186,Emp_Master!$B$3:$P$500,2)","v":{"$error":"#N/A"}},null,null,null,null,null,null,0]
[null,{"$f":"VLOOKUP(A187,Emp_Master!$B$3:$P$500,2)","v":{"$error":"#N/A"}},null,null,null,null,null,null,0]
[null,{"$f":"VLOOKUP(A188,Emp_Master!$B$3:$P$500,2)","v":{"$error":"#N/A"}},null,null,null,null,null,null,0]
[null,{"$f":"VLOOKUP(A189,Emp_Master!$B$3:$P$500,2)","v":{"$error":"#N/A"}},null,null,null,null,null,null,0]
[null,{"$f":"VLOOKUP(A190,Emp_Master!$B$3:$P$500,2)","v":{"$error":"#N/A"}},null,null,null,null,null,null,0]
[null,{"$f":"VLOOKUP(A191,Emp_Master!$B$3:$P$500,2)","v":{"$error":"#N/A"}},null,null,null,null,null,null,0]
[null,{"$f":"VLOOKUP(A192,Emp_Master!$B$3:$P$500,2)","v":{"$error":"#N/A"}},null,null,null,null,null,null,0]
[null,{"$f":"VLOOKUP(A193,Emp_Master!$B$3:$P$500,2)","v":{"$error":"#N/A"}},null,null,null,null,null,null,0]
[null,{"$f":"VLOOKUP(A194,Emp_Master!$B$3:$P$500,2)","v":{"$error":"#N/A"}},null,null,null,null,null,null,0]
[null,{"$f":"VLOOKUP(A195,Emp_Master!$B$3:$P$500,2)","v":{"$error":"#N/A"}},null,null,null,null,null,null,0]
[null,{"$f":"VLOOKUP(A196,Emp_Master!$B$3:$P$500,2)","v":{"$error":"#N/A"}},null,null,null,null,null,null,0]
[null,{"$f":"VLOOKUP(A197,Emp_Master!$B$3:$P$500,2)","v":{"$error":"#N/A"}},null,null,null,null,null,null,0]
[null,{"$f":"VLOOKUP(A198,Emp_Master!$B$3:$P$500,2)","v":{"$error":"#N/A"}},null,null,null,null,null,null,0]
[null,{"$f":"VLOOKUP(A199,Emp_Master!$B$3:$P$500,2)","v":{"$error":"#N/A"}},null,null,null,null,null,null,{"$f":"SUM(C199:H199)","v":0}]
[null,{"$f":"VLOOKUP(A200,Emp_Master!$B$3:$P$500,2)","v":{"$error":"#N/A"}},null,null,null,null,null,null,0]
[null,{"$f":"VLOOKUP(A201,Emp_Master!$B$3:$P$500,2)","v":{"$error":"#N/A"}},null,null,null,null,null,null,0]
[null,{"$f":"VLOOKUP(A202,Emp_Master!$B$3:$P$500,2)","v":{"$error":"#N/A"}},null,null,null,null,null,null,0]
[null,{"$f":"VLOOKUP(A203,Emp_Master!$B$3:$P$500,2)","v":{"$error":"#N/A"}},null,null,null,null,null,null,0]
[null,{"$f":"VLOOKUP(A204,Emp_Master!$B$3:$P$500,2)","v":{"$error":"#N/A"}},null,null,null,null,null,null,0]
[null,{"$f":"VLOOKUP(A205,Emp_Master!$B$3:$P$500,2)","v":{"$error":"#N/A"}},null,null,null,null,null,null,0]
[null,{"$f":"VLOOKUP(A206,Emp_Master!$B$3:$P$500,2)","v":{"$error":"#N/A"}},null,null,null,null,null,null,0]
[null,{"$f":"VLOOKUP(A207,Emp_Master!$B$3:$P$500,2)","v":{"$error":"#N/A"}},null,null,null,null,null,null,0]
[null,{"$f":"VLOOKUP(A208,Emp_Master!$B$3:$P$500,2)","v":{"$error":"#N/A"}},null,null,null,null,null,null,0]
[null,{"$f":"VLOOKUP(A209,Emp_Master!$B$3:$P$500,2)","v":{"$error":"#N/A"}},null,null,null,null,null,null,0]
[null,{"$f":"VLOOKUP(A210,Emp_Master!$B$3:$P$500,2)","v":{"$error":"#N/A"}},null,null,null,null,null,null,0]
[null,{"$f":"VLOOKUP(A211,Emp_Master!$B$3:$P$500,2)","v":{"$error":"#N/A"}},null,null,null,null,null,null,0]
[null,{"$f":"VLOOKUP(A212,Emp_Master!$B$3:$P$500,2)","v":{"$error":"#N/A"}},null,null,null,null,null,null,0]
[null,{"$f":"VLOOKUP(A213,Emp_Master!$B$3:$P$500,2)","v":{"$error":"#N/A"}},null,null,null,null,null,null,0]
[null,{"$f":"VLOOKUP(A214,Emp_Master!$B$3:$P$500,2)","v":{"$error":"#N/A"}},null,null,null,null,null,null,0]
[null,{"$f":"VLOOKUP(A215,Emp_Master!$B$3:$P$500,2)","v":{"$error":"#N/A"}},null,null,null,null,null,null,0]
[null,{"$f":"VLOOKUP(A216,Emp_Master!$B$3:$P$500,2)","v":{"$error":"#N/A"}},null,null,null,null,null,null,0]
[null,{"$f":"VLOOKUP(A217,Emp_Master!$B$3:$P$500,2)","v":{"$error":"#N/A"}},null,null,null,null,null,null,0]
[null,{"$f":"VLOOKUP(A218,Emp_Master!$B$3:$P$500,2)","v":{"$error":"#N/A"}},null,null,null,null,null,null,0]
[null,{"$f":"VLOOKUP(A219,Emp_Master!$B$3:$P$500,2)","v":{"$error":"#N/A"}},null,null,null,null,null,null,0]
[null,{"$f":"VLOOKUP(A220,Emp_Master!$B$3:$P$500,2)","v":{"$error":"#N/A"}},null,null,null,null,null,null,0]
[null,{"$f":"VLOOKUP(A221,Emp_Master!$B$3:$P$500,2)","v":{"$error":"#N/A"}},null,null,null,null,null,null,0]
[null,{"$f":"VLOOKUP(A222,Emp_Master!$B$3:$P$500,2)","v":{"$error":"#N/A"}},null,null,null,null,null,null,0]
[null,{"$f":"VLOOKUP(A223,Emp_Master!$B$3:$P$500,2)","v":{"$error":"#N/A"}},null,null,null,null,null,null,0]
[null,{"$f":"VLOOKUP(A224,Emp_Master!$B$3:$P$500,2)","v":{"$error":"#N/A"}},null,null,null,null,null,null,0]
[null,{"$f":"VLOOKUP(A225,Emp_Master!$B$3:$P$500,2)","v":{"$error":"#N/A"}},null,null,null,null,null,null,0]
[null,{"$f":"VLOOKUP(A226,Emp_Master!$B$3:$P$500,2)","v":{"$error":"#N/A"}},null,null,null,null,null,null,0]
[null,{"$f":"VLOOKUP(A227,Emp_Master!$B$3:$P$500,2)","v":{"$error":"#N/A"}},null,null,null,null,null,null,0]
[null,{"$f":"VLOOKUP(A228,Emp_Master!$B$3:$P$500,2)","v":{"$error":"#N/A"}},null,null,null,null,null,null,0]
[null,{"$f":"VLOOKUP(A229,Emp_Master!$B$3:$P$500,2)","v":{"$error":"#N/A"}},null,null,null,null,null,null,0]
[null,{"$f":"VLOOKUP(A230,Emp_Master!$B$3:$P$500,2)","v":{"$error":"#N/A"}},null,null,null,null,null,null,0]
[null,{"$f":"VLOOKUP(A231,Emp_Master!$B$3:$P$500,2)","v":{"$error":"#N/A"}},null,null,null,null,null,null,0]
[null,{"$f":"VLOOKUP(A232,Emp_Master!$B$3:$P$500,2)","v":{"$error":"#N/A"}},null,null,null,null,null,null,0]
[null,{"$f":"VLOOKUP(A233,Emp_Master!$B$3:$P$500,2)","v":{"$error":"#N/A"}},null,null,null,null,null,null,0]
[null,{"$f":"VLOOKUP(A234,Emp_Master!$B$3:$P$500,2)","v":{"$error":"#N/A"}},null,null,null,null,null,null,0]
[null,{"$f":"VLOOKUP(A235,Emp_Master!$B$3:$P$500,2)","v":{"$error":"#N/A"}},null,null,null,null,null,null,0]
[null,{"$f":"VLOOKUP(A236,Emp_Master!$B$3:$P$500,2)","v":{"$error":"#N/A"}},null,null,null,null,null,null,0]
[null,{"$f":"VLOOKUP(A237,Emp_Master!$B$3:$P$500,2)","v":{"$error":"#N/A"}},null,null,null,null,null,null,0]
[null,{"$f":"VLOOKUP(A238,Emp_Master!$B$3:$P$500,2)","v":{"$error":"#N/A"}},null,null,null,null,null,null,0]
[null,{"$f":"VLOOKUP(A239,Emp_Master!$B$3:$P$500,2)","v":{"$error":"#N/A"}},null,null,null,null,null,null,0]
[null,{"$f":"VLOOKUP(A240,Emp_Master!$B$3:$P$500,2)","v":{"$error":"#N/A"}},null,null,null,null,null,null,0]
[null,{"$f":"VLOOKUP(A241,Emp_Master!$B$3:$P$500,2)","v":{"$error":"#N/A"}},null,null,null,null,null,null,0]
[null,{"$f":"VLOOKUP(A242,Emp_Master!$B$3:$P$500,2)","v":{"$error":"#N/A"}},null,null,null,null,null,null,0]
[null,{"$f":"VLOOKUP(A243,Emp_Master!$B$3:$P$500,2)","v":{"$error":"#N/A"}},null,null,null,null,null,null,0]
[null,{"$f":"VLOOKUP(A244,Emp_Master!$B$3:$P$500,2)","v":{"$error":"#N/A"}},null,null,null,null,null,null,0]
[null,{"$f":"VLOOKUP(A245,Emp_Master!$B$3:$P$500,2)","v":{"$error":"#N/A"}},null,null,null,null,null,null,0]
[null,{"$f":"VLOOKUP(A246,Emp_Master!$B$3:$P$500,2)","v":{"$error":"#N/A"}},null,null,null,null,null,null,0]
[null,{"$f":"VLOOKUP(A247,Emp_Master!$B$3:$P$500,2)","v":{"$error":"#N/A"}},null,null,null,null,null,null,0]
[null,{"$f":"VLOOKUP(A248,Emp_Master!$B$3:$P$500,2)","v":{"$error":"#N/A"}},null,null,null,null,null,null,0]
[null,{"$f":"VLOOKUP(A249,Emp_Master!$B$3:$P$500,2)","v":{"$error":"#N/A"}},null,null,null,null,null,null,0]
[null,{"$f":"VLOOKUP(A250,Emp_Master!$B$3:$P$500,2)","v":{"$error":"#N/A"}},null,null,null,null,null,null,0]
[null,{"$f":"VLOOKUP(A251,Emp_Master!$B$3:$P$500,2)","v":{"$error":"#N/A"}},null,null,null,null,null,null,0]
[null,{"$f":"VLOOKUP(A252,Emp_Master!$B$3:$P$500,2)","v":{"$error":"#N/A"}},null,null,null,null,null,null,0]
[null,{"$f":"VLOOKUP(A253,Emp_Master!$B$3:$P$500,2)","v":{"$error":"#N/A"}},null,null,null,null,null,null,0]
[null,{"$f":"VLOOKUP(A254,Emp_Master!$B$3:$P$500,2)","v":{"$error":"#N/A"}},null,null,null,null,null,null,0]
[null,{"$f":"VLOOKUP(A255,Emp_Master!$B$3:$P$500,2)","v":{"$error":"#N/A"}},null,null,null,null,null,null,0]
[null,{"$f":"VLOOKUP(A256,Emp_Master!$B$3:$P$500,2)","v":{"$error":"#N/A"}},null,null,null,null,null,null,0]
[null,{"$f":"VLOOKUP(A257,Emp_Master!$B$3:$P$500,2)","v":{"$error":"#N/A"}},null,null,null,null,null,null,0]
[null,{"$f":"VLOOKUP(A258,Emp_Master!$B$3:$P$500,2)","v":{"$error":"#N/A"}},null,null,null,null,null,null,0]
[null,{"$f":"VLOOKUP(A259,Emp_Master!$B$3:$P$500,2)","v":{"$error":"#N/A"}},null,null,null,null,null,null,0]
[null,{"$f":"VLOOKUP(A260,Emp_Master!$B$3:$P$500,2)","v":{"$error":"#N/A"}},null,null,null,null,null,null,0]
[null,{"$f":"VLOOKUP(A261,Emp_Master!$B$3:$P$500,2)","v":{"$error":"#N/A"}},null,null,null,null,null,null,0]
[null,{"$f":"VLOOKUP(A262,Emp_Master!$B$3:$P$500,2)","v":{"$error":"#N/A"}},null,null,null,null,null,null,0]
[null,{"$f":"VLOOKUP(A263,Emp_Master!$B$3:$P$500,2)","v":{"$error":"#N/A"}},null,null,null,null,null,null,{"$f":"SUM(C263:H263)","v":0}]
[null,{"$f":"VLOOKUP(A264,Emp_Master!$B$3:$P$500,2)","v":{"$error":"#N/A"}},null,null,null,null,null,null,0]
[null,{"$f":"VLOOKUP(A265,Emp_Master!$B$3:$P$500,2)","v":{"$error":"#N/A"}},null,null,null,null,null,null,0]
[null,{"$f":"VLOOKUP(A266,Emp_Master!$B$3:$P$500,2)","v":{"$error":"#N/A"}},null,null,null,null,null,null,0]
[null,{"$f":"VLOOKUP(A267,Emp_Master!$B$3:$P$500,2)","v":{"$error":"#N/A"}},null,null,null,null,null,null,0]
[null,{"$f":"VLOOKUP(A268,Emp_Master!$B$3:$P$500,2)","v":{"$error":"#N/A"}},null,null,null,null,null,null,0]
[null,{"$f":"VLOOKUP(A269,Emp_Master!$B$3:$P$500,2)","v":{"$error":"#N/A"}},null,null,null,null,null,null,0]
[null,{"$f":"VLOOKUP(A270,Emp_Master!$B$3:$P$500,2)","v":{"$error":"#N/A"}},null,null,null,null,null,null,0]
[null,{"$f":"VLOOKUP(A271,Emp_Master!$B$3:$P$500,2)","v":{"$error":"#N/A"}},null,null,null,null,null,null,0]
[null,{"$f":"VLOOKUP(A272,Emp_Master!$B$3:$P$500,2)","v":{"$error":"#N/A"}},null,null,null,null,null,null,0]
[null,{"$f":"VLOOKUP(A273,Emp_Master!$B$3:$P$500,2)","v":{"$error":"#N/A"}},null,null,null,null,null,null,0]
[null,{"$f":"VLOOKUP(A274,Emp_Master!$B$3:$P$500,2)","v":{"$error":"#N/A"}},null,null,null,null,null,null,0]
[null,{"$f":"VLOOKUP(A275,Emp_Master!$B$3:$P$500,2)","v":{"$error":"#N/A"}},null,null,null,null,null,null,0]
[null,{"$f":"VLOOKUP(A276,Emp_Master!$B$3:$P$500,2)","v":{"$error":"#N/A"}},null,null,null,null,null,null,0]
[null,{"$f":"VLOOKUP(A277,Emp_Master!$B$3:$P$500,2)","v":{"$error":"#N/A"}},null,null,null,null,null,null,0]
[null,{"$f":"VLOOKUP(A278,Emp_Master!$B$3:$P$500,2)","v":{"$error":"#N/A"}},null,null,null,null,null,null,0]
[null,{"$f":"VLOOKUP(A279,Emp_Master!$B$3:$P$500,2)","v":{"$error":"#N/A"}},null,null,null,null,null,null,0]
[null,{"$f":"VLOOKUP(A280,Emp_Master!$B$3:$P$500,2)","v":{"$error":"#N/A"}},null,null,null,null,null,null,0]
[null,{"$f":"VLOOKUP(A281,Emp_Master!$B$3:$P$500,2)","v":{"$error":"#N/A"}},null,null,null,null,null,null,0]
[null,{"$f":"VLOOKUP(A282,Emp_Master!$B$3:$P$500,2)","v":{"$error":"#N/A"}},null,null,null,null,null,null,0]
[null,{"$f":"VLOOKUP(A283,Emp_Master!$B$3:$P$500,2)","v":{"$error":"#N/A"}},null,null,null,null,null,null,0]
[null,{"$f":"VLOOKUP(A284,Emp_Master!$B$3:$P$500,2)","v":{"$error":"#N/A"}},null,null,null,null,null,null,0]
[null,{"$f":"VLOOKUP(A285,Emp_Master!$B$3:$P$500,2)","v":{"$error":"#N/A"}},null,null,null,null,null,null,0]
[null,{"$f":"VLOOKUP(A286,Emp_Master!$B$3:$P$500,2)","v":{"$error":"#N/A"}},null,null,null,null,null,null,0]
[null,{"$f":"VLOOKUP(A287,Emp_Master!$B$3:$P$500,2)","v":{"$error":"#N/A"}},null,null,null,null,null,null,0]
[null,{"$f":"VLOOKUP(A288,Emp_Master!$B$3:$P$500,2)","v":{"$error":"#N/A"}},null,null,null,null,null,null,0]
[null,{"$f":"VLOOKUP(A289,Emp_Master!$B$3:$P$500,2)","v":{"$error":"#N/A"}},null,null,null,null,null,null,0]
[null,{"$f":"VLOOKUP(A290,Emp_Master!$B$3:$P$500,2)","v":{"$error":"#N/A"}},null,null,null,null,null,null,0]
[null,{"$f":"VLOOKUP(A291,Emp_Master!$B$3:$P$500,2)","v":{"$error":"#N/A"}},null,null,null,null,null,null,0]
[null,{"$f":"VLOOKUP(A292,Emp_Master!$B$3:$P$500,2)","v":{"$error":"#N/A"}},null,null,null,null,null,null,0]
[null,{"$f":"VLOOKUP(A293,Emp_Master!$B$3:$P$500,2)","v":{"$error":"#N/A"}},null,null,null,null,null,null,0]
[null,{"$f":"VLOOKUP(A294,Emp_Master!$B$3:$P$500,2)","v":{"$error":"#N/A"}},null,null,null,null,null,null,0]
[null,{"$f":"VLOOKUP(A295,Emp_Master!$B$3:$P$500,2)","v":{"$error":"#N/A"}},null,null,null,null,null,null,0]
[null,{"$f":"VLOOKUP(A296,Emp_Master!$B$3:$P$500,2)","v":{"$error":"#N/A"}},null,null,null,null,null,null,0]
[null,{"$f":"VLOOKUP(A297,Emp_Master!$B$3:$P$500,2)","v":{"$error":"#N/A"}},null,null,null,null,null,null,0]
[null,{"$f":"VLOOKUP(A298,Emp_Master!$B$3:$P$500,2)","v":{"$error":"#N/A"}},null,null,null,null,null,null,0]
[null,{"$f":"VLOOKUP(A299,Emp_Master!$B$3:$P$500,2)","v":{"$error":"#N/A"}},null,null,null,null,null,null,0]
[null,{"$f":"VLOOKUP(A300,Emp_Master!$B$3:$P$500,2)","v":{"$error":"#N/A"}},null,null,null,null,null,null,0]
[null,{"$f":"VLOOKUP(A301,Emp_Master!$B$3:$P$500,2)","v":{"$error":"#N/A"}},null,null,null,null,null,null,0]
[null,{"$f":"VLOOKUP(A302,Emp_Master!$B$3:$P$500,2)","v":{"$error":"#N/A"}},null,null,null,null,null,null,0]
[null,{"$f":"VLOOKUP(A303,Emp_Master!$B$3:$P$500,2)","v":{"$error":"#N/A"}},null,null,null,null,null,null,0]
[null,{"$f":"VLOOKUP(A304,Emp_Master!$B$3:$P$500,2)","v":{"$error":"#N/A"}},null,null,null,null,null,null,0]
[null,{"$f":"VLOOKUP(A305,Emp_Master!$B$3:$P$500,2)","v":{"$error":"#N/A"}},null,null,null,null,null,null,0]
[null,{"$f":"VLOOKUP(A306,Emp_Master!$B$3:$P$500,2)","v":{"$error":"#N/A"}},null,null,null,null,null,null,0]
[null,{"$f":"VLOOKUP(A307,Emp_Master!$B$3:$P$500,2)","v":{"$error":"#N/A"}},null,null,null,null,null,null,0]
[null,{"$f":"VLOOKUP(A308,Emp_Master!$B$3:$P$500,2)","v":{"$error":"#N/A"}},null,null,null,null,null,null,0]
[null,{"$f":"VLOOKUP(A309,Emp_Master!$B$3:$P$500,2)","v":{"$error":"#N/A"}},null,null,null,null,null,null,0]
[null,{"$f":"VLOOKUP(A310,Emp_Master!$B$3:$P$500,2)","v":{"$error":"#N/A"}},null,null,null,null,null,null,0]
[null,{"$f":"VLOOKUP(A311,Emp_Master!$B$3:$P$500,2)","v":{"$error":"#N/A"}},null,null,null,null,null,null,0]
[null,{"$f":"VLOOKUP(A312,Emp_Master!$B$3:$P$500,2)","v":{"$error":"#N/A"}},null,null,null,null,null,null,0]
[null,{"$f":"VLOOKUP(A313,Emp_Master!$B$3:$P$500,2)","v":{"$error":"#N/A"}},null,null,null,null,null,null,0]
[null,{"$f":"VLOOKUP(A314,Emp_Master!$B$3:$P$500,2)","v":{"$error":"#N/A"}},null,null,null,null,null,null,0]
[null,{"$f":"VLOOKUP(A315,Emp_Master!$B$3:$P$500,2)","v":{"$error":"#N/A"}},null,null,null,null,null,null,0]
[null,{"$f":"VLOOKUP(A316,Emp_Master!$B$3:$P$500,2)","v":{"$error":"#N/A"}},null,null,null,null,null,null,0]
[null,{"$f":"VLOOKUP(A317,Emp_Master!$B$3:$P$500,2)","v":{"$error":"#N/A"}},null,null,null,null,null,null,0]
[null,{"$f":"VLOOKUP(A318,Emp_Master!$B$3:$P$500,2)","v":{"$error":"#N/A"}},null,null,null,null,null,null,0]
[null,{"$f":"VLOOKUP(A319,Emp_Master!$B$3:$P$500,2)","v":{"$error":"#N/A"}},null,null,null,null,null,null,0]
[null,{"$f":"VLOOKUP(A320,Emp_Master!$B$3:$P$500,2)","v":{"$error":"#N/A"}},null,null,null,null,null,null,0]
[null,{"$f":"VLOOKUP(A321,Emp_Master!$B$3:$P$500,2)","v":{"$error":"#N/A"}},null,null,null,null,null,null,0]
[null,{"$f":"VLOOKUP(A322,Emp_Master!$B$3:$P$500,2)","v":{"$error":"#N/A"}},null,null,null,null,null,null,0]
[null,{"$f":"VLOOKUP(A323,Emp_Master!$B$3:$P$500,2)","v":{"$error":"#N/A"}},null,null,null,null,null,null,0]
[null,{"$f":"VLOOKUP(A324,Emp_Master!$B$3:$P$500,2)","v":{"$error":"#N/A"}},null,null,null,null,null,null,0]
[null,{"$f":"VLOOKUP(A325,Emp_Master!$B$3:$P$500,2)","v":{"$error":"#N/A"}},null,null,null,null,null,null,0]
[null,{"$f":"VLOOKUP(A326,Emp_Master!$B$3:$P$500,2)","v":{"$error":"#N/A"}},null,null,null,null,null,null,0]
[null,{"$f":"VLOOKUP(A327,Emp_Master!$B$3:$P$500,2)","v":{"$error":"#N/A"}},null,null,null,null,null,null,{"$f":"SUM(C327:H327)","v":0}]
[null,{"$f":"VLOOKUP(A328,Emp_Master!$B$3:$P$500,2)","v":{"$error":"#N/A"}},null,null,null,null,null,null,0]
[null,{"$f":"VLOOKUP(A329,Emp_Master!$B$3:$P$500,2)","v":{"$error":"#N/A"}},null,null,null,null,null,null,0]
[null,{"$f":"VLOOKUP(A330,Emp_Master!$B$3:$P$500,2)","v":{"$error":"#N/A"}},null,null,null,null,null,null,0]
[null,{"$f":"VLOOKUP(A331,Emp_Master!$B$3:$P$500,2)","v":{"$error":"#N/A"}},null,null,null,null,null,null,0]
[null,{"$f":"VLOOKUP(A332,Emp_Master!$B$3:$P$500,2)","v":{"$error":"#N/A"}},null,null,null,null,null,null,0]
[null,{"$f":"VLOOKUP(A333,Emp_Master!$B$3:$P$500,2)","v":{"$error":"#N/A"}},null,null,null,null,null,null,0]
[null,{"$f":"VLOOKUP(A334,Emp_Master!$B$3:$P$500,2)","v":{"$error":"#N/A"}},null,null,null,null,null,null,0]
[null,{"$f":"VLOOKUP(A335,Emp_Master!$B$3:$P$500,2)","v":{"$error":"#N/A"}},null,null,null,null,null,null,0]
[null,{"$f":"VLOOKUP(A336,Emp_Master!$B$3:$P$500,2)","v":{"$error":"#N/A"}},null,null,null,null,null,null,0]
[null,{"$f":"VLOOKUP(A337,Emp_Master!$B$3:$P$500,2)","v":{"$error":"#N/A"}},null,null,null,null,null,null,0]
[null,{"$f":"VLOOKUP(A338,Emp_Master!$B$3:$P$500,2)","v":{"$error":"#N/A"}},null,null,null,null,null,null,0]
[null,{"$f":"VLOOKUP(A339,Emp_Master!$B$3:$P$500,2)","v":{"$error":"#N/A"}},null,null,null,null,null,null,0]
[null,{"$f":"VLOOKUP(A340,Emp_Master!$B$3:$P$500,2)","v":{"$error":"#N/A"}},null,null,null,null,null,null,0]
[null,{"$f":"VLOOKUP(A341,Emp_Master!$B$3:$P$500,2)","v":{"$error":"#N/A"}},null,null,null,null,null,null,0]
[null,{"$f":"VLOOKUP(A342,Emp_Master!$B$3:$P$500,2)","v":{"$error":"#N/A"}},null,null,null,null,null,null,0]
[null,{"$f":"VLOOKUP(A343,Emp_Master!$B$3:$P$500,2)","v":{"$error":"#N/A"}},null,null,null,null,null,null,0]
[null,{"$f":"VLOOKUP(A344,Emp_Master!$B$3:$P$500,2)","v":{"$error":"#N/A"}},null,null,null,null,null,null,0]
[null,{"$f":"VLOOKUP(A345,Emp_Master!$B$3:$P$500,2)","v":{"$error":"#N/A"}},null,null,null,null,null,null,0]
[null,{"$f":"VLOOKUP(A346,Emp_Master!$B$3:$P$500,2)","v":{"$error":"#N/A"}},null,null,null,null,null,null,0]
[null,{"$f":"VLOOKUP(A347,Emp_Master!$B$3:$P$500,2)","v":{"$error":"#N/A"}},null,null,null,null,null,null,0]
[null,{"$f":"VLOOKUP(A348,Emp_Master!$B$3:$P$500,2)","v":{"$error":"#N/A"}},null,null,null,null,null,null,0]
[null,{"$f":"VLOOKUP(A349,Emp_Master!$B$3:$P$500,2)","v":{"$error":"#N/A"}},null,null,null,null,null,null,0]
[null,{"$f":"VLOOKUP(A350,Emp_Master!$B$3:$P$500,2)","v":{"$error":"#N/A"}},null,null,null,null,null,null,0]
[null,{"$f":"VLOOKUP(A351,Emp_Master!$B$3:$P$500,2)","v":{"$error":"#N/A"}},null,null,null,null,null,null,0]
[null,{"$f":"VLOOKUP(A352,Emp_Master!$B$3:$P$500,2)","v":{"$error":"#N/A"}},null,null,null,null,null,null,0]
[null,{"$f":"VLOOKUP(A353,Emp_Master!$B$3:$P$500,2)","v":{"$error":"#N/A"}},null,null,null,null,null,null,0]
[null,{"$f":"VLOOKUP(A354,Emp_Master!$B$3:$P$500,2)","v":{"$error":"#N/A"}},null,null,null,null,null,null,0]
[null,{"$f":"VLOOKUP(A355,Emp_Master!$B$3:$P$500,2)","v":{"$error":"#N/A"}},null,null,null,null,null,null,0]
[null,{"$f":"VLOOKUP(A356,Emp_Master!$B$3:$P$500,2)","v":{"$error":"#N/A"}},null,null,null,null,null,null,0]
[null,{"$f":"VLOOKUP(A357,Emp_Master!$B$3:$P$500,2)","v":{"$error":"#N/A"}},null,null,null,null,null,null,0]
[null,{"$f":"VLOOKUP(A358,Emp_Master!$B$3:$P$500,2)","v":{"$error":"#N/A"}},null,null,null,null,null,null,0]
[null,{"$f":"VLOOKUP(A359,Emp_Master!$B$3:$P$500,2)","v":{"$error":"#N/A"}},null,null,null,null,null,null,0]
[null,{"$f":"VLOOKUP(A360,Emp_Master!$B$3:$P$500,2)","v":{"$error":"#N/A"}},null,null,null,null,null,null,0]
[null,{"$f":"VLOOKUP(A361,Emp_Master!$B$3:$P$500,2)","v":{"$error":"#N/A"}},null,null,null,null,null,null,0]
[null,{"$f":"VLOOKUP(A362,Emp_Master!$B$3:$P$500,2)","v":{"$error":"#N/A"}},null,null,null,null,null,null,0]
[null,{"$f":"VLOOKUP(A363,Emp_Master!$B$3:$P$500,2)","v":{"$error":"#N/A"}},null,null,null,null,null,null,0]
[null,{"$f":"VLOOKUP(A364,Emp_Master!$B$3:$P$500,2)","v":{"$error":"#N/A"}},null,null,null,null,null,null,0]
[null,{"$f":"VLOOKUP(A365,Emp_Master!$B$3:$P$500,2)","v":{"$error":"#N/A"}},null,null,null,null,null,null,0]
[null,{"$f":"VLOOKUP(A366,Emp_Master!$B$3:$P$500,2)","v":{"$error":"#N/A"}},null,null,null,null,null,null,0]
[null,{"$f":"VLOOKUP(A367,Emp_Master!$B$3:$P$500,2)","v":{"$error":"#N/A"}},null,null,null,null,null,null,0]
[null,{"$f":"VLOOKUP(A368,Emp_Master!$B$3:$P$500,2)","v":{"$error":"#N/A"}},null,null,null,null,null,null,0]
[null,{"$f":"VLOOKUP(A369,Emp_Master!$B$3:$P$500,2)","v":{"$error":"#N/A"}},null,null,null,null,null,null,0]
[null,{"$f":"VLOOKUP(A370,Emp_Master!$B$3:$P$500,2)","v":{"$error":"#N/A"}},null,null,null,null,null,null,0]
[null,{"$f":"VLOOKUP(A371,Emp_Master!$B$3:$P$500,2)","v":{"$error":"#N/A"}},null,null,null,null,null,null,0]
[null,{"$f":"VLOOKUP(A372,Emp_Master!$B$3:$P$500,2)","v":{"$error":"#N/A"}},null,null,null,null,null,null,0]
[null,{"$f":"VLOOKUP(A373,Emp_Master!$B$3:$P$500,2)","v":{"$error":"#N/A"}},null,null,null,null,null,null,0]
[null,{"$f":"VLOOKUP(A374,Emp_Master!$B$3:$P$500,2)","v":{"$error":"#N/A"}},null,null,null,null,null,null,0]
[null,{"$f":"VLOOKUP(A375,Emp_Master!$B$3:$P$500,2)","v":{"$error":"#N/A"}},null,null,null,null,null,null,0]
[null,{"$f":"VLOOKUP(A376,Emp_Master!$B$3:$P$500,2)","v":{"$error":"#N/A"}},null,null,null,null,null,null,0]
[null,{"$f":"VLOOKUP(A377,Emp_Master!$B$3:$P$500,2)","v":{"$error":"#N/A"}},null,null,null,null,null,null,0]
[null,{"$f":"VLOOKUP(A378,Emp_Master!$B$3:$P$500,2)","v":{"$error":"#N/A"}},null,null,null,null,null,null,0]
[null,{"$f":"VLOOKUP(A379,Emp_Master!$B$3:$P$500,2)","v":{"$error":"#N/A"}},null,null,null,null,null,null,0]
[null,{"$f":"VLOOKUP(A380,Emp_Master!$B$3:$P$500,2)","v":{"$error":"#N/A"}},null,null,null,null,null,null,0]
[null,{"$f":"VLOOKUP(A381,Emp_Master!$B$3:$P$500,2)","v":{"$error":"#N/A"}},null,null,null,null,null,null,0]
[null,{"$f":"VLOOKUP(A382,Emp_Master!$B$3:$P$500,2)","v":{"$error":"#N/A"}},null,null,null,null,null,null,0]
[null,{"$f":"VLOOKUP(A383,Emp_Master!$B$3:$P$500,2)","v":{"$error":"#N/A"}},null,null,null,null,null,null,0]
[null,{"$f":"VLOOKUP(A384,Emp_Master!$B$3:$P$500,2)","v":{"$error":"#N/A"}},null,null,null,null,null,null,0]
[null,{"$f":"VLOOKUP(A385,Emp_Master!$B$3:$P$500,2)","v":{"$error":"#N/A"}},null,null,null,null,null,null,0]
[null,{"$f":"VLOOKUP(A386,Emp_Master!$B$3:$P$500,2)","v":{"$error":"#N/A"}},null,null,null,null,null,null,0]
[null,{"$f":"VLOOKUP(A387,Emp_Master!$B$3:$P$500,2)","v":{"$error":"#N/A"}},null,null,null,null,null,null,0]
[null,{"$f":"VLOOKUP(A388,Emp_Master!$B$3:$P$500,2)","v":{"$error":"#N/A"}},null,null,null,null,null,null,0]
[null,{"$f":"VLOOKUP(A389,Emp_Master!$B$3:$P$500,2)","v":{"$error":"#N/A"}},null,null,null,null,null,null,0]
[null,{"$f":"VLOOKUP(A390,Emp_Master!$B$3:$P$500,2)","v":{"$error":"#N/A"}},null,null,null,null,null,null,0]
[null,{"$f":"VLOOKUP(A391,Emp_Master!$B$3:$P$500,2)","v":{"$error":"#N/A"}},null,null,null,null,null,null,{"$f":"SUM(C391:H391)","v":0}]
[null,{"$f":"VLOOKUP(A392,Emp_Master!$B$3:$P$500,2)","v":{"$error":"#N/A"}},null,null,null,null,null,null,0]
[null,{"$f":"VLOOKUP(A393,Emp_Master!$B$3:$P$500,2)","v":{"$error":"#N/A"}},null,null,null,null,null,null,0]
[null,{"$f":"VLOOKUP(A394,Emp_Master!$B$3:$P$500,2)","v":{"$error":"#N/A"}},null,null,null,null,null,null,0]
[null,{"$f":"VLOOKUP(A395,Emp_Master!$B$3:$P$500,2)","v":{"$error":"#N/A"}},null,null,null,null,null,null,0]
[null,{"$f":"VLOOKUP(A396,Emp_Master!$B$3:$P$500,2)","v":{"$error":"#N/A"}},null,null,null,null,null,null,0]
[null,{"$f":"VLOOKUP(A397,Emp_Master!$B$3:$P$500,2)","v":{"$error":"#N/A"}},null,null,null,null,null,null,0]
[null,{"$f":"VLOOKUP(A398,Emp_Master!$B$3:$P$500,2)","v":{"$error":"#N/A"}},null,null,null,null,null,null,0]
[null,{"$f":"VLOOKUP(A399,Emp_Master!$B$3:$P$500,2)","v":{"$error":"#N/A"}},null,null,null,null,null,null,0]
[null,{"$f":"VLOOKUP(A400,Emp_Master!$B$3:$P$500,2)","v":{"$error":"#N/A"}},null,null,null,null,null,null,0]
[null,{"$f":"VLOOKUP(A401,Emp_Master!$B$3:$P$500,2)","v":{"$error":"#N/A"}},null,null,null,null,null,null,0]
[null,{"$f":"VLOOKUP(A402,Emp_Master!$B$3:$P$500,2)","v":{"$error":"#N/A"}},null,null,null,null,null,null,0]
[null,{"$f":"VLOOKUP(A403,Emp_Master!$B$3:$P$500,2)","v":{"$error":"#N/A"}},null,null,null,null,null,null,0]
[null,{"$f":"VLOOKUP(A404,Emp_Master!$B$3:$P$500,2)","v":{"$error":"#N/A"}},null,null,null,null,null,null,0]
[null,{"$f":"VLOOKUP(A405,Emp_Master!$B$3:$P$500,2)","v":{"$error":"#N/A"}},null,null,null,null,null,null,0]
[null,{"$f":"VLOOKUP(A406,Emp_Master!$B$3:$P$500,2)","v":{"$error":"#N/A"}},null,null,null,null,null,null,0]
[null,{"$f":"VLOOKUP(A407,Emp_Master!$B$3:$P$500,2)","v":{"$error":"#N/A"}},null,null,null,null,null,null,0]
[null,{"$f":"VLOOKUP(A408,Emp_Master!$B$3:$P$500,2)","v":{"$error":"#N/A"}},null,null,null,null,null,null,0]
[null,{"$f":"VLOOKUP(A409,Emp_Master!$B$3:$P$500,2)","v":{"$error":"#N/A"}},null,null,null,null,null,null,0]
[null,{"$f":"VLOOKUP(A410,Emp_Master!$B$3:$P$500,2)","v":{"$error":"#N/A"}},null,null,null,null,null,null,0]
[null,{"$f":"VLOOKUP(A411,Emp_Master!$B$3:$P$500,2)","v":{"$error":"#N/A"}},null,null,null,null,null,null,0]
[null,{"$f":"VLOOKUP(A412,Emp_Master!$B$3:$P$500,2)","v":{"$error":"#N/A"}},null,null,null,null,null,null,0]
[null,{"$f":"VLOOKUP(A413,Emp_Master!$B$3:$P$500,2)","v":{"$error":"#N/A"}},null,null,null,null,null,null,0]
[null,{"$f":"VLOOKUP(A414,Emp_Master!$B$3:$P$500,2)","v":{"$error":"#N/A"}},null,null,null,null,null,null,0]
[null,{"$f":"VLOOKUP(A415,Emp_Master!$B$3:$P$500,2)","v":{"$error":"#N/A"}},null,null,null,null,null,null,0]
[null,{"$f":"VLOOKUP(A416,Emp_Master!$B$3:$P$500,2)","v":{"$error":"#N/A"}},null,null,null,null,null,null,0]
[null,{"$f":"VLOOKUP(A417,Emp_Master!$B$3:$P$500,2)","v":{"$error":"#N/A"}},null,null,null,null,null,null,0]
[null,{"$f":"VLOOKUP(A418,Emp_Master!$B$3:$P$500,2)","v":{"$error":"#N/A"}},null,null,null,null,null,null,0]
[null,{"$f":"VLOOKUP(A419,Emp_Master!$B$3:$P$500,2)","v":{"$error":"#N/A"}},null,null,null,null,null,null,0]
[null,{"$f":"VLOOKUP(A420,Emp_Master!$B$3:$P$500,2)","v":{"$error":"#N/A"}},null,null,null,null,null,null,0]
[null,{"$f":"VLOOKUP(A421,Emp_Master!$B$3:$P$500,2)","v":{"$error":"#N/A"}},null,null,null,null,null,null,0]
[null,{"$f":"VLOOKUP(A422,Emp_Master!$B$3:$P$500,2)","v":{"$error":"#N/A"}},null,null,null,null,null,null,0]
[null,{"$f":"VLOOKUP(A423,Emp_Master!$B$3:$P$500,2)","v":{"$error":"#N/A"}},null,null,null,null,null,null,0]
[null,{"$f":"VLOOKUP(A424,Emp_Master!$B$3:$P$500,2)","v":{"$error":"#N/A"}},null,null,null,null,null,null,0]
[null,{"$f":"VLOOKUP(A425,Emp_Master!$B$3:$P$500,2)","v":{"$error":"#N/A"}},null,null,null,null,null,null,0]
[null,{"$f":"VLOOKUP(A426,Emp_Master!$B$3:$P$500,2)","v":{"$error":"#N/A"}},null,null,null,null,null,null,0]
[null,{"$f":"VLOOKUP(A427,Emp_Master!$B$3:$P$500,2)","v":{"$error":"#N/A"}},null,null,null,null,null,null,0]
[null,{"$f":"VLOOKUP(A428,Emp_Master!$B$3:$P$500,2)","v":{"$error":"#N/A"}},null,null,null,null,null,null,0]
[null,{"$f":"VLOOKUP(A429,Emp_Master!$B$3:$P$500,2)","v":{"$error":"#N/A"}},null,null,null,null,null,null,0]
[null,{"$f":"VLOOKUP(A430,Emp_Master!$B$3:$P$500,2)","v":{"$error":"#N/A"}},null,null,null,null,null,null,0]
[null,{"$f":"VLOOKUP(A431,Emp_Master!$B$3:$P$500,2)","v":{"$error":"#N/A"}},null,null,null,null,null,null,0]
[null,{"$f":"VLOOKUP(A432,Emp_Master!$B$3:$P$500,2)","v":{"$error":"#N/A"}},null,null,null,null,null,null,0]
[null,{"$f":"VLOOKUP(A433,Emp_Master!$B$3:$P$500,2)","v":{"$error":"#N/A"}},null,null,null,null,null,null,0]
[null,{"$f":"VLOOKUP(A434,Emp_Master!$B$3:$P$500,2)","v":{"$error":"#N/A"}},null,null,null,null,null,null,0]
[null,{"$f":"VLOOKUP(A435,Emp_Master!$B$3:$P$500,2)","v":{"$error":"#N/A"}},null,null,null,null,null,null,0]
[null,{"$f":"VLOOKUP(A436,Emp_Master!$B$3:$P$500,2)","v":{"$error":"#N/A"}},null,null,null,null,null,null,0]
[null,{"$f":"VLOOKUP(A437,Emp_Master!$B$3:$P$500,2)","v":{"$error":"#N/A"}},null,null,null,null,null,null,0]
[null,{"$f":"VLOOKUP(A438,Emp_Master!$B$3:$P$500,2)","v":{"$error":"#N/A"}},null,null,null,null,null,null,0]
[null,{"$f":"VLOOKUP(A439,Emp_Master!$B$3:$P$500,2)","v":{"$error":"#N/A"}},null,null,null,null,null,null,0]
[null,{"$f":"VLOOKUP(A440,Emp_Master!$B$3:$P$500,2)","v":{"$error":"#N/A"}},null,null,null,null,null,null,0]
[null,{"$f":"VLOOKUP(A441,Emp_Master!$B$3:$P$500,2)","v":{"$error":"#N/A"}},null,null,null,null,null,null,0]
[null,{"$f":"VLOOKUP(A442,Emp_Master!$B$3:$P$500,2)","v":{"$error":"#N/A"}},null,null,null,null,null,null,0]
[null,{"$f":"VLOOKUP(A443,Emp_Master!$B$3:$P$500,2)","v":{"$error":"#N/A"}},null,null,null,null,null,null,0]
[null,{"$f":"VLOOKUP(A444,Emp_Master!$B$3:$P$500,2)","v":{"$error":"#N/A"}},null,null,null,null,null,null,0]
[null,{"$f":"VLOOKUP(A445,Emp_Master!$B$3:$P$500,2)","v":{"$error":"#N/A"}},null,null,null,null,null,null,0]
[null,{"$f":"VLOOKUP(A446,Emp_Master!$B$3:$P$500,2)","v":{"$error":"#N/A"}},null,null,null,null,null,null,0]
[null,{"$f":"VLOOKUP(A447,Emp_Master!$B$3:$P$500,2)","v":{"$error":"#N/A"}},null,null,null,null,null,null,0]
[null,{"$f":"VLOOKUP(A448,Emp_Master!$B$3:$P$500,2)","v":{"$error":"#N/A"}},null,null,null,null,null,null,0]
[null,{"$f":"VLOOKUP(A449,Emp_Master!$B$3:$P$500,2)","v":{"$error":"#N/A"}},null,null,null,null,null,null,0]
[null,{"$f":"VLOOKUP(A450,Emp_Master!$B$3:$P$500,2)","v":{"$error":"#N/A"}},null,null,null,null,null,null,0]
[null,{"$f":"VLOOKUP(A451,Emp_Master!$B$3:$P$500,2)","v":{"$error":"#N/A"}},null,null,null,null,null,null,0]
[null,{"$f":"VLOOKUP(A452,Emp_Master!$B$3:$P$500,2)","v":{"$error":"#N/A"}},null,null,null,null,null,null,0]
[null,{"$f":"VLOOKUP(A453,Emp_Master!$B$3:$P$500,2)","v":{"$error":"#N/A"}},null,null,null,null,null,null,0]
[null,{"$f":"VLOOKUP(A454,Emp_Master!$B$3:$P$500,2)","v":{"$error":"#N/A"}},null,null,null,null,null,null,0]
[null,{"$f":"VLOOKUP(A455,Emp_Master!$B$3:$P$500,2)","v":{"$error":"#N/A"}},null,null,null,null,null,null,{"$f":"SUM(C455:H455)","v":0}]
[null,{"$f":"VLOOKUP(A456,Emp_Master!$B$3:$P$500,2)","v":{"$error":"#N/A"}},null,null,null,null,null,null,0]
[null,{"$f":"VLOOKUP(A457,Emp_Master!$B$3:$P$500,2)","v":{"$error":"#N/A"}},null,null,null,null,null,null,0]
[null,{"$f":"VLOOKUP(A458,Emp_Master!$B$3:$P$500,2)","v":{"$error":"#N/A"}},null,null,null,null,null,null,0]
[null,{"$f":"VLOOKUP(A459,Emp_Master!$B$3:$P$500,2)","v":{"$error":"#N/A"}},null,null,null,null,null,null,0]
[null,{"$f":"VLOOKUP(A460,Emp_Master!$B$3:$P$500,2)","v":{"$error":"#N/A"}},null,null,null,null,null,null,0]
[null,{"$f":"VLOOKUP(A461,Emp_Master!$B$3:$P$500,2)","v":{"$error":"#N/A"}},null,null,null,null,null,null,0]
[null,{"$f":"VLOOKUP(A462,Emp_Master!$B$3:$P$500,2)","v":{"$error":"#N/A"}},null,null,null,null,null,null,0]
[null,{"$f":"VLOOKUP(A463,Emp_Master!$B$3:$P$500,2)","v":{"$error":"#N/A"}},null,null,null,null,null,null,0]
[null,{"$f":"VLOOKUP(A464,Emp_Master!$B$3:$P$500,2)","v":{"$error":"#N/A"}},null,null,null,null,null,null,0]
[null,{"$f":"VLOOKUP(A465,Emp_Master!$B$3:$P$500,2)","v":{"$error":"#N/A"}},null,null,null,null,null,null,0]
[null,{"$f":"VLOOKUP(A466,Emp_Master!$B$3:$P$500,2)","v":{"$error":"#N/A"}},null,null,null,null,null,null,0]
[null,{"$f":"VLOOKUP(A467,Emp_Master!$B$3:$P$500,2)","v":{"$error":"#N/A"}},null,null,null,null,null,null,0]
[null,{"$f":"VLOOKUP(A468,Emp_Master!$B$3:$P$500,2)","v":{"$error":"#N/A"}},null,null,null,null,null,null,0]
[null,{"$f":"VLOOKUP(A469,Emp_Master!$B$3:$P$500,2)","v":{"$error":"#N/A"}},null,null,null,null,null,null,0]
[null,{"$f":"VLOOKUP(A470,Emp_Master!$B$3:$P$500,2)","v":{"$error":"#N/A"}},null,null,null,null,null,null,0]
[null,{"$f":"VLOOKUP(A471,Emp_Master!$B$3:$P$500,2)","v":{"$error":"#N/A"}},null,null,null,null,null,null,0]
[null,{"$f":"VLOOKUP(A472,Emp_Master!$B$3:$P$500,2)","v":{"$error":"#N/A"}},null,null,null,null,null,null,0]
[null,{"$f":"VLOOKUP(A473,Emp_Master!$B$3:$P$500,2)","v":{"$error":"#N/A"}},null,null,null,null,null,null,0]
[null,{"$f":"VLOOKUP(A474,Emp_Master!$B$3:$P$500,2)","v":{"$error":"#N/A"}},null,null,null,null,null,null,0]
[null,{"$f":"VLOOKUP(A475,Emp_Master!$B$3:$P$500,2)","v":{"$error":"#N/A"}},null,null,null,null,null,null,0]
[null,{"$f":"VLOOKUP(A476,Emp_Master!$B$3:$P$500,2)","v":{"$error":"#N/A"}},null,null,null,null,null,null,0]
[null,{"$f":"VLOOKUP(A477,Emp_Master!$B$3:$P$500,2)","v":{"$error":"#N/A"}},null,null,null,null,null,null,0]
[null,{"$f":"VLOOKUP(A478,Emp_Master!$B$3:$P$500,2)","v":{"$error":"#N/A"}},null,null,null,null,null,null,0]
[null,{"$f":"VLOOKUP(A479,Emp_Master!$B$3:$P$500,2)","v":{"$error":"#N/A"}},null,null,null,null,null,null,0]
[null,{"$f":"VLOOKUP(A480,Emp_Master!$B$3:$P$500,2)","v":{"$error":"#N/A"}},null,null,null,null,null,null,0]
[null,{"$f":"VLOOKUP(A481,Emp_Master!$B$3:$P$500,2)","v":{"$error":"#N/A"}},null,null,null,null,null,null,0]
[null,{"$f":"VLOOKUP(A482,Emp_Master!$B$3:$P$500,2)","v":{"$error":"#N/A"}},null,null,null,null,null,null,0]
[null,{"$f":"VLOOKUP(A483,Emp_Master!$B$3:$P$500,2)","v":{"$error":"#N/A"}},null,null,null,null,null,null,0]
[null,{"$f":"VLOOKUP(A484,Emp_Master!$B$3:$P$500,2)","v":{"$error":"#N/A"}},null,null,null,null,null,null,0]
[null,{"$f":"VLOOKUP(A485,Emp_Master!$B$3:$P$500,2)","v":{"$error":"#N/A"}},null,null,null,null,null,null,0]
[null,{"$f":"VLOOKUP(A486,Emp_Master!$B$3:$P$500,2)","v":{"$error":"#N/A"}},null,null,null,null,null,null,0]
[null,{"$f":"VLOOKUP(A487,Emp_Master!$B$3:$P$500,2)","v":{"$error":"#N/A"}},null,null,null,null,null,null,0]
[null,{"$f":"VLOOKUP(A488,Emp_Master!$B$3:$P$500,2)","v":{"$error":"#N/A"}},null,null,null,null,null,null,0]
[null,{"$f":"VLOOKUP(A489,Emp_Master!$B$3:$P$500,2)","v":{"$error":"#N/A"}},null,null,null,null,null,null,0]
[null,{"$f":"VLOOKUP(A490,Emp_Master!$B$3:$P$500,2)","v":{"$error":"#N/A"}},null,null,null,null,null,null,0]
[null,{"$f":"VLOOKUP(A491,Emp_Master!$B$3:$P$500,2)","v":{"$error":"#N/A"}},null,null,null,null,null,null,0]
[null,{"$f":"VLOOKUP(A492,Emp_Master!$B$3:$P$500,2)","v":{"$error":"#N/A"}},null,null,null,null,null,null,0]
[null,{"$f":"VLOOKUP(A493,Emp_Master!$B$3:$P$500,2)","v":{"$error":"#N/A"}},null,null,null,null,null,null,0]
[null,{"$f":"VLOOKUP(A494,Emp_Master!$B$3:$P$500,2)","v":{"$error":"#N/A"}},null,null,null,null,null,null,0]
[null,{"$f":"VLOOKUP(A495,Emp_Master!$B$3:$P$500,2)","v":{"$error":"#N/A"}},null,null,null,null,null,null,0]
[null,{"$f":"VLOOKUP(A496,Emp_Master!$B$3:$P$500,2)","v":{"$error":"#N/A"}},null,null,null,null,null,null,0]
[null,{"$f":"VLOOKUP(A497,Emp_Master!$B$3:$P$500,2)","v":{"$error":"#N/A"}},null,null,null,null,null,null,0]
[null,{"$f":"VLOOKUP(A498,Emp_Master!$B$3:$P$500,2)","v":{"$error":"#N/A"}},null,null,null,null,null,null,0]
[null,{"$f":"VLOOKUP(A499,Emp_Master!$B$3:$P$500,2)","v":{"$error":"#N/A"}},null,null,null,null,null,null,0]
[null,{"$f":"VLOOKUP(A500,Emp_Master!$B$3:$P$500,2)","v":{"$error":"#N/A"}},null,null,null,null,null,null,0]
[null,{"$f":"VLOOKUP(A501,Emp_Master!$B$3:$P$500,2)","v":{"$error":"#N/A"}},null,null,null,null,null,null,0]
[]
[]
[]
[]
[]
[]
[]
[]
[]
[]
[]
[]
[]
[]
[]
[]
[]
[]
[]
[]
[]
[]
[]
[]
[]
[]
[]
[]
[]
[]
[]
[]
[]
[]
[]
[]
[]
[]
[]
[]
[]
[]
[]
[]
[]
[]
[]
[]
[]
[]
[]
[]
[]
[]
[]
[]
[]
[]
[]
[]
[]
[]
[]
[]
[]
[]
[]
[]
[]
[]
[]
[]
[]
[]
[]
[]
[]
[]
[]
[]
[]
[]
[]
[]
[]
[]
[]
[]
[]
[]
[]
[]
[]
[]
[]
[]
[]
[]
[]
[]
[{"$f":"Emp_Master!B3","v":0}]
[{"$f":"Emp_Master!B4","v":0}]
[{"$f":"Emp_Master!B5","v":0}]
[{"$f":"Emp_Master!B6","v":0}]
[{"$f":"Emp_Master!B7","v":0}]
[{"$f":"Emp_Master!B8","v":0}]
[{"$f":"Emp_Master!B9","v":0}]
[{"$f":"Emp_Master!B10","v":0}]
[{"$f":"Emp_Master!B11","v":0}]
[{"$f":"Emp_Master!B12","v":0}]
[{"$f":"Emp_Master!B13","v":0}]
[{"$f":"Emp_Master!B14","v":0}]
[{"$f":"Emp_Master!B15","v":0}]
[{"$f":"Emp_Master!B16","v":0}]
[{"$f":"Emp_Master!B17","v":0}]
[{"$f":"Emp_Master!B18","v":0}]
[{"$f":"Emp_Master!B19","v":0}]
[{"$f":"Emp_Master!B20","v":0}]
[{"$f":"Emp_Master!B21","v":0}]
[{"$f":"Emp_Master!B22","v":0}]
[{"$f":"Emp_Master!B23","v":0}]
[{"$f":"Emp_Master!B24","v":0}]
[{"$f":"Emp_Master!B25","v":0}]
[{"$f":"Emp_Master!B26","v":0}]
[{"$f":"Emp_Master!B27","v":0}]
[{"$f":"Emp_Master!B28","v":0}]
[{"$f":"Emp_Master!B29","v":0}]
[{"$f":"Emp_Master!B30","v":0}]
[{"$f":"Emp_Master!B31","v":0}]
[{"$f":"Emp_Master!B32","v":0}]
[{"$f":"Emp_Master!B33","v":0}]
[{"$f":"Emp_Master!B34","v":0}]
[{"$f":"Emp_Master!B35","v":0}]
[{"$f":"Emp_Master!B36","v":0}]
[{"$f":"Emp_Master!B37","v":0}]
[{"$f":"Emp_Master!B38","v":0}]
[{"$f":"Emp_Master!B39","v":0}]
[{"$f":"Emp_Master!B40","v":0}]
[{"$f":"Emp_Master!B41","v":0}]
[{"$f":"Emp_Master!B42","v":0}]
[{"$f":"Emp_Master!B43","v":0}]
[{"$f":"Emp_Master!B44","v":0}]
[{"$f":"Emp_Master!B45","v":0}]
[{"$f":"Emp_Master!B46","v":0}]
[{"$f":"Emp_Master!B47","v":0}]
[{"$f":"Emp_Master!B48","v":0}]
[{"$f":"Emp_Master!B49","v":0}]
[{"$f":"Emp_Master!B50","v":0}]
[{"$f":"Emp_Master!B51","v":0}]
[{"$f":"Emp_Master!B52","v":0}]
[{"$f":"Emp_Master!B53","v":0}]
[{"$f":"Emp_Master!B54","v":0}]
[{"$f":"Emp_Master!B55","v":0}]
[{"$f":"Emp_Master!B56","v":0}]
[{"$f":"Emp_Master!B57","v":0}]
[{"$f":"Emp_Master!B58","v":0}]
[{"$f":"Emp_Master!B59","v":0}]
[{"$f":"Emp_Master!B60","v":0}]
[{"$f":"Emp_Master!B61","v":0}]
[{"$f":"Emp_Master!B62","v":0}]
[{"$f":"Emp_Master!B63","v":0}]
[{"$f":"Emp_Master!B64","v":0}]
[{"$f":"Emp_Master!B65","v":0}]
[{"$f":"Emp_Master!B66","v":0}]
[{"$f":"Emp_Master!B67","v":0}]
[{"$f":"Emp_Master!B68","v":0}]
[{"$f":"Emp_Master!B69","v":0}]
[{"$f":"Emp_Master!B70","v":0}]
[{"$f":"Emp_Master!B71","v":0}]
[{"$f":"Emp_Master!B72","v":0}]
[{"$f":"Emp_Master!B73","v":0}]
[{"$f":"Emp_Master!B74","v":0}]
[{"$f":"Emp_Master!B75","v":0}]
[{"$f":"Emp_Master!B76","v":0}]
[{"$f":"Emp_Master!B77","v":0}]
[{"$f":"Emp_Master!B78","v":0}]
[{"$f":"Emp_Master!B79","v":0}]
[{"$f":"Emp_Master!B80","v":0}]
[{"$f":"Emp_Master!B81","v":0}]
[{"$f":"Emp_Master!B82","v":0}]
[{"$f":"Emp_Master!B83","v":0}]
[{"$f":"Emp_Master!B84","v":0}]
[{"$f":"Emp_Master!B85","v":0}]
[{"$f":"Emp_Master!B86","v":0}]
[{"$f":"Emp_Master!B87","v":0}]
[{"$f":"Emp_Master!B88","v":0}]
[{"$f":"Emp_Master!B89","v":0}]
[{"$f":"Emp_Master!B90","v":0}]
[{"$f":"Emp_Master!B91","v":0}]
[{"$f":"Emp_Master!B92","v":0}]
[{"$f":"Emp_Master!B93","v":0}]
[{"$f":"Emp_Master!B94","v":0}]
[{"$f":"Emp_Master!B95","v":0}]
[{"$f":"Emp_Master!B96","v":0}]
[{"$f":"Emp_Master!B97","v":0}]
[{"$f":"Emp_Master!B98","v":0}]
[{"$f":"Emp_Master!B99","v":0}]
[{"$f":"Emp_Master!B100","v":0}]
[{"$f":"Emp_Master!B101","v":0}]
[{"$f":"Emp_Master!B102","v":0}]
[{"$f":"Emp_Master!B103","v":0}]
[{"$f":"Emp_Master!B104","v":0}]
[{"$f":"Emp_Master!B105","v":0}]
[{"$f":"Emp_Master!B106","v":0}]
[{"$f":"Emp_Master!B107","v":0}]
[{"$f":"Emp_Master!B108","v":0}]
[{"$f":"Emp_Master!B109","v":0}]
[{"$f":"Emp_Master!B110","v":0}]
[{"$f":"Emp_Master!B111","v":0}]
[{"$f":"Emp_Master!B112","v":0}]
[{"$f":"Emp_Master!B113","v":0}]
[{"$f":"Emp_Master!B114","v":0}]
[{"$f":"Emp_Master!B115","v":0}]
[{"$f":"Emp_Master!B116","v":0}]
[{"$f":"Emp_Master!B117","v":0}]
[{"$f":"Emp_Master!B118","v":0}]
[{"$f":"Emp_Master!B119","v":0}]
[{"$f":"Emp_Master!B120","v":0}]
[{"$f":"Emp_Master!B121","v":0}]
[{"$f":"Emp_Master!B122","v":0}]
[{"$f":"Emp_Master!B123","v":0}]
[{"$f":"Emp_Master!B124","v":0}]
[{"$f":"Emp_Master!B125","v":0}]
[{"$f":"Emp_Master!B126","v":0}]
[{"$f":"Emp_Master!B127","v":0}]
[{"$f":"Emp_Master!B128","v":0}]
[{"$f":"Emp_Master!B129","v":0}]
[{"$f":"Emp_Master!B130","v":0}]
[{"$f":"Emp_Master!B131","v":0}]
[{"$f":"Emp_Master!B132","v":0}]
[{"$f":"Emp_Master!B133","v":0}]
[{"$f":"Emp_Master!B134","v":0}]
[{"$f":"Emp_Master!B135","v":0}]
[{"$f":"Emp_Master!B136","v":0}]
[{"$f":"Emp_Master!B137","v":0}]
[{"$f":"Emp_Master!B138","v":0}]
[{"$f":"Emp_Master!B139","v":0}]
[{"$f":"Emp_Master!B140","v":0}]
[{"$f":"Emp_Master!B141","v":0}]
[{"$f":"Emp_Master!B142","v":0}]
[{"$f":"Emp_Master!B143","v":0}]
[{"$f":"Emp_Master!B144","v":0}]
[{"$f":"Emp_Master!B145","v":0}]
[{"$f":"Emp_Master!B146","v":0}]
[{"$f":"Emp_Master!B147","v":0}]
[{"$f":"Emp_Master!B148","v":0}]
[{"$f":"Emp_Master!B149","v":0}]
[{"$f":"Emp_Master!B150","v":0}]
[{"$f":"Emp_Master!B151","v":0}]
[{"$f":"Emp_Master!B152","v":0}]
[{"$f":"Emp_Master!B153","v":0}]
[{"$f":"Emp_Master!B154","v":0}]
[{"$f":"Emp_Master!B155","v":0}]
[{"$f":"Emp_Master!B156","v":0}]
[{"$f":"Emp_Master!B157","v":0}]
[{"$f":"Emp_Master!B158","v":0}]
[{"$f":"Emp_Master!B159","v":0}]
[{"$f":"Emp_Master!B160","v":0}]
[{"$f":"Emp_Master!B161","v":0}]
[{"$f":"Emp_Master!B162","v":0}]
[{"$f":"Emp_Master!B163","v":0}]
[{"$f":"Emp_Master!B164","v":0}]
[{"$f":"Emp_Master!B165","v":0}]
[{"$f":"Emp_Master!B166","v":0}]
[{"$f":"Emp_Master!B167","v":0}]
[{"$f":"Emp_Master!B168","v":0}]
[{"$f":"Emp_Master!B169","v":0}]
[{"$f":"Emp_Master!B170","v":0}]
[{"$f":"Emp_Master!B171","v":0}]
[{"$f":"Emp_Master!B172","v":0}]
[{"$f":"Emp_Master!B173","v":0}]
[{"$f":"Emp_Master!B174","v":0}]
[{"$f":"Emp_Master!B175","v":0}]
[{"$f":"Emp_Master!B176","v":0}]
[{"$f":"Emp_Master!B177","v":0}]
[{"$f":"Emp_Master!B178","v":0}]
[{"$f":"Emp_Master!B179","v":0}]
[{"$f":"Emp_Master!B180","v":0}]
[{"$f":"Emp_Master!B181","v":0}]
[{"$f":"Emp_Master!B182","v":0}]
[{"$f":"Emp_Master!B183","v":0}]
[{"$f":"Emp_Master!B184","v":0}]
[{"$f":"Emp_Master!B185","v":0}]
[{"$f":"Emp_Master!B186","v":0}]
[{"$f":"Emp_Master!B187","v":0}]
[{"$f":"Emp_Master!B188","v":0}]
[{"$f":"Emp_Master!B189","v":0}]
[{"$f":"Emp_Master!B190","v":0}]
[{"$f":"Emp_Master!B191","v":0}]
[{"$f":"Emp_Master!B192","v":0}]
[{"$f":"Emp_Master!B193","v":0}]
[{"$f":"Emp_Master!B194","v":0}]
[{"$f":"Emp_Master!B195","v":0}]
[{"$f":"Emp_Master!B196","v":0}]
[{"$f":"Emp_Master!B197","v":0}]
[{"$f":"Emp_Master!B198","v":0}]
[{"$f":"Emp_Master!B199","v":0}]
[{"$f":"Emp_Master!B200","v":0}]
[{"$f":"Emp_Master!B201","v":0}]
[{"$f":"Emp_Master!B202","v":0}]
[{"$f":"Emp_Master!B203","v":0}]
[{"$f":"Emp_Master!B204","v":0}]
[{"$f":"Emp_Master!B205","v":0}]
[{"$f":"Emp_Master!B206","v":0}]
[{"$f":"Emp_Master!B207","v":0}]
[{"$f":"Emp_Master!B208","v":0}]
[{"$f":"Emp_Master!B209","v":0}]
[{"$f":"Emp_Master!B210","v":0}]
[{"$f":"Emp_Master!B211","v":0}]
[{"$f":"Emp_Master!B212","v":0}]
[{"$f":"Emp_Master!B213","v":0}]
[{"$f":"Emp_Master!B214","v":0}]
[{"$f":"Emp_Master!B215","v":0}]
[{"$f":"Emp_Master!B216","v":0}]
[{"$f":"Emp_Master!B217","v":0}]
[{"$f":"Emp_Master!B218","v":0}]
[{"$f":"Emp_Master!B219","v":0}]
[{"$f":"Emp_Master!B220","v":0}]
[{"$f":"Emp_Master!B221","v":0}]
[{"$f":"Emp_Master!B222","v":0}]
[{"$f":"Emp_Master!B223","v":0}]
[{"$f":"Emp_Master!B224","v":0}]
[{"$f":"Emp_Master!B225","v":0}]
[{"$f":"Emp_Master!B226","v":0}]
[{"$f":"Emp_Master!B227","v":0}]
[{"$f":"Emp_Master!B228","v":0}]
[{"$f":"Emp_Master!B229","v":0}]
[{"$f":"Emp_Master!B230","v":0}]
[{"$f":"Emp_Master!B231","v":0}]
[{"$f":"Emp_Master!B232","v":0}]
[{"$f":"Emp_Master!B233","v":0}]
[{"$f":"Emp_Master!B234","v":0}]
[{"$f":"Emp_Master!B235","v":0}]
[{"$f":"Emp_Master!B236","v":0}]
[{"$f":"Emp_Master!B237","v":0}]
[{"$f":"Emp_Master!B238","v":0}]
[{"$f":"Emp_Master!B239","v":0}]
[{"$f":"Emp_Master!B240","v":0}]
[{"$f":"Emp_Master!B241","v":0}]
[{"$f":"Emp_Master!B242","v":0}]
[{"$f":"Emp_Master!B243","v":0}]
[{"$f":"Emp_Master!B244","v":0}]
[{"$f":"Emp_Master!B245","v":0}]
[{"$f":"Emp_Master!B246","v":0}]
[{"$f":"Emp_Master!B247","v":0}]
[{"$f":"Emp_Master!B248","v":0}]
[{"$f":"Emp_Master!B249","v":0}]
[{"$f":"Emp_Master!B250","v":0}]
[{"$f":"Emp_Master!B251","v":0}]
[{"$f":"Emp_Master!B252","v":0}]
[{"$f":"Emp_Master!B253","v":0}]
[{"$f":"Emp_Master!B254","v":0}]
[{"$f":"Emp_Master!B255","v":0}]
[{"$f":"Emp_Master!B256","v":0}]
[{"$f":"Emp_Master!B257","v":0}]
[{"$f":"Emp_Master!B258","v":0}]
[{"$f":"Emp_Master!B259","v":0}]
[{"$f":"Emp_Master!B260","v":0}]
[{"$f":"Emp_Master!B261","v":0}]
[{"$f":"Emp_Master!B262","v":0}]
[{"$f":"Emp_Master!B263","v":0}]
[{"$f":"Emp_Master!B264","v":0}]
[{"$f":"Emp_Master!B265","v":0}]
[{"$f":"Emp_Master!B266","v":0}]
[{"$f":"Emp_Master!B267","v":0}]
[{"$f":"Emp_Master!B268","v":0}]
[{"$f":"Emp_Master!B269","v":0}]
[{"$f":"Emp_Master!B270","v":0}]
[{"$f":"Emp_Master!B271","v":0}]
[{"$f":"Emp_Master!B272","v":0}]
[{"$f":"Emp_Master!B273","v":0}]
[{"$f":"Emp_Master!B274","v":0}]
[{"$f":"Emp_Master!B275","v":0}]
[{"$f":"Emp_Master!B276","v":0}]
[{"$f":"Emp_Master!B277","v":0}]
[{"$f":"Emp_Master!B278","v":0}]
[{"$f":"Emp_Master!B279","v":0}]
[{"$f":"Emp_Master!B280","v":0}]
[{"$f":"Emp_Master!B281","v":0}]
[{"$f":"Emp_Master!B282","v":0}]
[{"$f":"Emp_Master!B283","v":0}]
[{"$f":"Emp_Master!B284","v":0}]
[{"$f":"Emp_Master!B285","v":0}]
[{"$f":"Emp_Master!B286","v":0}]
[{"$f":"Emp_Master!B287","v":0}]
[{"$f":"Emp_Master!B288","v":0}]
[{"$f":"Emp_Master!B289","v":0}]
[{"$f":"Emp_Master!B290","v":0}]
[{"$f":"Emp_Master!B291","v":0}]
[{"$f":"Emp_Master!B292","v":0}]
[{"$f":"Emp_Master!B293","v":0}]
[{"$f":"Emp_Master!B294","v":0}]
[{"$f":"Emp_Master!B295","v":0}]
[{"$f":"Emp_Master!B296","v":0}]
[{"$f":"Emp_Master!B297","v":0}]
[{"$f":"Emp_Master!B298","v":0}]
[{"$f":"Emp_Master!B299","v":0}]
[{"$f":"Emp_Master!B300","v":0}]
[{"$f":"Emp_Master!B301","v":0}]
[{"$f":"Emp_Master!B302","v":0}]
[{"$f":"Emp_Master!B303","v":0}]
[{"$f":"Emp_Master!B304","v":0}]
[{"$f":"Emp_Master!B305","v":0}]
[{"$f":"Emp_Master!B306","v":0}]
[{"$f":"Emp_Master!B307","v":0}]
[{"$f":"Emp_Master!B308","v":0}]
[{"$f":"Emp_Master!B309","v":0}]
[{"$f":"Emp_Master!B310","v":0}]
[{"$f":"Emp_Master!B311","v":0}]
[{"$f":"Emp_Master!B312","v":0}]
[{"$f":"Emp_Master!B313","v":0}]
[{"$f":"Emp_Master!B314","v":0}]
[{"$f":"Emp_Master!B315","v":0}]
[{"$f":"Emp_Master!B316","v":0}]
[{"$f":"Emp_Master!B317","v":0}]
[{"$f":"Emp_Master!B318","v":0}]
[{"$f":"Emp_Master!B319","v":0}]
[{"$f":"Emp_Master!B320","v":0}]
[{"$f":"Emp_Master!B321","v":0}]
[{"$f":"Emp_Master!B322","v":0}]
[{"$f":"Emp_Master!B323","v":0}]
[{"$f":"Emp_Master!B324","v":0}]
[{"$f":"Emp_Master!B325","v":0}]
[{"$f":"Emp_Master!B326","v":0}]
[{"$f":"Emp_Master!B327","v":0}]
[{"$f":"Emp_Master!B328","v":0}]
[{"$f":"Emp_Master!B329","v":0}]
[{"$f":"Emp_Master!B330","v":0}]
[{"$f":"Emp_Master!B331","v":0}]
[{"$f":"Emp_Master!B332","v":0}]
[{"$f":"Emp_Master!B333","v":0}]
[{"$f":"Emp_Master!B334","v":0}]
[{"$f":"Emp_Master!B335","v":0}]
[{"$f":"Emp_Master!B336","v":0}]
[{"$f":"Emp_Master!B337","v":0}]
[{"$f":"Emp_Master!B338","v":0}]
[{"$f":"Emp_Master!B339","v":0}]
[{"$f":"Emp_Master!B340","v":0}]
[{"$f":"Emp_Master!B341","v":0}]
[{"$f":"Emp_Master!B342","v":0}]
[{"$f":"Emp_Master!B343","v":0}]
[{"$f":"Emp_Master!B344","v":0}]
[{"$f":"Emp_Master!B345","v":0}]
[{"$f":"Emp_Master!B346","v":0}]
[{"$f":"Emp_Master!B347","v":0}]
[{"$f":"Emp_Master!B348","v":0}]
[{"$f":"Emp_Master!B349","v":0}]
[{"$f":"Emp_Master!B350","v":0}]
[{"$f":"Emp_Master!B351","v":0}]
[{"$f":"Emp_Master!B352","v":0}]
[{"$f":"Emp_Master!B353","v":0}]
[{"$f":"Emp_Master!B354","v":0}]
[{"$f":"Emp_Master!B355","v":0}]
[{"$f":"Emp_Master!B356","v":0}]
[{"$f":"Emp_Master!B357","v":0}]
[{"$f":"Emp_Master!B358","v":0}]
[{"$f":"Emp_Master!B359","v":0}]
[{"$f":"Emp_Master!B360","v":0}]
[{"$f":"Emp_Master!B361","v":0}]
[{"$f":"Emp_Master!B362","v":0}]
[{"$f":"Emp_Master!B363","v":0}]
[{"$f":"Emp_Master!B364","v":0}]
[{"$f":"Emp_Master!B365","v":0}]
[{"$f":"Emp_Master!B366","v":0}]
[{"$f":"Emp_Master!B367","v":0}]
[{"$f":"Emp_Master!B368","v":0}]
[{"$f":"Emp_Master!B369","v":0}]
[{"$f":"Emp_Master!B370","v":0}]
[{"$f":"Emp_Master!B371","v":0}]
[{"$f":"Emp_Master!B372","v":0}]
[{"$f":"Emp_Master!B373","v":0}]
[{"$f":"Emp_Master!B374","v":0}]
[{"$f":"Emp_Master!B375","v":0}]
[{"$f":"Emp_Master!B376","v":0}]
[{"$f":"Emp_Master!B377","v":0}]
[{"$f":"Emp_Master!B378","v":0}]
[{"$f":"Emp_Master!B379","v":0}]
[{"$f":"Emp_Master!B380","v":0}]
[{"$f":"Emp_Master!B381","v":0}]
[{"$f":"Emp_Master!B382","v":0}]
[{"$f":"Emp_Master!B383","v":0}]
[{"$f":"Emp_Master!B384","v":0}]
[{"$f":"Emp_Master!B385","v":0}]
[{"$f":"Emp_Master!B386","v":0}]
[{"$f":"Emp_Master!B387","v":0}]
[{"$f":"Emp_Master!B388","v":0}]
[{"$f":"Emp_Master!B389","v":0}]
[{"$f":"Emp_Master!B390","v":0}]
[{"$f":"Emp_Master!B391","v":0}]
[{"$f":"Emp_Master!B392","v":0}]
[{"$f":"Emp_Master!B393","v":0}]
[{"$f":"Emp_Master!B394","v":0}]
[{"$f":"Emp_Master!B395","v":0}]
[{"$f":"Emp_Master!B396","v":0}]
[{"$f":"Emp_Master!B397","v":0}]
[{"$f":"Emp_Master!B398","v":0}]
[{"$f":"Emp_Master!B399","v":0}]
[{"$f":"Emp_Master!B400","v":0}]
[{"$f":"Emp_Master!B401","v":0}]
[{"$f":"Emp_Master!B402","v":0}]
[{"$f":"Emp_Master!B403","v":0}]
[{"$f":"Emp_Master!B404","v":0}]
[{"$f":"Emp_Master!B405","v":0}]
[{"$f":"Emp_Master!B406","v":0}]
[{"$f":"Emp_Master!B407","v":0}]
[{"$f":"Emp_Master!B408","v":0}]
[{"$f":"Emp_Master!B409","v":0}]
[{"$f":"Emp_Master!B410","v":0}]
[{"$f":"Emp_Master!B411","v":0}]
[{"$f":"Emp_Master!B412","v":0}]
[{"$f":"Emp_Master!B413","v":0}]
[{"$f":"Emp_Master!B414","v":0}]
[{"$f":"Emp_Master!B415","v":0}]
[{"$f":"Emp_Master!B416","v":0}]
[{"$f":"Emp_Master!B417","v":0}]
[{"$f":"Emp_Master!B418","v":0}]
[{"$f":"Emp_Master!B419","v":0}]
[{"$f":"Emp_Master!B420","v":0}]
[{"$f":"Emp_Master!B421","v":0}]
[{"$f":"Emp_Master!B422","v":0}]
[{"$f":"Emp_Master!B423","v":0}]
[{"$f":"Emp_Master!B424","v":0}]
[{"$f":"Emp_Master!B425","v":0}]
[{"$f":"Emp_Master!B426","v":0}]
[{"$f":"Emp_Master!B427","v":0}]
[{"$f":"Emp_Master!B428","v":0}]
[{"$f":"Emp_Master!B429","v":0}]
[{"$f":"Emp_Master!B430","v":0}]
[{"$f":"Emp_Master!B431","v":0}]
[{"$f":"Emp_Master!B432","v":0}]
[{"$f":"Emp_Master!B433","v":0}]
[{"$f":"Emp_Master!B434","v":0}]
[{"$f":"Emp_Master!B435","v":0}]
[{"$f":"Emp_Master!B436","v":0}]
[{"$f":"Emp_Master!B437","v":0}]
[{"$f":"Emp_Master!B438","v":0}]
[{"$f":"Emp_Master!B439","v":0}]
[{"$f":"Emp_Master!B440","v":0}]
[{"$f":"Emp_Master!B441","v":0}]
[{"$f":"Emp_Master!B442","v":0}]
[{"$f":"Emp_Master!B443","v":0}]
[{"$f":"Emp_Master!B444","v":0}]
[{"$f":"Emp_Master!B445","v":0}]
[{"$f":"Emp_Master!B446","v":0}]
[{"$f":"Emp_Master!B447","v":0}]
[{"$f":"Emp_Master!B448","v":0}]
[{"$f":"Emp_Master!B449","v":0}]

{"sheet":"Salary_Entitlement","index":4,"n_rows":1001,"n_cols":16,"rows_kept":1001,"cut":false,"hidden":true,"merged":[]}
[]
[1,{"$f":"+A2+1","v":2},{"$f":"+B2+1","v":3},4,5,6,7,8,9,10,11,{"$f":"+K2+1","v":12},{"$f":"+L2+1","v":13},{"$f":"+M2+1","v":14},{"$f":"+N2+1","v":15},{"$f":"+O2+1","v":16}]
["Salary Month","Salary Year","Pay Scale Applicable","Emp_Code","Emp_Name","Gross Salary Scale (Rs.)","Medical Reimbursement (Rs.)","Telephone Reimbursement (Rs.)","Other Reimbursement (Rs.)","Leave Encashment (Rs.)","Perquisites (Rs.)","Increment if any (Rs.)","Working Days (Nos.)","Paid Days (Nos.)","Absent Days (Nos.)","leave Encashment Days (Nos.)"]
[null,null,null,null,{"$f":"VLOOKUP(D4,Emp_Master!$B$3:$C$600,2)","v":{"$error":"#N/A"}},{"$f":"INDEX(Salary_Structure!$A$3:$J$501,MATCH(1,(Salary_Structure!$A$3:$A$501=Salary_Entitlement!D4)*(Salary_Structure!$J$3:J501=Salary_Entitlement!C4),0),9)","v":0}]
[null,null,null,null,{"$f":"VLOOKUP(D5,Emp_Master!$B$3:$C$600,2)","v":{"$error":"#N/A"}},{"$f":"INDEX(Salary_Structure!$A$3:$J$501,MATCH(1,(Salary_Structure!$A$3:$A$501=Salary_Entitlement!D5)*(Salary_Structure!$J$3:J502=Salary_Entitlement!C5),0),9)","v":0}]
[null,null,null,null,{"$f":"VLOOKUP(D6,Emp_Master!$B$3:$C$600,2)","v":{"$error":"#N/A"}},{"$f":"INDEX(Salary_Structure!$A$3:$J$501,MATCH(1,(Salary_Structure!$A$3:$A$501=Salary_Entitlement!D6)*(Salary_Structure!$J$3:J503=Salary_Entitlement!C6),0),9)","v":0}]
[null,null,null,null,{"$f":"VLOOKUP(D7,Emp_Master!$B$3:$C$600,2)","v":{"$error":"#N/A"}},{"$f":"INDEX(Salary_Structure!$A$3:$J$501,MATCH(1,(Salary_Structure!$A$3:$A$501=Salary_Entitlement!D7)*(Salary_Structure!$J$3:J504=Salary_Entitlement!C7),0),9)","v":0}]
[null,null,null,null,{"$f":"VLOOKUP(D8,Emp_Master!$B$3:$C$600,2)","v":{"$error":"#N/A"}},{"$f":"INDEX(Salary_Structure!$A$3:$J$501,MATCH(1,(Salary_Structure!$A$3:$A$501=Salary_Entitlement!D8)*(Salary_Structure!$J$3:J505=Salary_Entitlement!C8),0),9)","v":0}]
[null,null,null,null,{"$f":"VLOOKUP(D9,Emp_Master!$B$3:$C$600,2)","v":{"$error":"#N/A"}},{"$f":"INDEX(Salary_Structure!$A$3:$J$501,MATCH(1,(Salary_Structure!$A$3:$A$501=Salary_Entitlement!D9)*(Salary_Structure!$J$3:J506=Salary_Entitlement!C9),0),9)","v":0}]
[null,null,null,null,{"$f":"VLOOKUP(D10,Emp_Master!$B$3:$C$600,2)","v":{"$error":"#N/A"}},{"$f":"INDEX(Salary_Structure!$A$3:$J$501,MATCH(1,(Salary_Structure!$A$3:$A$501=Salary_Entitlement!D10)*(Salary_Structure!$J$3:J507=Salary_Entitlement!C10),0),9)","v":0}]
[null,null,null,null,{"$f":"VLOOKUP(D11,Emp_Master!$B$3:$C$600,2)","v":{"$error":"#N/A"}},{"$f":"INDEX(Salary_Structure!$A$3:$J$501,MATCH(1,(Salary_Structure!$A$3:$A$501=Salary_Entitlement!D11)*(Salary_Structure!$J$3:J508=Salary_Entitlement!C11),0),9)","v":0}]
[null,null,null,null,{"$f":"VLOOKUP(D12,Emp_Master!$B$3:$C$600,2)","v":{"$error":"#N/A"}},{"$f":"INDEX(Salary_Structure!$A$3:$J$501,MATCH(1,(Salary_Structure!$A$3:$A$501=Salary_Entitlement!D12)*(Salary_Structure!$J$3:J509=Salary_Entitlement!C12),0),9)","v":0}]
[null,null,null,null,{"$f":"VLOOKUP(D13,Emp_Master!$B$3:$C$600,2)","v":{"$error":"#N/A"}},{"$f":"INDEX(Salary_Structure!$A$3:$J$501,MATCH(1,(Salary_Structure!$A$3:$A$501=Salary_Entitlement!D13)*(Salary_Structure!$J$3:J510=Salary_Entitlement!C13),0),9)","v":0}]
[null,null,null,null,{"$f":"VLOOKUP(D14,Emp_Master!$B$3:$C$600,2)","v":{"$error":"#N/A"}},{"$f":"INDEX(Salary_Structure!$A$3:$J$501,MATCH(1,(Salary_Structure!$A$3:$A$501=Salary_Entitlement!D14)*(Salary_Structure!$J$3:J511=Salary_Entitlement!C14),0),9)","v":0}]
[null,null,null,null,{"$f":"VLOOKUP(D15,Emp_Master!$B$3:$C$600,2)","v":{"$error":"#N/A"}},{"$f":"INDEX(Salary_Structure!$A$3:$J$501,MATCH(1,(Salary_Structure!$A$3:$A$501=Salary_Entitlement!D15)*(Salary_Structure!$J$3:J512=Salary_Entitlement!C15),0),9)","v":0}]
[null,null,null,null,{"$f":"VLOOKUP(D16,Emp_Master!$B$3:$C$600,2)","v":{"$error":"#N/A"}},{"$f":"INDEX(Salary_Structure!$A$3:$J$501,MATCH(1,(Salary_Structure!$A$3:$A$501=Salary_Entitlement!D16)*(Salary_Structure!$J$3:J513=Salary_Entitlement!C16),0),9)","v":0}]
[null,null,null,null,{"$f":"VLOOKUP(D17,Emp_Master!$B$3:$C$600,2)","v":{"$error":"#N/A"}},{"$f":"INDEX(Salary_Structure!$A$3:$J$501,MATCH(1,(Salary_Structure!$A$3:$A$501=Salary_Entitlement!D17)*(Salary_Structure!$J$3:J514=Salary_Entitlement!C17),0),9)","v":0}]
[null,null,null,null,{"$f":"VLOOKUP(D18,Emp_Master!$B$3:$C$600,2)","v":{"$error":"#N/A"}},{"$f":"INDEX(Salary_Structure!$A$3:$J$501,MATCH(1,(Salary_Structure!$A$3:$A$501=Salary_Entitlement!D18)*(Salary_Structure!$J$3:J515=Salary_Entitlement!C18),0),9)","v":0}]
[null,null,null,null,{"$f":"VLOOKUP(D19,Emp_Master!$B$3:$C$600,2)","v":{"$error":"#N/A"}},{"$f":"INDEX(Salary_Structure!$A$3:$J$501,MATCH(1,(Salary_Structure!$A$3:$A$501=Salary_Entitlement!D19)*(Salary_Structure!$J$3:J516=Salary_Entitlement!C19),0),9)","v":0}]
[null,null,null,null,{"$f":"VLOOKUP(D20,Emp_Master!$B$3:$C$600,2)","v":{"$error":"#N/A"}},{"$f":"INDEX(Salary_Structure!$A$3:$J$501,MATCH(1,(Salary_Structure!$A$3:$A$501=Salary_Entitlement!D20)*(Salary_Structure!$J$3:J517=Salary_Entitlement!C20),0),9)","v":0}]
[null,null,null,null,{"$f":"VLOOKUP(D21,Emp_Master!$B$3:$C$600,2)","v":{"$error":"#N/A"}},{"$f":"INDEX(Salary_Structure!$A$3:$J$501,MATCH(1,(Salary_Structure!$A$3:$A$501=Salary_Entitlement!D21)*(Salary_Structure!$J$3:J518=Salary_Entitlement!C21),0),9)","v":0}]
[null,null,null,null,{"$f":"VLOOKUP(D22,Emp_Master!$B$3:$C$600,2)","v":{"$error":"#N/A"}},{"$f":"INDEX(Salary_Structure!$A$3:$J$501,MATCH(1,(Salary_Structure!$A$3:$A$501=Salary_Entitlement!D22)*(Salary_Structure!$J$3:J519=Salary_Entitlement!C22),0),9)","v":0}]
[null,null,null,null,{"$f":"VLOOKUP(D23,Emp_Master!$B$3:$C$600,2)","v":{"$error":"#N/A"}},{"$f":"INDEX(Salary_Structure!$A$3:$J$501,MATCH(1,(Salary_Structure!$A$3:$A$501=Salary_Entitlement!D23)*(Salary_Structure!$J$3:J520=Salary_Entitlement!C23),0),9)","v":0}]
[null,null,null,null,{"$f":"VLOOKUP(D24,Emp_Master!$B$3:$C$600,2)","v":{"$error":"#N/A"}},{"$f":"INDEX(Salary_Structure!$A$3:$J$501,MATCH(1,(Salary_Structure!$A$3:$A$501=Salary_Entitlement!D24)*(Salary_Structure!$J$3:J521=Salary_Entitlement!C24),0),9)","v":0}]
[null,null,null,null,{"$f":"VLOOKUP(D25,Emp_Master!$B$3:$C$600,2)","v":{"$error":"#N/A"}},{"$f":"INDEX(Salary_Structure!$A$3:$J$501,MATCH(1,(Salary_Structure!$A$3:$A$501=Salary_Entitlement!D25)*(Salary_Structure!$J$3:J522=Salary_Entitlement!C25),0),9)","v":0}]
[null,null,null,null,{"$f":"VLOOKUP(D26,Emp_Master!$B$3:$C$600,2)","v":{"$error":"#N/A"}},{"$f":"INDEX(Salary_Structure!$A$3:$J$501,MATCH(1,(Salary_Structure!$A$3:$A$501=Salary_Entitlement!D26)*(Salary_Structure!$J$3:J523=Salary_Entitlement!C26),0),9)","v":0}]
[null,null,null,null,{"$f":"VLOOKUP(D27,Emp_Master!$B$3:$C$600,2)","v":{"$error":"#N/A"}},{"$f":"INDEX(Salary_Structure!$A$3:$J$501,MATCH(1,(Salary_Structure!$A$3:$A$501=Salary_Entitlement!D27)*(Salary_Structure!$J$3:J524=Salary_Entitlement!C27),0),9)","v":0}]
[null,null,null,null,{"$f":"VLOOKUP(D28,Emp_Master!$B$3:$C$600,2)","v":{"$error":"#N/A"}},{"$f":"INDEX(Salary_Structure!$A$3:$J$501,MATCH(1,(Salary_Structure!$A$3:$A$501=Salary_Entitlement!D28)*(Salary_Structure!$J$3:J525=Salary_Entitlement!C28),0),9)","v":0}]
[null,null,null,null,{"$f":"VLOOKUP(D29,Emp_Master!$B$3:$C$600,2)","v":{"$error":"#N/A"}},{"$f":"INDEX(Salary_Structure!$A$3:$J$501,MATCH(1,(Salary_Structure!$A$3:$A$501=Salary_Entitlement!D29)*(Salary_Structure!$J$3:J526=Salary_Entitlement!C29),0),9)","v":0}]
[null,null,null,null,{"$f":"VLOOKUP(D30,Emp_Master!$B$3:$C$600,2)","v":{"$error":"#N/A"}},{"$f":"INDEX(Salary_Structure!$A$3:$J$501,MATCH(1,(Salary_Structure!$A$3:$A$501=Salary_Entitlement!D30)*(Salary_Structure!$J$3:J527=Salary_Entitlement!C30),0),9)","v":0}]
[null,null,null,null,{"$f":"VLOOKUP(D31,Emp_Master!$B$3:$C$600,2)","v":{"$error":"#N/A"}},{"$f":"INDEX(Salary_Structure!$A$3:$J$501,MATCH(1,(Salary_Structure!$A$3:$A$501=Salary_Entitlement!D31)*(Salary_Structure!$J$3:J528=Salary_Entitlement!C31),0),9)","v":0}]
[null,null,null,null,{"$f":"VLOOKUP(D32,Emp_Master!$B$3:$C$600,2)","v":{"$error":"#N/A"}},{"$f":"INDEX(Salary_Structure!$A$3:$J$501,MATCH(1,(Salary_Structure!$A$3:$A$501=Salary_Entitlement!D32)*(Salary_Structure!$J$3:J529=Salary_Entitlement!C32),0),9)","v":0}]
[null,null,null,null,{"$f":"VLOOKUP(D33,Emp_Master!$B$3:$C$600,2)","v":{"$error":"#N/A"}},{"$f":"INDEX(Salary_Structure!$A$3:$J$501,MATCH(1,(Salary_Structure!$A$3:$A$501=Salary_Entitlement!D33)*(Salary_Structure!$J$3:J530=Salary_Entitlement!C33),0),9)","v":0}]
[null,null,null,null,{"$f":"VLOOKUP(D34,Emp_Master!$B$3:$C$600,2)","v":{"$error":"#N/A"}},{"$f":"INDEX(Salary_Structure!$A$3:$J$501,MATCH(1,(Salary_Structure!$A$3:$A$501=Salary_Entitlement!D34)*(Salary_Structure!$J$3:J531=Salary_Entitlement!C34),0),9)","v":0}]
[null,null,null,null,{"$f":"VLOOKUP(D35,Emp_Master!$B$3:$C$600,2)","v":{"$error":"#N/A"}},{"$f":"INDEX(Salary_Structure!$A$3:$J$501,MATCH(1,(Salary_Structure!$A$3:$A$501=Salary_Entitlement!D35)*(Salary_Structure!$J$3:J532=Salary_Entitlement!C35),0),9)","v":0}]
[null,null,null,null,{"$f":"VLOOKUP(D36,Emp_Master!$B$3:$C$600,2)","v":{"$error":"#N/A"}},{"$f":"INDEX(Salary_Structure!$A$3:$J$501,MATCH(1,(Salary_Structure!$A$3:$A$501=Salary_Entitlement!D36)*(Salary_Structure!$J$3:J533=Salary_Entitlement!C36),0),9)","v":0}]
[null,null,null,null,{"$f":"VLOOKUP(D37,Emp_Master!$B$3:$C$600,2)","v":{"$error":"#N/A"}},{"$f":"INDEX(Salary_Structure!$A$3:$J$501,MATCH(1,(Salary_Structure!$A$3:$A$501=Salary_Entitlement!D37)*(Salary_Structure!$J$3:J534=Salary_Entitlement!C37),0),9)","v":0}]
[null,null,null,null,{"$f":"VLOOKUP(D38,Emp_Master!$B$3:$C$600,2)","v":{"$error":"#N/A"}},{"$f":"INDEX(Salary_Structure!$A$3:$J$501,MATCH(1,(Salary_Structure!$A$3:$A$501=Salary_Entitlement!D38)*(Salary_Structure!$J$3:J535=Salary_Entitlement!C38),0),9)","v":0}]
[null,null,null,null,{"$f":"VLOOKUP(D39,Emp_Master!$B$3:$C$600,2)","v":{"$error":"#N/A"}},{"$f":"INDEX(Salary_Structure!$A$3:$J$501,MATCH(1,(Salary_Structure!$A$3:$A$501=Salary_Entitlement!D39)*(Salary_Structure!$J$3:J536=Salary_Entitlement!C39),0),9)","v":0}]
[null,null,null,null,{"$f":"VLOOKUP(D40,Emp_Master!$B$3:$C$600,2)","v":{"$error":"#N/A"}},{"$f":"INDEX(Salary_Structure!$A$3:$J$501,MATCH(1,(Salary_Structure!$A$3:$A$501=Salary_Entitlement!D40)*(Salary_Structure!$J$3:J537=Salary_Entitlement!C40),0),9)","v":0}]
[null,null,null,null,{"$f":"VLOOKUP(D41,Emp_Master!$B$3:$C$600,2)","v":{"$error":"#N/A"}},{"$f":"INDEX(Salary_Structure!$A$3:$J$501,MATCH(1,(Salary_Structure!$A$3:$A$501=Salary_Entitlement!D41)*(Salary_Structure!$J$3:J538=Salary_Entitlement!C41),0),9)","v":0}]
[null,null,null,null,{"$f":"VLOOKUP(D42,Emp_Master!$B$3:$C$600,2)","v":{"$error":"#N/A"}},{"$f":"INDEX(Salary_Structure!$A$3:$J$501,MATCH(1,(Salary_Structure!$A$3:$A$501=Salary_Entitlement!D42)*(Salary_Structure!$J$3:J539=Salary_Entitlement!C42),0),9)","v":0}]
[null,null,null,null,{"$f":"VLOOKUP(D43,Emp_Master!$B$3:$C$600,2)","v":{"$error":"#N/A"}},{"$f":"INDEX(Salary_Structure!$A$3:$J$501,MATCH(1,(Salary_Structure!$A$3:$A$501=Salary_Entitlement!D43)*(Salary_Structure!$J$3:J540=Salary_Entitlement!C43),0),9)","v":0}]
[null,null,null,null,{"$f":"VLOOKUP(D44,Emp_Master!$B$3:$C$600,2)","v":{"$error":"#N/A"}},{"$f":"INDEX(Salary_Structure!$A$3:$J$501,MATCH(1,(Salary_Structure!$A$3:$A$501=Salary_Entitlement!D44)*(Salary_Structure!$J$3:J541=Salary_Entitlement!C44),0),9)","v":0}]
[null,null,null,null,{"$f":"VLOOKUP(D45,Emp_Master!$B$3:$C$600,2)","v":{"$error":"#N/A"}},{"$f":"INDEX(Salary_Structure!$A$3:$J$501,MATCH(1,(Salary_Structure!$A$3:$A$501=Salary_Entitlement!D45)*(Salary_Structure!$J$3:J542=Salary_Entitlement!C45),0),9)","v":0}]
[null,null,null,null,{"$f":"VLOOKUP(D46,Emp_Master!$B$3:$C$600,2)","v":{"$error":"#N/A"}},{"$f":"INDEX(Salary_Structure!$A$3:$J$501,MATCH(1,(Salary_Structure!$A$3:$A$501=Salary_Entitlement!D46)*(Salary_Structure!$J$3:J543=Salary_Entitlement!C46),0),9)","v":0}]
[null,null,null,null,{"$f":"VLOOKUP(D47,Emp_Master!$B$3:$C$600,2)","v":{"$error":"#N/A"}},{"$f":"INDEX(Salary_Structure!$A$3:$J$501,MATCH(1,(Salary_Structure!$A$3:$A$501=Salary_Entitlement!D47)*(Salary_Structure!$J$3:J544=Salary_Entitlement!C47),0),9)","v":0}]
[null,null,null,null,{"$f":"VLOOKUP(D48,Emp_Master!$B$3:$C$600,2)","v":{"$error":"#N/A"}},{"$f":"INDEX(Salary_Structure!$A$3:$J$501,MATCH(1,(Salary_Structure!$A$3:$A$501=Salary_Entitlement!D48)*(Salary_Structure!$J$3:J545=Salary_Entitlement!C48),0),9)","v":0}]
[null,null,null,null,{"$f":"VLOOKUP(D49,Emp_Master!$B$3:$C$600,2)","v":{"$error":"#N/A"}},{"$f":"INDEX(Salary_Structure!$A$3:$J$501,MATCH(1,(Salary_Structure!$A$3:$A$501=Salary_Entitlement!D49)*(Salary_Structure!$J$3:J546=Salary_Entitlement!C49),0),9)","v":0}]
[null,null,null,null,{"$f":"VLOOKUP(D50,Emp_Master!$B$3:$C$600,2)","v":{"$error":"#N/A"}},{"$f":"INDEX(Salary_Structure!$A$3:$J$501,MATCH(1,(Salary_Structure!$A$3:$A$501=Salary_Entitlement!D50)*(Salary_Structure!$J$3:J547=Salary_Entitlement!C50),0),9)","v":0}]
[null,null,null,null,{"$f":"VLOOKUP(D51,Emp_Master!$B$3:$C$600,2)","v":{"$error":"#N/A"}},{"$f":"INDEX(Salary_Structure!$A$3:$J$501,MATCH(1,(Salary_Structure!$A$3:$A$501=Salary_Entitlement!D51)*(Salary_Structure!$J$3:J548=Salary_Entitlement!C51),0),9)","v":0}]
[null,null,null,null,{"$f":"VLOOKUP(D52,Emp_Master!$B$3:$C$600,2)","v":{"$error":"#N/A"}},{"$f":"INDEX(Salary_Structure!$A$3:$J$501,MATCH(1,(Salary_Structure!$A$3:$A$501=Salary_Entitlement!D52)*(Salary_Structure!$J$3:J549=Salary_Entitlement!C52),0),9)","v":0}]
[null,null,null,null,{"$f":"VLOOKUP(D53,Emp_Master!$B$3:$C$600,2)","v":{"$error":"#N/A"}},{"$f":"INDEX(Salary_Structure!$A$3:$J$501,MATCH(1,(Salary_Structure!$A$3:$A$501=Salary_Entitlement!D53)*(Salary_Structure!$J$3:J550=Salary_Entitlement!C53),0),9)","v":0}]
[null,null,null,null,{"$f":"VLOOKUP(D54,Emp_Master!$B$3:$C$600,2)","v":{"$error":"#N/A"}},{"$f":"INDEX(Salary_Structure!$A$3:$J$501,MATCH(1,(Salary_Structure!$A$3:$A$501=Salary_Entitlement!D54)*(Salary_Structure!$J$3:J551=Salary_Entitlement!C54),0),9)","v":0}]
[null,null,null,null,{"$f":"VLOOKUP(D55,Emp_Master!$B$3:$C$600,2)","v":{"$error":"#N/A"}},{"$f":"INDEX(Salary_Structure!$A$3:$J$501,MATCH(1,(Salary_Structure!$A$3:$A$501=Salary_Entitlement!D55)*(Salary_Structure!$J$3:J552=Salary_Entitlement!C55),0),9)","v":0}]
[null,null,null,null,{"$f":"VLOOKUP(D56,Emp_Master!$B$3:$C$600,2)","v":{"$error":"#N/A"}},{"$f":"INDEX(Salary_Structure!$A$3:$J$501,MATCH(1,(Salary_Structure!$A$3:$A$501=Salary_Entitlement!D56)*(Salary_Structure!$J$3:J553=Salary_Entitlement!C56),0),9)","v":0}]
[null,null,null,null,{"$f":"VLOOKUP(D57,Emp_Master!$B$3:$C$600,2)","v":{"$error":"#N/A"}},{"$f":"INDEX(Salary_Structure!$A$3:$J$501,MATCH(1,(Salary_Structure!$A$3:$A$501=Salary_Entitlement!D57)*(Salary_Structure!$J$3:J554=Salary_Entitlement!C57),0),9)","v":0}]
[null,null,null,null,{"$f":"VLOOKUP(D58,Emp_Master!$B$3:$C$600,2)","v":{"$error":"#N/A"}},{"$f":"INDEX(Salary_Structure!$A$3:$J$501,MATCH(1,(Salary_Structure!$A$3:$A$501=Salary_Entitlement!D58)*(Salary_Structure!$J$3:J555=Salary_Entitlement!C58),0),9)","v":0}]
[null,null,null,null,{"$f":"VLOOKUP(D59,Emp_Master!$B$3:$C$600,2)","v":{"$error":"#N/A"}},{"$f":"INDEX(Salary_Structure!$A$3:$J$501,MATCH(1,(Salary_Structure!$A$3:$A$501=Salary_Entitlement!D59)*(Salary_Structure!$J$3:J556=Salary_Entitlement!C59),0),9)","v":0}]
[null,null,null,null,{"$f":"VLOOKUP(D60,Emp_Master!$B$3:$C$600,2)","v":{"$error":"#N/A"}},{"$f":"INDEX(Salary_Structure!$A$3:$J$501,MATCH(1,(Salary_Structure!$A$3:$A$501=Salary_Entitlement!D60)*(Salary_Structure!$J$3:J557=Salary_Entitlement!C60),0),9)","v":0}]
[null,null,null,null,{"$f":"VLOOKUP(D61,Emp_Master!$B$3:$C$600,2)","v":{"$error":"#N/A"}},{"$f":"INDEX(Salary_Structure!$A$3:$J$501,MATCH(1,(Salary_Structure!$A$3:$A$501=Salary_Entitlement!D61)*(Salary_Structure!$J$3:J558=Salary_Entitlement!C61),0),9)","v":0}]
[null,null,null,null,{"$f":"VLOOKUP(D62,Emp_Master!$B$3:$C$600,2)","v":{"$error":"#N/A"}},{"$f":"INDEX(Salary_Structure!$A$3:$J$501,MATCH(1,(Salary_Structure!$A$3:$A$501=Salary_Entitlement!D62)*(Salary_Structure!$J$3:J559=Salary_Entitlement!C62),0),9)","v":0}]
[null,null,null,null,{"$f":"VLOOKUP(D63,Emp_Master!$B$3:$C$600,2)","v":{"$error":"#N/A"}},{"$f":"INDEX(Salary_Structure!$A$3:$J$501,MATCH(1,(Salary_Structure!$A$3:$A$501=Salary_Entitlement!D63)*(Salary_Structure!$J$3:J560=Salary_Entitlement!C63),0),9)","v":0}]
[null,null,null,null,{"$f":"VLOOKUP(D64,Emp_Master!$B$3:$C$600,2)","v":{"$error":"#N/A"}},{"$f":"INDEX(Salary_Structure!$A$3:$J$501,MATCH(1,(Salary_Structure!$A$3:$A$501=Salary_Entitlement!D64)*(Salary_Structure!$J$3:J561=Salary_Entitlement!C64),0),9)","v":0}]
[null,null,null,null,{"$f":"VLOOKUP(D65,Emp_Master!$B$3:$C$600,2)","v":{"$error":"#N/A"}},{"$f":"INDEX(Salary_Structure!$A$3:$J$501,MATCH(1,(Salary_Structure!$A$3:$A$501=Salary_Entitlement!D65)*(Salary_Structure!$J$3:J562=Salary_Entitlement!C65),0),9)","v":0}]
[null,null,null,null,{"$f":"VLOOKUP(D66,Emp_Master!$B$3:$C$600,2)","v":{"$error":"#N/A"}},{"$f":"INDEX(Salary_Structure!$A$3:$J$501,MATCH(1,(Salary_Structure!$A$3:$A$501=Salary_Entitlement!D66)*(Salary_Structure!$J$3:J563=Salary_Entitlement!C66),0),9)","v":0}]
[null,null,null,null,{"$f":"VLOOKUP(D67,Emp_Master!$B$3:$C$600,2)","v":{"$error":"#N/A"}},{"$f":"INDEX(Salary_Structure!$A$3:$J$501,MATCH(1,(Salary_Structure!$A$3:$A$501=Salary_Entitlement!D67)*(Salary_Structure!$J$3:J564=Salary_Entitlement!C67),0),9)","v":0}]
[null,null,null,null,{"$f":"VLOOKUP(D68,Emp_Master!$B$3:$C$600,2)","v":{"$error":"#N/A"}},{"$f":"INDEX(Salary_Structure!$A$3:$J$501,MATCH(1,(Salary_Structure!$A$3:$A$501=Salary_Entitlement!D68)*(Salary_Structure!$J$3:J565=Salary_Entitlement!C68),0),9)","v":0}]
[null,null,null,null,{"$f":"VLOOKUP(D69,Emp_Master!$B$3:$C$600,2)","v":{"$error":"#N/A"}},{"$f":"INDEX(Salary_Structure!$A$3:$J$501,MATCH(1,(Salary_Structure!$A$3:$A$501=Salary_Entitlement!D69)*(Salary_Structure!$J$3:J566=Salary_Entitlement!C69),0),9)","v":0}]
[null,null,null,null,{"$f":"VLOOKUP(D70,Emp_Master!$B$3:$C$600,2)","v":{"$error":"#N/A"}},{"$f":"INDEX(Salary_Structure!$A$3:$J$501,MATCH(1,(Salary_Structure!$A$3:$A$501=Salary_Entitlement!D70)*(Salary_Structure!$J$3:J567=Salary_Entitlement!C70),0),9)","v":0}]
[null,null,null,null,{"$f":"VLOOKUP(D71,Emp_Master!$B$3:$C$600,2)","v":{"$error":"#N/A"}},{"$f":"INDEX(Salary_Structure!$A$3:$J$501,MATCH(1,(Salary_Structure!$A$3:$A$501=Salary_Entitlement!D71)*(Salary_Structure!$J$3:J568=Salary_Entitlement!C71),0),9)","v":0}]
[null,null,null,null,{"$f":"VLOOKUP(D72,Emp_Master!$B$3:$C$600,2)","v":{"$error":"#N/A"}},{"$f":"INDEX(Salary_Structure!$A$3:$J$501,MATCH(1,(Salary_Structure!$A$3:$A$501=Salary_Entitlement!D72)*(Salary_Structure!$J$3:J569=Salary_Entitlement!C72),0),9)","v":0}]
[null,null,null,null,{"$f":"VLOOKUP(D73,Emp_Master!$B$3:$C$600,2)","v":{"$error":"#N/A"}},{"$f":"INDEX(Salary_Structure!$A$3:$J$501,MATCH(1,(Salary_Structure!$A$3:$A$501=Salary_Entitlement!D73)*(Salary_Structure!$J$3:J570=Salary_Entitlement!C73),0),9)","v":0}]
[null,null,null,null,{"$f":"VLOOKUP(D74,Emp_Master!$B$3:$C$600,2)","v":{"$error":"#N/A"}},{"$f":"INDEX(Salary_Structure!$A$3:$J$501,MATCH(1,(Salary_Structure!$A$3:$A$501=Salary_Entitlement!D74)*(Salary_Structure!$J$3:J571=Salary_Entitlement!C74),0),9)","v":0}]
[null,null,null,null,{"$f":"VLOOKUP(D75,Emp_Master!$B$3:$C$600,2)","v":{"$error":"#N/A"}},{"$f":"INDEX(Salary_Structure!$A$3:$J$501,MATCH(1,(Salary_Structure!$A$3:$A$501=Salary_Entitlement!D75)*(Salary_Structure!$J$3:J572=Salary_Entitlement!C75),0),9)","v":0}]
[null,null,null,null,{"$f":"VLOOKUP(D76,Emp_Master!$B$3:$C$600,2)","v":{"$error":"#N/A"}},{"$f":"INDEX(Salary_Structure!$A$3:$J$501,MATCH(1,(Salary_Structure!$A$3:$A$501=Salary_Entitlement!D76)*(Salary_Structure!$J$3:J573=Salary_Entitlement!C76),0),9)","v":0}]
[null,null,null,null,{"$f":"VLOOKUP(D77,Emp_Master!$B$3:$C$600,2)","v":{"$error":"#N/A"}},{"$f":"INDEX(Salary_Structure!$A$3:$J$501,MATCH(1,(Salary_Structure!$A$3:$A$501=Salary_Entitlement!D77)*(Salary_Structure!$J$3:J574=Salary_Entitlement!C77),0),9)","v":0}]
[null,null,null,null,{"$f":"VLOOKUP(D78,Emp_Master!$B$3:$C$600,2)","v":{"$error":"#N/A"}},{"$f":"INDEX(Salary_Structure!$A$3:$J$501,MATCH(1,(Salary_Structure!$A$3:$A$501=Salary_Entitlement!D78)*(Salary_Structure!$J$3:J575=Salary_Entitlement!C78),0),9)","v":0}]
[null,null,null,null,{"$f":"VLOOKUP(D79,Emp_Master!$B$3:$C$600,2)","v":{"$error":"#N/A"}},{"$f":"INDEX(Salary_Structure!$A$3:$J$501,MATCH(1,(Salary_Structure!$A$3:$A$501=Salary_Entitlement!D79)*(Salary_Structure!$J$3:J576=Salary_Entitlement!C79),0),9)","v":0}]
[null,null,null,null,{"$f":"VLOOKUP(D80,Emp_Master!$B$3:$C$600,2)","v":{"$error":"#N/A"}},{"$f":"INDEX(Salary_Structure!$A$3:$J$501,MATCH(1,(Salary_Structure!$A$3:$A$501=Salary_Entitlement!D80)*(Salary_Structure!$J$3:J577=Salary_Entitlement!C80),0),9)","v":0}]
[null,null,null,null,{"$f":"VLOOKUP(D81,Emp_Master!$B$3:$C$600,2)","v":{"$error":"#N/A"}},{"$f":"INDEX(Salary_Structure!$A$3:$J$501,MATCH(1,(Salary_Structure!$A$3:$A$501=Salary_Entitlement!D81)*(Salary_Structure!$J$3:J578=Salary_Entitlement!C81),0),9)","v":0}]
[null,null,null,null,{"$f":"VLOOKUP(D82,Emp_Master!$B$3:$C$600,2)","v":{"$error":"#N/A"}},{"$f":"INDEX(Salary_Structure!$A$3:$J$501,MATCH(1,(Salary_Structure!$A$3:$A$501=Salary_Entitlement!D82)*(Salary_Structure!$J$3:J579=Salary_Entitlement!C82),0),9)","v":0}]
[null,null,null,null,{"$f":"VLOOKUP(D83,Emp_Master!$B$3:$C$600,2)","v":{"$error":"#N/A"}},{"$f":"INDEX(Salary_Structure!$A$3:$J$501,MATCH(1,(Salary_Structure!$A$3:$A$501=Salary_Entitlement!D83)*(Salary_Structure!$J$3:J580=Salary_Entitlement!C83),0),9)","v":0}]
[null,null,null,null,{"$f":"VLOOKUP(D84,Emp_Master!$B$3:$C$600,2)","v":{"$error":"#N/A"}},{"$f":"INDEX(Salary_Structure!$A$3:$J$501,MATCH(1,(Salary_Structure!$A$3:$A$501=Salary_Entitlement!D84)*(Salary_Structure!$J$3:J581=Salary_Entitlement!C84),0),9)","v":0}]
[null,null,null,null,{"$f":"VLOOKUP(D85,Emp_Master!$B$3:$C$600,2)","v":{"$error":"#N/A"}},{"$f":"INDEX(Salary_Structure!$A$3:$J$501,MATCH(1,(Salary_Structure!$A$3:$A$501=Salary_Entitlement!D85)*(Salary_Structure!$J$3:J582=Salary_Entitlement!C85),0),9)","v":0}]
[null,null,null,null,{"$f":"VLOOKUP(D86,Emp_Master!$B$3:$C$600,2)","v":{"$error":"#N/A"}},{"$f":"INDEX(Salary_Structure!$A$3:$J$501,MATCH(1,(Salary_Structure!$A$3:$A$501=Salary_Entitlement!D86)*(Salary_Structure!$J$3:J583=Salary_Entitlement!C86),0),9)","v":0}]
[null,null,null,null,{"$f":"VLOOKUP(D87,Emp_Master!$B$3:$C$600,2)","v":{"$error":"#N/A"}},{"$f":"INDEX(Salary_Structure!$A$3:$J$501,MATCH(1,(Salary_Structure!$A$3:$A$501=Salary_Entitlement!D87)*(Salary_Structure!$J$3:J584=Salary_Entitlement!C87),0),9)","v":0}]
[null,null,null,null,{"$f":"VLOOKUP(D88,Emp_Master!$B$3:$C$600,2)","v":{"$error":"#N/A"}},{"$f":"INDEX(Salary_Structure!$A$3:$J$501,MATCH(1,(Salary_Structure!$A$3:$A$501=Salary_Entitlement!D88)*(Salary_Structure!$J$3:J585=Salary_Entitlement!C88),0),9)","v":0}]
[null,null,null,null,{"$f":"VLOOKUP(D89,Emp_Master!$B$3:$C$600,2)","v":{"$error":"#N/A"}},{"$f":"INDEX(Salary_Structure!$A$3:$J$501,MATCH(1,(Salary_Structure!$A$3:$A$501=Salary_Entitlement!D89)*(Salary_Structure!$J$3:J586=Salary_Entitlement!C89),0),9)","v":0}]
[null,null,null,null,{"$f":"VLOOKUP(D90,Emp_Master!$B$3:$C$600,2)","v":{"$error":"#N/A"}},{"$f":"INDEX(Salary_Structure!$A$3:$J$501,MATCH(1,(Salary_Structure!$A$3:$A$501=Salary_Entitlement!D90)*(Salary_Structure!$J$3:J587=Salary_Entitlement!C90),0),9)","v":0}]
[null,null,null,null,{"$f":"VLOOKUP(D91,Emp_Master!$B$3:$C$600,2)","v":{"$error":"#N/A"}},{"$f":"INDEX(Salary_Structure!$A$3:$J$501,MATCH(1,(Salary_Structure!$A$3:$A$501=Salary_Entitlement!D91)*(Salary_Structure!$J$3:J588=Salary_Entitlement!C91),0),9)","v":0}]
[null,null,null,null,{"$f":"VLOOKUP(D92,Emp_Master!$B$3:$C$600,2)","v":{"$error":"#N/A"}},{"$f":"INDEX(Salary_Structure!$A$3:$J$501,MATCH(1,(Salary_Structure!$A$3:$A$501=Salary_Entitlement!D92)*(Salary_Structure!$J$3:J589=Salary_Entitlement!C92),0),9)","v":0}]
[null,null,null,null,{"$f":"VLOOKUP(D93,Emp_Master!$B$3:$C$600,2)","v":{"$error":"#N/A"}},{"$f":"INDEX(Salary_Structure!$A$3:$J$501,MATCH(1,(Salary_Structure!$A$3:$A$501=Salary_Entitlement!D93)*(Salary_Structure!$J$3:J590=Salary_Entitlement!C93),0),9)","v":0}]
[null,null,null,null,{"$f":"VLOOKUP(D94,Emp_Master!$B$3:$C$600,2)","v":{"$error":"#N/A"}},{"$f":"INDEX(Salary_Structure!$A$3:$J$501,MATCH(1,(Salary_Structure!$A$3:$A$501=Salary_Entitlement!D94)*(Salary_Structure!$J$3:J591=Salary_Entitlement!C94),0),9)","v":0}]
[null,null,null,null,{"$f":"VLOOKUP(D95,Emp_Master!$B$3:$C$600,2)","v":{"$error":"#N/A"}},{"$f":"INDEX(Salary_Structure!$A$3:$J$501,MATCH(1,(Salary_Structure!$A$3:$A$501=Salary_Entitlement!D95)*(Salary_Structure!$J$3:J592=Salary_Entitlement!C95),0),9)","v":0}]
[null,null,null,null,{"$f":"VLOOKUP(D96,Emp_Master!$B$3:$C$600,2)","v":{"$error":"#N/A"}},{"$f":"INDEX(Salary_Structure!$A$3:$J$501,MATCH(1,(Salary_Structure!$A$3:$A$501=Salary_Entitlement!D96)*(Salary_Structure!$J$3:J593=Salary_Entitlement!C96),0),9)","v":0}]
[null,null,null,null,{"$f":"VLOOKUP(D97,Emp_Master!$B$3:$C$600,2)","v":{"$error":"#N/A"}},{"$f":"INDEX(Salary_Structure!$A$3:$J$501,MATCH(1,(Salary_Structure!$A$3:$A$501=Salary_Entitlement!D97)*(Salary_Structure!$J$3:J594=Salary_Entitlement!C97),0),9)","v":0}]
[null,null,null,null,{"$f":"VLOOKUP(D98,Emp_Master!$B$3:$C$600,2)","v":{"$error":"#N/A"}},{"$f":"INDEX(Salary_Structure!$A$3:$J$501,MATCH(1,(Salary_Structure!$A$3:$A$501=Salary_Entitlement!D98)*(Salary_Structure!$J$3:J595=Salary_Entitlement!C98),0),9)","v":0}]
[null,null,null,null,{"$f":"VLOOKUP(D99,Emp_Master!$B$3:$C$600,2)","v":{"$error":"#N/A"}},{"$f":"INDEX(Salary_Structure!$A$3:$J$501,MATCH(1,(Salary_Structure!$A$3:$A$501=Salary_Entitlement!D99)*(Salary_Structure!$J$3:J596=Salary_Entitlement!C99),0),9)","v":0}]
[null,null,null,null,{"$f":"VLOOKUP(D100,Emp_Master!$B$3:$C$600,2)","v":{"$error":"#N/A"}},{"$f":"INDEX(Salary_Structure!$A$3:$J$501,MATCH(1,(Salary_Structure!$A$3:$A$501=Salary_Entitlement!D100)*(Salary_Structure!$J$3:J597=Salary_Entitlement!C100),0),9)","v":0}]
[null,null,null,null,{"$f":"VLOOKUP(D101,Emp_Master!$B$3:$C$600,2)","v":{"$error":"#N/A"}},{"$f":"INDEX(Salary_Structure!$A$3:$J$501,MATCH(1,(Salary_Structure!$A$3:$A$501=Salary_Entitlement!D101)*(Salary_Structure!$J$3:J598=Salary_Entitlement!C101),0),9)","v":0}]
[null,null,null,null,{"$f":"VLOOKUP(D102,Emp_Master!$B$3:$C$600,2)","v":{"$error":"#N/A"}},{"$f":"INDEX(Salary_Structure!$A$3:$J$501,MATCH(1,(Salary_Structure!$A$3:$A$501=Salary_Entitlement!D102)*(Salary_Structure!$J$3:J599=Salary_Entitlement!C102),0),9)","v":0}]
[null,null,null,null,{"$f":"VLOOKUP(D103,Emp_Master!$B$3:$C$600,2)","v":{"$error":"#N/A"}},{"$f":"INDEX(Salary_Structure!$A$3:$J$501,MATCH(1,(Salary_Structure!$A$3:$A$501=Salary_Entitlement!D103)*(Salary_Structure!$J$3:J600=Salary_Entitlement!C103),0),9)","v":0}]
[null,null,null,null,{"$f":"VLOOKUP(D104,Emp_Master!$B$3:$C$600,2)","v":{"$error":"#N/A"}},{"$f":"INDEX(Salary_Structure!$A$3:$J$501,MATCH(1,(Salary_Structure!$A$3:$A$501=Salary_Entitlement!D104)*(Salary_Structure!$J$3:J601=Salary_Entitlement!C104),0),9)","v":0}]
[null,null,null,null,{"$f":"VLOOKUP(D105,Emp_Master!$B$3:$C$600,2)","v":{"$error":"#N/A"}},{"$f":"INDEX(Salary_Structure!$A$3:$J$501,MATCH(1,(Salary_Structure!$A$3:$A$501=Salary_Entitlement!D105)*(Salary_Structure!$J$3:J602=Salary_Entitlement!C105),0),9)","v":0}]
[null,null,null,null,{"$f":"VLOOKUP(D106,Emp_Master!$B$3:$C$600,2)","v":{"$error":"#N/A"}},{"$f":"INDEX(Salary_Structure!$A$3:$J$501,MATCH(1,(Salary_Structure!$A$3:$A$501=Salary_Entitlement!D106)*(Salary_Structure!$J$3:J603=Salary_Entitlement!C106),0),9)","v":0}]
[null,null,null,null,{"$f":"VLOOKUP(D107,Emp_Master!$B$3:$C$600,2)","v":{"$error":"#N/A"}},{"$f":"INDEX(Salary_Structure!$A$3:$J$501,MATCH(1,(Salary_Structure!$A$3:$A$501=Salary_Entitlement!D107)*(Salary_Structure!$J$3:J604=Salary_Entitlement!C107),0),9)","v":0}]
[null,null,null,null,{"$f":"VLOOKUP(D108,Emp_Master!$B$3:$C$600,2)","v":{"$error":"#N/A"}},{"$f":"INDEX(Salary_Structure!$A$3:$J$501,MATCH(1,(Salary_Structure!$A$3:$A$501=Salary_Entitlement!D108)*(Salary_Structure!$J$3:J605=Salary_Entitlement!C108),0),9)","v":0}]
[null,null,null,null,{"$f":"VLOOKUP(D109,Emp_Master!$B$3:$C$600,2)","v":{"$error":"#N/A"}},{"$f":"INDEX(Salary_Structure!$A$3:$J$501,MATCH(1,(Salary_Structure!$A$3:$A$501=Salary_Entitlement!D109)*(Salary_Structure!$J$3:J606=Salary_Entitlement!C109),0),9)","v":0}]
[null,null,null,null,{"$f":"VLOOKUP(D110,Emp_Master!$B$3:$C$600,2)","v":{"$error":"#N/A"}},{"$f":"INDEX(Salary_Structure!$A$3:$J$501,MATCH(1,(Salary_Structure!$A$3:$A$501=Salary_Entitlement!D110)*(Salary_Structure!$J$3:J607=Salary_Entitlement!C110),0),9)","v":0}]
[null,null,null,null,{"$f":"VLOOKUP(D111,Emp_Master!$B$3:$C$600,2)","v":{"$error":"#N/A"}},{"$f":"INDEX(Salary_Structure!$A$3:$J$501,MATCH(1,(Salary_Structure!$A$3:$A$501=Salary_Entitlement!D111)*(Salary_Structure!$J$3:J608=Salary_Entitlement!C111),0),9)","v":0}]
[null,null,null,null,{"$f":"VLOOKUP(D112,Emp_Master!$B$3:$C$600,2)","v":{"$error":"#N/A"}},{"$f":"INDEX(Salary_Structure!$A$3:$J$501,MATCH(1,(Salary_Structure!$A$3:$A$501=Salary_Entitlement!D112)*(Salary_Structure!$J$3:J609=Salary_Entitlement!C112),0),9)","v":0}]
[null,null,null,null,{"$f":"VLOOKUP(D113,Emp_Master!$B$3:$C$600,2)","v":{"$error":"#N/A"}},{"$f":"INDEX(Salary_Structure!$A$3:$J$501,MATCH(1,(Salary_Structure!$A$3:$A$501=Salary_Entitlement!D113)*(Salary_Structure!$J$3:J610=Salary_Entitlement!C113),0),9)","v":0}]
[null,null,null,null,{"$f":"VLOOKUP(D114,Emp_Master!$B$3:$C$600,2)","v":{"$error":"#N/A"}},{"$f":"INDEX(Salary_Structure!$A$3:$J$501,MATCH(1,(Salary_Structure!$A$3:$A$501=Salary_Entitlement!D114)*(Salary_Structure!$J$3:J611=Salary_Entitlement!C114),0),9)","v":0}]
[null,null,null,null,{"$f":"VLOOKUP(D115,Emp_Master!$B$3:$C$600,2)","v":{"$error":"#N/A"}},{"$f":"INDEX(Salary_Structure!$A$3:$J$501,MATCH(1,(Salary_Structure!$A$3:$A$501=Salary_Entitlement!D115)*(Salary_Structure!$J$3:J612=Salary_Entitlement!C115),0),9)","v":0}]
[null,null,null,null,{"$f":"VLOOKUP(D116,Emp_Master!$B$3:$C$600,2)","v":{"$error":"#N/A"}},{"$f":"INDEX(Salary_Structure!$A$3:$J$501,MATCH(1,(Salary_Structure!$A$3:$A$501=Salary_Entitlement!D116)*(Salary_Structure!$J$3:J613=Salary_Entitlement!C116),0),9)","v":0}]
[null,null,null,null,{"$f":"VLOOKUP(D117,Emp_Master!$B$3:$C$600,2)","v":{"$error":"#N/A"}},{"$f":"INDEX(Salary_Structure!$A$3:$J$501,MATCH(1,(Salary_Structure!$A$3:$A$501=Salary_Entitlement!D117)*(Salary_Structure!$J$3:J614=Salary_Entitlement!C117),0),9)","v":0}]
[null,null,null,null,{"$f":"VLOOKUP(D118,Emp_Master!$B$3:$C$600,2)","v":{"$error":"#N/A"}},{"$f":"INDEX(Salary_Structure!$A$3:$J$501,MATCH(1,(Salary_Structure!$A$3:$A$501=Salary_Entitlement!D118)*(Salary_Structure!$J$3:J615=Salary_Entitlement!C118),0),9)","v":0}]
[null,null,null,null,{"$f":"VLOOKUP(D119,Emp_Master!$B$3:$C$600,2)","v":{"$error":"#N/A"}},{"$f":"INDEX(Salary_Structure!$A$3:$J$501,MATCH(1,(Salary_Structure!$A$3:$A$501=Salary_Entitlement!D119)*(Salary_Structure!$J$3:J616=Salary_Entitlement!C119),0),9)","v":0}]
[null,null,null,null,{"$f":"VLOOKUP(D120,Emp_Master!$B$3:$C$600,2)","v":{"$error":"#N/A"}},{"$f":"INDEX(Salary_Structure!$A$3:$J$501,MATCH(1,(Salary_Structure!$A$3:$A$501=Salary_Entitlement!D120)*(Salary_Structure!$J$3:J617=Salary_Entitlement!C120),0),9)","v":0}]
[null,null,null,null,{"$f":"VLOOKUP(D121,Emp_Master!$B$3:$C$600,2)","v":{"$error":"#N/A"}},{"$f":"INDEX(Salary_Structure!$A$3:$J$501,MATCH(1,(Salary_Structure!$A$3:$A$501=Salary_Entitlement!D121)*(Salary_Structure!$J$3:J618=Salary_Entitlement!C121),0),9)","v":0}]
[null,null,null,null,{"$f":"VLOOKUP(D122,Emp_Master!$B$3:$C$600,2)","v":{"$error":"#N/A"}},{"$f":"INDEX(Salary_Structure!$A$3:$J$501,MATCH(1,(Salary_Structure!$A$3:$A$501=Salary_Entitlement!D122)*(Salary_Structure!$J$3:J619=Salary_Entitlement!C122),0),9)","v":0}]
[null,null,null,null,{"$f":"VLOOKUP(D123,Emp_Master!$B$3:$C$600,2)","v":{"$error":"#N/A"}},{"$f":"INDEX(Salary_Structure!$A$3:$J$501,MATCH(1,(Salary_Structure!$A$3:$A$501=Salary_Entitlement!D123)*(Salary_Structure!$J$3:J620=Salary_Entitlement!C123),0),9)","v":0}]
[null,null,null,null,{"$f":"VLOOKUP(D124,Emp_Master!$B$3:$C$600,2)","v":{"$error":"#N/A"}},{"$f":"INDEX(Salary_Structure!$A$3:$J$501,MATCH(1,(Salary_Structure!$A$3:$A$501=Salary_Entitlement!D124)*(Salary_Structure!$J$3:J621=Salary_Entitlement!C124),0),9)","v":0}]
[null,null,null,null,{"$f":"VLOOKUP(D125,Emp_Master!$B$3:$C$600,2)","v":{"$error":"#N/A"}},{"$f":"INDEX(Salary_Structure!$A$3:$J$501,MATCH(1,(Salary_Structure!$A$3:$A$501=Salary_Entitlement!D125)*(Salary_Structure!$J$3:J622=Salary_Entitlement!C125),0),9)","v":0}]
[null,null,null,null,{"$f":"VLOOKUP(D126,Emp_Master!$B$3:$C$600,2)","v":{"$error":"#N/A"}},{"$f":"INDEX(Salary_Structure!$A$3:$J$501,MATCH(1,(Salary_Structure!$A$3:$A$501=Salary_Entitlement!D126)*(Salary_Structure!$J$3:J623=Salary_Entitlement!C126),0),9)","v":0}]
[null,null,null,null,{"$f":"VLOOKUP(D127,Emp_Master!$B$3:$C$600,2)","v":{"$error":"#N/A"}},{"$f":"INDEX(Salary_Structure!$A$3:$J$501,MATCH(1,(Salary_Structure!$A$3:$A$501=Salary_Entitlement!D127)*(Salary_Structure!$J$3:J624=Salary_Entitlement!C127),0),9)","v":0}]
[null,null,null,null,{"$f":"VLOOKUP(D128,Emp_Master!$B$3:$C$600,2)","v":{"$error":"#N/A"}},{"$f":"INDEX(Salary_Structure!$A$3:$J$501,MATCH(1,(Salary_Structure!$A$3:$A$501=Salary_Entitlement!D128)*(Salary_Structure!$J$3:J625=Salary_Entitlement!C128),0),9)","v":0}]
[null,null,null,null,{"$f":"VLOOKUP(D129,Emp_Master!$B$3:$C$600,2)","v":{"$error":"#N/A"}},{"$f":"INDEX(Salary_Structure!$A$3:$J$501,MATCH(1,(Salary_Structure!$A$3:$A$501=Salary_Entitlement!D129)*(Salary_Structure!$J$3:J626=Salary_Entitlement!C129),0),9)","v":0}]
[null,null,null,null,{"$f":"VLOOKUP(D130,Emp_Master!$B$3:$C$600,2)","v":{"$error":"#N/A"}},{"$f":"INDEX(Salary_Structure!$A$3:$J$501,MATCH(1,(Salary_Structure!$A$3:$A$501=Salary_Entitlement!D130)*(Salary_Structure!$J$3:J627=Salary_Entitlement!C130),0),9)","v":0}]
[null,null,null,null,{"$f":"VLOOKUP(D131,Emp_Master!$B$3:$C$600,2)","v":{"$error":"#N/A"}},{"$f":"INDEX(Salary_Structure!$A$3:$J$501,MATCH(1,(Salary_Structure!$A$3:$A$501=Salary_Entitlement!D131)*(Salary_Structure!$J$3:J628=Salary_Entitlement!C131),0),9)","v":0}]
[null,null,null,null,{"$f":"VLOOKUP(D132,Emp_Master!$B$3:$C$600,2)","v":{"$error":"#N/A"}},{"$f":"INDEX(Salary_Structure!$A$3:$J$501,MATCH(1,(Salary_Structure!$A$3:$A$501=Salary_Entitlement!D132)*(Salary_Structure!$J$3:J629=Salary_Entitlement!C132),0),9)","v":0}]
[null,null,null,null,{"$f":"VLOOKUP(D133,Emp_Master!$B$3:$C$600,2)","v":{"$error":"#N/A"}},{"$f":"INDEX(Salary_Structure!$A$3:$J$501,MATCH(1,(Salary_Structure!$A$3:$A$501=Salary_Entitlement!D133)*(Salary_Structure!$J$3:J630=Salary_Entitlement!C133),0),9)","v":0}]
[null,null,null,null,{"$f":"VLOOKUP(D134,Emp_Master!$B$3:$C$600,2)","v":{"$error":"#N/A"}},{"$f":"INDEX(Salary_Structure!$A$3:$J$501,MATCH(1,(Salary_Structure!$A$3:$A$501=Salary_Entitlement!D134)*(Salary_Structure!$J$3:J631=Salary_Entitlement!C134),0),9)","v":0}]
[null,null,null,null,{"$f":"VLOOKUP(D135,Emp_Master!$B$3:$C$600,2)","v":{"$error":"#N/A"}},{"$f":"INDEX(Salary_Structure!$A$3:$J$501,MATCH(1,(Salary_Structure!$A$3:$A$501=Salary_Entitlement!D135)*(Salary_Structure!$J$3:J632=Salary_Entitlement!C135),0),9)","v":0}]
[null,null,null,null,{"$f":"VLOOKUP(D136,Emp_Master!$B$3:$C$600,2)","v":{"$error":"#N/A"}},{"$f":"INDEX(Salary_Structure!$A$3:$J$501,MATCH(1,(Salary_Structure!$A$3:$A$501=Salary_Entitlement!D136)*(Salary_Structure!$J$3:J633=Salary_Entitlement!C136),0),9)","v":0}]
[null,null,null,null,{"$f":"VLOOKUP(D137,Emp_Master!$B$3:$C$600,2)","v":{"$error":"#N/A"}},{"$f":"INDEX(Salary_Structure!$A$3:$J$501,MATCH(1,(Salary_Structure!$A$3:$A$501=Salary_Entitlement!D137)*(Salary_Structure!$J$3:J634=Salary_Entitlement!C137),0),9)","v":0}]
[null,null,null,null,{"$f":"VLOOKUP(D138,Emp_Master!$B$3:$C$600,2)","v":{"$error":"#N/A"}},{"$f":"INDEX(Salary_Structure!$A$3:$J$501,MATCH(1,(Salary_Structure!$A$3:$A$501=Salary_Entitlement!D138)*(Salary_Structure!$J$3:J635=Salary_Entitlement!C138),0),9)","v":0}]
[null,null,null,null,{"$f":"VLOOKUP(D139,Emp_Master!$B$3:$C$600,2)","v":{"$error":"#N/A"}},{"$f":"INDEX(Salary_Structure!$A$3:$J$501,MATCH(1,(Salary_Structure!$A$3:$A$501=Salary_Entitlement!D139)*(Salary_Structure!$J$3:J636=Salary_Entitlement!C139),0),9)","v":0}]
[null,null,null,null,{"$f":"VLOOKUP(D140,Emp_Master!$B$3:$C$600,2)","v":{"$error":"#N/A"}},{"$f":"INDEX(Salary_Structure!$A$3:$J$501,MATCH(1,(Salary_Structure!$A$3:$A$501=Salary_Entitlement!D140)*(Salary_Structure!$J$3:J637=Salary_Entitlement!C140),0),9)","v":0}]
[null,null,null,null,{"$f":"VLOOKUP(D141,Emp_Master!$B$3:$C$600,2)","v":{"$error":"#N/A"}},{"$f":"INDEX(Salary_Structure!$A$3:$J$501,MATCH(1,(Salary_Structure!$A$3:$A$501=Salary_Entitlement!D141)*(Salary_Structure!$J$3:J638=Salary_Entitlement!C141),0),9)","v":0}]
[null,null,null,null,{"$f":"VLOOKUP(D142,Emp_Master!$B$3:$C$600,2)","v":{"$error":"#N/A"}},{"$f":"INDEX(Salary_Structure!$A$3:$J$501,MATCH(1,(Salary_Structure!$A$3:$A$501=Salary_Entitlement!D142)*(Salary_Structure!$J$3:J639=Salary_Entitlement!C142),0),9)","v":0}]
[null,null,null,null,{"$f":"VLOOKUP(D143,Emp_Master!$B$3:$C$600,2)","v":{"$error":"#N/A"}},{"$f":"INDEX(Salary_Structure!$A$3:$J$501,MATCH(1,(Salary_Structure!$A$3:$A$501=Salary_Entitlement!D143)*(Salary_Structure!$J$3:J640=Salary_Entitlement!C143),0),9)","v":0}]
[null,null,null,null,{"$f":"VLOOKUP(D144,Emp_Master!$B$3:$C$600,2)","v":{"$error":"#N/A"}},{"$f":"INDEX(Salary_Structure!$A$3:$J$501,MATCH(1,(Salary_Structure!$A$3:$A$501=Salary_Entitlement!D144)*(Salary_Structure!$J$3:J641=Salary_Entitlement!C144),0),9)","v":0}]
[null,null,null,null,{"$f":"VLOOKUP(D145,Emp_Master!$B$3:$C$600,2)","v":{"$error":"#N/A"}},{"$f":"INDEX(Salary_Structure!$A$3:$J$501,MATCH(1,(Salary_Structure!$A$3:$A$501=Salary_Entitlement!D145)*(Salary_Structure!$J$3:J642=Salary_Entitlement!C145),0),9)","v":0}]
[null,null,null,null,{"$f":"VLOOKUP(D146,Emp_Master!$B$3:$C$600,2)","v":{"$error":"#N/A"}},{"$f":"INDEX(Salary_Structure!$A$3:$J$501,MATCH(1,(Salary_Structure!$A$3:$A$501=Salary_Entitlement!D146)*(Salary_Structure!$J$3:J643=Salary_Entitlement!C146),0),9)","v":0}]
[null,null,null,null,{"$f":"VLOOKUP(D147,Emp_Master!$B$3:$C$600,2)","v":{"$error":"#N/A"}},{"$f":"INDEX(Salary_Structure!$A$3:$J$501,MATCH(1,(Salary_Structure!$A$3:$A$501=Salary_Entitlement!D147)*(Salary_Structure!$J$3:J644=Salary_Entitlement!C147),0),9)","v":0}]
[null,null,null,null,{"$f":"VLOOKUP(D148,Emp_Master!$B$3:$C$600,2)","v":{"$error":"#N/A"}},{"$f":"INDEX(Salary_Structure!$A$3:$J$501,MATCH(1,(Salary_Structure!$A$3:$A$501=Salary_Entitlement!D148)*(Salary_Structure!$J$3:J645=Salary_Entitlement!C148),0),9)","v":0}]
[null,null,null,null,{"$f":"VLOOKUP(D149,Emp_Master!$B$3:$C$600,2)","v":{"$error":"#N/A"}},{"$f":"INDEX(Salary_Structure!$A$3:$J$501,MATCH(1,(Salary_Structure!$A$3:$A$501=Salary_Entitlement!D149)*(Salary_Structure!$J$3:J646=Salary_Entitlement!C149),0),9)","v":0}]
[null,null,null,null,{"$f":"VLOOKUP(D150,Emp_Master!$B$3:$C$600,2)","v":{"$error":"#N/A"}},{"$f":"INDEX(Salary_Structure!$A$3:$J$501,MATCH(1,(Salary_Structure!$A$3:$A$501=Salary_Entitlement!D150)*(Salary_Structure!$J$3:J647=Salary_Entitlement!C150),0),9)","v":0}]
[null,null,null,null,{"$f":"VLOOKUP(D151,Emp_Master!$B$3:$C$600,2)","v":{"$error":"#N/A"}},{"$f":"INDEX(Salary_Structure!$A$3:$J$501,MATCH(1,(Salary_Structure!$A$3:$A$501=Salary_Entitlement!D151)*(Salary_Structure!$J$3:J648=Salary_Entitlement!C151),0),9)","v":0}]
[null,null,null,null,{"$f":"VLOOKUP(D152,Emp_Master!$B$3:$C$600,2)","v":{"$error":"#N/A"}},{"$f":"INDEX(Salary_Structure!$A$3:$J$501,MATCH(1,(Salary_Structure!$A$3:$A$501=Salary_Entitlement!D152)*(Salary_Structure!$J$3:J649=Salary_Entitlement!C152),0),9)","v":0}]
[null,null,null,null,{"$f":"VLOOKUP(D153,Emp_Master!$B$3:$C$600,2)","v":{"$error":"#N/A"}},{"$f":"INDEX(Salary_Structure!$A$3:$J$501,MATCH(1,(Salary_Structure!$A$3:$A$501=Salary_Entitlement!D153)*(Salary_Structure!$J$3:J650=Salary_Entitlement!C153),0),9)","v":0}]
[null,null,null,null,{"$f":"VLOOKUP(D154,Emp_Master!$B$3:$C$600,2)","v":{"$error":"#N/A"}},{"$f":"INDEX(Salary_Structure!$A$3:$J$501,MATCH(1,(Salary_Structure!$A$3:$A$501=Salary_Entitlement!D154)*(Salary_Structure!$J$3:J651=Salary_Entitlement!C154),0),9)","v":0}]
[null,null,null,null,{"$f":"VLOOKUP(D155,Emp_Master!$B$3:$C$600,2)","v":{"$error":"#N/A"}},{"$f":"INDEX(Salary_Structure!$A$3:$J$501,MATCH(1,(Salary_Structure!$A$3:$A$501=Salary_Entitlement!D155)*(Salary_Structure!$J$3:J652=Salary_Entitlement!C155),0),9)","v":0}]
[null,null,null,null,{"$f":"VLOOKUP(D156,Emp_Master!$B$3:$C$600,2)","v":{"$error":"#N/A"}},{"$f":"INDEX(Salary_Structure!$A$3:$J$501,MATCH(1,(Salary_Structure!$A$3:$A$501=Salary_Entitlement!D156)*(Salary_Structure!$J$3:J653=Salary_Entitlement!C156),0),9)","v":0}]
[null,null,null,null,{"$f":"VLOOKUP(D157,Emp_Master!$B$3:$C$600,2)","v":{"$error":"#N/A"}},{"$f":"INDEX(Salary_Structure!$A$3:$J$501,MATCH(1,(Salary_Structure!$A$3:$A$501=Salary_Entitlement!D157)*(Salary_Structure!$J$3:J654=Salary_Entitlement!C157),0),9)","v":0}]
[null,null,null,null,{"$f":"VLOOKUP(D158,Emp_Master!$B$3:$C$600,2)","v":{"$error":"#N/A"}},{"$f":"INDEX(Salary_Structure!$A$3:$J$501,MATCH(1,(Salary_Structure!$A$3:$A$501=Salary_Entitlement!D158)*(Salary_Structure!$J$3:J655=Salary_Entitlement!C158),0),9)","v":0}]
[null,null,null,null,{"$f":"VLOOKUP(D159,Emp_Master!$B$3:$C$600,2)","v":{"$error":"#N/A"}},{"$f":"INDEX(Salary_Structure!$A$3:$J$501,MATCH(1,(Salary_Structure!$A$3:$A$501=Salary_Entitlement!D159)*(Salary_Structure!$J$3:J656=Salary_Entitlement!C159),0),9)","v":0}]
[null,null,null,null,{"$f":"VLOOKUP(D160,Emp_Master!$B$3:$C$600,2)","v":{"$error":"#N/A"}},{"$f":"INDEX(Salary_Structure!$A$3:$J$501,MATCH(1,(Salary_Structure!$A$3:$A$501=Salary_Entitlement!D160)*(Salary_Structure!$J$3:J657=Salary_Entitlement!C160),0),9)","v":0}]
[null,null,null,null,{"$f":"VLOOKUP(D161,Emp_Master!$B$3:$C$600,2)","v":{"$error":"#N/A"}},{"$f":"INDEX(Salary_Structure!$A$3:$J$501,MATCH(1,(Salary_Structure!$A$3:$A$501=Salary_Entitlement!D161)*(Salary_Structure!$J$3:J658=Salary_Entitlement!C161),0),9)","v":0}]
[null,null,null,null,{"$f":"VLOOKUP(D162,Emp_Master!$B$3:$C$600,2)","v":{"$error":"#N/A"}},{"$f":"INDEX(Salary_Structure!$A$3:$J$501,MATCH(1,(Salary_Structure!$A$3:$A$501=Salary_Entitlement!D162)*(Salary_Structure!$J$3:J659=Salary_Entitlement!C162),0),9)","v":0}]
[null,null,null,null,{"$f":"VLOOKUP(D163,Emp_Master!$B$3:$C$600,2)","v":{"$error":"#N/A"}},{"$f":"INDEX(Salary_Structure!$A$3:$J$501,MATCH(1,(Salary_Structure!$A$3:$A$501=Salary_Entitlement!D163)*(Salary_Structure!$J$3:J660=Salary_Entitlement!C163),0),9)","v":0}]
[null,null,null,null,{"$f":"VLOOKUP(D164,Emp_Master!$B$3:$C$600,2)","v":{"$error":"#N/A"}},{"$f":"INDEX(Salary_Structure!$A$3:$J$501,MATCH(1,(Salary_Structure!$A$3:$A$501=Salary_Entitlement!D164)*(Salary_Structure!$J$3:J661=Salary_Entitlement!C164),0),9)","v":0}]
[null,null,null,null,{"$f":"VLOOKUP(D165,Emp_Master!$B$3:$C$600,2)","v":{"$error":"#N/A"}},{"$f":"INDEX(Salary_Structure!$A$3:$J$501,MATCH(1,(Salary_Structure!$A$3:$A$501=Salary_Entitlement!D165)*(Salary_Structure!$J$3:J662=Salary_Entitlement!C165),0),9)","v":0}]
[null,null,null,null,{"$f":"VLOOKUP(D166,Emp_Master!$B$3:$C$600,2)","v":{"$error":"#N/A"}},{"$f":"INDEX(Salary_Structure!$A$3:$J$501,MATCH(1,(Salary_Structure!$A$3:$A$501=Salary_Entitlement!D166)*(Salary_Structure!$J$3:J663=Salary_Entitlement!C166),0),9)","v":0}]
[null,null,null,null,{"$f":"VLOOKUP(D167,Emp_Master!$B$3:$C$600,2)","v":{"$error":"#N/A"}},{"$f":"INDEX(Salary_Structure!$A$3:$J$501,MATCH(1,(Salary_Structure!$A$3:$A$501=Salary_Entitlement!D167)*(Salary_Structure!$J$3:J664=Salary_Entitlement!C167),0),9)","v":0}]
[null,null,null,null,{"$f":"VLOOKUP(D168,Emp_Master!$B$3:$C$600,2)","v":{"$error":"#N/A"}},{"$f":"INDEX(Salary_Structure!$A$3:$J$501,MATCH(1,(Salary_Structure!$A$3:$A$501=Salary_Entitlement!D168)*(Salary_Structure!$J$3:J665=Salary_Entitlement!C168),0),9)","v":0}]
[null,null,null,null,{"$f":"VLOOKUP(D169,Emp_Master!$B$3:$C$600,2)","v":{"$error":"#N/A"}},{"$f":"INDEX(Salary_Structure!$A$3:$J$501,MATCH(1,(Salary_Structure!$A$3:$A$501=Salary_Entitlement!D169)*(Salary_Structure!$J$3:J666=Salary_Entitlement!C169),0),9)","v":0}]
[null,null,null,null,{"$f":"VLOOKUP(D170,Emp_Master!$B$3:$C$600,2)","v":{"$error":"#N/A"}},{"$f":"INDEX(Salary_Structure!$A$3:$J$501,MATCH(1,(Salary_Structure!$A$3:$A$501=Salary_Entitlement!D170)*(Salary_Structure!$J$3:J667=Salary_Entitlement!C170),0),9)","v":0}]
[null,null,null,null,{"$f":"VLOOKUP(D171,Emp_Master!$B$3:$C$600,2)","v":{"$error":"#N/A"}},{"$f":"INDEX(Salary_Structure!$A$3:$J$501,MATCH(1,(Salary_Structure!$A$3:$A$501=Salary_Entitlement!D171)*(Salary_Structure!$J$3:J668=Salary_Entitlement!C171),0),9)","v":0}]
[null,null,null,null,{"$f":"VLOOKUP(D172,Emp_Master!$B$3:$C$600,2)","v":{"$error":"#N/A"}},{"$f":"INDEX(Salary_Structure!$A$3:$J$501,MATCH(1,(Salary_Structure!$A$3:$A$501=Salary_Entitlement!D172)*(Salary_Structure!$J$3:J669=Salary_Entitlement!C172),0),9)","v":0}]
[null,null,null,null,{"$f":"VLOOKUP(D173,Emp_Master!$B$3:$C$600,2)","v":{"$error":"#N/A"}},{"$f":"INDEX(Salary_Structure!$A$3:$J$501,MATCH(1,(Salary_Structure!$A$3:$A$501=Salary_Entitlement!D173)*(Salary_Structure!$J$3:J670=Salary_Entitlement!C173),0),9)","v":0}]
[null,null,null,null,{"$f":"VLOOKUP(D174,Emp_Master!$B$3:$C$600,2)","v":{"$error":"#N/A"}},{"$f":"INDEX(Salary_Structure!$A$3:$J$501,MATCH(1,(Salary_Structure!$A$3:$A$501=Salary_Entitlement!D174)*(Salary_Structure!$J$3:J671=Salary_Entitlement!C174),0),9)","v":0}]
[null,null,null,null,{"$f":"VLOOKUP(D175,Emp_Master!$B$3:$C$600,2)","v":{"$error":"#N/A"}},{"$f":"INDEX(Salary_Structure!$A$3:$J$501,MATCH(1,(Salary_Structure!$A$3:$A$501=Salary_Entitlement!D175)*(Salary_Structure!$J$3:J672=Salary_Entitlement!C175),0),9)","v":0}]
[null,null,null,null,{"$f":"VLOOKUP(D176,Emp_Master!$B$3:$C$600,2)","v":{"$error":"#N/A"}},{"$f":"INDEX(Salary_Structure!$A$3:$J$501,MATCH(1,(Salary_Structure!$A$3:$A$501=Salary_Entitlement!D176)*(Salary_Structure!$J$3:J673=Salary_Entitlement!C176),0),9)","v":0}]
[null,null,null,null,{"$f":"VLOOKUP(D177,Emp_Master!$B$3:$C$600,2)","v":{"$error":"#N/A"}},{"$f":"INDEX(Salary_Structure!$A$3:$J$501,MATCH(1,(Salary_Structure!$A$3:$A$501=Salary_Entitlement!D177)*(Salary_Structure!$J$3:J674=Salary_Entitlement!C177),0),9)","v":0}]
[null,null,null,null,{"$f":"VLOOKUP(D178,Emp_Master!$B$3:$C$600,2)","v":{"$error":"#N/A"}},{"$f":"INDEX(Salary_Structure!$A$3:$J$501,MATCH(1,(Salary_Structure!$A$3:$A$501=Salary_Entitlement!D178)*(Salary_Structure!$J$3:J675=Salary_Entitlement!C178),0),9)","v":0}]
[null,null,null,null,{"$f":"VLOOKUP(D179,Emp_Master!$B$3:$C$600,2)","v":{"$error":"#N/A"}},{"$f":"INDEX(Salary_Structure!$A$3:$J$501,MATCH(1,(Salary_Structure!$A$3:$A$501=Salary_Entitlement!D179)*(Salary_Structure!$J$3:J676=Salary_Entitlement!C179),0),9)","v":0}]
[null,null,null,null,{"$f":"VLOOKUP(D180,Emp_Master!$B$3:$C$600,2)","v":{"$error":"#N/A"}},{"$f":"INDEX(Salary_Structure!$A$3:$J$501,MATCH(1,(Salary_Structure!$A$3:$A$501=Salary_Entitlement!D180)*(Salary_Structure!$J$3:J677=Salary_Entitlement!C180),0),9)","v":0}]
[null,null,null,null,{"$f":"VLOOKUP(D181,Emp_Master!$B$3:$C$600,2)","v":{"$error":"#N/A"}},{"$f":"INDEX(Salary_Structure!$A$3:$J$501,MATCH(1,(Salary_Structure!$A$3:$A$501=Salary_Entitlement!D181)*(Salary_Structure!$J$3:J678=Salary_Entitlement!C181),0),9)","v":0}]
[null,null,null,null,{"$f":"VLOOKUP(D182,Emp_Master!$B$3:$C$600,2)","v":{"$error":"#N/A"}},{"$f":"INDEX(Salary_Structure!$A$3:$J$501,MATCH(1,(Salary_Structure!$A$3:$A$501=Salary_Entitlement!D182)*(Salary_Structure!$J$3:J679=Salary_Entitlement!C182),0),9)","v":0}]
[null,null,null,null,{"$f":"VLOOKUP(D183,Emp_Master!$B$3:$C$600,2)","v":{"$error":"#N/A"}},{"$f":"INDEX(Salary_Structure!$A$3:$J$501,MATCH(1,(Salary_Structure!$A$3:$A$501=Salary_Entitlement!D183)*(Salary_Structure!$J$3:J680=Salary_Entitlement!C183),0),9)","v":0}]
[null,null,null,null,{"$f":"VLOOKUP(D184,Emp_Master!$B$3:$C$600,2)","v":{"$error":"#N/A"}},{"$f":"INDEX(Salary_Structure!$A$3:$J$501,MATCH(1,(Salary_Structure!$A$3:$A$501=Salary_Entitlement!D184)*(Salary_Structure!$J$3:J681=Salary_Entitlement!C184),0),9)","v":0}]
[null,null,null,null,{"$f":"VLOOKUP(D185,Emp_Master!$B$3:$C$600,2)","v":{"$error":"#N/A"}},{"$f":"INDEX(Salary_Structure!$A$3:$J$501,MATCH(1,(Salary_Structure!$A$3:$A$501=Salary_Entitlement!D185)*(Salary_Structure!$J$3:J682=Salary_Entitlement!C185),0),9)","v":0}]
[null,null,null,null,{"$f":"VLOOKUP(D186,Emp_Master!$B$3:$C$600,2)","v":{"$error":"#N/A"}},{"$f":"INDEX(Salary_Structure!$A$3:$J$501,MATCH(1,(Salary_Structure!$A$3:$A$501=Salary_Entitlement!D186)*(Salary_Structure!$J$3:J683=Salary_Entitlement!C186),0),9)","v":0}]
[null,null,null,null,{"$f":"VLOOKUP(D187,Emp_Master!$B$3:$C$600,2)","v":{"$error":"#N/A"}},{"$f":"INDEX(Salary_Structure!$A$3:$J$501,MATCH(1,(Salary_Structure!$A$3:$A$501=Salary_Entitlement!D187)*(Salary_Structure!$J$3:J684=Salary_Entitlement!C187),0),9)","v":0}]
[null,null,null,null,{"$f":"VLOOKUP(D188,Emp_Master!$B$3:$C$600,2)","v":{"$error":"#N/A"}},{"$f":"INDEX(Salary_Structure!$A$3:$J$501,MATCH(1,(Salary_Structure!$A$3:$A$501=Salary_Entitlement!D188)*(Salary_Structure!$J$3:J685=Salary_Entitlement!C188),0),9)","v":0}]
[null,null,null,null,{"$f":"VLOOKUP(D189,Emp_Master!$B$3:$C$600,2)","v":{"$error":"#N/A"}},{"$f":"INDEX(Salary_Structure!$A$3:$J$501,MATCH(1,(Salary_Structure!$A$3:$A$501=Salary_Entitlement!D189)*(Salary_Structure!$J$3:J686=Salary_Entitlement!C189),0),9)","v":0}]
[null,null,null,null,{"$f":"VLOOKUP(D190,Emp_Master!$B$3:$C$600,2)","v":{"$error":"#N/A"}},{"$f":"INDEX(Salary_Structure!$A$3:$J$501,MATCH(1,(Salary_Structure!$A$3:$A$501=Salary_Entitlement!D190)*(Salary_Structure!$J$3:J687=Salary_Entitlement!C190),0),9)","v":0}]
[null,null,null,null,{"$f":"VLOOKUP(D191,Emp_Master!$B$3:$C$600,2)","v":{"$error":"#N/A"}},{"$f":"INDEX(Salary_Structure!$A$3:$J$501,MATCH(1,(Salary_Structure!$A$3:$A$501=Salary_Entitlement!D191)*(Salary_Structure!$J$3:J688=Salary_Entitlement!C191),0),9)","v":0}]
[null,null,null,null,{"$f":"VLOOKUP(D192,Emp_Master!$B$3:$C$600,2)","v":{"$error":"#N/A"}},{"$f":"INDEX(Salary_Structure!$A$3:$J$501,MATCH(1,(Salary_Structure!$A$3:$A$501=Salary_Entitlement!D192)*(Salary_Structure!$J$3:J689=Salary_Entitlement!C192),0),9)","v":0}]
[null,null,null,null,{"$f":"VLOOKUP(D193,Emp_Master!$B$3:$C$600,2)","v":{"$error":"#N/A"}},{"$f":"INDEX(Salary_Structure!$A$3:$J$501,MATCH(1,(Salary_Structure!$A$3:$A$501=Salary_Entitlement!D193)*(Salary_Structure!$J$3:J690=Salary_Entitlement!C193),0),9)","v":0}]
[null,null,null,null,{"$f":"VLOOKUP(D194,Emp_Master!$B$3:$C$600,2)","v":{"$error":"#N/A"}},{"$f":"INDEX(Salary_Structure!$A$3:$J$501,MATCH(1,(Salary_Structure!$A$3:$A$501=Salary_Entitlement!D194)*(Salary_Structure!$J$3:J691=Salary_Entitlement!C194),0),9)","v":0}]
[null,null,null,null,{"$f":"VLOOKUP(D195,Emp_Master!$B$3:$C$600,2)","v":{"$error":"#N/A"}},{"$f":"INDEX(Salary_Structure!$A$3:$J$501,MATCH(1,(Salary_Structure!$A$3:$A$501=Salary_Entitlement!D195)*(Salary_Structure!$J$3:J692=Salary_Entitlement!C195),0),9)","v":0}]
[null,null,null,null,{"$f":"VLOOKUP(D196,Emp_Master!$B$3:$C$600,2)","v":{"$error":"#N/A"}},{"$f":"INDEX(Salary_Structure!$A$3:$J$501,MATCH(1,(Salary_Structure!$A$3:$A$501=Salary_Entitlement!D196)*(Salary_Structure!$J$3:J693=Salary_Entitlement!C196),0),9)","v":0}]
[null,null,null,null,{"$f":"VLOOKUP(D197,Emp_Master!$B$3:$C$600,2)","v":{"$error":"#N/A"}},{"$f":"INDEX(Salary_Structure!$A$3:$J$501,MATCH(1,(Salary_Structure!$A$3:$A$501=Salary_Entitlement!D197)*(Salary_Structure!$J$3:J694=Salary_Entitlement!C197),0),9)","v":0}]
[null,null,null,null,{"$f":"VLOOKUP(D198,Emp_Master!$B$3:$C$600,2)","v":{"$error":"#N/A"}},{"$f":"INDEX(Salary_Structure!$A$3:$J$501,MATCH(1,(Salary_Structure!$A$3:$A$501=Salary_Entitlement!D198)*(Salary_Structure!$J$3:J695=Salary_Entitlement!C198),0),9)","v":0}]
[null,null,null,null,{"$f":"VLOOKUP(D199,Emp_Master!$B$3:$C$600,2)","v":{"$error":"#N/A"}},{"$f":"INDEX(Salary_Structure!$A$3:$J$501,MATCH(1,(Salary_Structure!$A$3:$A$501=Salary_Entitlement!D199)*(Salary_Structure!$J$3:J696=Salary_Entitlement!C199),0),9)","v":0}]
[null,null,null,null,{"$f":"VLOOKUP(D200,Emp_Master!$B$3:$C$600,2)","v":{"$error":"#N/A"}},{"$f":"INDEX(Salary_Structure!$A$3:$J$501,MATCH(1,(Salary_Structure!$A$3:$A$501=Salary_Entitlement!D200)*(Salary_Structure!$J$3:J697=Salary_Entitlement!C200),0),9)","v":0}]
[null,null,null,null,{"$f":"VLOOKUP(D201,Emp_Master!$B$3:$C$600,2)","v":{"$error":"#N/A"}},{"$f":"INDEX(Salary_Structure!$A$3:$J$501,MATCH(1,(Salary_Structure!$A$3:$A$501=Salary_Entitlement!D201)*(Salary_Structure!$J$3:J698=Salary_Entitlement!C201),0),9)","v":0}]
[null,null,null,null,{"$f":"VLOOKUP(D202,Emp_Master!$B$3:$C$600,2)","v":{"$error":"#N/A"}},{"$f":"INDEX(Salary_Structure!$A$3:$J$501,MATCH(1,(Salary_Structure!$A$3:$A$501=Salary_Entitlement!D202)*(Salary_Structure!$J$3:J699=Salary_Entitlement!C202),0),9)","v":0}]
[null,null,null,null,{"$f":"VLOOKUP(D203,Emp_Master!$B$3:$C$600,2)","v":{"$error":"#N/A"}},{"$f":"INDEX(Salary_Structure!$A$3:$J$501,MATCH(1,(Salary_Structure!$A$3:$A$501=Salary_Entitlement!D203)*(Salary_Structure!$J$3:J700=Salary_Entitlement!C203),0),9)","v":0}]
[null,null,null,null,{"$f":"VLOOKUP(D204,Emp_Master!$B$3:$C$600,2)","v":{"$error":"#N/A"}},{"$f":"INDEX(Salary_Structure!$A$3:$J$501,MATCH(1,(Salary_Structure!$A$3:$A$501=Salary_Entitlement!D204)*(Salary_Structure!$J$3:J701=Salary_Entitlement!C204),0),9)","v":0}]
[null,null,null,null,{"$f":"VLOOKUP(D205,Emp_Master!$B$3:$C$600,2)","v":{"$error":"#N/A"}},{"$f":"INDEX(Salary_Structure!$A$3:$J$501,MATCH(1,(Salary_Structure!$A$3:$A$501=Salary_Entitlement!D205)*(Salary_Structure!$J$3:J702=Salary_Entitlement!C205),0),9)","v":0}]
[null,null,null,null,{"$f":"VLOOKUP(D206,Emp_Master!$B$3:$C$600,2)","v":{"$error":"#N/A"}},{"$f":"INDEX(Salary_Structure!$A$3:$J$501,MATCH(1,(Salary_Structure!$A$3:$A$501=Salary_Entitlement!D206)*(Salary_Structure!$J$3:J703=Salary_Entitlement!C206),0),9)","v":0}]
[null,null,null,null,{"$f":"VLOOKUP(D207,Emp_Master!$B$3:$C$600,2)","v":{"$error":"#N/A"}},{"$f":"INDEX(Salary_Structure!$A$3:$J$501,MATCH(1,(Salary_Structure!$A$3:$A$501=Salary_Entitlement!D207)*(Salary_Structure!$J$3:J704=Salary_Entitlement!C207),0),9)","v":0}]
[null,null,null,null,{"$f":"VLOOKUP(D208,Emp_Master!$B$3:$C$600,2)","v":{"$error":"#N/A"}},{"$f":"INDEX(Salary_Structure!$A$3:$J$501,MATCH(1,(Salary_Structure!$A$3:$A$501=Salary_Entitlement!D208)*(Salary_Structure!$J$3:J705=Salary_Entitlement!C208),0),9)","v":0}]
[null,null,null,null,{"$f":"VLOOKUP(D209,Emp_Master!$B$3:$C$600,2)","v":{"$error":"#N/A"}},{"$f":"INDEX(Salary_Structure!$A$3:$J$501,MATCH(1,(Salary_Structure!$A$3:$A$501=Salary_Entitlement!D209)*(Salary_Structure!$J$3:J706=Salary_Entitlement!C209),0),9)","v":0}]
[null,null,null,null,{"$f":"VLOOKUP(D210,Emp_Master!$B$3:$C$600,2)","v":{"$error":"#N/A"}},{"$f":"INDEX(Salary_Structure!$A$3:$J$501,MATCH(1,(Salary_Structure!$A$3:$A$501=Salary_Entitlement!D210)*(Salary_Structure!$J$3:J707=Salary_Entitlement!C210),0),9)","v":0}]
[null,null,null,null,{"$f":"VLOOKUP(D211,Emp_Master!$B$3:$C$600,2)","v":{"$error":"#N/A"}},{"$f":"INDEX(Salary_Structure!$A$3:$J$501,MATCH(1,(Salary_Structure!$A$3:$A$501=Salary_Entitlement!D211)*(Salary_Structure!$J$3:J708=Salary_Entitlement!C211),0),9)","v":0}]
[null,null,null,null,{"$f":"VLOOKUP(D212,Emp_Master!$B$3:$C$600,2)","v":{"$error":"#N/A"}},{"$f":"INDEX(Salary_Structure!$A$3:$J$501,MATCH(1,(Salary_Structure!$A$3:$A$501=Salary_Entitlement!D212)*(Salary_Structure!$J$3:J709=Salary_Entitlement!C212),0),9)","v":0}]
[null,null,null,null,{"$f":"VLOOKUP(D213,Emp_Master!$B$3:$C$600,2)","v":{"$error":"#N/A"}},{"$f":"INDEX(Salary_Structure!$A$3:$J$501,MATCH(1,(Salary_Structure!$A$3:$A$501=Salary_Entitlement!D213)*(Salary_Structure!$J$3:J710=Salary_Entitlement!C213),0),9)","v":0}]
[null,null,null,null,{"$f":"VLOOKUP(D214,Emp_Master!$B$3:$C$600,2)","v":{"$error":"#N/A"}},{"$f":"INDEX(Salary_Structure!$A$3:$J$501,MATCH(1,(Salary_Structure!$A$3:$A$501=Salary_Entitlement!D214)*(Salary_Structure!$J$3:J711=Salary_Entitlement!C214),0),9)","v":0}]
[null,null,null,null,{"$f":"VLOOKUP(D215,Emp_Master!$B$3:$C$600,2)","v":{"$error":"#N/A"}},{"$f":"INDEX(Salary_Structure!$A$3:$J$501,MATCH(1,(Salary_Structure!$A$3:$A$501=Salary_Entitlement!D215)*(Salary_Structure!$J$3:J712=Salary_Entitlement!C215),0),9)","v":0}]
[null,null,null,null,{"$f":"VLOOKUP(D216,Emp_Master!$B$3:$C$600,2)","v":{"$error":"#N/A"}},{"$f":"INDEX(Salary_Structure!$A$3:$J$501,MATCH(1,(Salary_Structure!$A$3:$A$501=Salary_Entitlement!D216)*(Salary_Structure!$J$3:J713=Salary_Entitlement!C216),0),9)","v":0}]
[null,null,null,null,{"$f":"VLOOKUP(D217,Emp_Master!$B$3:$C$600,2)","v":{"$error":"#N/A"}},{"$f":"INDEX(Salary_Structure!$A$3:$J$501,MATCH(1,(Salary_Structure!$A$3:$A$501=Salary_Entitlement!D217)*(Salary_Structure!$J$3:J714=Salary_Entitlement!C217),0),9)","v":0}]
[null,null,null,null,{"$f":"VLOOKUP(D218,Emp_Master!$B$3:$C$600,2)","v":{"$error":"#N/A"}},{"$f":"INDEX(Salary_Structure!$A$3:$J$501,MATCH(1,(Salary_Structure!$A$3:$A$501=Salary_Entitlement!D218)*(Salary_Structure!$J$3:J715=Salary_Entitlement!C218),0),9)","v":0}]
[null,null,null,null,{"$f":"VLOOKUP(D219,Emp_Master!$B$3:$C$600,2)","v":{"$error":"#N/A"}},{"$f":"INDEX(Salary_Structure!$A$3:$J$501,MATCH(1,(Salary_Structure!$A$3:$A$501=Salary_Entitlement!D219)*(Salary_Structure!$J$3:J716=Salary_Entitlement!C219),0),9)","v":0}]
[null,null,null,null,{"$f":"VLOOKUP(D220,Emp_Master!$B$3:$C$600,2)","v":{"$error":"#N/A"}},{"$f":"INDEX(Salary_Structure!$A$3:$J$501,MATCH(1,(Salary_Structure!$A$3:$A$501=Salary_Entitlement!D220)*(Salary_Structure!$J$3:J717=Salary_Entitlement!C220),0),9)","v":0}]
[null,null,null,null,{"$f":"VLOOKUP(D221,Emp_Master!$B$3:$C$600,2)","v":{"$error":"#N/A"}},{"$f":"INDEX(Salary_Structure!$A$3:$J$501,MATCH(1,(Salary_Structure!$A$3:$A$501=Salary_Entitlement!D221)*(Salary_Structure!$J$3:J718=Salary_Entitlement!C221),0),9)","v":0}]
[null,null,null,null,{"$f":"VLOOKUP(D222,Emp_Master!$B$3:$C$600,2)","v":{"$error":"#N/A"}},{"$f":"INDEX(Salary_Structure!$A$3:$J$501,MATCH(1,(Salary_Structure!$A$3:$A$501=Salary_Entitlement!D222)*(Salary_Structure!$J$3:J719=Salary_Entitlement!C222),0),9)","v":0}]
[null,null,null,null,{"$f":"VLOOKUP(D223,Emp_Master!$B$3:$C$600,2)","v":{"$error":"#N/A"}},{"$f":"INDEX(Salary_Structure!$A$3:$J$501,MATCH(1,(Salary_Structure!$A$3:$A$501=Salary_Entitlement!D223)*(Salary_Structure!$J$3:J720=Salary_Entitlement!C223),0),9)","v":0}]
[null,null,null,null,{"$f":"VLOOKUP(D224,Emp_Master!$B$3:$C$600,2)","v":{"$error":"#N/A"}},{"$f":"INDEX(Salary_Structure!$A$3:$J$501,MATCH(1,(Salary_Structure!$A$3:$A$501=Salary_Entitlement!D224)*(Salary_Structure!$J$3:J721=Salary_Entitlement!C224),0),9)","v":0}]
[null,null,null,null,{"$f":"VLOOKUP(D225,Emp_Master!$B$3:$C$600,2)","v":{"$error":"#N/A"}},{"$f":"INDEX(Salary_Structure!$A$3:$J$501,MATCH(1,(Salary_Structure!$A$3:$A$501=Salary_Entitlement!D225)*(Salary_Structure!$J$3:J722=Salary_Entitlement!C225),0),9)","v":0}]
[null,null,null,null,{"$f":"VLOOKUP(D226,Emp_Master!$B$3:$C$600,2)","v":{"$error":"#N/A"}},{"$f":"INDEX(Salary_Structure!$A$3:$J$501,MATCH(1,(Salary_Structure!$A$3:$A$501=Salary_Entitlement!D226)*(Salary_Structure!$J$3:J723=Salary_Entitlement!C226),0),9)","v":0}]
[null,null,null,null,{"$f":"VLOOKUP(D227,Emp_Master!$B$3:$C$600,2)","v":{"$error":"#N/A"}},{"$f":"INDEX(Salary_Structure!$A$3:$J$501,MATCH(1,(Salary_Structure!$A$3:$A$501=Salary_Entitlement!D227)*(Salary_Structure!$J$3:J724=Salary_Entitlement!C227),0),9)","v":0}]
[null,null,null,null,{"$f":"VLOOKUP(D228,Emp_Master!$B$3:$C$600,2)","v":{"$error":"#N/A"}},{"$f":"INDEX(Salary_Structure!$A$3:$J$501,MATCH(1,(Salary_Structure!$A$3:$A$501=Salary_Entitlement!D228)*(Salary_Structure!$J$3:J725=Salary_Entitlement!C228),0),9)","v":0}]
[null,null,null,null,{"$f":"VLOOKUP(D229,Emp_Master!$B$3:$C$600,2)","v":{"$error":"#N/A"}},{"$f":"INDEX(Salary_Structure!$A$3:$J$501,MATCH(1,(Salary_Structure!$A$3:$A$501=Salary_Entitlement!D229)*(Salary_Structure!$J$3:J726=Salary_Entitlement!C229),0),9)","v":0}]
[null,null,null,null,{"$f":"VLOOKUP(D230,Emp_Master!$B$3:$C$600,2)","v":{"$error":"#N/A"}},{"$f":"INDEX(Salary_Structure!$A$3:$J$501,MATCH(1,(Salary_Structure!$A$3:$A$501=Salary_Entitlement!D230)*(Salary_Structure!$J$3:J727=Salary_Entitlement!C230),0),9)","v":0}]
[null,null,null,null,{"$f":"VLOOKUP(D231,Emp_Master!$B$3:$C$600,2)","v":{"$error":"#N/A"}},{"$f":"INDEX(Salary_Structure!$A$3:$J$501,MATCH(1,(Salary_Structure!$A$3:$A$501=Salary_Entitlement!D231)*(Salary_Structure!$J$3:J728=Salary_Entitlement!C231),0),9)","v":0}]
[null,null,null,null,{"$f":"VLOOKUP(D232,Emp_Master!$B$3:$C$600,2)","v":{"$error":"#N/A"}},{"$f":"INDEX(Salary_Structure!$A$3:$J$501,MATCH(1,(Salary_Structure!$A$3:$A$501=Salary_Entitlement!D232)*(Salary_Structure!$J$3:J729=Salary_Entitlement!C232),0),9)","v":0}]
[null,null,null,null,{"$f":"VLOOKUP(D233,Emp_Master!$B$3:$C$600,2)","v":{"$error":"#N/A"}},{"$f":"INDEX(Salary_Structure!$A$3:$J$501,MATCH(1,(Salary_Structure!$A$3:$A$501=Salary_Entitlement!D233)*(Salary_Structure!$J$3:J730=Salary_Entitlement!C233),0),9)","v":0}]
[null,null,null,null,{"$f":"VLOOKUP(D234,Emp_Master!$B$3:$C$600,2)","v":{"$error":"#N/A"}},{"$f":"INDEX(Salary_Structure!$A$3:$J$501,MATCH(1,(Salary_Structure!$A$3:$A$501=Salary_Entitlement!D234)*(Salary_Structure!$J$3:J731=Salary_Entitlement!C234),0),9)","v":0}]
[null,null,null,null,{"$f":"VLOOKUP(D235,Emp_Master!$B$3:$C$600,2)","v":{"$error":"#N/A"}},{"$f":"INDEX(Salary_Structure!$A$3:$J$501,MATCH(1,(Salary_Structure!$A$3:$A$501=Salary_Entitlement!D235)*(Salary_Structure!$J$3:J732=Salary_Entitlement!C235),0),9)","v":0}]
[null,null,null,null,{"$f":"VLOOKUP(D236,Emp_Master!$B$3:$C$600,2)","v":{"$error":"#N/A"}},{"$f":"INDEX(Salary_Structure!$A$3:$J$501,MATCH(1,(Salary_Structure!$A$3:$A$501=Salary_Entitlement!D236)*(Salary_Structure!$J$3:J733=Salary_Entitlement!C236),0),9)","v":0}]
[null,null,null,null,{"$f":"VLOOKUP(D237,Emp_Master!$B$3:$C$600,2)","v":{"$error":"#N/A"}},{"$f":"INDEX(Salary_Structure!$A$3:$J$501,MATCH(1,(Salary_Structure!$A$3:$A$501=Salary_Entitlement!D237)*(Salary_Structure!$J$3:J734=Salary_Entitlement!C237),0),9)","v":0}]
[null,null,null,null,{"$f":"VLOOKUP(D238,Emp_Master!$B$3:$C$600,2)","v":{"$error":"#N/A"}},{"$f":"INDEX(Salary_Structure!$A$3:$J$501,MATCH(1,(Salary_Structure!$A$3:$A$501=Salary_Entitlement!D238)*(Salary_Structure!$J$3:J735=Salary_Entitlement!C238),0),9)","v":0}]
[null,null,null,null,{"$f":"VLOOKUP(D239,Emp_Master!$B$3:$C$600,2)","v":{"$error":"#N/A"}},{"$f":"INDEX(Salary_Structure!$A$3:$J$501,MATCH(1,(Salary_Structure!$A$3:$A$501=Salary_Entitlement!D239)*(Salary_Structure!$J$3:J736=Salary_Entitlement!C239),0),9)","v":0}]
[null,null,null,null,{"$f":"VLOOKUP(D240,Emp_Master!$B$3:$C$600,2)","v":{"$error":"#N/A"}},{"$f":"INDEX(Salary_Structure!$A$3:$J$501,MATCH(1,(Salary_Structure!$A$3:$A$501=Salary_Entitlement!D240)*(Salary_Structure!$J$3:J737=Salary_Entitlement!C240),0),9)","v":0}]
[null,null,null,null,{"$f":"VLOOKUP(D241,Emp_Master!$B$3:$C$600,2)","v":{"$error":"#N/A"}},{"$f":"INDEX(Salary_Structure!$A$3:$J$501,MATCH(1,(Salary_Structure!$A$3:$A$501=Salary_Entitlement!D241)*(Salary_Structure!$J$3:J738=Salary_Entitlement!C241),0),9)","v":0}]
[null,null,null,null,{"$f":"VLOOKUP(D242,Emp_Master!$B$3:$C$600,2)","v":{"$error":"#N/A"}},{"$f":"INDEX(Salary_Structure!$A$3:$J$501,MATCH(1,(Salary_Structure!$A$3:$A$501=Salary_Entitlement!D242)*(Salary_Structure!$J$3:J739=Salary_Entitlement!C242),0),9)","v":0}]
[null,null,null,null,{"$f":"VLOOKUP(D243,Emp_Master!$B$3:$C$600,2)","v":{"$error":"#N/A"}},{"$f":"INDEX(Salary_Structure!$A$3:$J$501,MATCH(1,(Salary_Structure!$A$3:$A$501=Salary_Entitlement!D243)*(Salary_Structure!$J$3:J740=Salary_Entitlement!C243),0),9)","v":0}]
[null,null,null,null,{"$f":"VLOOKUP(D244,Emp_Master!$B$3:$C$600,2)","v":{"$error":"#N/A"}},{"$f":"INDEX(Salary_Structure!$A$3:$J$501,MATCH(1,(Salary_Structure!$A$3:$A$501=Salary_Entitlement!D244)*(Salary_Structure!$J$3:J741=Salary_Entitlement!C244),0),9)","v":0}]
[null,null,null,null,{"$f":"VLOOKUP(D245,Emp_Master!$B$3:$C$600,2)","v":{"$error":"#N/A"}},{"$f":"INDEX(Salary_Structure!$A$3:$J$501,MATCH(1,(Salary_Structure!$A$3:$A$501=Salary_Entitlement!D245)*(Salary_Structure!$J$3:J742=Salary_Entitlement!C245),0),9)","v":0}]
[null,null,null,null,{"$f":"VLOOKUP(D246,Emp_Master!$B$3:$C$600,2)","v":{"$error":"#N/A"}},{"$f":"INDEX(Salary_Structure!$A$3:$J$501,MATCH(1,(Salary_Structure!$A$3:$A$501=Salary_Entitlement!D246)*(Salary_Structure!$J$3:J743=Salary_Entitlement!C246),0),9)","v":0}]
[null,null,null,null,{"$f":"VLOOKUP(D247,Emp_Master!$B$3:$C$600,2)","v":{"$error":"#N/A"}},{"$f":"INDEX(Salary_Structure!$A$3:$J$501,MATCH(1,(Salary_Structure!$A$3:$A$501=Salary_Entitlement!D247)*(Salary_Structure!$J$3:J744=Salary_Entitlement!C247),0),9)","v":0}]
[null,null,null,null,{"$f":"VLOOKUP(D248,Emp_Master!$B$3:$C$600,2)","v":{"$error":"#N/A"}},{"$f":"INDEX(Salary_Structure!$A$3:$J$501,MATCH(1,(Salary_Structure!$A$3:$A$501=Salary_Entitlement!D248)*(Salary_Structure!$J$3:J745=Salary_Entitlement!C248),0),9)","v":0}]
[null,null,null,null,{"$f":"VLOOKUP(D249,Emp_Master!$B$3:$C$600,2)","v":{"$error":"#N/A"}},{"$f":"INDEX(Salary_Structure!$A$3:$J$501,MATCH(1,(Salary_Structure!$A$3:$A$501=Salary_Entitlement!D249)*(Salary_Structure!$J$3:J746=Salary_Entitlement!C249),0),9)","v":0}]
[null,null,null,null,{"$f":"VLOOKUP(D250,Emp_Master!$B$3:$C$600,2)","v":{"$error":"#N/A"}},{"$f":"INDEX(Salary_Structure!$A$3:$J$501,MATCH(1,(Salary_Structure!$A$3:$A$501=Salary_Entitlement!D250)*(Salary_Structure!$J$3:J747=Salary_Entitlement!C250),0),9)","v":0}]
[null,null,null,null,{"$f":"VLOOKUP(D251,Emp_Master!$B$3:$C$600,2)","v":{"$error":"#N/A"}},{"$f":"INDEX(Salary_Structure!$A$3:$J$501,MATCH(1,(Salary_Structure!$A$3:$A$501=Salary_Entitlement!D251)*(Salary_Structure!$J$3:J748=Salary_Entitlement!C251),0),9)","v":0}]
[null,null,null,null,{"$f":"VLOOKUP(D252,Emp_Master!$B$3:$C$600,2)","v":{"$error":"#N/A"}},{"$f":"INDEX(Salary_Structure!$A$3:$J$501,MATCH(1,(Salary_Structure!$A$3:$A$501=Salary_Entitlement!D252)*(Salary_Structure!$J$3:J749=Salary_Entitlement!C252),0),9)","v":0}]
[null,null,null,null,{"$f":"VLOOKUP(D253,Emp_Master!$B$3:$C$600,2)","v":{"$error":"#N/A"}},{"$f":"INDEX(Salary_Structure!$A$3:$J$501,MATCH(1,(Salary_Structure!$A$3:$A$501=Salary_Entitlement!D253)*(Salary_Structure!$J$3:J750=Salary_Entitlement!C253),0),9)","v":0}]
[null,null,null,null,{"$f":"VLOOKUP(D254,Emp_Master!$B$3:$C$600,2)","v":{"$error":"#N/A"}},{"$f":"INDEX(Salary_Structure!$A$3:$J$501,MATCH(1,(Salary_Structure!$A$3:$A$501=Salary_Entitlement!D254)*(Salary_Structure!$J$3:J751=Salary_Entitlement!C254),0),9)","v":0}]
[null,null,null,null,{"$f":"VLOOKUP(D255,Emp_Master!$B$3:$C$600,2)","v":{"$error":"#N/A"}},{"$f":"INDEX(Salary_Structure!$A$3:$J$501,MATCH(1,(Salary_Structure!$A$3:$A$501=Salary_Entitlement!D255)*(Salary_Structure!$J$3:J752=Salary_Entitlement!C255),0),9)","v":0}]
[null,null,null,null,{"$f":"VLOOKUP(D256,Emp_Master!$B$3:$C$600,2)","v":{"$error":"#N/A"}},{"$f":"INDEX(Salary_Structure!$A$3:$J$501,MATCH(1,(Salary_Structure!$A$3:$A$501=Salary_Entitlement!D256)*(Salary_Structure!$J$3:J753=Salary_Entitlement!C256),0),9)","v":0}]
[null,null,null,null,{"$f":"VLOOKUP(D257,Emp_Master!$B$3:$C$600,2)","v":{"$error":"#N/A"}},{"$f":"INDEX(Salary_Structure!$A$3:$J$501,MATCH(1,(Salary_Structure!$A$3:$A$501=Salary_Entitlement!D257)*(Salary_Structure!$J$3:J754=Salary_Entitlement!C257),0),9)","v":0}]
[null,null,null,null,{"$f":"VLOOKUP(D258,Emp_Master!$B$3:$C$600,2)","v":{"$error":"#N/A"}},{"$f":"INDEX(Salary_Structure!$A$3:$J$501,MATCH(1,(Salary_Structure!$A$3:$A$501=Salary_Entitlement!D258)*(Salary_Structure!$J$3:J755=Salary_Entitlement!C258),0),9)","v":0}]
[null,null,null,null,{"$f":"VLOOKUP(D259,Emp_Master!$B$3:$C$600,2)","v":{"$error":"#N/A"}},{"$f":"INDEX(Salary_Structure!$A$3:$J$501,MATCH(1,(Salary_Structure!$A$3:$A$501=Salary_Entitlement!D259)*(Salary_Structure!$J$3:J756=Salary_Entitlement!C259),0),9)","v":0}]
[null,null,null,null,{"$f":"VLOOKUP(D260,Emp_Master!$B$3:$C$600,2)","v":{"$error":"#N/A"}},{"$f":"INDEX(Salary_Structure!$A$3:$J$501,MATCH(1,(Salary_Structure!$A$3:$A$501=Salary_Entitlement!D260)*(Salary_Structure!$J$3:J757=Salary_Entitlement!C260),0),9)","v":0}]
[null,null,null,null,{"$f":"VLOOKUP(D261,Emp_Master!$B$3:$C$600,2)","v":{"$error":"#N/A"}},{"$f":"INDEX(Salary_Structure!$A$3:$J$501,MATCH(1,(Salary_Structure!$A$3:$A$501=Salary_Entitlement!D261)*(Salary_Structure!$J$3:J758=Salary_Entitlement!C261),0),9)","v":0}]
[null,null,null,null,{"$f":"VLOOKUP(D262,Emp_Master!$B$3:$C$600,2)","v":{"$error":"#N/A"}},{"$f":"INDEX(Salary_Structure!$A$3:$J$501,MATCH(1,(Salary_Structure!$A$3:$A$501=Salary_Entitlement!D262)*(Salary_Structure!$J$3:J759=Salary_Entitlement!C262),0),9)","v":0}]
[null,null,null,null,{"$f":"VLOOKUP(D263,Emp_Master!$B$3:$C$600,2)","v":{"$error":"#N/A"}},{"$f":"INDEX(Salary_Structure!$A$3:$J$501,MATCH(1,(Salary_Structure!$A$3:$A$501=Salary_Entitlement!D263)*(Salary_Structure!$J$3:J760=Salary_Entitlement!C263),0),9)","v":0}]
[null,null,null,null,{"$f":"VLOOKUP(D264,Emp_Master!$B$3:$C$600,2)","v":{"$error":"#N/A"}},{"$f":"INDEX(Salary_Structure!$A$3:$J$501,MATCH(1,(Salary_Structure!$A$3:$A$501=Salary_Entitlement!D264)*(Salary_Structure!$J$3:J761=Salary_Entitlement!C264),0),9)","v":0}]
[null,null,null,null,{"$f":"VLOOKUP(D265,Emp_Master!$B$3:$C$600,2)","v":{"$error":"#N/A"}},{"$f":"INDEX(Salary_Structure!$A$3:$J$501,MATCH(1,(Salary_Structure!$A$3:$A$501=Salary_Entitlement!D265)*(Salary_Structure!$J$3:J762=Salary_Entitlement!C265),0),9)","v":0}]
[null,null,null,null,{"$f":"VLOOKUP(D266,Emp_Master!$B$3:$C$600,2)","v":{"$error":"#N/A"}},{"$f":"INDEX(Salary_Structure!$A$3:$J$501,MATCH(1,(Salary_Structure!$A$3:$A$501=Salary_Entitlement!D266)*(Salary_Structure!$J$3:J763=Salary_Entitlement!C266),0),9)","v":0}]
[null,null,null,null,{"$f":"VLOOKUP(D267,Emp_Master!$B$3:$C$600,2)","v":{"$error":"#N/A"}},{"$f":"INDEX(Salary_Structure!$A$3:$J$501,MATCH(1,(Salary_Structure!$A$3:$A$501=Salary_Entitlement!D267)*(Salary_Structure!$J$3:J764=Salary_Entitlement!C267),0),9)","v":0}]
[null,null,null,null,{"$f":"VLOOKUP(D268,Emp_Master!$B$3:$C$600,2)","v":{"$error":"#N/A"}},{"$f":"INDEX(Salary_Structure!$A$3:$J$501,MATCH(1,(Salary_Structure!$A$3:$A$501=Salary_Entitlement!D268)*(Salary_Structure!$J$3:J765=Salary_Entitlement!C268),0),9)","v":0}]
[null,null,null,null,{"$f":"VLOOKUP(D269,Emp_Master!$B$3:$C$600,2)","v":{"$error":"#N/A"}},{"$f":"INDEX(Salary_Structure!$A$3:$J$501,MATCH(1,(Salary_Structure!$A$3:$A$501=Salary_Entitlement!D269)*(Salary_Structure!$J$3:J766=Salary_Entitlement!C269),0),9)","v":0}]
[null,null,null,null,{"$f":"VLOOKUP(D270,Emp_Master!$B$3:$C$600,2)","v":{"$error":"#N/A"}},{"$f":"INDEX(Salary_Structure!$A$3:$J$501,MATCH(1,(Salary_Structure!$A$3:$A$501=Salary_Entitlement!D270)*(Salary_Structure!$J$3:J767=Salary_Entitlement!C270),0),9)","v":0}]
[null,null,null,null,{"$f":"VLOOKUP(D271,Emp_Master!$B$3:$C$600,2)","v":{"$error":"#N/A"}},{"$f":"INDEX(Salary_Structure!$A$3:$J$501,MATCH(1,(Salary_Structure!$A$3:$A$501=Salary_Entitlement!D271)*(Salary_Structure!$J$3:J768=Salary_Entitlement!C271),0),9)","v":0}]
[null,null,null,null,{"$f":"VLOOKUP(D272,Emp_Master!$B$3:$C$600,2)","v":{"$error":"#N/A"}},{"$f":"INDEX(Salary_Structure!$A$3:$J$501,MATCH(1,(Salary_Structure!$A$3:$A$501=Salary_Entitlement!D272)*(Salary_Structure!$J$3:J769=Salary_Entitlement!C272),0),9)","v":0}]
[null,null,null,null,{"$f":"VLOOKUP(D273,Emp_Master!$B$3:$C$600,2)","v":{"$error":"#N/A"}},{"$f":"INDEX(Salary_Structure!$A$3:$J$501,MATCH(1,(Salary_Structure!$A$3:$A$501=Salary_Entitlement!D273)*(Salary_Structure!$J$3:J770=Salary_Entitlement!C273),0),9)","v":0}]
[null,null,null,null,{"$f":"VLOOKUP(D274,Emp_Master!$B$3:$C$600,2)","v":{"$error":"#N/A"}},{"$f":"INDEX(Salary_Structure!$A$3:$J$501,MATCH(1,(Salary_Structure!$A$3:$A$501=Salary_Entitlement!D274)*(Salary_Structure!$J$3:J771=Salary_Entitlement!C274),0),9)","v":0}]
[null,null,null,null,{"$f":"VLOOKUP(D275,Emp_Master!$B$3:$C$600,2)","v":{"$error":"#N/A"}},{"$f":"INDEX(Salary_Structure!$A$3:$J$501,MATCH(1,(Salary_Structure!$A$3:$A$501=Salary_Entitlement!D275)*(Salary_Structure!$J$3:J772=Salary_Entitlement!C275),0),9)","v":0}]
[null,null,null,null,{"$f":"VLOOKUP(D276,Emp_Master!$B$3:$C$600,2)","v":{"$error":"#N/A"}},{"$f":"INDEX(Salary_Structure!$A$3:$J$501,MATCH(1,(Salary_Structure!$A$3:$A$501=Salary_Entitlement!D276)*(Salary_Structure!$J$3:J773=Salary_Entitlement!C276),0),9)","v":0}]
[null,null,null,null,{"$f":"VLOOKUP(D277,Emp_Master!$B$3:$C$600,2)","v":{"$error":"#N/A"}},{"$f":"INDEX(Salary_Structure!$A$3:$J$501,MATCH(1,(Salary_Structure!$A$3:$A$501=Salary_Entitlement!D277)*(Salary_Structure!$J$3:J774=Salary_Entitlement!C277),0),9)","v":0}]
[null,null,null,null,{"$f":"VLOOKUP(D278,Emp_Master!$B$3:$C$600,2)","v":{"$error":"#N/A"}},{"$f":"INDEX(Salary_Structure!$A$3:$J$501,MATCH(1,(Salary_Structure!$A$3:$A$501=Salary_Entitlement!D278)*(Salary_Structure!$J$3:J775=Salary_Entitlement!C278),0),9)","v":0}]
[null,null,null,null,{"$f":"VLOOKUP(D279,Emp_Master!$B$3:$C$600,2)","v":{"$error":"#N/A"}},{"$f":"INDEX(Salary_Structure!$A$3:$J$501,MATCH(1,(Salary_Structure!$A$3:$A$501=Salary_Entitlement!D279)*(Salary_Structure!$J$3:J776=Salary_Entitlement!C279),0),9)","v":0}]
[null,null,null,null,{"$f":"VLOOKUP(D280,Emp_Master!$B$3:$C$600,2)","v":{"$error":"#N/A"}},{"$f":"INDEX(Salary_Structure!$A$3:$J$501,MATCH(1,(Salary_Structure!$A$3:$A$501=Salary_Entitlement!D280)*(Salary_Structure!$J$3:J777=Salary_Entitlement!C280),0),9)","v":0}]
[null,null,null,null,{"$f":"VLOOKUP(D281,Emp_Master!$B$3:$C$600,2)","v":{"$error":"#N/A"}},{"$f":"INDEX(Salary_Structure!$A$3:$J$501,MATCH(1,(Salary_Structure!$A$3:$A$501=Salary_Entitlement!D281)*(Salary_Structure!$J$3:J778=Salary_Entitlement!C281),0),9)","v":0}]
[null,null,null,null,{"$f":"VLOOKUP(D282,Emp_Master!$B$3:$C$600,2)","v":{"$error":"#N/A"}},{"$f":"INDEX(Salary_Structure!$A$3:$J$501,MATCH(1,(Salary_Structure!$A$3:$A$501=Salary_Entitlement!D282)*(Salary_Structure!$J$3:J779=Salary_Entitlement!C282),0),9)","v":0}]
[null,null,null,null,{"$f":"VLOOKUP(D283,Emp_Master!$B$3:$C$600,2)","v":{"$error":"#N/A"}},{"$f":"INDEX(Salary_Structure!$A$3:$J$501,MATCH(1,(Salary_Structure!$A$3:$A$501=Salary_Entitlement!D283)*(Salary_Structure!$J$3:J780=Salary_Entitlement!C283),0),9)","v":0}]
[null,null,null,null,{"$f":"VLOOKUP(D284,Emp_Master!$B$3:$C$600,2)","v":{"$error":"#N/A"}},{"$f":"INDEX(Salary_Structure!$A$3:$J$501,MATCH(1,(Salary_Structure!$A$3:$A$501=Salary_Entitlement!D284)*(Salary_Structure!$J$3:J781=Salary_Entitlement!C284),0),9)","v":0}]
[null,null,null,null,{"$f":"VLOOKUP(D285,Emp_Master!$B$3:$C$600,2)","v":{"$error":"#N/A"}},{"$f":"INDEX(Salary_Structure!$A$3:$J$501,MATCH(1,(Salary_Structure!$A$3:$A$501=Salary_Entitlement!D285)*(Salary_Structure!$J$3:J782=Salary_Entitlement!C285),0),9)","v":0}]
[null,null,null,null,{"$f":"VLOOKUP(D286,Emp_Master!$B$3:$C$600,2)","v":{"$error":"#N/A"}},{"$f":"INDEX(Salary_Structure!$A$3:$J$501,MATCH(1,(Salary_Structure!$A$3:$A$501=Salary_Entitlement!D286)*(Salary_Structure!$J$3:J783=Salary_Entitlement!C286),0),9)","v":0}]
[null,null,null,null,{"$f":"VLOOKUP(D287,Emp_Master!$B$3:$C$600,2)","v":{"$error":"#N/A"}},{"$f":"INDEX(Salary_Structure!$A$3:$J$501,MATCH(1,(Salary_Structure!$A$3:$A$501=Salary_Entitlement!D287)*(Salary_Structure!$J$3:J784=Salary_Entitlement!C287),0),9)","v":0}]
[null,null,null,null,{"$f":"VLOOKUP(D288,Emp_Master!$B$3:$C$600,2)","v":{"$error":"#N/A"}},{"$f":"INDEX(Salary_Structure!$A$3:$J$501,MATCH(1,(Salary_Structure!$A$3:$A$501=Salary_Entitlement!D288)*(Salary_Structure!$J$3:J785=Salary_Entitlement!C288),0),9)","v":0}]
[null,null,null,null,{"$f":"VLOOKUP(D289,Emp_Master!$B$3:$C$600,2)","v":{"$error":"#N/A"}},{"$f":"INDEX(Salary_Structure!$A$3:$J$501,MATCH(1,(Salary_Structure!$A$3:$A$501=Salary_Entitlement!D289)*(Salary_Structure!$J$3:J786=Salary_Entitlement!C289),0),9)","v":0}]
[null,null,null,null,{"$f":"VLOOKUP(D290,Emp_Master!$B$3:$C$600,2)","v":{"$error":"#N/A"}},{"$f":"INDEX(Salary_Structure!$A$3:$J$501,MATCH(1,(Salary_Structure!$A$3:$A$501=Salary_Entitlement!D290)*(Salary_Structure!$J$3:J787=Salary_Entitlement!C290),0),9)","v":0}]
[null,null,null,null,{"$f":"VLOOKUP(D291,Emp_Master!$B$3:$C$600,2)","v":{"$error":"#N/A"}},{"$f":"INDEX(Salary_Structure!$A$3:$J$501,MATCH(1,(Salary_Structure!$A$3:$A$501=Salary_Entitlement!D291)*(Salary_Structure!$J$3:J788=Salary_Entitlement!C291),0),9)","v":0}]
[null,null,null,null,{"$f":"VLOOKUP(D292,Emp_Master!$B$3:$C$600,2)","v":{"$error":"#N/A"}},{"$f":"INDEX(Salary_Structure!$A$3:$J$501,MATCH(1,(Salary_Structure!$A$3:$A$501=Salary_Entitlement!D292)*(Salary_Structure!$J$3:J789=Salary_Entitlement!C292),0),9)","v":0}]
[null,null,null,null,{"$f":"VLOOKUP(D293,Emp_Master!$B$3:$C$600,2)","v":{"$error":"#N/A"}},{"$f":"INDEX(Salary_Structure!$A$3:$J$501,MATCH(1,(Salary_Structure!$A$3:$A$501=Salary_Entitlement!D293)*(Salary_Structure!$J$3:J790=Salary_Entitlement!C293),0),9)","v":0}]
[null,null,null,null,{"$f":"VLOOKUP(D294,Emp_Master!$B$3:$C$600,2)","v":{"$error":"#N/A"}},{"$f":"INDEX(Salary_Structure!$A$3:$J$501,MATCH(1,(Salary_Structure!$A$3:$A$501=Salary_Entitlement!D294)*(Salary_Structure!$J$3:J791=Salary_Entitlement!C294),0),9)","v":0}]
[null,null,null,null,{"$f":"VLOOKUP(D295,Emp_Master!$B$3:$C$600,2)","v":{"$error":"#N/A"}},{"$f":"INDEX(Salary_Structure!$A$3:$J$501,MATCH(1,(Salary_Structure!$A$3:$A$501=Salary_Entitlement!D295)*(Salary_Structure!$J$3:J792=Salary_Entitlement!C295),0),9)","v":0}]
[null,null,null,null,{"$f":"VLOOKUP(D296,Emp_Master!$B$3:$C$600,2)","v":{"$error":"#N/A"}},{"$f":"INDEX(Salary_Structure!$A$3:$J$501,MATCH(1,(Salary_Structure!$A$3:$A$501=Salary_Entitlement!D296)*(Salary_Structure!$J$3:J793=Salary_Entitlement!C296),0),9)","v":0}]
[null,null,null,null,{"$f":"VLOOKUP(D297,Emp_Master!$B$3:$C$600,2)","v":{"$error":"#N/A"}},{"$f":"INDEX(Salary_Structure!$A$3:$J$501,MATCH(1,(Salary_Structure!$A$3:$A$501=Salary_Entitlement!D297)*(Salary_Structure!$J$3:J794=Salary_Entitlement!C297),0),9)","v":0}]
[null,null,null,null,{"$f":"VLOOKUP(D298,Emp_Master!$B$3:$C$600,2)","v":{"$error":"#N/A"}},{"$f":"INDEX(Salary_Structure!$A$3:$J$501,MATCH(1,(Salary_Structure!$A$3:$A$501=Salary_Entitlement!D298)*(Salary_Structure!$J$3:J795=Salary_Entitlement!C298),0),9)","v":0}]
[null,null,null,null,{"$f":"VLOOKUP(D299,Emp_Master!$B$3:$C$600,2)","v":{"$error":"#N/A"}},{"$f":"INDEX(Salary_Structure!$A$3:$J$501,MATCH(1,(Salary_Structure!$A$3:$A$501=Salary_Entitlement!D299)*(Salary_Structure!$J$3:J796=Salary_Entitlement!C299),0),9)","v":0}]
[null,null,null,null,{"$f":"VLOOKUP(D300,Emp_Master!$B$3:$C$600,2)","v":{"$error":"#N/A"}},{"$f":"INDEX(Salary_Structure!$A$3:$J$501,MATCH(1,(Salary_Structure!$A$3:$A$501=Salary_Entitlement!D300)*(Salary_Structure!$J$3:J797=Salary_Entitlement!C300),0),9)","v":0}]
[null,null,null,null,{"$f":"VLOOKUP(D301,Emp_Master!$B$3:$C$600,2)","v":{"$error":"#N/A"}},{"$f":"INDEX(Salary_Structure!$A$3:$J$501,MATCH(1,(Salary_Structure!$A$3:$A$501=Salary_Entitlement!D301)*(Salary_Structure!$J$3:J798=Salary_Entitlement!C301),0),9)","v":0}]
[null,null,null,null,{"$f":"VLOOKUP(D302,Emp_Master!$B$3:$C$600,2)","v":{"$error":"#N/A"}},{"$f":"INDEX(Salary_Structure!$A$3:$J$501,MATCH(1,(Salary_Structure!$A$3:$A$501=Salary_Entitlement!D302)*(Salary_Structure!$J$3:J799=Salary_Entitlement!C302),0),9)","v":0}]
[null,null,null,null,{"$f":"VLOOKUP(D303,Emp_Master!$B$3:$C$600,2)","v":{"$error":"#N/A"}},{"$f":"INDEX(Salary_Structure!$A$3:$J$501,MATCH(1,(Salary_Structure!$A$3:$A$501=Salary_Entitlement!D303)*(Salary_Structure!$J$3:J800=Salary_Entitlement!C303),0),9)","v":0}]
[null,null,null,null,{"$f":"VLOOKUP(D304,Emp_Master!$B$3:$C$600,2)","v":{"$error":"#N/A"}},{"$f":"INDEX(Salary_Structure!$A$3:$J$501,MATCH(1,(Salary_Structure!$A$3:$A$501=Salary_Entitlement!D304)*(Salary_Structure!$J$3:J801=Salary_Entitlement!C304),0),9)","v":0}]
[null,null,null,null,{"$f":"VLOOKUP(D305,Emp_Master!$B$3:$C$600,2)","v":{"$error":"#N/A"}},{"$f":"INDEX(Salary_Structure!$A$3:$J$501,MATCH(1,(Salary_Structure!$A$3:$A$501=Salary_Entitlement!D305)*(Salary_Structure!$J$3:J802=Salary_Entitlement!C305),0),9)","v":0}]
[null,null,null,null,{"$f":"VLOOKUP(D306,Emp_Master!$B$3:$C$600,2)","v":{"$error":"#N/A"}},{"$f":"INDEX(Salary_Structure!$A$3:$J$501,MATCH(1,(Salary_Structure!$A$3:$A$501=Salary_Entitlement!D306)*(Salary_Structure!$J$3:J803=Salary_Entitlement!C306),0),9)","v":0}]
[null,null,null,null,{"$f":"VLOOKUP(D307,Emp_Master!$B$3:$C$600,2)","v":{"$error":"#N/A"}},{"$f":"INDEX(Salary_Structure!$A$3:$J$501,MATCH(1,(Salary_Structure!$A$3:$A$501=Salary_Entitlement!D307)*(Salary_Structure!$J$3:J804=Salary_Entitlement!C307),0),9)","v":0}]
[null,null,null,null,{"$f":"VLOOKUP(D308,Emp_Master!$B$3:$C$600,2)","v":{"$error":"#N/A"}},{"$f":"INDEX(Salary_Structure!$A$3:$J$501,MATCH(1,(Salary_Structure!$A$3:$A$501=Salary_Entitlement!D308)*(Salary_Structure!$J$3:J805=Salary_Entitlement!C308),0),9)","v":0}]
[null,null,null,null,{"$f":"VLOOKUP(D309,Emp_Master!$B$3:$C$600,2)","v":{"$error":"#N/A"}},{"$f":"INDEX(Salary_Structure!$A$3:$J$501,MATCH(1,(Salary_Structure!$A$3:$A$501=Salary_Entitlement!D309)*(Salary_Structure!$J$3:J806=Salary_Entitlement!C309),0),9)","v":0}]
[null,null,null,null,{"$f":"VLOOKUP(D310,Emp_Master!$B$3:$C$600,2)","v":{"$error":"#N/A"}},{"$f":"INDEX(Salary_Structure!$A$3:$J$501,MATCH(1,(Salary_Structure!$A$3:$A$501=Salary_Entitlement!D310)*(Salary_Structure!$J$3:J807=Salary_Entitlement!C310),0),9)","v":0}]
[null,null,null,null,{"$f":"VLOOKUP(D311,Emp_Master!$B$3:$C$600,2)","v":{"$error":"#N/A"}},{"$f":"INDEX(Salary_Structure!$A$3:$J$501,MATCH(1,(Salary_Structure!$A$3:$A$501=Salary_Entitlement!D311)*(Salary_Structure!$J$3:J808=Salary_Entitlement!C311),0),9)","v":0}]
[null,null,null,null,{"$f":"VLOOKUP(D312,Emp_Master!$B$3:$C$600,2)","v":{"$error":"#N/A"}},{"$f":"INDEX(Salary_Structure!$A$3:$J$501,MATCH(1,(Salary_Structure!$A$3:$A$501=Salary_Entitlement!D312)*(Salary_Structure!$J$3:J809=Salary_Entitlement!C312),0),9)","v":0}]
[null,null,null,null,{"$f":"VLOOKUP(D313,Emp_Master!$B$3:$C$600,2)","v":{"$error":"#N/A"}},{"$f":"INDEX(Salary_Structure!$A$3:$J$501,MATCH(1,(Salary_Structure!$A$3:$A$501=Salary_Entitlement!D313)*(Salary_Structure!$J$3:J810=Salary_Entitlement!C313),0),9)","v":0}]
[null,null,null,null,{"$f":"VLOOKUP(D314,Emp_Master!$B$3:$C$600,2)","v":{"$error":"#N/A"}},{"$f":"INDEX(Salary_Structure!$A$3:$J$501,MATCH(1,(Salary_Structure!$A$3:$A$501=Salary_Entitlement!D314)*(Salary_Structure!$J$3:J811=Salary_Entitlement!C314),0),9)","v":0}]
[null,null,null,null,{"$f":"VLOOKUP(D315,Emp_Master!$B$3:$C$600,2)","v":{"$error":"#N/A"}},{"$f":"INDEX(Salary_Structure!$A$3:$J$501,MATCH(1,(Salary_Structure!$A$3:$A$501=Salary_Entitlement!D315)*(Salary_Structure!$J$3:J812=Salary_Entitlement!C315),0),9)","v":0}]
[null,null,null,null,{"$f":"VLOOKUP(D316,Emp_Master!$B$3:$C$600,2)","v":{"$error":"#N/A"}},{"$f":"INDEX(Salary_Structure!$A$3:$J$501,MATCH(1,(Salary_Structure!$A$3:$A$501=Salary_Entitlement!D316)*(Salary_Structure!$J$3:J813=Salary_Entitlement!C316),0),9)","v":0}]
[null,null,null,null,{"$f":"VLOOKUP(D317,Emp_Master!$B$3:$C$600,2)","v":{"$error":"#N/A"}},{"$f":"INDEX(Salary_Structure!$A$3:$J$501,MATCH(1,(Salary_Structure!$A$3:$A$501=Salary_Entitlement!D317)*(Salary_Structure!$J$3:J814=Salary_Entitlement!C317),0),9)","v":0}]
[null,null,null,null,{"$f":"VLOOKUP(D318,Emp_Master!$B$3:$C$600,2)","v":{"$error":"#N/A"}},{"$f":"INDEX(Salary_Structure!$A$3:$J$501,MATCH(1,(Salary_Structure!$A$3:$A$501=Salary_Entitlement!D318)*(Salary_Structure!$J$3:J815=Salary_Entitlement!C318),0),9)","v":0}]
[null,null,null,null,{"$f":"VLOOKUP(D319,Emp_Master!$B$3:$C$600,2)","v":{"$error":"#N/A"}},{"$f":"INDEX(Salary_Structure!$A$3:$J$501,MATCH(1,(Salary_Structure!$A$3:$A$501=Salary_Entitlement!D319)*(Salary_Structure!$J$3:J816=Salary_Entitlement!C319),0),9)","v":0}]
[null,null,null,null,{"$f":"VLOOKUP(D320,Emp_Master!$B$3:$C$600,2)","v":{"$error":"#N/A"}},{"$f":"INDEX(Salary_Structure!$A$3:$J$501,MATCH(1,(Salary_Structure!$A$3:$A$501=Salary_Entitlement!D320)*(Salary_Structure!$J$3:J817=Salary_Entitlement!C320),0),9)","v":0}]
[null,null,null,null,{"$f":"VLOOKUP(D321,Emp_Master!$B$3:$C$600,2)","v":{"$error":"#N/A"}},{"$f":"INDEX(Salary_Structure!$A$3:$J$501,MATCH(1,(Salary_Structure!$A$3:$A$501=Salary_Entitlement!D321)*(Salary_Structure!$J$3:J818=Salary_Entitlement!C321),0),9)","v":0}]
[null,null,null,null,{"$f":"VLOOKUP(D322,Emp_Master!$B$3:$C$600,2)","v":{"$error":"#N/A"}},{"$f":"INDEX(Salary_Structure!$A$3:$J$501,MATCH(1,(Salary_Structure!$A$3:$A$501=Salary_Entitlement!D322)*(Salary_Structure!$J$3:J819=Salary_Entitlement!C322),0),9)","v":0}]
[null,null,null,null,{"$f":"VLOOKUP(D323,Emp_Master!$B$3:$C$600,2)","v":{"$error":"#N/A"}},{"$f":"INDEX(Salary_Structure!$A$3:$J$501,MATCH(1,(Salary_Structure!$A$3:$A$501=Salary_Entitlement!D323)*(Salary_Structure!$J$3:J820=Salary_Entitlement!C323),0),9)","v":0}]
[null,null,null,null,{"$f":"VLOOKUP(D324,Emp_Master!$B$3:$C$600,2)","v":{"$error":"#N/A"}},{"$f":"INDEX(Salary_Structure!$A$3:$J$501,MATCH(1,(Salary_Structure!$A$3:$A$501=Salary_Entitlement!D324)*(Salary_Structure!$J$3:J821=Salary_Entitlement!C324),0),9)","v":0}]
[null,null,null,null,{"$f":"VLOOKUP(D325,Emp_Master!$B$3:$C$600,2)","v":{"$error":"#N/A"}},{"$f":"INDEX(Salary_Structure!$A$3:$J$501,MATCH(1,(Salary_Structure!$A$3:$A$501=Salary_Entitlement!D325)*(Salary_Structure!$J$3:J822=Salary_Entitlement!C325),0),9)","v":0}]
[null,null,null,null,{"$f":"VLOOKUP(D326,Emp_Master!$B$3:$C$600,2)","v":{"$error":"#N/A"}},{"$f":"INDEX(Salary_Structure!$A$3:$J$501,MATCH(1,(Salary_Structure!$A$3:$A$501=Salary_Entitlement!D326)*(Salary_Structure!$J$3:J823=Salary_Entitlement!C326),0),9)","v":0}]
[null,null,null,null,{"$f":"VLOOKUP(D327,Emp_Master!$B$3:$C$600,2)","v":{"$error":"#N/A"}},{"$f":"INDEX(Salary_Structure!$A$3:$J$501,MATCH(1,(Salary_Structure!$A$3:$A$501=Salary_Entitlement!D327)*(Salary_Structure!$J$3:J824=Salary_Entitlement!C327),0),9)","v":0}]
[null,null,null,null,{"$f":"VLOOKUP(D328,Emp_Master!$B$3:$C$600,2)","v":{"$error":"#N/A"}},{"$f":"INDEX(Salary_Structure!$A$3:$J$501,MATCH(1,(Salary_Structure!$A$3:$A$501=Salary_Entitlement!D328)*(Salary_Structure!$J$3:J825=Salary_Entitlement!C328),0),9)","v":0}]
[null,null,null,null,{"$f":"VLOOKUP(D329,Emp_Master!$B$3:$C$600,2)","v":{"$error":"#N/A"}},{"$f":"INDEX(Salary_Structure!$A$3:$J$501,MATCH(1,(Salary_Structure!$A$3:$A$501=Salary_Entitlement!D329)*(Salary_Structure!$J$3:J826=Salary_Entitlement!C329),0),9)","v":0}]
[null,null,null,null,{"$f":"VLOOKUP(D330,Emp_Master!$B$3:$C$600,2)","v":{"$error":"#N/A"}},{"$f":"INDEX(Salary_Structure!$A$3:$J$501,MATCH(1,(Salary_Structure!$A$3:$A$501=Salary_Entitlement!D330)*(Salary_Structure!$J$3:J827=Salary_Entitlement!C330),0),9)","v":0}]
[null,null,null,null,{"$f":"VLOOKUP(D331,Emp_Master!$B$3:$C$600,2)","v":{"$error":"#N/A"}},{"$f":"INDEX(Salary_Structure!$A$3:$J$501,MATCH(1,(Salary_Structure!$A$3:$A$501=Salary_Entitlement!D331)*(Salary_Structure!$J$3:J828=Salary_Entitlement!C331),0),9)","v":0}]
[null,null,null,null,{"$f":"VLOOKUP(D332,Emp_Master!$B$3:$C$600,2)","v":{"$error":"#N/A"}},{"$f":"INDEX(Salary_Structure!$A$3:$J$501,MATCH(1,(Salary_Structure!$A$3:$A$501=Salary_Entitlement!D332)*(Salary_Structure!$J$3:J829=Salary_Entitlement!C332),0),9)","v":0}]
[null,null,null,null,{"$f":"VLOOKUP(D333,Emp_Master!$B$3:$C$600,2)","v":{"$error":"#N/A"}},{"$f":"INDEX(Salary_Structure!$A$3:$J$501,MATCH(1,(Salary_Structure!$A$3:$A$501=Salary_Entitlement!D333)*(Salary_Structure!$J$3:J830=Salary_Entitlement!C333),0),9)","v":0}]
[null,null,null,null,{"$f":"VLOOKUP(D334,Emp_Master!$B$3:$C$600,2)","v":{"$error":"#N/A"}},{"$f":"INDEX(Salary_Structure!$A$3:$J$501,MATCH(1,(Salary_Structure!$A$3:$A$501=Salary_Entitlement!D334)*(Salary_Structure!$J$3:J831=Salary_Entitlement!C334),0),9)","v":0}]
[null,null,null,null,{"$f":"VLOOKUP(D335,Emp_Master!$B$3:$C$600,2)","v":{"$error":"#N/A"}},{"$f":"INDEX(Salary_Structure!$A$3:$J$501,MATCH(1,(Salary_Structure!$A$3:$A$501=Salary_Entitlement!D335)*(Salary_Structure!$J$3:J832=Salary_Entitlement!C335),0),9)","v":0}]
[null,null,null,null,{"$f":"VLOOKUP(D336,Emp_Master!$B$3:$C$600,2)","v":{"$error":"#N/A"}},{"$f":"INDEX(Salary_Structure!$A$3:$J$501,MATCH(1,(Salary_Structure!$A$3:$A$501=Salary_Entitlement!D336)*(Salary_Structure!$J$3:J833=Salary_Entitlement!C336),0),9)","v":0}]
[null,null,null,null,{"$f":"VLOOKUP(D337,Emp_Master!$B$3:$C$600,2)","v":{"$error":"#N/A"}},{"$f":"INDEX(Salary_Structure!$A$3:$J$501,MATCH(1,(Salary_Structure!$A$3:$A$501=Salary_Entitlement!D337)*(Salary_Structure!$J$3:J834=Salary_Entitlement!C337),0),9)","v":0}]
[null,null,null,null,{"$f":"VLOOKUP(D338,Emp_Master!$B$3:$C$600,2)","v":{"$error":"#N/A"}},{"$f":"INDEX(Salary_Structure!$A$3:$J$501,MATCH(1,(Salary_Structure!$A$3:$A$501=Salary_Entitlement!D338)*(Salary_Structure!$J$3:J835=Salary_Entitlement!C338),0),9)","v":0}]
[null,null,null,null,{"$f":"VLOOKUP(D339,Emp_Master!$B$3:$C$600,2)","v":{"$error":"#N/A"}},{"$f":"INDEX(Salary_Structure!$A$3:$J$501,MATCH(1,(Salary_Structure!$A$3:$A$501=Salary_Entitlement!D339)*(Salary_Structure!$J$3:J836=Salary_Entitlement!C339),0),9)","v":0}]
[null,null,null,null,{"$f":"VLOOKUP(D340,Emp_Master!$B$3:$C$600,2)","v":{"$error":"#N/A"}},{"$f":"INDEX(Salary_Structure!$A$3:$J$501,MATCH(1,(Salary_Structure!$A$3:$A$501=Salary_Entitlement!D340)*(Salary_Structure!$J$3:J837=Salary_Entitlement!C340),0),9)","v":0}]
[null,null,null,null,{"$f":"VLOOKUP(D341,Emp_Master!$B$3:$C$600,2)","v":{"$error":"#N/A"}},{"$f":"INDEX(Salary_Structure!$A$3:$J$501,MATCH(1,(Salary_Structure!$A$3:$A$501=Salary_Entitlement!D341)*(Salary_Structure!$J$3:J838=Salary_Entitlement!C341),0),9)","v":0}]
[null,null,null,null,{"$f":"VLOOKUP(D342,Emp_Master!$B$3:$C$600,2)","v":{"$error":"#N/A"}},{"$f":"INDEX(Salary_Structure!$A$3:$J$501,MATCH(1,(Salary_Structure!$A$3:$A$501=Salary_Entitlement!D342)*(Salary_Structure!$J$3:J839=Salary_Entitlement!C342),0),9)","v":0}]
[null,null,null,null,{"$f":"VLOOKUP(D343,Emp_Master!$B$3:$C$600,2)","v":{"$error":"#N/A"}},{"$f":"INDEX(Salary_Structure!$A$3:$J$501,MATCH(1,(Salary_Structure!$A$3:$A$501=Salary_Entitlement!D343)*(Salary_Structure!$J$3:J840=Salary_Entitlement!C343),0),9)","v":0}]
[null,null,null,null,{"$f":"VLOOKUP(D344,Emp_Master!$B$3:$C$600,2)","v":{"$error":"#N/A"}},{"$f":"INDEX(Salary_Structure!$A$3:$J$501,MATCH(1,(Salary_Structure!$A$3:$A$501=Salary_Entitlement!D344)*(Salary_Structure!$J$3:J841=Salary_Entitlement!C344),0),9)","v":0}]
[null,null,null,null,{"$f":"VLOOKUP(D345,Emp_Master!$B$3:$C$600,2)","v":{"$error":"#N/A"}},{"$f":"INDEX(Salary_Structure!$A$3:$J$501,MATCH(1,(Salary_Structure!$A$3:$A$501=Salary_Entitlement!D345)*(Salary_Structure!$J$3:J842=Salary_Entitlement!C345),0),9)","v":0}]
[null,null,null,null,{"$f":"VLOOKUP(D346,Emp_Master!$B$3:$C$600,2)","v":{"$error":"#N/A"}},{"$f":"INDEX(Salary_Structure!$A$3:$J$501,MATCH(1,(Salary_Structure!$A$3:$A$501=Salary_Entitlement!D346)*(Salary_Structure!$J$3:J843=Salary_Entitlement!C346),0),9)","v":0}]
[null,null,null,null,{"$f":"VLOOKUP(D347,Emp_Master!$B$3:$C$600,2)","v":{"$error":"#N/A"}},{"$f":"INDEX(Salary_Structure!$A$3:$J$501,MATCH(1,(Salary_Structure!$A$3:$A$501=Salary_Entitlement!D347)*(Salary_Structure!$J$3:J844=Salary_Entitlement!C347),0),9)","v":0}]
[null,null,null,null,{"$f":"VLOOKUP(D348,Emp_Master!$B$3:$C$600,2)","v":{"$error":"#N/A"}},{"$f":"INDEX(Salary_Structure!$A$3:$J$501,MATCH(1,(Salary_Structure!$A$3:$A$501=Salary_Entitlement!D348)*(Salary_Structure!$J$3:J845=Salary_Entitlement!C348),0),9)","v":0}]
[null,null,null,null,{"$f":"VLOOKUP(D349,Emp_Master!$B$3:$C$600,2)","v":{"$error":"#N/A"}},{"$f":"INDEX(Salary_Structure!$A$3:$J$501,MATCH(1,(Salary_Structure!$A$3:$A$501=Salary_Entitlement!D349)*(Salary_Structure!$J$3:J846=Salary_Entitlement!C349),0),9)","v":0}]
[null,null,null,null,{"$f":"VLOOKUP(D350,Emp_Master!$B$3:$C$600,2)","v":{"$error":"#N/A"}},{"$f":"INDEX(Salary_Structure!$A$3:$J$501,MATCH(1,(Salary_Structure!$A$3:$A$501=Salary_Entitlement!D350)*(Salary_Structure!$J$3:J847=Salary_Entitlement!C350),0),9)","v":0}]
[null,null,null,null,{"$f":"VLOOKUP(D351,Emp_Master!$B$3:$C$600,2)","v":{"$error":"#N/A"}},{"$f":"INDEX(Salary_Structure!$A$3:$J$501,MATCH(1,(Salary_Structure!$A$3:$A$501=Salary_Entitlement!D351)*(Salary_Structure!$J$3:J848=Salary_Entitlement!C351),0),9)","v":0}]
[null,null,null,null,{"$f":"VLOOKUP(D352,Emp_Master!$B$3:$C$600,2)","v":{"$error":"#N/A"}},{"$f":"INDEX(Salary_Structure!$A$3:$J$501,MATCH(1,(Salary_Structure!$A$3:$A$501=Salary_Entitlement!D352)*(Salary_Structure!$J$3:J849=Salary_Entitlement!C352),0),9)","v":0}]
[null,null,null,null,{"$f":"VLOOKUP(D353,Emp_Master!$B$3:$C$600,2)","v":{"$error":"#N/A"}},{"$f":"INDEX(Salary_Structure!$A$3:$J$501,MATCH(1,(Salary_Structure!$A$3:$A$501=Salary_Entitlement!D353)*(Salary_Structure!$J$3:J850=Salary_Entitlement!C353),0),9)","v":0}]
[null,null,null,null,{"$f":"VLOOKUP(D354,Emp_Master!$B$3:$C$600,2)","v":{"$error":"#N/A"}},{"$f":"INDEX(Salary_Structure!$A$3:$J$501,MATCH(1,(Salary_Structure!$A$3:$A$501=Salary_Entitlement!D354)*(Salary_Structure!$J$3:J851=Salary_Entitlement!C354),0),9)","v":0}]
[null,null,null,null,{"$f":"VLOOKUP(D355,Emp_Master!$B$3:$C$600,2)","v":{"$error":"#N/A"}},{"$f":"INDEX(Salary_Structure!$A$3:$J$501,MATCH(1,(Salary_Structure!$A$3:$A$501=Salary_Entitlement!D355)*(Salary_Structure!$J$3:J852=Salary_Entitlement!C355),0),9)","v":0}]
[null,null,null,null,{"$f":"VLOOKUP(D356,Emp_Master!$B$3:$C$600,2)","v":{"$error":"#N/A"}},{"$f":"INDEX(Salary_Structure!$A$3:$J$501,MATCH(1,(Salary_Structure!$A$3:$A$501=Salary_Entitlement!D356)*(Salary_Structure!$J$3:J853=Salary_Entitlement!C356),0),9)","v":0}]
[null,null,null,null,{"$f":"VLOOKUP(D357,Emp_Master!$B$3:$C$600,2)","v":{"$error":"#N/A"}},{"$f":"INDEX(Salary_Structure!$A$3:$J$501,MATCH(1,(Salary_Structure!$A$3:$A$501=Salary_Entitlement!D357)*(Salary_Structure!$J$3:J854=Salary_Entitlement!C357),0),9)","v":0}]
[null,null,null,null,{"$f":"VLOOKUP(D358,Emp_Master!$B$3:$C$600,2)","v":{"$error":"#N/A"}},{"$f":"INDEX(Salary_Structure!$A$3:$J$501,MATCH(1,(Salary_Structure!$A$3:$A$501=Salary_Entitlement!D358)*(Salary_Structure!$J$3:J855=Salary_Entitlement!C358),0),9)","v":0}]
[null,null,null,null,{"$f":"VLOOKUP(D359,Emp_Master!$B$3:$C$600,2)","v":{"$error":"#N/A"}},{"$f":"INDEX(Salary_Structure!$A$3:$J$501,MATCH(1,(Salary_Structure!$A$3:$A$501=Salary_Entitlement!D359)*(Salary_Structure!$J$3:J856=Salary_Entitlement!C359),0),9)","v":0}]
[null,null,null,null,{"$f":"VLOOKUP(D360,Emp_Master!$B$3:$C$600,2)","v":{"$error":"#N/A"}},{"$f":"INDEX(Salary_Structure!$A$3:$J$501,MATCH(1,(Salary_Structure!$A$3:$A$501=Salary_Entitlement!D360)*(Salary_Structure!$J$3:J857=Salary_Entitlement!C360),0),9)","v":0}]
[null,null,null,null,{"$f":"VLOOKUP(D361,Emp_Master!$B$3:$C$600,2)","v":{"$error":"#N/A"}},{"$f":"INDEX(Salary_Structure!$A$3:$J$501,MATCH(1,(Salary_Structure!$A$3:$A$501=Salary_Entitlement!D361)*(Salary_Structure!$J$3:J858=Salary_Entitlement!C361),0),9)","v":0}]
[null,null,null,null,{"$f":"VLOOKUP(D362,Emp_Master!$B$3:$C$600,2)","v":{"$error":"#N/A"}},{"$f":"INDEX(Salary_Structure!$A$3:$J$501,MATCH(1,(Salary_Structure!$A$3:$A$501=Salary_Entitlement!D362)*(Salary_Structure!$J$3:J859=Salary_Entitlement!C362),0),9)","v":0}]
[null,null,null,null,{"$f":"VLOOKUP(D363,Emp_Master!$B$3:$C$600,2)","v":{"$error":"#N/A"}},{"$f":"INDEX(Salary_Structure!$A$3:$J$501,MATCH(1,(Salary_Structure!$A$3:$A$501=Salary_Entitlement!D363)*(Salary_Structure!$J$3:J860=Salary_Entitlement!C363),0),9)","v":0}]
[null,null,null,null,{"$f":"VLOOKUP(D364,Emp_Master!$B$3:$C$600,2)","v":{"$error":"#N/A"}},{"$f":"INDEX(Salary_Structure!$A$3:$J$501,MATCH(1,(Salary_Structure!$A$3:$A$501=Salary_Entitlement!D364)*(Salary_Structure!$J$3:J861=Salary_Entitlement!C364),0),9)","v":0}]
[null,null,null,null,{"$f":"VLOOKUP(D365,Emp_Master!$B$3:$C$600,2)","v":{"$error":"#N/A"}},{"$f":"INDEX(Salary_Structure!$A$3:$J$501,MATCH(1,(Salary_Structure!$A$3:$A$501=Salary_Entitlement!D365)*(Salary_Structure!$J$3:J862=Salary_Entitlement!C365),0),9)","v":0}]
[null,null,null,null,{"$f":"VLOOKUP(D366,Emp_Master!$B$3:$C$600,2)","v":{"$error":"#N/A"}},{"$f":"INDEX(Salary_Structure!$A$3:$J$501,MATCH(1,(Salary_Structure!$A$3:$A$501=Salary_Entitlement!D366)*(Salary_Structure!$J$3:J863=Salary_Entitlement!C366),0),9)","v":0}]
[null,null,null,null,{"$f":"VLOOKUP(D367,Emp_Master!$B$3:$C$600,2)","v":{"$error":"#N/A"}},{"$f":"INDEX(Salary_Structure!$A$3:$J$501,MATCH(1,(Salary_Structure!$A$3:$A$501=Salary_Entitlement!D367)*(Salary_Structure!$J$3:J864=Salary_Entitlement!C367),0),9)","v":0}]
[null,null,null,null,{"$f":"VLOOKUP(D368,Emp_Master!$B$3:$C$600,2)","v":{"$error":"#N/A"}},{"$f":"INDEX(Salary_Structure!$A$3:$J$501,MATCH(1,(Salary_Structure!$A$3:$A$501=Salary_Entitlement!D368)*(Salary_Structure!$J$3:J865=Salary_Entitlement!C368),0),9)","v":0}]
[null,null,null,null,{"$f":"VLOOKUP(D369,Emp_Master!$B$3:$C$600,2)","v":{"$error":"#N/A"}},{"$f":"INDEX(Salary_Structure!$A$3:$J$501,MATCH(1,(Salary_Structure!$A$3:$A$501=Salary_Entitlement!D369)*(Salary_Structure!$J$3:J866=Salary_Entitlement!C369),0),9)","v":0}]
[null,null,null,null,{"$f":"VLOOKUP(D370,Emp_Master!$B$3:$C$600,2)","v":{"$error":"#N/A"}},{"$f":"INDEX(Salary_Structure!$A$3:$J$501,MATCH(1,(Salary_Structure!$A$3:$A$501=Salary_Entitlement!D370)*(Salary_Structure!$J$3:J867=Salary_Entitlement!C370),0),9)","v":0}]
[null,null,null,null,{"$f":"VLOOKUP(D371,Emp_Master!$B$3:$C$600,2)","v":{"$error":"#N/A"}},{"$f":"INDEX(Salary_Structure!$A$3:$J$501,MATCH(1,(Salary_Structure!$A$3:$A$501=Salary_Entitlement!D371)*(Salary_Structure!$J$3:J868=Salary_Entitlement!C371),0),9)","v":0}]
[null,null,null,null,{"$f":"VLOOKUP(D372,Emp_Master!$B$3:$C$600,2)","v":{"$error":"#N/A"}},{"$f":"INDEX(Salary_Structure!$A$3:$J$501,MATCH(1,(Salary_Structure!$A$3:$A$501=Salary_Entitlement!D372)*(Salary_Structure!$J$3:J869=Salary_Entitlement!C372),0),9)","v":0}]
[null,null,null,null,{"$f":"VLOOKUP(D373,Emp_Master!$B$3:$C$600,2)","v":{"$error":"#N/A"}},{"$f":"INDEX(Salary_Structure!$A$3:$J$501,MATCH(1,(Salary_Structure!$A$3:$A$501=Salary_Entitlement!D373)*(Salary_Structure!$J$3:J870=Salary_Entitlement!C373),0),9)","v":0}]
[null,null,null,null,{"$f":"VLOOKUP(D374,Emp_Master!$B$3:$C$600,2)","v":{"$error":"#N/A"}},{"$f":"INDEX(Salary_Structure!$A$3:$J$501,MATCH(1,(Salary_Structure!$A$3:$A$501=Salary_Entitlement!D374)*(Salary_Structure!$J$3:J871=Salary_Entitlement!C374),0),9)","v":0}]
[null,null,null,null,{"$f":"VLOOKUP(D375,Emp_Master!$B$3:$C$600,2)","v":{"$error":"#N/A"}},{"$f":"INDEX(Salary_Structure!$A$3:$J$501,MATCH(1,(Salary_Structure!$A$3:$A$501=Salary_Entitlement!D375)*(Salary_Structure!$J$3:J872=Salary_Entitlement!C375),0),9)","v":0}]
[null,null,null,null,{"$f":"VLOOKUP(D376,Emp_Master!$B$3:$C$600,2)","v":{"$error":"#N/A"}},{"$f":"INDEX(Salary_Structure!$A$3:$J$501,MATCH(1,(Salary_Structure!$A$3:$A$501=Salary_Entitlement!D376)*(Salary_Structure!$J$3:J873=Salary_Entitlement!C376),0),9)","v":0}]
[null,null,null,null,{"$f":"VLOOKUP(D377,Emp_Master!$B$3:$C$600,2)","v":{"$error":"#N/A"}},{"$f":"INDEX(Salary_Structure!$A$3:$J$501,MATCH(1,(Salary_Structure!$A$3:$A$501=Salary_Entitlement!D377)*(Salary_Structure!$J$3:J874=Salary_Entitlement!C377),0),9)","v":0}]
[null,null,null,null,{"$f":"VLOOKUP(D378,Emp_Master!$B$3:$C$600,2)","v":{"$error":"#N/A"}},{"$f":"INDEX(Salary_Structure!$A$3:$J$501,MATCH(1,(Salary_Structure!$A$3:$A$501=Salary_Entitlement!D378)*(Salary_Structure!$J$3:J875=Salary_Entitlement!C378),0),9)","v":0}]
[null,null,null,null,{"$f":"VLOOKUP(D379,Emp_Master!$B$3:$C$600,2)","v":{"$error":"#N/A"}},{"$f":"INDEX(Salary_Structure!$A$3:$J$501,MATCH(1,(Salary_Structure!$A$3:$A$501=Salary_Entitlement!D379)*(Salary_Structure!$J$3:J876=Salary_Entitlement!C379),0),9)","v":0}]
[null,null,null,null,{"$f":"VLOOKUP(D380,Emp_Master!$B$3:$C$600,2)","v":{"$error":"#N/A"}},{"$f":"INDEX(Salary_Structure!$A$3:$J$501,MATCH(1,(Salary_Structure!$A$3:$A$501=Salary_Entitlement!D380)*(Salary_Structure!$J$3:J877=Salary_Entitlement!C380),0),9)","v":0}]
[null,null,null,null,{"$f":"VLOOKUP(D381,Emp_Master!$B$3:$C$600,2)","v":{"$error":"#N/A"}},{"$f":"INDEX(Salary_Structure!$A$3:$J$501,MATCH(1,(Salary_Structure!$A$3:$A$501=Salary_Entitlement!D381)*(Salary_Structure!$J$3:J878=Salary_Entitlement!C381),0),9)","v":0}]
[null,null,null,null,{"$f":"VLOOKUP(D382,Emp_Master!$B$3:$C$600,2)","v":{"$error":"#N/A"}},{"$f":"INDEX(Salary_Structure!$A$3:$J$501,MATCH(1,(Salary_Structure!$A$3:$A$501=Salary_Entitlement!D382)*(Salary_Structure!$J$3:J879=Salary_Entitlement!C382),0),9)","v":0}]
[null,null,null,null,{"$f":"VLOOKUP(D383,Emp_Master!$B$3:$C$600,2)","v":{"$error":"#N/A"}},{"$f":"INDEX(Salary_Structure!$A$3:$J$501,MATCH(1,(Salary_Structure!$A$3:$A$501=Salary_Entitlement!D383)*(Salary_Structure!$J$3:J880=Salary_Entitlement!C383),0),9)","v":0}]
[null,null,null,null,{"$f":"VLOOKUP(D384,Emp_Master!$B$3:$C$600,2)","v":{"$error":"#N/A"}},{"$f":"INDEX(Salary_Structure!$A$3:$J$501,MATCH(1,(Salary_Structure!$A$3:$A$501=Salary_Entitlement!D384)*(Salary_Structure!$J$3:J881=Salary_Entitlement!C384),0),9)","v":0}]
[null,null,null,null,{"$f":"VLOOKUP(D385,Emp_Master!$B$3:$C$600,2)","v":{"$error":"#N/A"}},{"$f":"INDEX(Salary_Structure!$A$3:$J$501,MATCH(1,(Salary_Structure!$A$3:$A$501=Salary_Entitlement!D385)*(Salary_Structure!$J$3:J882=Salary_Entitlement!C385),0),9)","v":0}]
[null,null,null,null,{"$f":"VLOOKUP(D386,Emp_Master!$B$3:$C$600,2)","v":{"$error":"#N/A"}},{"$f":"INDEX(Salary_Structure!$A$3:$J$501,MATCH(1,(Salary_Structure!$A$3:$A$501=Salary_Entitlement!D386)*(Salary_Structure!$J$3:J883=Salary_Entitlement!C386),0),9)","v":0}]
[null,null,null,null,{"$f":"VLOOKUP(D387,Emp_Master!$B$3:$C$600,2)","v":{"$error":"#N/A"}},{"$f":"INDEX(Salary_Structure!$A$3:$J$501,MATCH(1,(Salary_Structure!$A$3:$A$501=Salary_Entitlement!D387)*(Salary_Structure!$J$3:J884=Salary_Entitlement!C387),0),9)","v":0}]
[null,null,null,null,{"$f":"VLOOKUP(D388,Emp_Master!$B$3:$C$600,2)","v":{"$error":"#N/A"}},{"$f":"INDEX(Salary_Structure!$A$3:$J$501,MATCH(1,(Salary_Structure!$A$3:$A$501=Salary_Entitlement!D388)*(Salary_Structure!$J$3:J885=Salary_Entitlement!C388),0),9)","v":0}]
[null,null,null,null,{"$f":"VLOOKUP(D389,Emp_Master!$B$3:$C$600,2)","v":{"$error":"#N/A"}},{"$f":"INDEX(Salary_Structure!$A$3:$J$501,MATCH(1,(Salary_Structure!$A$3:$A$501=Salary_Entitlement!D389)*(Salary_Structure!$J$3:J886=Salary_Entitlement!C389),0),9)","v":0}]
[null,null,null,null,{"$f":"VLOOKUP(D390,Emp_Master!$B$3:$C$600,2)","v":{"$error":"#N/A"}},{"$f":"INDEX(Salary_Structure!$A$3:$J$501,MATCH(1,(Salary_Structure!$A$3:$A$501=Salary_Entitlement!D390)*(Salary_Structure!$J$3:J887=Salary_Entitlement!C390),0),9)","v":0}]
[null,null,null,null,{"$f":"VLOOKUP(D391,Emp_Master!$B$3:$C$600,2)","v":{"$error":"#N/A"}},{"$f":"INDEX(Salary_Structure!$A$3:$J$501,MATCH(1,(Salary_Structure!$A$3:$A$501=Salary_Entitlement!D391)*(Salary_Structure!$J$3:J888=Salary_Entitlement!C391),0),9)","v":0}]
[null,null,null,null,{"$f":"VLOOKUP(D392,Emp_Master!$B$3:$C$600,2)","v":{"$error":"#N/A"}},{"$f":"INDEX(Salary_Structure!$A$3:$J$501,MATCH(1,(Salary_Structure!$A$3:$A$501=Salary_Entitlement!D392)*(Salary_Structure!$J$3:J889=Salary_Entitlement!C392),0),9)","v":0}]
[null,null,null,null,{"$f":"VLOOKUP(D393,Emp_Master!$B$3:$C$600,2)","v":{"$error":"#N/A"}},{"$f":"INDEX(Salary_Structure!$A$3:$J$501,MATCH(1,(Salary_Structure!$A$3:$A$501=Salary_Entitlement!D393)*(Salary_Structure!$J$3:J890=Salary_Entitlement!C393),0),9)","v":0}]
[null,null,null,null,{"$f":"VLOOKUP(D394,Emp_Master!$B$3:$C$600,2)","v":{"$error":"#N/A"}},{"$f":"INDEX(Salary_Structure!$A$3:$J$501,MATCH(1,(Salary_Structure!$A$3:$A$501=Salary_Entitlement!D394)*(Salary_Structure!$J$3:J891=Salary_Entitlement!C394),0),9)","v":0}]
[null,null,null,null,{"$f":"VLOOKUP(D395,Emp_Master!$B$3:$C$600,2)","v":{"$error":"#N/A"}},{"$f":"INDEX(Salary_Structure!$A$3:$J$501,MATCH(1,(Salary_Structure!$A$3:$A$501=Salary_Entitlement!D395)*(Salary_Structure!$J$3:J892=Salary_Entitlement!C395),0),9)","v":0}]
[null,null,null,null,{"$f":"VLOOKUP(D396,Emp_Master!$B$3:$C$600,2)","v":{"$error":"#N/A"}},{"$f":"INDEX(Salary_Structure!$A$3:$J$501,MATCH(1,(Salary_Structure!$A$3:$A$501=Salary_Entitlement!D396)*(Salary_Structure!$J$3:J893=Salary_Entitlement!C396),0),9)","v":0}]
[null,null,null,null,{"$f":"VLOOKUP(D397,Emp_Master!$B$3:$C$600,2)","v":{"$error":"#N/A"}},{"$f":"INDEX(Salary_Structure!$A$3:$J$501,MATCH(1,(Salary_Structure!$A$3:$A$501=Salary_Entitlement!D397)*(Salary_Structure!$J$3:J894=Salary_Entitlement!C397),0),9)","v":0}]
[null,null,null,null,{"$f":"VLOOKUP(D398,Emp_Master!$B$3:$C$600,2)","v":{"$error":"#N/A"}},{"$f":"INDEX(Salary_Structure!$A$3:$J$501,MATCH(1,(Salary_Structure!$A$3:$A$501=Salary_Entitlement!D398)*(Salary_Structure!$J$3:J895=Salary_Entitlement!C398),0),9)","v":0}]
[null,null,null,null,{"$f":"VLOOKUP(D399,Emp_Master!$B$3:$C$600,2)","v":{"$error":"#N/A"}},{"$f":"INDEX(Salary_Structure!$A$3:$J$501,MATCH(1,(Salary_Structure!$A$3:$A$501=Salary_Entitlement!D399)*(Salary_Structure!$J$3:J896=Salary_Entitlement!C399),0),9)","v":0}]
[null,null,null,null,{"$f":"VLOOKUP(D400,Emp_Master!$B$3:$C$600,2)","v":{"$error":"#N/A"}},{"$f":"INDEX(Salary_Structure!$A$3:$J$501,MATCH(1,(Salary_Structure!$A$3:$A$501=Salary_Entitlement!D400)*(Salary_Structure!$J$3:J897=Salary_Entitlement!C400),0),9)","v":0}]
[null,null,null,null,{"$f":"VLOOKUP(D401,Emp_Master!$B$3:$C$600,2)","v":{"$error":"#N/A"}},{"$f":"INDEX(Salary_Structure!$A$3:$J$501,MATCH(1,(Salary_Structure!$A$3:$A$501=Salary_Entitlement!D401)*(Salary_Structure!$J$3:J898=Salary_Entitlement!C401),0),9)","v":0}]
[null,null,null,null,{"$f":"VLOOKUP(D402,Emp_Master!$B$3:$C$600,2)","v":{"$error":"#N/A"}},{"$f":"INDEX(Salary_Structure!$A$3:$J$501,MATCH(1,(Salary_Structure!$A$3:$A$501=Salary_Entitlement!D402)*(Salary_Structure!$J$3:J899=Salary_Entitlement!C402),0),9)","v":0}]
[null,null,null,null,{"$f":"VLOOKUP(D403,Emp_Master!$B$3:$C$600,2)","v":{"$error":"#N/A"}},{"$f":"INDEX(Salary_Structure!$A$3:$J$501,MATCH(1,(Salary_Structure!$A$3:$A$501=Salary_Entitlement!D403)*(Salary_Structure!$J$3:J900=Salary_Entitlement!C403),0),9)","v":0}]
[null,null,null,null,{"$f":"VLOOKUP(D404,Emp_Master!$B$3:$C$600,2)","v":{"$error":"#N/A"}},{"$f":"INDEX(Salary_Structure!$A$3:$J$501,MATCH(1,(Salary_Structure!$A$3:$A$501=Salary_Entitlement!D404)*(Salary_Structure!$J$3:J901=Salary_Entitlement!C404),0),9)","v":0}]
[null,null,null,null,{"$f":"VLOOKUP(D405,Emp_Master!$B$3:$C$600,2)","v":{"$error":"#N/A"}},{"$f":"INDEX(Salary_Structure!$A$3:$J$501,MATCH(1,(Salary_Structure!$A$3:$A$501=Salary_Entitlement!D405)*(Salary_Structure!$J$3:J902=Salary_Entitlement!C405),0),9)","v":0}]
[null,null,null,null,{"$f":"VLOOKUP(D406,Emp_Master!$B$3:$C$600,2)","v":{"$error":"#N/A"}},{"$f":"INDEX(Salary_Structure!$A$3:$J$501,MATCH(1,(Salary_Structure!$A$3:$A$501=Salary_Entitlement!D406)*(Salary_Structure!$J$3:J903=Salary_Entitlement!C406),0),9)","v":0}]
[null,null,null,null,{"$f":"VLOOKUP(D407,Emp_Master!$B$3:$C$600,2)","v":{"$error":"#N/A"}},{"$f":"INDEX(Salary_Structure!$A$3:$J$501,MATCH(1,(Salary_Structure!$A$3:$A$501=Salary_Entitlement!D407)*(Salary_Structure!$J$3:J904=Salary_Entitlement!C407),0),9)","v":0}]
[null,null,null,null,{"$f":"VLOOKUP(D408,Emp_Master!$B$3:$C$600,2)","v":{"$error":"#N/A"}},{"$f":"INDEX(Salary_Structure!$A$3:$J$501,MATCH(1,(Salary_Structure!$A$3:$A$501=Salary_Entitlement!D408)*(Salary_Structure!$J$3:J905=Salary_Entitlement!C408),0),9)","v":0}]
[null,null,null,null,{"$f":"VLOOKUP(D409,Emp_Master!$B$3:$C$600,2)","v":{"$error":"#N/A"}},{"$f":"INDEX(Salary_Structure!$A$3:$J$501,MATCH(1,(Salary_Structure!$A$3:$A$501=Salary_Entitlement!D409)*(Salary_Structure!$J$3:J906=Salary_Entitlement!C409),0),9)","v":0}]
[null,null,null,null,{"$f":"VLOOKUP(D410,Emp_Master!$B$3:$C$600,2)","v":{"$error":"#N/A"}},{"$f":"INDEX(Salary_Structure!$A$3:$J$501,MATCH(1,(Salary_Structure!$A$3:$A$501=Salary_Entitlement!D410)*(Salary_Structure!$J$3:J907=Salary_Entitlement!C410),0),9)","v":0}]
[null,null,null,null,{"$f":"VLOOKUP(D411,Emp_Master!$B$3:$C$600,2)","v":{"$error":"#N/A"}},{"$f":"INDEX(Salary_Structure!$A$3:$J$501,MATCH(1,(Salary_Structure!$A$3:$A$501=Salary_Entitlement!D411)*(Salary_Structure!$J$3:J908=Salary_Entitlement!C411),0),9)","v":0}]
[null,null,null,null,{"$f":"VLOOKUP(D412,Emp_Master!$B$3:$C$600,2)","v":{"$error":"#N/A"}},{"$f":"INDEX(Salary_Structure!$A$3:$J$501,MATCH(1,(Salary_Structure!$A$3:$A$501=Salary_Entitlement!D412)*(Salary_Structure!$J$3:J909=Salary_Entitlement!C412),0),9)","v":0}]
[null,null,null,null,{"$f":"VLOOKUP(D413,Emp_Master!$B$3:$C$600,2)","v":{"$error":"#N/A"}},{"$f":"INDEX(Salary_Structure!$A$3:$J$501,MATCH(1,(Salary_Structure!$A$3:$A$501=Salary_Entitlement!D413)*(Salary_Structure!$J$3:J910=Salary_Entitlement!C413),0),9)","v":0}]
[null,null,null,null,{"$f":"VLOOKUP(D414,Emp_Master!$B$3:$C$600,2)","v":{"$error":"#N/A"}},{"$f":"INDEX(Salary_Structure!$A$3:$J$501,MATCH(1,(Salary_Structure!$A$3:$A$501=Salary_Entitlement!D414)*(Salary_Structure!$J$3:J911=Salary_Entitlement!C414),0),9)","v":0}]
[null,null,null,null,{"$f":"VLOOKUP(D415,Emp_Master!$B$3:$C$600,2)","v":{"$error":"#N/A"}},{"$f":"INDEX(Salary_Structure!$A$3:$J$501,MATCH(1,(Salary_Structure!$A$3:$A$501=Salary_Entitlement!D415)*(Salary_Structure!$J$3:J912=Salary_Entitlement!C415),0),9)","v":0}]
[null,null,null,null,{"$f":"VLOOKUP(D416,Emp_Master!$B$3:$C$600,2)","v":{"$error":"#N/A"}},{"$f":"INDEX(Salary_Structure!$A$3:$J$501,MATCH(1,(Salary_Structure!$A$3:$A$501=Salary_Entitlement!D416)*(Salary_Structure!$J$3:J913=Salary_Entitlement!C416),0),9)","v":0}]
[null,null,null,null,{"$f":"VLOOKUP(D417,Emp_Master!$B$3:$C$600,2)","v":{"$error":"#N/A"}},{"$f":"INDEX(Salary_Structure!$A$3:$J$501,MATCH(1,(Salary_Structure!$A$3:$A$501=Salary_Entitlement!D417)*(Salary_Structure!$J$3:J914=Salary_Entitlement!C417),0),9)","v":0}]
[null,null,null,null,{"$f":"VLOOKUP(D418,Emp_Master!$B$3:$C$600,2)","v":{"$error":"#N/A"}},{"$f":"INDEX(Salary_Structure!$A$3:$J$501,MATCH(1,(Salary_Structure!$A$3:$A$501=Salary_Entitlement!D418)*(Salary_Structure!$J$3:J915=Salary_Entitlement!C418),0),9)","v":0}]
[null,null,null,null,{"$f":"VLOOKUP(D419,Emp_Master!$B$3:$C$600,2)","v":{"$error":"#N/A"}},{"$f":"INDEX(Salary_Structure!$A$3:$J$501,MATCH(1,(Salary_Structure!$A$3:$A$501=Salary_Entitlement!D419)*(Salary_Structure!$J$3:J916=Salary_Entitlement!C419),0),9)","v":0}]
[null,null,null,null,{"$f":"VLOOKUP(D420,Emp_Master!$B$3:$C$600,2)","v":{"$error":"#N/A"}},{"$f":"INDEX(Salary_Structure!$A$3:$J$501,MATCH(1,(Salary_Structure!$A$3:$A$501=Salary_Entitlement!D420)*(Salary_Structure!$J$3:J917=Salary_Entitlement!C420),0),9)","v":0}]
[null,null,null,null,{"$f":"VLOOKUP(D421,Emp_Master!$B$3:$C$600,2)","v":{"$error":"#N/A"}},{"$f":"INDEX(Salary_Structure!$A$3:$J$501,MATCH(1,(Salary_Structure!$A$3:$A$501=Salary_Entitlement!D421)*(Salary_Structure!$J$3:J918=Salary_Entitlement!C421),0),9)","v":0}]
[null,null,null,null,{"$f":"VLOOKUP(D422,Emp_Master!$B$3:$C$600,2)","v":{"$error":"#N/A"}},{"$f":"INDEX(Salary_Structure!$A$3:$J$501,MATCH(1,(Salary_Structure!$A$3:$A$501=Salary_Entitlement!D422)*(Salary_Structure!$J$3:J919=Salary_Entitlement!C422),0),9)","v":0}]
[null,null,null,null,{"$f":"VLOOKUP(D423,Emp_Master!$B$3:$C$600,2)","v":{"$error":"#N/A"}},{"$f":"INDEX(Salary_Structure!$A$3:$J$501,MATCH(1,(Salary_Structure!$A$3:$A$501=Salary_Entitlement!D423)*(Salary_Structure!$J$3:J920=Salary_Entitlement!C423),0),9)","v":0}]
[null,null,null,null,{"$f":"VLOOKUP(D424,Emp_Master!$B$3:$C$600,2)","v":{"$error":"#N/A"}},{"$f":"INDEX(Salary_Structure!$A$3:$J$501,MATCH(1,(Salary_Structure!$A$3:$A$501=Salary_Entitlement!D424)*(Salary_Structure!$J$3:J921=Salary_Entitlement!C424),0),9)","v":0}]
[null,null,null,null,{"$f":"VLOOKUP(D425,Emp_Master!$B$3:$C$600,2)","v":{"$error":"#N/A"}},{"$f":"INDEX(Salary_Structure!$A$3:$J$501,MATCH(1,(Salary_Structure!$A$3:$A$501=Salary_Entitlement!D425)*(Salary_Structure!$J$3:J922=Salary_Entitlement!C425),0),9)","v":0}]
[null,null,null,null,{"$f":"VLOOKUP(D426,Emp_Master!$B$3:$C$600,2)","v":{"$error":"#N/A"}},{"$f":"INDEX(Salary_Structure!$A$3:$J$501,MATCH(1,(Salary_Structure!$A$3:$A$501=Salary_Entitlement!D426)*(Salary_Structure!$J$3:J923=Salary_Entitlement!C426),0),9)","v":0}]
[null,null,null,null,{"$f":"VLOOKUP(D427,Emp_Master!$B$3:$C$600,2)","v":{"$error":"#N/A"}},{"$f":"INDEX(Salary_Structure!$A$3:$J$501,MATCH(1,(Salary_Structure!$A$3:$A$501=Salary_Entitlement!D427)*(Salary_Structure!$J$3:J924=Salary_Entitlement!C427),0),9)","v":0}]
[null,null,null,null,{"$f":"VLOOKUP(D428,Emp_Master!$B$3:$C$600,2)","v":{"$error":"#N/A"}},{"$f":"INDEX(Salary_Structure!$A$3:$J$501,MATCH(1,(Salary_Structure!$A$3:$A$501=Salary_Entitlement!D428)*(Salary_Structure!$J$3:J925=Salary_Entitlement!C428),0),9)","v":0}]
[null,null,null,null,{"$f":"VLOOKUP(D429,Emp_Master!$B$3:$C$600,2)","v":{"$error":"#N/A"}},{"$f":"INDEX(Salary_Structure!$A$3:$J$501,MATCH(1,(Salary_Structure!$A$3:$A$501=Salary_Entitlement!D429)*(Salary_Structure!$J$3:J926=Salary_Entitlement!C429),0),9)","v":0}]
[null,null,null,null,{"$f":"VLOOKUP(D430,Emp_Master!$B$3:$C$600,2)","v":{"$error":"#N/A"}},{"$f":"INDEX(Salary_Structure!$A$3:$J$501,MATCH(1,(Salary_Structure!$A$3:$A$501=Salary_Entitlement!D430)*(Salary_Structure!$J$3:J927=Salary_Entitlement!C430),0),9)","v":0}]
[null,null,null,null,{"$f":"VLOOKUP(D431,Emp_Master!$B$3:$C$600,2)","v":{"$error":"#N/A"}},{"$f":"INDEX(Salary_Structure!$A$3:$J$501,MATCH(1,(Salary_Structure!$A$3:$A$501=Salary_Entitlement!D431)*(Salary_Structure!$J$3:J928=Salary_Entitlement!C431),0),9)","v":0}]
[null,null,null,null,{"$f":"VLOOKUP(D432,Emp_Master!$B$3:$C$600,2)","v":{"$error":"#N/A"}},{"$f":"INDEX(Salary_Structure!$A$3:$J$501,MATCH(1,(Salary_Structure!$A$3:$A$501=Salary_Entitlement!D432)*(Salary_Structure!$J$3:J929=Salary_Entitlement!C432),0),9)","v":0}]
[null,null,null,null,{"$f":"VLOOKUP(D433,Emp_Master!$B$3:$C$600,2)","v":{"$error":"#N/A"}},{"$f":"INDEX(Salary_Structure!$A$3:$J$501,MATCH(1,(Salary_Structure!$A$3:$A$501=Salary_Entitlement!D433)*(Salary_Structure!$J$3:J930=Salary_Entitlement!C433),0),9)","v":0}]
[null,null,null,null,{"$f":"VLOOKUP(D434,Emp_Master!$B$3:$C$600,2)","v":{"$error":"#N/A"}},{"$f":"INDEX(Salary_Structure!$A$3:$J$501,MATCH(1,(Salary_Structure!$A$3:$A$501=Salary_Entitlement!D434)*(Salary_Structure!$J$3:J931=Salary_Entitlement!C434),0),9)","v":0}]
[null,null,null,null,{"$f":"VLOOKUP(D435,Emp_Master!$B$3:$C$600,2)","v":{"$error":"#N/A"}},{"$f":"INDEX(Salary_Structure!$A$3:$J$501,MATCH(1,(Salary_Structure!$A$3:$A$501=Salary_Entitlement!D435)*(Salary_Structure!$J$3:J932=Salary_Entitlement!C435),0),9)","v":0}]
[null,null,null,null,{"$f":"VLOOKUP(D436,Emp_Master!$B$3:$C$600,2)","v":{"$error":"#N/A"}},{"$f":"INDEX(Salary_Structure!$A$3:$J$501,MATCH(1,(Salary_Structure!$A$3:$A$501=Salary_Entitlement!D436)*(Salary_Structure!$J$3:J933=Salary_Entitlement!C436),0),9)","v":0}]
[null,null,null,null,{"$f":"VLOOKUP(D437,Emp_Master!$B$3:$C$600,2)","v":{"$error":"#N/A"}},{"$f":"INDEX(Salary_Structure!$A$3:$J$501,MATCH(1,(Salary_Structure!$A$3:$A$501=Salary_Entitlement!D437)*(Salary_Structure!$J$3:J934=Salary_Entitlement!C437),0),9)","v":0}]
[null,null,null,null,{"$f":"VLOOKUP(D438,Emp_Master!$B$3:$C$600,2)","v":{"$error":"#N/A"}},{"$f":"INDEX(Salary_Structure!$A$3:$J$501,MATCH(1,(Salary_Structure!$A$3:$A$501=Salary_Entitlement!D438)*(Salary_Structure!$J$3:J935=Salary_Entitlement!C438),0),9)","v":0}]
[null,null,null,null,{"$f":"VLOOKUP(D439,Emp_Master!$B$3:$C$600,2)","v":{"$error":"#N/A"}},{"$f":"INDEX(Salary_Structure!$A$3:$J$501,MATCH(1,(Salary_Structure!$A$3:$A$501=Salary_Entitlement!D439)*(Salary_Structure!$J$3:J936=Salary_Entitlement!C439),0),9)","v":0}]
[null,null,null,null,{"$f":"VLOOKUP(D440,Emp_Master!$B$3:$C$600,2)","v":{"$error":"#N/A"}},{"$f":"INDEX(Salary_Structure!$A$3:$J$501,MATCH(1,(Salary_Structure!$A$3:$A$501=Salary_Entitlement!D440)*(Salary_Structure!$J$3:J937=Salary_Entitlement!C440),0),9)","v":0}]
[null,null,null,null,{"$f":"VLOOKUP(D441,Emp_Master!$B$3:$C$600,2)","v":{"$error":"#N/A"}},{"$f":"INDEX(Salary_Structure!$A$3:$J$501,MATCH(1,(Salary_Structure!$A$3:$A$501=Salary_Entitlement!D441)*(Salary_Structure!$J$3:J938=Salary_Entitlement!C441),0),9)","v":0}]
[null,null,null,null,{"$f":"VLOOKUP(D442,Emp_Master!$B$3:$C$600,2)","v":{"$error":"#N/A"}},{"$f":"INDEX(Salary_Structure!$A$3:$J$501,MATCH(1,(Salary_Structure!$A$3:$A$501=Salary_Entitlement!D442)*(Salary_Structure!$J$3:J939=Salary_Entitlement!C442),0),9)","v":0}]
[null,null,null,null,{"$f":"VLOOKUP(D443,Emp_Master!$B$3:$C$600,2)","v":{"$error":"#N/A"}},{"$f":"INDEX(Salary_Structure!$A$3:$J$501,MATCH(1,(Salary_Structure!$A$3:$A$501=Salary_Entitlement!D443)*(Salary_Structure!$J$3:J940=Salary_Entitlement!C443),0),9)","v":0}]
[null,null,null,null,{"$f":"VLOOKUP(D444,Emp_Master!$B$3:$C$600,2)","v":{"$error":"#N/A"}},{"$f":"INDEX(Salary_Structure!$A$3:$J$501,MATCH(1,(Salary_Structure!$A$3:$A$501=Salary_Entitlement!D444)*(Salary_Structure!$J$3:J941=Salary_Entitlement!C444),0),9)","v":0}]
[null,null,null,null,{"$f":"VLOOKUP(D445,Emp_Master!$B$3:$C$600,2)","v":{"$error":"#N/A"}},{"$f":"INDEX(Salary_Structure!$A$3:$J$501,MATCH(1,(Salary_Structure!$A$3:$A$501=Salary_Entitlement!D445)*(Salary_Structure!$J$3:J942=Salary_Entitlement!C445),0),9)","v":0}]
[null,null,null,null,{"$f":"VLOOKUP(D446,Emp_Master!$B$3:$C$600,2)","v":{"$error":"#N/A"}},{"$f":"INDEX(Salary_Structure!$A$3:$J$501,MATCH(1,(Salary_Structure!$A$3:$A$501=Salary_Entitlement!D446)*(Salary_Structure!$J$3:J943=Salary_Entitlement!C446),0),9)","v":0}]
[null,null,null,null,{"$f":"VLOOKUP(D447,Emp_Master!$B$3:$C$600,2)","v":{"$error":"#N/A"}},{"$f":"INDEX(Salary_Structure!$A$3:$J$501,MATCH(1,(Salary_Structure!$A$3:$A$501=Salary_Entitlement!D447)*(Salary_Structure!$J$3:J944=Salary_Entitlement!C447),0),9)","v":0}]
[null,null,null,null,{"$f":"VLOOKUP(D448,Emp_Master!$B$3:$C$600,2)","v":{"$error":"#N/A"}},{"$f":"INDEX(Salary_Structure!$A$3:$J$501,MATCH(1,(Salary_Structure!$A$3:$A$501=Salary_Entitlement!D448)*(Salary_Structure!$J$3:J945=Salary_Entitlement!C448),0),9)","v":0}]
[null,null,null,null,{"$f":"VLOOKUP(D449,Emp_Master!$B$3:$C$600,2)","v":{"$error":"#N/A"}},{"$f":"INDEX(Salary_Structure!$A$3:$J$501,MATCH(1,(Salary_Structure!$A$3:$A$501=Salary_Entitlement!D449)*(Salary_Structure!$J$3:J946=Salary_Entitlement!C449),0),9)","v":0}]
[null,null,null,null,{"$f":"VLOOKUP(D450,Emp_Master!$B$3:$C$600,2)","v":{"$error":"#N/A"}},{"$f":"INDEX(Salary_Structure!$A$3:$J$501,MATCH(1,(Salary_Structure!$A$3:$A$501=Salary_Entitlement!D450)*(Salary_Structure!$J$3:J947=Salary_Entitlement!C450),0),9)","v":0}]
[null,null,null,null,{"$f":"VLOOKUP(D451,Emp_Master!$B$3:$C$600,2)","v":{"$error":"#N/A"}},{"$f":"INDEX(Salary_Structure!$A$3:$J$501,MATCH(1,(Salary_Structure!$A$3:$A$501=Salary_Entitlement!D451)*(Salary_Structure!$J$3:J948=Salary_Entitlement!C451),0),9)","v":0}]
[null,null,null,null,{"$f":"VLOOKUP(D452,Emp_Master!$B$3:$C$600,2)","v":{"$error":"#N/A"}},{"$f":"INDEX(Salary_Structure!$A$3:$J$501,MATCH(1,(Salary_Structure!$A$3:$A$501=Salary_Entitlement!D452)*(Salary_Structure!$J$3:J949=Salary_Entitlement!C452),0),9)","v":0}]
[null,null,null,null,{"$f":"VLOOKUP(D453,Emp_Master!$B$3:$C$600,2)","v":{"$error":"#N/A"}},{"$f":"INDEX(Salary_Structure!$A$3:$J$501,MATCH(1,(Salary_Structure!$A$3:$A$501=Salary_Entitlement!D453)*(Salary_Structure!$J$3:J950=Salary_Entitlement!C453),0),9)","v":0}]
[null,null,null,null,{"$f":"VLOOKUP(D454,Emp_Master!$B$3:$C$600,2)","v":{"$error":"#N/A"}},{"$f":"INDEX(Salary_Structure!$A$3:$J$501,MATCH(1,(Salary_Structure!$A$3:$A$501=Salary_Entitlement!D454)*(Salary_Structure!$J$3:J951=Salary_Entitlement!C454),0),9)","v":0}]
[null,null,null,null,{"$f":"VLOOKUP(D455,Emp_Master!$B$3:$C$600,2)","v":{"$error":"#N/A"}},{"$f":"INDEX(Salary_Structure!$A$3:$J$501,MATCH(1,(Salary_Structure!$A$3:$A$501=Salary_Entitlement!D455)*(Salary_Structure!$J$3:J952=Salary_Entitlement!C455),0),9)","v":0}]
[null,null,null,null,{"$f":"VLOOKUP(D456,Emp_Master!$B$3:$C$600,2)","v":{"$error":"#N/A"}},{"$f":"INDEX(Salary_Structure!$A$3:$J$501,MATCH(1,(Salary_Structure!$A$3:$A$501=Salary_Entitlement!D456)*(Salary_Structure!$J$3:J953=Salary_Entitlement!C456),0),9)","v":0}]
[null,null,null,null,{"$f":"VLOOKUP(D457,Emp_Master!$B$3:$C$600,2)","v":{"$error":"#N/A"}},{"$f":"INDEX(Salary_Structure!$A$3:$J$501,MATCH(1,(Salary_Structure!$A$3:$A$501=Salary_Entitlement!D457)*(Salary_Structure!$J$3:J954=Salary_Entitlement!C457),0),9)","v":0}]
[null,null,null,null,{"$f":"VLOOKUP(D458,Emp_Master!$B$3:$C$600,2)","v":{"$error":"#N/A"}},{"$f":"INDEX(Salary_Structure!$A$3:$J$501,MATCH(1,(Salary_Structure!$A$3:$A$501=Salary_Entitlement!D458)*(Salary_Structure!$J$3:J955=Salary_Entitlement!C458),0),9)","v":0}]
[null,null,null,null,{"$f":"VLOOKUP(D459,Emp_Master!$B$3:$C$600,2)","v":{"$error":"#N/A"}},{"$f":"INDEX(Salary_Structure!$A$3:$J$501,MATCH(1,(Salary_Structure!$A$3:$A$501=Salary_Entitlement!D459)*(Salary_Structure!$J$3:J956=Salary_Entitlement!C459),0),9)","v":0}]
[null,null,null,null,{"$f":"VLOOKUP(D460,Emp_Master!$B$3:$C$600,2)","v":{"$error":"#N/A"}},{"$f":"INDEX(Salary_Structure!$A$3:$J$501,MATCH(1,(Salary_Structure!$A$3:$A$501=Salary_Entitlement!D460)*(Salary_Structure!$J$3:J957=Salary_Entitlement!C460),0),9)","v":0}]
[null,null,null,null,{"$f":"VLOOKUP(D461,Emp_Master!$B$3:$C$600,2)","v":{"$error":"#N/A"}},{"$f":"INDEX(Salary_Structure!$A$3:$J$501,MATCH(1,(Salary_Structure!$A$3:$A$501=Salary_Entitlement!D461)*(Salary_Structure!$J$3:J958=Salary_Entitlement!C461),0),9)","v":0}]
[null,null,null,null,{"$f":"VLOOKUP(D462,Emp_Master!$B$3:$C$600,2)","v":{"$error":"#N/A"}},{"$f":"INDEX(Salary_Structure!$A$3:$J$501,MATCH(1,(Salary_Structure!$A$3:$A$501=Salary_Entitlement!D462)*(Salary_Structure!$J$3:J959=Salary_Entitlement!C462),0),9)","v":0}]
[null,null,null,null,{"$f":"VLOOKUP(D463,Emp_Master!$B$3:$C$600,2)","v":{"$error":"#N/A"}},{"$f":"INDEX(Salary_Structure!$A$3:$J$501,MATCH(1,(Salary_Structure!$A$3:$A$501=Salary_Entitlement!D463)*(Salary_Structure!$J$3:J960=Salary_Entitlement!C463),0),9)","v":0}]
[null,null,null,null,{"$f":"VLOOKUP(D464,Emp_Master!$B$3:$C$600,2)","v":{"$error":"#N/A"}},{"$f":"INDEX(Salary_Structure!$A$3:$J$501,MATCH(1,(Salary_Structure!$A$3:$A$501=Salary_Entitlement!D464)*(Salary_Structure!$J$3:J961=Salary_Entitlement!C464),0),9)","v":0}]
[null,null,null,null,{"$f":"VLOOKUP(D465,Emp_Master!$B$3:$C$600,2)","v":{"$error":"#N/A"}},{"$f":"INDEX(Salary_Structure!$A$3:$J$501,MATCH(1,(Salary_Structure!$A$3:$A$501=Salary_Entitlement!D465)*(Salary_Structure!$J$3:J962=Salary_Entitlement!C465),0),9)","v":0}]
[null,null,null,null,{"$f":"VLOOKUP(D466,Emp_Master!$B$3:$C$600,2)","v":{"$error":"#N/A"}},{"$f":"INDEX(Salary_Structure!$A$3:$J$501,MATCH(1,(Salary_Structure!$A$3:$A$501=Salary_Entitlement!D466)*(Salary_Structure!$J$3:J963=Salary_Entitlement!C466),0),9)","v":0}]
[null,null,null,null,{"$f":"VLOOKUP(D467,Emp_Master!$B$3:$C$600,2)","v":{"$error":"#N/A"}},{"$f":"INDEX(Salary_Structure!$A$3:$J$501,MATCH(1,(Salary_Structure!$A$3:$A$501=Salary_Entitlement!D467)*(Salary_Structure!$J$3:J964=Salary_Entitlement!C467),0),9)","v":0}]
[null,null,null,null,{"$f":"VLOOKUP(D468,Emp_Master!$B$3:$C$600,2)","v":{"$error":"#N/A"}},{"$f":"INDEX(Salary_Structure!$A$3:$J$501,MATCH(1,(Salary_Structure!$A$3:$A$501=Salary_Entitlement!D468)*(Salary_Structure!$J$3:J965=Salary_Entitlement!C468),0),9)","v":0}]
[null,null,null,null,{"$f":"VLOOKUP(D469,Emp_Master!$B$3:$C$600,2)","v":{"$error":"#N/A"}},{"$f":"INDEX(Salary_Structure!$A$3:$J$501,MATCH(1,(Salary_Structure!$A$3:$A$501=Salary_Entitlement!D469)*(Salary_Structure!$J$3:J966=Salary_Entitlement!C469),0),9)","v":0}]
[null,null,null,null,{"$f":"VLOOKUP(D470,Emp_Master!$B$3:$C$600,2)","v":{"$error":"#N/A"}},{"$f":"INDEX(Salary_Structure!$A$3:$J$501,MATCH(1,(Salary_Structure!$A$3:$A$501=Salary_Entitlement!D470)*(Salary_Structure!$J$3:J967=Salary_Entitlement!C470),0),9)","v":0}]
[null,null,null,null,{"$f":"VLOOKUP(D471,Emp_Master!$B$3:$C$600,2)","v":{"$error":"#N/A"}},{"$f":"INDEX(Salary_Structure!$A$3:$J$501,MATCH(1,(Salary_Structure!$A$3:$A$501=Salary_Entitlement!D471)*(Salary_Structure!$J$3:J968=Salary_Entitlement!C471),0),9)","v":0}]
[null,null,null,null,{"$f":"VLOOKUP(D472,Emp_Master!$B$3:$C$600,2)","v":{"$error":"#N/A"}},{"$f":"INDEX(Salary_Structure!$A$3:$J$501,MATCH(1,(Salary_Structure!$A$3:$A$501=Salary_Entitlement!D472)*(Salary_Structure!$J$3:J969=Salary_Entitlement!C472),0),9)","v":0}]
[null,null,null,null,{"$f":"VLOOKUP(D473,Emp_Master!$B$3:$C$600,2)","v":{"$error":"#N/A"}},{"$f":"INDEX(Salary_Structure!$A$3:$J$501,MATCH(1,(Salary_Structure!$A$3:$A$501=Salary_Entitlement!D473)*(Salary_Structure!$J$3:J970=Salary_Entitlement!C473),0),9)","v":0}]
[null,null,null,null,{"$f":"VLOOKUP(D474,Emp_Master!$B$3:$C$600,2)","v":{"$error":"#N/A"}},{"$f":"INDEX(Salary_Structure!$A$3:$J$501,MATCH(1,(Salary_Structure!$A$3:$A$501=Salary_Entitlement!D474)*(Salary_Structure!$J$3:J971=Salary_Entitlement!C474),0),9)","v":0}]
[null,null,null,null,{"$f":"VLOOKUP(D475,Emp_Master!$B$3:$C$600,2)","v":{"$error":"#N/A"}},{"$f":"INDEX(Salary_Structure!$A$3:$J$501,MATCH(1,(Salary_Structure!$A$3:$A$501=Salary_Entitlement!D475)*(Salary_Structure!$J$3:J972=Salary_Entitlement!C475),0),9)","v":0}]
[null,null,null,null,{"$f":"VLOOKUP(D476,Emp_Master!$B$3:$C$600,2)","v":{"$error":"#N/A"}},{"$f":"INDEX(Salary_Structure!$A$3:$J$501,MATCH(1,(Salary_Structure!$A$3:$A$501=Salary_Entitlement!D476)*(Salary_Structure!$J$3:J973=Salary_Entitlement!C476),0),9)","v":0}]
[null,null,null,null,{"$f":"VLOOKUP(D477,Emp_Master!$B$3:$C$600,2)","v":{"$error":"#N/A"}},{"$f":"INDEX(Salary_Structure!$A$3:$J$501,MATCH(1,(Salary_Structure!$A$3:$A$501=Salary_Entitlement!D477)*(Salary_Structure!$J$3:J974=Salary_Entitlement!C477),0),9)","v":0}]
[null,null,null,null,{"$f":"VLOOKUP(D478,Emp_Master!$B$3:$C$600,2)","v":{"$error":"#N/A"}},{"$f":"INDEX(Salary_Structure!$A$3:$J$501,MATCH(1,(Salary_Structure!$A$3:$A$501=Salary_Entitlement!D478)*(Salary_Structure!$J$3:J975=Salary_Entitlement!C478),0),9)","v":0}]
[null,null,null,null,{"$f":"VLOOKUP(D479,Emp_Master!$B$3:$C$600,2)","v":{"$error":"#N/A"}},{"$f":"INDEX(Salary_Structure!$A$3:$J$501,MATCH(1,(Salary_Structure!$A$3:$A$501=Salary_Entitlement!D479)*(Salary_Structure!$J$3:J976=Salary_Entitlement!C479),0),9)","v":0}]
[null,null,null,null,{"$f":"VLOOKUP(D480,Emp_Master!$B$3:$C$600,2)","v":{"$error":"#N/A"}},{"$f":"INDEX(Salary_Structure!$A$3:$J$501,MATCH(1,(Salary_Structure!$A$3:$A$501=Salary_Entitlement!D480)*(Salary_Structure!$J$3:J977=Salary_Entitlement!C480),0),9)","v":0}]
[null,null,null,null,{"$f":"VLOOKUP(D481,Emp_Master!$B$3:$C$600,2)","v":{"$error":"#N/A"}},{"$f":"INDEX(Salary_Structure!$A$3:$J$501,MATCH(1,(Salary_Structure!$A$3:$A$501=Salary_Entitlement!D481)*(Salary_Structure!$J$3:J978=Salary_Entitlement!C481),0),9)","v":0}]
[null,null,null,null,{"$f":"VLOOKUP(D482,Emp_Master!$B$3:$C$600,2)","v":{"$error":"#N/A"}},{"$f":"INDEX(Salary_Structure!$A$3:$J$501,MATCH(1,(Salary_Structure!$A$3:$A$501=Salary_Entitlement!D482)*(Salary_Structure!$J$3:J979=Salary_Entitlement!C482),0),9)","v":0}]
[null,null,null,null,{"$f":"VLOOKUP(D483,Emp_Master!$B$3:$C$600,2)","v":{"$error":"#N/A"}},{"$f":"INDEX(Salary_Structure!$A$3:$J$501,MATCH(1,(Salary_Structure!$A$3:$A$501=Salary_Entitlement!D483)*(Salary_Structure!$J$3:J980=Salary_Entitlement!C483),0),9)","v":0}]
[null,null,null,null,{"$f":"VLOOKUP(D484,Emp_Master!$B$3:$C$600,2)","v":{"$error":"#N/A"}},{"$f":"INDEX(Salary_Structure!$A$3:$J$501,MATCH(1,(Salary_Structure!$A$3:$A$501=Salary_Entitlement!D484)*(Salary_Structure!$J$3:J981=Salary_Entitlement!C484),0),9)","v":0}]
[null,null,null,null,{"$f":"VLOOKUP(D485,Emp_Master!$B$3:$C$600,2)","v":{"$error":"#N/A"}},{"$f":"INDEX(Salary_Structure!$A$3:$J$501,MATCH(1,(Salary_Structure!$A$3:$A$501=Salary_Entitlement!D485)*(Salary_Structure!$J$3:J982=Salary_Entitlement!C485),0),9)","v":0}]
[null,null,null,null,{"$f":"VLOOKUP(D486,Emp_Master!$B$3:$C$600,2)","v":{"$error":"#N/A"}},{"$f":"INDEX(Salary_Structure!$A$3:$J$501,MATCH(1,(Salary_Structure!$A$3:$A$501=Salary_Entitlement!D486)*(Salary_Structure!$J$3:J983=Salary_Entitlement!C486),0),9)","v":0}]
[null,null,null,null,{"$f":"VLOOKUP(D487,Emp_Master!$B$3:$C$600,2)","v":{"$error":"#N/A"}},{"$f":"INDEX(Salary_Structure!$A$3:$J$501,MATCH(1,(Salary_Structure!$A$3:$A$501=Salary_Entitlement!D487)*(Salary_Structure!$J$3:J984=Salary_Entitlement!C487),0),9)","v":0}]
[null,null,null,null,{"$f":"VLOOKUP(D488,Emp_Master!$B$3:$C$600,2)","v":{"$error":"#N/A"}},{"$f":"INDEX(Salary_Structure!$A$3:$J$501,MATCH(1,(Salary_Structure!$A$3:$A$501=Salary_Entitlement!D488)*(Salary_Structure!$J$3:J985=Salary_Entitlement!C488),0),9)","v":0}]
[null,null,null,null,{"$f":"VLOOKUP(D489,Emp_Master!$B$3:$C$600,2)","v":{"$error":"#N/A"}},{"$f":"INDEX(Salary_Structure!$A$3:$J$501,MATCH(1,(Salary_Structure!$A$3:$A$501=Salary_Entitlement!D489)*(Salary_Structure!$J$3:J986=Salary_Entitlement!C489),0),9)","v":0}]
[null,null,null,null,{"$f":"VLOOKUP(D490,Emp_Master!$B$3:$C$600,2)","v":{"$error":"#N/A"}},{"$f":"INDEX(Salary_Structure!$A$3:$J$501,MATCH(1,(Salary_Structure!$A$3:$A$501=Salary_Entitlement!D490)*(Salary_Structure!$J$3:J987=Salary_Entitlement!C490),0),9)","v":0}]
[null,null,null,null,{"$f":"VLOOKUP(D491,Emp_Master!$B$3:$C$600,2)","v":{"$error":"#N/A"}},{"$f":"INDEX(Salary_Structure!$A$3:$J$501,MATCH(1,(Salary_Structure!$A$3:$A$501=Salary_Entitlement!D491)*(Salary_Structure!$J$3:J988=Salary_Entitlement!C491),0),9)","v":0}]
[null,null,null,null,{"$f":"VLOOKUP(D492,Emp_Master!$B$3:$C$600,2)","v":{"$error":"#N/A"}},{"$f":"INDEX(Salary_Structure!$A$3:$J$501,MATCH(1,(Salary_Structure!$A$3:$A$501=Salary_Entitlement!D492)*(Salary_Structure!$J$3:J989=Salary_Entitlement!C492),0),9)","v":0}]
[null,null,null,null,{"$f":"VLOOKUP(D493,Emp_Master!$B$3:$C$600,2)","v":{"$error":"#N/A"}},{"$f":"INDEX(Salary_Structure!$A$3:$J$501,MATCH(1,(Salary_Structure!$A$3:$A$501=Salary_Entitlement!D493)*(Salary_Structure!$J$3:J990=Salary_Entitlement!C493),0),9)","v":0}]
[null,null,null,null,{"$f":"VLOOKUP(D494,Emp_Master!$B$3:$C$600,2)","v":{"$error":"#N/A"}},{"$f":"INDEX(Salary_Structure!$A$3:$J$501,MATCH(1,(Salary_Structure!$A$3:$A$501=Salary_Entitlement!D494)*(Salary_Structure!$J$3:J991=Salary_Entitlement!C494),0),9)","v":0}]
[null,null,null,null,{"$f":"VLOOKUP(D495,Emp_Master!$B$3:$C$600,2)","v":{"$error":"#N/A"}},{"$f":"INDEX(Salary_Structure!$A$3:$J$501,MATCH(1,(Salary_Structure!$A$3:$A$501=Salary_Entitlement!D495)*(Salary_Structure!$J$3:J992=Salary_Entitlement!C495),0),9)","v":0}]
[null,null,null,null,{"$f":"VLOOKUP(D496,Emp_Master!$B$3:$C$600,2)","v":{"$error":"#N/A"}},{"$f":"INDEX(Salary_Structure!$A$3:$J$501,MATCH(1,(Salary_Structure!$A$3:$A$501=Salary_Entitlement!D496)*(Salary_Structure!$J$3:J993=Salary_Entitlement!C496),0),9)","v":0}]
[null,null,null,null,{"$f":"VLOOKUP(D497,Emp_Master!$B$3:$C$600,2)","v":{"$error":"#N/A"}},{"$f":"INDEX(Salary_Structure!$A$3:$J$501,MATCH(1,(Salary_Structure!$A$3:$A$501=Salary_Entitlement!D497)*(Salary_Structure!$J$3:J994=Salary_Entitlement!C497),0),9)","v":0}]
[null,null,null,null,{"$f":"VLOOKUP(D498,Emp_Master!$B$3:$C$600,2)","v":{"$error":"#N/A"}},{"$f":"INDEX(Salary_Structure!$A$3:$J$501,MATCH(1,(Salary_Structure!$A$3:$A$501=Salary_Entitlement!D498)*(Salary_Structure!$J$3:J995=Salary_Entitlement!C498),0),9)","v":0}]
[null,null,null,null,{"$f":"VLOOKUP(D499,Emp_Master!$B$3:$C$600,2)","v":{"$error":"#N/A"}},{"$f":"INDEX(Salary_Structure!$A$3:$J$501,MATCH(1,(Salary_Structure!$A$3:$A$501=Salary_Entitlement!D499)*(Salary_Structure!$J$3:J996=Salary_Entitlement!C499),0),9)","v":0}]
[null,null,null,null,{"$f":"VLOOKUP(D500,Emp_Master!$B$3:$C$600,2)","v":{"$error":"#N/A"}},{"$f":"INDEX(Salary_Structure!$A$3:$J$501,MATCH(1,(Salary_Structure!$A$3:$A$501=Salary_Entitlement!D500)*(Salary_Structure!$J$3:J997=Salary_Entitlement!C500),0),9)","v":0}]
[null,null,null,null,{"$f":"VLOOKUP(D501,Emp_Master!$B$3:$C$600,2)","v":{"$error":"#N/A"}},{"$f":"INDEX(Salary_Structure!$A$3:$J$501,MATCH(1,(Salary_Structure!$A$3:$A$501=Salary_Entitlement!D501)*(Salary_Structure!$J$3:J998=Salary_Entitlement!C501),0),9)","v":0}]
[]
[]
[]
[]
[]
[]
[]
[]
[]
[]
[]
[]
[]
[]
[]
[]
[]
[]
[]
[]
[]
[]
[]
[]
[]
[]
[]
[]
[]
[]
[]
[]
[]
[]
[]
[]
[]
[]
[]
[]
[]
[]
[]
[]
[]
[]
[]
[]
[]
[]
[]
[]
[]
[]
[]
[]
[]
[]
[]
[]
[]
[]
[]
[]
[]
[]
[]
[]
[]
[]
[]
[]
[]
[]
[]
[]
[]
[]
[]
[]
[]
[]
[]
[]
[]
[]
[]
[]
[]
[]
[]
[]
[]
[]
[]
[]
[]
[]
[]
["Apr",null,2015,{"$f":"Emp_Master!B3","v":0}]
["May",null,2016,{"$f":"Emp_Master!B4","v":0}]
["Jun",null,2017,{"$f":"Emp_Master!B5","v":0}]
["Jul",null,{"$f":"+C603+1","v":2018},{"$f":"Emp_Master!B6","v":0}]
["Aug",null,{"$f":"+C604+1","v":2019},{"$f":"Emp_Master!B7","v":0}]
["Sep",null,2020,{"$f":"Emp_Master!B8","v":0}]
["Oct",null,2021,{"$f":"Emp_Master!B9","v":0}]
["Nov",null,2022,{"$f":"Emp_Master!B10","v":0}]
["Dec",null,2023,{"$f":"Emp_Master!B11","v":0}]
["Jan",null,2024,{"$f":"Emp_Master!B12","v":0}]
["Feb",null,2025,{"$f":"Emp_Master!B13","v":0}]
["Mar",null,null,{"$f":"Emp_Master!B14","v":0}]
[null,null,null,{"$f":"Emp_Master!B15","v":0}]
[null,null,null,{"$f":"Emp_Master!B16","v":0}]
[null,null,null,{"$f":"Emp_Master!B17","v":0}]
[null,null,null,{"$f":"Emp_Master!B18","v":0}]
[null,null,null,{"$f":"Emp_Master!B19","v":0}]
[null,null,null,{"$f":"Emp_Master!B20","v":0}]
[null,null,null,{"$f":"Emp_Master!B21","v":0}]
[null,null,null,{"$f":"Emp_Master!B22","v":0}]
[null,null,null,{"$f":"Emp_Master!B23","v":0}]
[null,null,null,{"$f":"Emp_Master!B24","v":0}]
[null,null,null,{"$f":"Emp_Master!B25","v":0}]
[null,null,null,{"$f":"Emp_Master!B26","v":0}]
[null,null,null,{"$f":"Emp_Master!B27","v":0}]
[null,null,null,{"$f":"Emp_Master!B28","v":0}]
[null,null,null,{"$f":"Emp_Master!B29","v":0}]
[null,null,null,{"$f":"Emp_Master!B30","v":0}]
[null,null,null,{"$f":"Emp_Master!B31","v":0}]
[null,null,null,{"$f":"Emp_Master!B32","v":0}]
[null,null,null,{"$f":"Emp_Master!B33","v":0}]
[null,null,null,{"$f":"Emp_Master!B34","v":0}]
[null,null,null,{"$f":"Emp_Master!B35","v":0}]
[null,null,null,{"$f":"Emp_Master!B36","v":0}]
[null,null,null,{"$f":"Emp_Master!B37","v":0}]
[null,null,null,{"$f":"Emp_Master!B38","v":0}]
[null,null,null,{"$f":"Emp_Master!B39","v":0}]
[null,null,null,{"$f":"Emp_Master!B40","v":0}]
[null,null,null,{"$f":"Emp_Master!B41","v":0}]
[null,null,null,{"$f":"Emp_Master!B42","v":0}]
[null,null,null,{"$f":"Emp_Master!B43","v":0}]
[null,null,null,{"$f":"Emp_Master!B44","v":0}]
[null,null,null,{"$f":"Emp_Master!B45","v":0}]
[null,null,null,{"$f":"Emp_Master!B46","v":0}]
[null,null,null,{"$f":"Emp_Master!B47","v":0}]
[null,null,null,{"$f":"Emp_Master!B48","v":0}]
[null,null,null,{"$f":"Emp_Master!B49","v":0}]
[null,null,null,{"$f":"Emp_Master!B50","v":0}]
[null,null,null,{"$f":"Emp_Master!B51","v":0}]
[null,null,null,{"$f":"Emp_Master!B52","v":0}]
[null,null,null,{"$f":"Emp_Master!B53","v":0}]
[null,null,null,{"$f":"Emp_Master!B54","v":0}]
[null,null,null,{"$f":"Emp_Master!B55","v":0}]
[null,null,null,{"$f":"Emp_Master!B56","v":0}]
[null,null,null,{"$f":"Emp_Master!B57","v":0}]
[null,null,null,{"$f":"Emp_Master!B58","v":0}]
[null,null,null,{"$f":"Emp_Master!B59","v":0}]
[null,null,null,{"$f":"Emp_Master!B60","v":0}]
[null,null,null,{"$f":"Emp_Master!B61","v":0}]
[null,null,null,{"$f":"Emp_Master!B62","v":0}]
[null,null,null,{"$f":"Emp_Master!B63","v":0}]
[null,null,null,{"$f":"Emp_Master!B64","v":0}]
[null,null,null,{"$f":"Emp_Master!B65","v":0}]
[null,null,null,{"$f":"Emp_Master!B66","v":0}]
[null,null,null,{"$f":"Emp_Master!B67","v":0}]
[null,null,null,{"$f":"Emp_Master!B68","v":0}]
[null,null,null,{"$f":"Emp_Master!B69","v":0}]
[null,null,null,{"$f":"Emp_Master!B70","v":0}]
[null,null,null,{"$f":"Emp_Master!B71","v":0}]
[null,null,null,{"$f":"Emp_Master!B72","v":0}]
[null,null,null,{"$f":"Emp_Master!B73","v":0}]
[null,null,null,{"$f":"Emp_Master!B74","v":0}]
[null,null,null,{"$f":"Emp_Master!B75","v":0}]
[null,null,null,{"$f":"Emp_Master!B76","v":0}]
[null,null,null,{"$f":"Emp_Master!B77","v":0}]
[null,null,null,{"$f":"Emp_Master!B78","v":0}]
[null,null,null,{"$f":"Emp_Master!B79","v":0}]
[null,null,null,{"$f":"Emp_Master!B80","v":0}]
[null,null,null,{"$f":"Emp_Master!B81","v":0}]
[null,null,null,{"$f":"Emp_Master!B82","v":0}]
[null,null,null,{"$f":"Emp_Master!B83","v":0}]
[null,null,null,{"$f":"Emp_Master!B84","v":0}]
[null,null,null,{"$f":"Emp_Master!B85","v":0}]
[null,null,null,{"$f":"Emp_Master!B86","v":0}]
[null,null,null,{"$f":"Emp_Master!B87","v":0}]
[null,null,null,{"$f":"Emp_Master!B88","v":0}]
[null,null,null,{"$f":"Emp_Master!B89","v":0}]
[null,null,null,{"$f":"Emp_Master!B90","v":0}]
[null,null,null,{"$f":"Emp_Master!B91","v":0}]
[null,null,null,{"$f":"Emp_Master!B92","v":0}]
[null,null,null,{"$f":"Emp_Master!B93","v":0}]
[null,null,null,{"$f":"Emp_Master!B94","v":0}]
[null,null,null,{"$f":"Emp_Master!B95","v":0}]
[null,null,null,{"$f":"Emp_Master!B96","v":0}]
[null,null,null,{"$f":"Emp_Master!B97","v":0}]
[null,null,null,{"$f":"Emp_Master!B98","v":0}]
[null,null,null,{"$f":"Emp_Master!B99","v":0}]
[null,null,null,{"$f":"Emp_Master!B100","v":0}]
[null,null,null,{"$f":"Emp_Master!B101","v":0}]
[null,null,null,{"$f":"Emp_Master!B102","v":0}]
[null,null,null,{"$f":"Emp_Master!B103","v":0}]
[null,null,null,{"$f":"Emp_Master!B104","v":0}]
[null,null,null,{"$f":"Emp_Master!B105","v":0}]
[null,null,null,{"$f":"Emp_Master!B106","v":0}]
[null,null,null,{"$f":"Emp_Master!B107","v":0}]
[null,null,null,{"$f":"Emp_Master!B108","v":0}]
[null,null,null,{"$f":"Emp_Master!B109","v":0}]
[null,null,null,{"$f":"Emp_Master!B110","v":0}]
[null,null,null,{"$f":"Emp_Master!B111","v":0}]
[null,null,null,{"$f":"Emp_Master!B112","v":0}]
[null,null,null,{"$f":"Emp_Master!B113","v":0}]
[null,null,null,{"$f":"Emp_Master!B114","v":0}]
[null,null,null,{"$f":"Emp_Master!B115","v":0}]
[null,null,null,{"$f":"Emp_Master!B116","v":0}]
[null,null,null,{"$f":"Emp_Master!B117","v":0}]
[null,null,null,{"$f":"Emp_Master!B118","v":0}]
[null,null,null,{"$f":"Emp_Master!B119","v":0}]
[null,null,null,{"$f":"Emp_Master!B120","v":0}]
[null,null,null,{"$f":"Emp_Master!B121","v":0}]
[null,null,null,{"$f":"Emp_Master!B122","v":0}]
[null,null,null,{"$f":"Emp_Master!B123","v":0}]
[null,null,null,{"$f":"Emp_Master!B124","v":0}]
[null,null,null,{"$f":"Emp_Master!B125","v":0}]
[null,null,null,{"$f":"Emp_Master!B126","v":0}]
[null,null,null,{"$f":"Emp_Master!B127","v":0}]
[null,null,null,{"$f":"Emp_Master!B128","v":0}]
[null,null,null,{"$f":"Emp_Master!B129","v":0}]
[null,null,null,{"$f":"Emp_Master!B130","v":0}]
[null,null,null,{"$f":"Emp_Master!B131","v":0}]
[null,null,null,{"$f":"Emp_Master!B132","v":0}]
[null,null,null,{"$f":"Emp_Master!B133","v":0}]
[null,null,null,{"$f":"Emp_Master!B134","v":0}]
[null,null,null,{"$f":"Emp_Master!B135","v":0}]
[null,null,null,{"$f":"Emp_Master!B136","v":0}]
[null,null,null,{"$f":"Emp_Master!B137","v":0}]
[null,null,null,{"$f":"Emp_Master!B138","v":0}]
[null,null,null,{"$f":"Emp_Master!B139","v":0}]
[null,null,null,{"$f":"Emp_Master!B140","v":0}]
[null,null,null,{"$f":"Emp_Master!B141","v":0}]
[null,null,null,{"$f":"Emp_Master!B142","v":0}]
[null,null,null,{"$f":"Emp_Master!B143","v":0}]
[null,null,null,{"$f":"Emp_Master!B144","v":0}]
[null,null,null,{"$f":"Emp_Master!B145","v":0}]
[null,null,null,{"$f":"Emp_Master!B146","v":0}]
[null,null,null,{"$f":"Emp_Master!B147","v":0}]
[null,null,null,{"$f":"Emp_Master!B148","v":0}]
[null,null,null,{"$f":"Emp_Master!B149","v":0}]
[null,null,null,{"$f":"Emp_Master!B150","v":0}]
[null,null,null,{"$f":"Emp_Master!B151","v":0}]
[null,null,null,{"$f":"Emp_Master!B152","v":0}]
[null,null,null,{"$f":"Emp_Master!B153","v":0}]
[null,null,null,{"$f":"Emp_Master!B154","v":0}]
[null,null,null,{"$f":"Emp_Master!B155","v":0}]
[null,null,null,{"$f":"Emp_Master!B156","v":0}]
[null,null,null,{"$f":"Emp_Master!B157","v":0}]
[null,null,null,{"$f":"Emp_Master!B158","v":0}]
[null,null,null,{"$f":"Emp_Master!B159","v":0}]
[null,null,null,{"$f":"Emp_Master!B160","v":0}]
[null,null,null,{"$f":"Emp_Master!B161","v":0}]
[null,null,null,{"$f":"Emp_Master!B162","v":0}]
[null,null,null,{"$f":"Emp_Master!B163","v":0}]
[null,null,null,{"$f":"Emp_Master!B164","v":0}]
[null,null,null,{"$f":"Emp_Master!B165","v":0}]
[null,null,null,{"$f":"Emp_Master!B166","v":0}]
[null,null,null,{"$f":"Emp_Master!B167","v":0}]
[null,null,null,{"$f":"Emp_Master!B168","v":0}]
[null,null,null,{"$f":"Emp_Master!B169","v":0}]
[null,null,null,{"$f":"Emp_Master!B170","v":0}]
[null,null,null,{"$f":"Emp_Master!B171","v":0}]
[null,null,null,{"$f":"Emp_Master!B172","v":0}]
[null,null,null,{"$f":"Emp_Master!B173","v":0}]
[null,null,null,{"$f":"Emp_Master!B174","v":0}]
[null,null,null,{"$f":"Emp_Master!B175","v":0}]
[null,null,null,{"$f":"Emp_Master!B176","v":0}]
[null,null,null,{"$f":"Emp_Master!B177","v":0}]
[null,null,null,{"$f":"Emp_Master!B178","v":0}]
[null,null,null,{"$f":"Emp_Master!B179","v":0}]
[null,null,null,{"$f":"Emp_Master!B180","v":0}]
[null,null,null,{"$f":"Emp_Master!B181","v":0}]
[null,null,null,{"$f":"Emp_Master!B182","v":0}]
[null,null,null,{"$f":"Emp_Master!B183","v":0}]
[null,null,null,{"$f":"Emp_Master!B184","v":0}]
[null,null,null,{"$f":"Emp_Master!B185","v":0}]
[null,null,null,{"$f":"Emp_Master!B186","v":0}]
[null,null,null,{"$f":"Emp_Master!B187","v":0}]
[null,null,null,{"$f":"Emp_Master!B188","v":0}]
[null,null,null,{"$f":"Emp_Master!B189","v":0}]
[null,null,null,{"$f":"Emp_Master!B190","v":0}]
[null,null,null,{"$f":"Emp_Master!B191","v":0}]
[null,null,null,{"$f":"Emp_Master!B192","v":0}]
[null,null,null,{"$f":"Emp_Master!B193","v":0}]
[null,null,null,{"$f":"Emp_Master!B194","v":0}]
[null,null,null,{"$f":"Emp_Master!B195","v":0}]
[null,null,null,{"$f":"Emp_Master!B196","v":0}]
[null,null,null,{"$f":"Emp_Master!B197","v":0}]
[null,null,null,{"$f":"Emp_Master!B198","v":0}]
[null,null,null,{"$f":"Emp_Master!B199","v":0}]
[null,null,null,{"$f":"Emp_Master!B200","v":0}]
[null,null,null,{"$f":"Emp_Master!B201","v":0}]
[null,null,null,{"$f":"Emp_Master!B202","v":0}]
[null,null,null,{"$f":"Emp_Master!B203","v":0}]
[null,null,null,{"$f":"Emp_Master!B204","v":0}]
[null,null,null,{"$f":"Emp_Master!B205","v":0}]
[null,null,null,{"$f":"Emp_Master!B206","v":0}]
[null,null,null,{"$f":"Emp_Master!B207","v":0}]
[null,null,null,{"$f":"Emp_Master!B208","v":0}]
[null,null,null,{"$f":"Emp_Master!B209","v":0}]
[null,null,null,{"$f":"Emp_Master!B210","v":0}]
[null,null,null,{"$f":"Emp_Master!B211","v":0}]
[null,null,null,{"$f":"Emp_Master!B212","v":0}]
[null,null,null,{"$f":"Emp_Master!B213","v":0}]
[null,null,null,{"$f":"Emp_Master!B214","v":0}]
[null,null,null,{"$f":"Emp_Master!B215","v":0}]
[null,null,null,{"$f":"Emp_Master!B216","v":0}]
[null,null,null,{"$f":"Emp_Master!B217","v":0}]
[null,null,null,{"$f":"Emp_Master!B218","v":0}]
[null,null,null,{"$f":"Emp_Master!B219","v":0}]
[null,null,null,{"$f":"Emp_Master!B220","v":0}]
[null,null,null,{"$f":"Emp_Master!B221","v":0}]
[null,null,null,{"$f":"Emp_Master!B222","v":0}]
[null,null,null,{"$f":"Emp_Master!B223","v":0}]
[null,null,null,{"$f":"Emp_Master!B224","v":0}]
[null,null,null,{"$f":"Emp_Master!B225","v":0}]
[null,null,null,{"$f":"Emp_Master!B226","v":0}]
[null,null,null,{"$f":"Emp_Master!B227","v":0}]
[null,null,null,{"$f":"Emp_Master!B228","v":0}]
[null,null,null,{"$f":"Emp_Master!B229","v":0}]
[null,null,null,{"$f":"Emp_Master!B230","v":0}]
[null,null,null,{"$f":"Emp_Master!B231","v":0}]
[null,null,null,{"$f":"Emp_Master!B232","v":0}]
[null,null,null,{"$f":"Emp_Master!B233","v":0}]
[null,null,null,{"$f":"Emp_Master!B234","v":0}]
[null,null,null,{"$f":"Emp_Master!B235","v":0}]
[null,null,null,{"$f":"Emp_Master!B236","v":0}]
[null,null,null,{"$f":"Emp_Master!B237","v":0}]
[null,null,null,{"$f":"Emp_Master!B238","v":0}]
[null,null,null,{"$f":"Emp_Master!B239","v":0}]
[null,null,null,{"$f":"Emp_Master!B240","v":0}]
[null,null,null,{"$f":"Emp_Master!B241","v":0}]
[null,null,null,{"$f":"Emp_Master!B242","v":0}]
[null,null,null,{"$f":"Emp_Master!B243","v":0}]
[null,null,null,{"$f":"Emp_Master!B244","v":0}]
[null,null,null,{"$f":"Emp_Master!B245","v":0}]
[null,null,null,{"$f":"Emp_Master!B246","v":0}]
[null,null,null,{"$f":"Emp_Master!B247","v":0}]
[null,null,null,{"$f":"Emp_Master!B248","v":0}]
[null,null,null,{"$f":"Emp_Master!B249","v":0}]
[null,null,null,{"$f":"Emp_Master!B250","v":0}]
[null,null,null,{"$f":"Emp_Master!B251","v":0}]
[null,null,null,{"$f":"Emp_Master!B252","v":0}]
[null,null,null,{"$f":"Emp_Master!B253","v":0}]
[null,null,null,{"$f":"Emp_Master!B254","v":0}]
[null,null,null,{"$f":"Emp_Master!B255","v":0}]
[null,null,null,{"$f":"Emp_Master!B256","v":0}]
[null,null,null,{"$f":"Emp_Master!B257","v":0}]
[null,null,null,{"$f":"Emp_Master!B258","v":0}]
[null,null,null,{"$f":"Emp_Master!B259","v":0}]
[null,null,null,{"$f":"Emp_Master!B260","v":0}]
[null,null,null,{"$f":"Emp_Master!B261","v":0}]
[null,null,null,{"$f":"Emp_Master!B262","v":0}]
[null,null,null,{"$f":"Emp_Master!B263","v":0}]
[null,null,null,{"$f":"Emp_Master!B264","v":0}]
[null,null,null,{"$f":"Emp_Master!B265","v":0}]
[null,null,null,{"$f":"Emp_Master!B266","v":0}]
[null,null,null,{"$f":"Emp_Master!B267","v":0}]
[null,null,null,{"$f":"Emp_Master!B268","v":0}]
[null,null,null,{"$f":"Emp_Master!B269","v":0}]
[null,null,null,{"$f":"Emp_Master!B270","v":0}]
[null,null,null,{"$f":"Emp_Master!B271","v":0}]
[null,null,null,{"$f":"Emp_Master!B272","v":0}]
[null,null,null,{"$f":"Emp_Master!B273","v":0}]
[null,null,null,{"$f":"Emp_Master!B274","v":0}]
[null,null,null,{"$f":"Emp_Master!B275","v":0}]
[null,null,null,{"$f":"Emp_Master!B276","v":0}]
[null,null,null,{"$f":"Emp_Master!B277","v":0}]
[null,null,null,{"$f":"Emp_Master!B278","v":0}]
[null,null,null,{"$f":"Emp_Master!B279","v":0}]
[null,null,null,{"$f":"Emp_Master!B280","v":0}]
[null,null,null,{"$f":"Emp_Master!B281","v":0}]
[null,null,null,{"$f":"Emp_Master!B282","v":0}]
[null,null,null,{"$f":"Emp_Master!B283","v":0}]
[null,null,null,{"$f":"Emp_Master!B284","v":0}]
[null,null,null,{"$f":"Emp_Master!B285","v":0}]
[null,null,null,{"$f":"Emp_Master!B286","v":0}]
[null,null,null,{"$f":"Emp_Master!B287","v":0}]
[null,null,null,{"$f":"Emp_Master!B288","v":0}]
[null,null,null,{"$f":"Emp_Master!B289","v":0}]
[null,null,null,{"$f":"Emp_Master!B290","v":0}]
[null,null,null,{"$f":"Emp_Master!B291","v":0}]
[null,null,null,{"$f":"Emp_Master!B292","v":0}]
[null,null,null,{"$f":"Emp_Master!B293","v":0}]
[null,null,null,{"$f":"Emp_Master!B294","v":0}]
[null,null,null,{"$f":"Emp_Master!B295","v":0}]
[null,null,null,{"$f":"Emp_Master!B296","v":0}]
[null,null,null,{"$f":"Emp_Master!B297","v":0}]
[null,null,null,{"$f":"Emp_Master!B298","v":0}]
[null,null,null,{"$f":"Emp_Master!B299","v":0}]
[null,null,null,{"$f":"Emp_Master!B300","v":0}]
[null,null,null,{"$f":"Emp_Master!B301","v":0}]
[null,null,null,{"$f":"Emp_Master!B302","v":0}]
[null,null,null,{"$f":"Emp_Master!B303","v":0}]
[null,null,null,{"$f":"Emp_Master!B304","v":0}]
[null,null,null,{"$f":"Emp_Master!B305","v":0}]
[null,null,null,{"$f":"Emp_Master!B306","v":0}]
[null,null,null,{"$f":"Emp_Master!B307","v":0}]
[null,null,null,{"$f":"Emp_Master!B308","v":0}]
[null,null,null,{"$f":"Emp_Master!B309","v":0}]
[null,null,null,{"$f":"Emp_Master!B310","v":0}]
[null,null,null,{"$f":"Emp_Master!B311","v":0}]
[null,null,null,{"$f":"Emp_Master!B312","v":0}]
[null,null,null,{"$f":"Emp_Master!B313","v":0}]
[null,null,null,{"$f":"Emp_Master!B314","v":0}]
[null,null,null,{"$f":"Emp_Master!B315","v":0}]
[null,null,null,{"$f":"Emp_Master!B316","v":0}]
[null,null,null,{"$f":"Emp_Master!B317","v":0}]
[null,null,null,{"$f":"Emp_Master!B318","v":0}]
[null,null,null,{"$f":"Emp_Master!B319","v":0}]
[null,null,null,{"$f":"Emp_Master!B320","v":0}]
[null,null,null,{"$f":"Emp_Master!B321","v":0}]
[null,null,null,{"$f":"Emp_Master!B322","v":0}]
[null,null,null,{"$f":"Emp_Master!B323","v":0}]
[null,null,null,{"$f":"Emp_Master!B324","v":0}]
[null,null,null,{"$f":"Emp_Master!B325","v":0}]
[null,null,null,{"$f":"Emp_Master!B326","v":0}]
[null,null,null,{"$f":"Emp_Master!B327","v":0}]
[null,null,null,{"$f":"Emp_Master!B328","v":0}]
[null,null,null,{"$f":"Emp_Master!B329","v":0}]
[null,null,null,{"$f":"Emp_Master!B330","v":0}]
[null,null,null,{"$f":"Emp_Master!B331","v":0}]
[null,null,null,{"$f":"Emp_Master!B332","v":0}]
[null,null,null,{"$f":"Emp_Master!B333","v":0}]
[null,null,null,{"$f":"Emp_Master!B334","v":0}]
[null,null,null,{"$f":"Emp_Master!B335","v":0}]
[null,null,null,{"$f":"Emp_Master!B336","v":0}]
[null,null,null,{"$f":"Emp_Master!B337","v":0}]
[null,null,null,{"$f":"Emp_Master!B338","v":0}]
[null,null,null,{"$f":"Emp_Master!B339","v":0}]
[null,null,null,{"$f":"Emp_Master!B340","v":0}]
[null,null,null,{"$f":"Emp_Master!B341","v":0}]
[null,null,null,{"$f":"Emp_Master!B342","v":0}]
[null,null,null,{"$f":"Emp_Master!B343","v":0}]
[null,null,null,{"$f":"Emp_Master!B344","v":0}]
[null,null,null,{"$f":"Emp_Master!B345","v":0}]
[null,null,null,{"$f":"Emp_Master!B346","v":0}]
[null,null,null,{"$f":"Emp_Master!B347","v":0}]
[null,null,null,{"$f":"Emp_Master!B348","v":0}]
[null,null,null,{"$f":"Emp_Master!B349","v":0}]
[null,null,null,{"$f":"Emp_Master!B350","v":0}]
[null,null,null,{"$f":"Emp_Master!B351","v":0}]
[null,null,null,{"$f":"Emp_Master!B352","v":0}]
[null,null,null,{"$f":"Emp_Master!B353","v":0}]
[null,null,null,{"$f":"Emp_Master!B354","v":0}]
[null,null,null,{"$f":"Emp_Master!B355","v":0}]
[null,null,null,{"$f":"Emp_Master!B356","v":0}]
[null,null,null,{"$f":"Emp_Master!B357","v":0}]
[null,null,null,{"$f":"Emp_Master!B358","v":0}]
[null,null,null,{"$f":"Emp_Master!B359","v":0}]
[null,null,null,{"$f":"Emp_Master!B360","v":0}]
[null,null,null,{"$f":"Emp_Master!B361","v":0}]
[null,null,null,{"$f":"Emp_Master!B362","v":0}]
[null,null,null,{"$f":"Emp_Master!B363","v":0}]
[null,null,null,{"$f":"Emp_Master!B364","v":0}]
[null,null,null,{"$f":"Emp_Master!B365","v":0}]
[null,null,null,{"$f":"Emp_Master!B366","v":0}]
[null,null,null,{"$f":"Emp_Master!B367","v":0}]
[null,null,null,{"$f":"Emp_Master!B368","v":0}]
[null,null,null,{"$f":"Emp_Master!B369","v":0}]
[null,null,null,{"$f":"Emp_Master!B370","v":0}]
[null,null,null,{"$f":"Emp_Master!B371","v":0}]
[null,null,null,{"$f":"Emp_Master!B372","v":0}]
[null,null,null,{"$f":"Emp_Master!B373","v":0}]
[null,null,null,{"$f":"Emp_Master!B374","v":0}]
[null,null,null,{"$f":"Emp_Master!B375","v":0}]
[null,null,null,{"$f":"Emp_Master!B376","v":0}]
[null,null,null,{"$f":"Emp_Master!B377","v":0}]
[null,null,null,{"$f":"Emp_Master!B378","v":0}]
[null,null,null,{"$f":"Emp_Master!B379","v":0}]
[null,null,null,{"$f":"Emp_Master!B380","v":0}]
[null,null,null,{"$f":"Emp_Master!B381","v":0}]
[null,null,null,{"$f":"Emp_Master!B382","v":0}]
[null,null,null,{"$f":"Emp_Master!B383","v":0}]
[null,null,null,{"$f":"Emp_Master!B384","v":0}]
[null,null,null,{"$f":"Emp_Master!B385","v":0}]
[null,null,null,{"$f":"Emp_Master!B386","v":0}]
[null,null,null,{"$f":"Emp_Master!B387","v":0}]
[null,null,null,{"$f":"Emp_Master!B388","v":0}]
[null,null,null,{"$f":"Emp_Master!B389","v":0}]
[null,null,null,{"$f":"Emp_Master!B390","v":0}]
[null,null,null,{"$f":"Emp_Master!B391","v":0}]
[null,null,null,{"$f":"Emp_Master!B392","v":0}]
[null,null,null,{"$f":"Emp_Master!B393","v":0}]
[null,null,null,{"$f":"Emp_Master!B394","v":0}]
[null,null,null,{"$f":"Emp_Master!B395","v":0}]
[null,null,null,{"$f":"Emp_Master!B396","v":0}]
[null,null,null,{"$f":"Emp_Master!B397","v":0}]
[null,null,null,{"$f":"Emp_Master!B398","v":0}]
[null,null,null,{"$f":"Emp_Master!B399","v":0}]
[null,null,null,{"$f":"Emp_Master!B400","v":0}]
[null,null,null,{"$f":"Emp_Master!B401","v":0}]
[null,null,null,{"$f":"Emp_Master!B402","v":0}]
[null,null,null,{"$f":"Emp_Master!B403","v":0}]

{"sheet":"Deduction","index":5,"n_rows":1101,"n_cols":11,"rows_kept":1101,"cut":false,"hidden":true,"merged":[]}
[1,2,3,4,5,6,7,8,9,10,11]
[]
["Salary Month","Salary Year","Emp_Code","Emp_Name","TDS","PF","P.Tax","Interest","Advance","Security Deposit","Other Deduction"]
[null,null,null,{"$f":"VLOOKUP(C4,Emp_Master!$B$3:$C$500,2)","v":{"$error":"#N/A"}}]
[null,null,null,{"$f":"VLOOKUP(C5,Emp_Master!$B$3:$C$500,2)","v":{"$error":"#N/A"}}]
[null,null,null,{"$f":"VLOOKUP(C6,Emp_Master!$B$3:$C$500,2)","v":{"$error":"#N/A"}}]
[null,null,null,{"$f":"VLOOKUP(C7,Emp_Master!$B$3:$C$500,2)","v":{"$error":"#N/A"}}]
[null,null,null,{"$f":"VLOOKUP(C8,Emp_Master!$B$3:$C$500,2)","v":{"$error":"#N/A"}}]
[null,null,null,{"$f":"VLOOKUP(C9,Emp_Master!$B$3:$C$500,2)","v":{"$error":"#N/A"}}]
[null,null,null,{"$f":"VLOOKUP(C10,Emp_Master!$B$3:$C$500,2)","v":{"$error":"#N/A"}}]
[null,null,null,{"$f":"VLOOKUP(C11,Emp_Master!$B$3:$C$500,2)","v":{"$error":"#N/A"}}]
[null,null,null,{"$f":"VLOOKUP(C12,Emp_Master!$B$3:$C$500,2)","v":{"$error":"#N/A"}}]
[null,null,null,{"$f":"VLOOKUP(C13,Emp_Master!$B$3:$C$500,2)","v":{"$error":"#N/A"}}]
[null,null,null,{"$f":"VLOOKUP(C14,Emp_Master!$B$3:$C$500,2)","v":{"$error":"#N/A"}}]
[null,null,null,{"$f":"VLOOKUP(C15,Emp_Master!$B$3:$C$500,2)","v":{"$error":"#N/A"}}]
[null,null,null,{"$f":"VLOOKUP(C16,Emp_Master!$B$3:$C$500,2)","v":{"$error":"#N/A"}}]
[null,null,null,{"$f":"VLOOKUP(C17,Emp_Master!$B$3:$C$500,2)","v":{"$error":"#N/A"}}]
[null,null,null,{"$f":"VLOOKUP(C18,Emp_Master!$B$3:$C$500,2)","v":{"$error":"#N/A"}}]
[null,null,null,{"$f":"VLOOKUP(C19,Emp_Master!$B$3:$C$500,2)","v":{"$error":"#N/A"}}]
[null,null,null,{"$f":"VLOOKUP(C20,Emp_Master!$B$3:$C$500,2)","v":{"$error":"#N/A"}}]
[null,null,null,{"$f":"VLOOKUP(C21,Emp_Master!$B$3:$C$500,2)","v":{"$error":"#N/A"}}]
[null,null,null,{"$f":"VLOOKUP(C22,Emp_Master!$B$3:$C$500,2)","v":{"$error":"#N/A"}}]
[null,null,null,{"$f":"VLOOKUP(C23,Emp_Master!$B$3:$C$500,2)","v":{"$error":"#N/A"}}]
[null,null,null,{"$f":"VLOOKUP(C24,Emp_Master!$B$3:$C$500,2)","v":{"$error":"#N/A"}}]
[null,null,null,{"$f":"VLOOKUP(C25,Emp_Master!$B$3:$C$500,2)","v":{"$error":"#N/A"}}]
[null,null,null,{"$f":"VLOOKUP(C26,Emp_Master!$B$3:$C$500,2)","v":{"$error":"#N/A"}}]
[null,null,null,{"$f":"VLOOKUP(C27,Emp_Master!$B$3:$C$500,2)","v":{"$error":"#N/A"}}]
[null,null,null,{"$f":"VLOOKUP(C28,Emp_Master!$B$3:$C$500,2)","v":{"$error":"#N/A"}}]
[null,null,null,{"$f":"VLOOKUP(C29,Emp_Master!$B$3:$C$500,2)","v":{"$error":"#N/A"}}]
[null,null,null,{"$f":"VLOOKUP(C30,Emp_Master!$B$3:$C$500,2)","v":{"$error":"#N/A"}}]
[null,null,null,{"$f":"VLOOKUP(C31,Emp_Master!$B$3:$C$500,2)","v":{"$error":"#N/A"}}]
[null,null,null,{"$f":"VLOOKUP(C32,Emp_Master!$B$3:$C$500,2)","v":{"$error":"#N/A"}}]
[null,null,null,{"$f":"VLOOKUP(C33,Emp_Master!$B$3:$C$500,2)","v":{"$error":"#N/A"}}]
[null,null,null,{"$f":"VLOOKUP(C34,Emp_Master!$B$3:$C$500,2)","v":{"$error":"#N/A"}}]
[null,null,null,{"$f":"VLOOKUP(C35,Emp_Master!$B$3:$C$500,2)","v":{"$error":"#N/A"}}]
[null,null,null,{"$f":"VLOOKUP(C36,Emp_Master!$B$3:$C$500,2)","v":{"$error":"#N/A"}}]
[null,null,null,{"$f":"VLOOKUP(C37,Emp_Master!$B$3:$C$500,2)","v":{"$error":"#N/A"}}]
[null,null,null,{"$f":"VLOOKUP(C38,Emp_Master!$B$3:$C$500,2)","v":{"$error":"#N/A"}}]
[null,null,null,{"$f":"VLOOKUP(C39,Emp_Master!$B$3:$C$500,2)","v":{"$error":"#N/A"}}]
[null,null,null,{"$f":"VLOOKUP(C40,Emp_Master!$B$3:$C$500,2)","v":{"$error":"#N/A"}}]
[null,null,null,{"$f":"VLOOKUP(C41,Emp_Master!$B$3:$C$500,2)","v":{"$error":"#N/A"}}]
[null,null,null,{"$f":"VLOOKUP(C42,Emp_Master!$B$3:$C$500,2)","v":{"$error":"#N/A"}}]
[null,null,null,{"$f":"VLOOKUP(C43,Emp_Master!$B$3:$C$500,2)","v":{"$error":"#N/A"}}]
[null,null,null,{"$f":"VLOOKUP(C44,Emp_Master!$B$3:$C$500,2)","v":{"$error":"#N/A"}}]
[null,null,null,{"$f":"VLOOKUP(C45,Emp_Master!$B$3:$C$500,2)","v":{"$error":"#N/A"}}]
[null,null,null,{"$f":"VLOOKUP(C46,Emp_Master!$B$3:$C$500,2)","v":{"$error":"#N/A"}}]
[null,null,null,{"$f":"VLOOKUP(C47,Emp_Master!$B$3:$C$500,2)","v":{"$error":"#N/A"}}]
[null,null,null,{"$f":"VLOOKUP(C48,Emp_Master!$B$3:$C$500,2)","v":{"$error":"#N/A"}}]
[null,null,null,{"$f":"VLOOKUP(C49,Emp_Master!$B$3:$C$500,2)","v":{"$error":"#N/A"}}]
[null,null,null,{"$f":"VLOOKUP(C50,Emp_Master!$B$3:$C$500,2)","v":{"$error":"#N/A"}}]
[null,null,null,{"$f":"VLOOKUP(C51,Emp_Master!$B$3:$C$500,2)","v":{"$error":"#N/A"}}]
[null,null,null,{"$f":"VLOOKUP(C52,Emp_Master!$B$3:$C$500,2)","v":{"$error":"#N/A"}}]
[null,null,null,{"$f":"VLOOKUP(C53,Emp_Master!$B$3:$C$500,2)","v":{"$error":"#N/A"}}]
[null,null,null,{"$f":"VLOOKUP(C54,Emp_Master!$B$3:$C$500,2)","v":{"$error":"#N/A"}}]
[null,null,null,{"$f":"VLOOKUP(C55,Emp_Master!$B$3:$C$500,2)","v":{"$error":"#N/A"}}]
[null,null,null,{"$f":"VLOOKUP(C56,Emp_Master!$B$3:$C$500,2)","v":{"$error":"#N/A"}}]
[null,null,null,{"$f":"VLOOKUP(C57,Emp_Master!$B$3:$C$500,2)","v":{"$error":"#N/A"}}]
[null,null,null,{"$f":"VLOOKUP(C58,Emp_Master!$B$3:$C$500,2)","v":{"$error":"#N/A"}}]
[null,null,null,{"$f":"VLOOKUP(C59,Emp_Master!$B$3:$C$500,2)","v":{"$error":"#N/A"}}]
[null,null,null,{"$f":"VLOOKUP(C60,Emp_Master!$B$3:$C$500,2)","v":{"$error":"#N/A"}}]
[null,null,null,{"$f":"VLOOKUP(C61,Emp_Master!$B$3:$C$500,2)","v":{"$error":"#N/A"}}]
[null,null,null,{"$f":"VLOOKUP(C62,Emp_Master!$B$3:$C$500,2)","v":{"$error":"#N/A"}}]
[null,null,null,{"$f":"VLOOKUP(C63,Emp_Master!$B$3:$C$500,2)","v":{"$error":"#N/A"}}]
[null,null,null,{"$f":"VLOOKUP(C64,Emp_Master!$B$3:$C$500,2)","v":{"$error":"#N/A"}}]
[null,null,null,{"$f":"VLOOKUP(C65,Emp_Master!$B$3:$C$500,2)","v":{"$error":"#N/A"}}]
[null,null,null,{"$f":"VLOOKUP(C66,Emp_Master!$B$3:$C$500,2)","v":{"$error":"#N/A"}}]
[null,null,null,{"$f":"VLOOKUP(C67,Emp_Master!$B$3:$C$500,2)","v":{"$error":"#N/A"}}]
[null,null,null,{"$f":"VLOOKUP(C68,Emp_Master!$B$3:$C$500,2)","v":{"$error":"#N/A"}}]
[null,null,null,{"$f":"VLOOKUP(C69,Emp_Master!$B$3:$C$500,2)","v":{"$error":"#N/A"}}]
[null,null,null,{"$f":"VLOOKUP(C70,Emp_Master!$B$3:$C$500,2)","v":{"$error":"#N/A"}}]
[null,null,null,{"$f":"VLOOKUP(C71,Emp_Master!$B$3:$C$500,2)","v":{"$error":"#N/A"}}]
[null,null,null,{"$f":"VLOOKUP(C72,Emp_Master!$B$3:$C$500,2)","v":{"$error":"#N/A"}}]
[null,null,null,{"$f":"VLOOKUP(C73,Emp_Master!$B$3:$C$500,2)","v":{"$error":"#N/A"}}]
[null,null,null,{"$f":"VLOOKUP(C74,Emp_Master!$B$3:$C$500,2)","v":{"$error":"#N/A"}}]
[null,null,null,{"$f":"VLOOKUP(C75,Emp_Master!$B$3:$C$500,2)","v":{"$error":"#N/A"}}]
[null,null,null,{"$f":"VLOOKUP(C76,Emp_Master!$B$3:$C$500,2)","v":{"$error":"#N/A"}}]
[null,null,null,{"$f":"VLOOKUP(C77,Emp_Master!$B$3:$C$500,2)","v":{"$error":"#N/A"}}]
[null,null,null,{"$f":"VLOOKUP(C78,Emp_Master!$B$3:$C$500,2)","v":{"$error":"#N/A"}}]
[null,null,null,{"$f":"VLOOKUP(C79,Emp_Master!$B$3:$C$500,2)","v":{"$error":"#N/A"}}]
[null,null,null,{"$f":"VLOOKUP(C80,Emp_Master!$B$3:$C$500,2)","v":{"$error":"#N/A"}}]
[null,null,null,{"$f":"VLOOKUP(C81,Emp_Master!$B$3:$C$500,2)","v":{"$error":"#N/A"}}]
[null,null,null,{"$f":"VLOOKUP(C82,Emp_Master!$B$3:$C$500,2)","v":{"$error":"#N/A"}}]
[null,null,null,{"$f":"VLOOKUP(C83,Emp_Master!$B$3:$C$500,2)","v":{"$error":"#N/A"}}]
[null,null,null,{"$f":"VLOOKUP(C84,Emp_Master!$B$3:$C$500,2)","v":{"$error":"#N/A"}}]
[null,null,null,{"$f":"VLOOKUP(C85,Emp_Master!$B$3:$C$500,2)","v":{"$error":"#N/A"}}]
[null,null,null,{"$f":"VLOOKUP(C86,Emp_Master!$B$3:$C$500,2)","v":{"$error":"#N/A"}}]
[null,null,null,{"$f":"VLOOKUP(C87,Emp_Master!$B$3:$C$500,2)","v":{"$error":"#N/A"}}]
[null,null,null,{"$f":"VLOOKUP(C88,Emp_Master!$B$3:$C$500,2)","v":{"$error":"#N/A"}}]
[null,null,null,{"$f":"VLOOKUP(C89,Emp_Master!$B$3:$C$500,2)","v":{"$error":"#N/A"}}]
[null,null,null,{"$f":"VLOOKUP(C90,Emp_Master!$B$3:$C$500,2)","v":{"$error":"#N/A"}}]
[null,null,null,{"$f":"VLOOKUP(C91,Emp_Master!$B$3:$C$500,2)","v":{"$error":"#N/A"}}]
[null,null,null,{"$f":"VLOOKUP(C92,Emp_Master!$B$3:$C$500,2)","v":{"$error":"#N/A"}}]
[null,null,null,{"$f":"VLOOKUP(C93,Emp_Master!$B$3:$C$500,2)","v":{"$error":"#N/A"}}]
[null,null,null,{"$f":"VLOOKUP(C94,Emp_Master!$B$3:$C$500,2)","v":{"$error":"#N/A"}}]
[null,null,null,{"$f":"VLOOKUP(C95,Emp_Master!$B$3:$C$500,2)","v":{"$error":"#N/A"}}]
[null,null,null,{"$f":"VLOOKUP(C96,Emp_Master!$B$3:$C$500,2)","v":{"$error":"#N/A"}}]
[null,null,null,{"$f":"VLOOKUP(C97,Emp_Master!$B$3:$C$500,2)","v":{"$error":"#N/A"}}]
[null,null,null,{"$f":"VLOOKUP(C98,Emp_Master!$B$3:$C$500,2)","v":{"$error":"#N/A"}}]
[null,null,null,{"$f":"VLOOKUP(C99,Emp_Master!$B$3:$C$500,2)","v":{"$error":"#N/A"}}]
[null,null,null,{"$f":"VLOOKUP(C100,Emp_Master!$B$3:$C$500,2)","v":{"$error":"#N/A"}}]
[null,null,null,{"$f":"VLOOKUP(C101,Emp_Master!$B$3:$C$500,2)","v":{"$error":"#N/A"}}]
[null,null,null,{"$f":"VLOOKUP(C102,Emp_Master!$B$3:$C$500,2)","v":{"$error":"#N/A"}}]
[null,null,null,{"$f":"VLOOKUP(C103,Emp_Master!$B$3:$C$500,2)","v":{"$error":"#N/A"}}]
[null,null,null,{"$f":"VLOOKUP(C104,Emp_Master!$B$3:$C$500,2)","v":{"$error":"#N/A"}}]
[null,null,null,{"$f":"VLOOKUP(C105,Emp_Master!$B$3:$C$500,2)","v":{"$error":"#N/A"}}]
[null,null,null,{"$f":"VLOOKUP(C106,Emp_Master!$B$3:$C$500,2)","v":{"$error":"#N/A"}}]
[null,null,null,{"$f":"VLOOKUP(C107,Emp_Master!$B$3:$C$500,2)","v":{"$error":"#N/A"}}]
[null,null,null,{"$f":"VLOOKUP(C108,Emp_Master!$B$3:$C$500,2)","v":{"$error":"#N/A"}}]
[null,null,null,{"$f":"VLOOKUP(C109,Emp_Master!$B$3:$C$500,2)","v":{"$error":"#N/A"}}]
[null,null,null,{"$f":"VLOOKUP(C110,Emp_Master!$B$3:$C$500,2)","v":{"$error":"#N/A"}}]
[null,null,null,{"$f":"VLOOKUP(C111,Emp_Master!$B$3:$C$500,2)","v":{"$error":"#N/A"}}]
[null,null,null,{"$f":"VLOOKUP(C112,Emp_Master!$B$3:$C$500,2)","v":{"$error":"#N/A"}}]
[null,null,null,{"$f":"VLOOKUP(C113,Emp_Master!$B$3:$C$500,2)","v":{"$error":"#N/A"}}]
[null,null,null,{"$f":"VLOOKUP(C114,Emp_Master!$B$3:$C$500,2)","v":{"$error":"#N/A"}}]
[null,null,null,{"$f":"VLOOKUP(C115,Emp_Master!$B$3:$C$500,2)","v":{"$error":"#N/A"}}]
[null,null,null,{"$f":"VLOOKUP(C116,Emp_Master!$B$3:$C$500,2)","v":{"$error":"#N/A"}}]
[null,null,null,{"$f":"VLOOKUP(C117,Emp_Master!$B$3:$C$500,2)","v":{"$error":"#N/A"}}]
[null,null,null,{"$f":"VLOOKUP(C118,Emp_Master!$B$3:$C$500,2)","v":{"$error":"#N/A"}}]
[null,null,null,{"$f":"VLOOKUP(C119,Emp_Master!$B$3:$C$500,2)","v":{"$error":"#N/A"}}]
[null,null,null,{"$f":"VLOOKUP(C120,Emp_Master!$B$3:$C$500,2)","v":{"$error":"#N/A"}}]
[null,null,null,{"$f":"VLOOKUP(C121,Emp_Master!$B$3:$C$500,2)","v":{"$error":"#N/A"}}]
[null,null,null,{"$f":"VLOOKUP(C122,Emp_Master!$B$3:$C$500,2)","v":{"$error":"#N/A"}}]
[null,null,null,{"$f":"VLOOKUP(C123,Emp_Master!$B$3:$C$500,2)","v":{"$error":"#N/A"}}]
[null,null,null,{"$f":"VLOOKUP(C124,Emp_Master!$B$3:$C$500,2)","v":{"$error":"#N/A"}}]
[null,null,null,{"$f":"VLOOKUP(C125,Emp_Master!$B$3:$C$500,2)","v":{"$error":"#N/A"}}]
[null,null,null,{"$f":"VLOOKUP(C126,Emp_Master!$B$3:$C$500,2)","v":{"$error":"#N/A"}}]
[null,null,null,{"$f":"VLOOKUP(C127,Emp_Master!$B$3:$C$500,2)","v":{"$error":"#N/A"}}]
[null,null,null,{"$f":"VLOOKUP(C128,Emp_Master!$B$3:$C$500,2)","v":{"$error":"#N/A"}}]
[null,null,null,{"$f":"VLOOKUP(C129,Emp_Master!$B$3:$C$500,2)","v":{"$error":"#N/A"}}]
[null,null,null,{"$f":"VLOOKUP(C130,Emp_Master!$B$3:$C$500,2)","v":{"$error":"#N/A"}}]
[null,null,null,{"$f":"VLOOKUP(C131,Emp_Master!$B$3:$C$500,2)","v":{"$error":"#N/A"}}]
[null,null,null,{"$f":"VLOOKUP(C132,Emp_Master!$B$3:$C$500,2)","v":{"$error":"#N/A"}}]
[null,null,null,{"$f":"VLOOKUP(C133,Emp_Master!$B$3:$C$500,2)","v":{"$error":"#N/A"}}]
[null,null,null,{"$f":"VLOOKUP(C134,Emp_Master!$B$3:$C$500,2)","v":{"$error":"#N/A"}}]
[null,null,null,{"$f":"VLOOKUP(C135,Emp_Master!$B$3:$C$500,2)","v":{"$error":"#N/A"}}]
[null,null,null,{"$f":"VLOOKUP(C136,Emp_Master!$B$3:$C$500,2)","v":{"$error":"#N/A"}}]
[null,null,null,{"$f":"VLOOKUP(C137,Emp_Master!$B$3:$C$500,2)","v":{"$error":"#N/A"}}]
[null,null,null,{"$f":"VLOOKUP(C138,Emp_Master!$B$3:$C$500,2)","v":{"$error":"#N/A"}}]
[null,null,null,{"$f":"VLOOKUP(C139,Emp_Master!$B$3:$C$500,2)","v":{"$error":"#N/A"}}]
[null,null,null,{"$f":"VLOOKUP(C140,Emp_Master!$B$3:$C$500,2)","v":{"$error":"#N/A"}}]
[null,null,null,{"$f":"VLOOKUP(C141,Emp_Master!$B$3:$C$500,2)","v":{"$error":"#N/A"}}]
[null,null,null,{"$f":"VLOOKUP(C142,Emp_Master!$B$3:$C$500,2)","v":{"$error":"#N/A"}}]
[null,null,null,{"$f":"VLOOKUP(C143,Emp_Master!$B$3:$C$500,2)","v":{"$error":"#N/A"}}]
[null,null,null,{"$f":"VLOOKUP(C144,Emp_Master!$B$3:$C$500,2)","v":{"$error":"#N/A"}}]
[null,null,null,{"$f":"VLOOKUP(C145,Emp_Master!$B$3:$C$500,2)","v":{"$error":"#N/A"}}]
[null,null,null,{"$f":"VLOOKUP(C146,Emp_Master!$B$3:$C$500,2)","v":{"$error":"#N/A"}}]
[null,null,null,{"$f":"VLOOKUP(C147,Emp_Master!$B$3:$C$500,2)","v":{"$error":"#N/A"}}]
[null,null,null,{"$f":"VLOOKUP(C148,Emp_Master!$B$3:$C$500,2)","v":{"$error":"#N/A"}}]
[null,null,null,{"$f":"VLOOKUP(C149,Emp_Master!$B$3:$C$500,2)","v":{"$error":"#N/A"}}]
[null,null,null,{"$f":"VLOOKUP(C150,Emp_Master!$B$3:$C$500,2)","v":{"$error":"#N/A"}}]
[null,null,null,{"$f":"VLOOKUP(C151,Emp_Master!$B$3:$C$500,2)","v":{"$error":"#N/A"}}]
[null,null,null,{"$f":"VLOOKUP(C152,Emp_Master!$B$3:$C$500,2)","v":{"$error":"#N/A"}}]
[null,null,null,{"$f":"VLOOKUP(C153,Emp_Master!$B$3:$C$500,2)","v":{"$error":"#N/A"}}]
[null,null,null,{"$f":"VLOOKUP(C154,Emp_Master!$B$3:$C$500,2)","v":{"$error":"#N/A"}}]
[null,null,null,{"$f":"VLOOKUP(C155,Emp_Master!$B$3:$C$500,2)","v":{"$error":"#N/A"}}]
[null,null,null,{"$f":"VLOOKUP(C156,Emp_Master!$B$3:$C$500,2)","v":{"$error":"#N/A"}}]
[null,null,null,{"$f":"VLOOKUP(C157,Emp_Master!$B$3:$C$500,2)","v":{"$error":"#N/A"}}]
[null,null,null,{"$f":"VLOOKUP(C158,Emp_Master!$B$3:$C$500,2)","v":{"$error":"#N/A"}}]
[null,null,null,{"$f":"VLOOKUP(C159,Emp_Master!$B$3:$C$500,2)","v":{"$error":"#N/A"}}]
[null,null,null,{"$f":"VLOOKUP(C160,Emp_Master!$B$3:$C$500,2)","v":{"$error":"#N/A"}}]
[null,null,null,{"$f":"VLOOKUP(C161,Emp_Master!$B$3:$C$500,2)","v":{"$error":"#N/A"}}]
[null,null,null,{"$f":"VLOOKUP(C162,Emp_Master!$B$3:$C$500,2)","v":{"$error":"#N/A"}}]
[null,null,null,{"$f":"VLOOKUP(C163,Emp_Master!$B$3:$C$500,2)","v":{"$error":"#N/A"}}]
[null,null,null,{"$f":"VLOOKUP(C164,Emp_Master!$B$3:$C$500,2)","v":{"$error":"#N/A"}}]
[null,null,null,{"$f":"VLOOKUP(C165,Emp_Master!$B$3:$C$500,2)","v":{"$error":"#N/A"}}]
[null,null,null,{"$f":"VLOOKUP(C166,Emp_Master!$B$3:$C$500,2)","v":{"$error":"#N/A"}}]
[null,null,null,{"$f":"VLOOKUP(C167,Emp_Master!$B$3:$C$500,2)","v":{"$error":"#N/A"}}]
[null,null,null,{"$f":"VLOOKUP(C168,Emp_Master!$B$3:$C$500,2)","v":{"$error":"#N/A"}}]
[null,null,null,{"$f":"VLOOKUP(C169,Emp_Master!$B$3:$C$500,2)","v":{"$error":"#N/A"}}]
[null,null,null,{"$f":"VLOOKUP(C170,Emp_Master!$B$3:$C$500,2)","v":{"$error":"#N/A"}}]
[null,null,null,{"$f":"VLOOKUP(C171,Emp_Master!$B$3:$C$500,2)","v":{"$error":"#N/A"}}]
[null,null,null,{"$f":"VLOOKUP(C172,Emp_Master!$B$3:$C$500,2)","v":{"$error":"#N/A"}}]
[null,null,null,{"$f":"VLOOKUP(C173,Emp_Master!$B$3:$C$500,2)","v":{"$error":"#N/A"}}]
[null,null,null,{"$f":"VLOOKUP(C174,Emp_Master!$B$3:$C$500,2)","v":{"$error":"#N/A"}}]
[null,null,null,{"$f":"VLOOKUP(C175,Emp_Master!$B$3:$C$500,2)","v":{"$error":"#N/A"}}]
[null,null,null,{"$f":"VLOOKUP(C176,Emp_Master!$B$3:$C$500,2)","v":{"$error":"#N/A"}}]
[null,null,null,{"$f":"VLOOKUP(C177,Emp_Master!$B$3:$C$500,2)","v":{"$error":"#N/A"}}]
[null,null,null,{"$f":"VLOOKUP(C178,Emp_Master!$B$3:$C$500,2)","v":{"$error":"#N/A"}}]
[null,null,null,{"$f":"VLOOKUP(C179,Emp_Master!$B$3:$C$500,2)","v":{"$error":"#N/A"}}]
[null,null,null,{"$f":"VLOOKUP(C180,Emp_Master!$B$3:$C$500,2)","v":{"$error":"#N/A"}}]
[null,null,null,{"$f":"VLOOKUP(C181,Emp_Master!$B$3:$C$500,2)","v":{"$error":"#N/A"}}]
[null,null,null,{"$f":"VLOOKUP(C182,Emp_Master!$B$3:$C$500,2)","v":{"$error":"#N/A"}}]
[null,null,null,{"$f":"VLOOKUP(C183,Emp_Master!$B$3:$C$500,2)","v":{"$error":"#N/A"}}]
[null,null,null,{"$f":"VLOOKUP(C184,Emp_Master!$B$3:$C$500,2)","v":{"$error":"#N/A"}}]
[null,null,null,{"$f":"VLOOKUP(C185,Emp_Master!$B$3:$C$500,2)","v":{"$error":"#N/A"}}]
[null,null,null,{"$f":"VLOOKUP(C186,Emp_Master!$B$3:$C$500,2)","v":{"$error":"#N/A"}}]
[null,null,null,{"$f":"VLOOKUP(C187,Emp_Master!$B$3:$C$500,2)","v":{"$error":"#N/A"}}]
[null,null,null,{"$f":"VLOOKUP(C188,Emp_Master!$B$3:$C$500,2)","v":{"$error":"#N/A"}}]
[null,null,null,{"$f":"VLOOKUP(C189,Emp_Master!$B$3:$C$500,2)","v":{"$error":"#N/A"}}]
[null,null,null,{"$f":"VLOOKUP(C190,Emp_Master!$B$3:$C$500,2)","v":{"$error":"#N/A"}}]
[null,null,null,{"$f":"VLOOKUP(C191,Emp_Master!$B$3:$C$500,2)","v":{"$error":"#N/A"}}]
[null,null,null,{"$f":"VLOOKUP(C192,Emp_Master!$B$3:$C$500,2)","v":{"$error":"#N/A"}}]
[null,null,null,{"$f":"VLOOKUP(C193,Emp_Master!$B$3:$C$500,2)","v":{"$error":"#N/A"}}]
[null,null,null,{"$f":"VLOOKUP(C194,Emp_Master!$B$3:$C$500,2)","v":{"$error":"#N/A"}}]
[null,null,null,{"$f":"VLOOKUP(C195,Emp_Master!$B$3:$C$500,2)","v":{"$error":"#N/A"}}]
[null,null,null,{"$f":"VLOOKUP(C196,Emp_Master!$B$3:$C$500,2)","v":{"$error":"#N/A"}}]
[null,null,null,{"$f":"VLOOKUP(C197,Emp_Master!$B$3:$C$500,2)","v":{"$error":"#N/A"}}]
[null,null,null,{"$f":"VLOOKUP(C198,Emp_Master!$B$3:$C$500,2)","v":{"$error":"#N/A"}}]
[null,null,null,{"$f":"VLOOKUP(C199,Emp_Master!$B$3:$C$500,2)","v":{"$error":"#N/A"}}]
[null,null,null,{"$f":"VLOOKUP(C200,Emp_Master!$B$3:$C$500,2)","v":{"$error":"#N/A"}}]
[null,null,null,{"$f":"VLOOKUP(C201,Emp_Master!$B$3:$C$500,2)","v":{"$error":"#N/A"}}]
[null,null,null,{"$f":"VLOOKUP(C202,Emp_Master!$B$3:$C$500,2)","v":{"$error":"#N/A"}}]
[null,null,null,{"$f":"VLOOKUP(C203,Emp_Master!$B$3:$C$500,2)","v":{"$error":"#N/A"}}]
[null,null,null,{"$f":"VLOOKUP(C204,Emp_Master!$B$3:$C$500,2)","v":{"$error":"#N/A"}}]
[null,null,null,{"$f":"VLOOKUP(C205,Emp_Master!$B$3:$C$500,2)","v":{"$error":"#N/A"}}]
[null,null,null,{"$f":"VLOOKUP(C206,Emp_Master!$B$3:$C$500,2)","v":{"$error":"#N/A"}}]
[null,null,null,{"$f":"VLOOKUP(C207,Emp_Master!$B$3:$C$500,2)","v":{"$error":"#N/A"}}]
[null,null,null,{"$f":"VLOOKUP(C208,Emp_Master!$B$3:$C$500,2)","v":{"$error":"#N/A"}}]
[null,null,null,{"$f":"VLOOKUP(C209,Emp_Master!$B$3:$C$500,2)","v":{"$error":"#N/A"}}]
[null,null,null,{"$f":"VLOOKUP(C210,Emp_Master!$B$3:$C$500,2)","v":{"$error":"#N/A"}}]
[null,null,null,{"$f":"VLOOKUP(C211,Emp_Master!$B$3:$C$500,2)","v":{"$error":"#N/A"}}]
[null,null,null,{"$f":"VLOOKUP(C212,Emp_Master!$B$3:$C$500,2)","v":{"$error":"#N/A"}}]
[null,null,null,{"$f":"VLOOKUP(C213,Emp_Master!$B$3:$C$500,2)","v":{"$error":"#N/A"}}]
[null,null,null,{"$f":"VLOOKUP(C214,Emp_Master!$B$3:$C$500,2)","v":{"$error":"#N/A"}}]
[null,null,null,{"$f":"VLOOKUP(C215,Emp_Master!$B$3:$C$500,2)","v":{"$error":"#N/A"}}]
[null,null,null,{"$f":"VLOOKUP(C216,Emp_Master!$B$3:$C$500,2)","v":{"$error":"#N/A"}}]
[null,null,null,{"$f":"VLOOKUP(C217,Emp_Master!$B$3:$C$500,2)","v":{"$error":"#N/A"}}]
[null,null,null,{"$f":"VLOOKUP(C218,Emp_Master!$B$3:$C$500,2)","v":{"$error":"#N/A"}}]
[null,null,null,{"$f":"VLOOKUP(C219,Emp_Master!$B$3:$C$500,2)","v":{"$error":"#N/A"}}]
[null,null,null,{"$f":"VLOOKUP(C220,Emp_Master!$B$3:$C$500,2)","v":{"$error":"#N/A"}}]
[null,null,null,{"$f":"VLOOKUP(C221,Emp_Master!$B$3:$C$500,2)","v":{"$error":"#N/A"}}]
[null,null,null,{"$f":"VLOOKUP(C222,Emp_Master!$B$3:$C$500,2)","v":{"$error":"#N/A"}}]
[null,null,null,{"$f":"VLOOKUP(C223,Emp_Master!$B$3:$C$500,2)","v":{"$error":"#N/A"}}]
[null,null,null,{"$f":"VLOOKUP(C224,Emp_Master!$B$3:$C$500,2)","v":{"$error":"#N/A"}}]
[null,null,null,{"$f":"VLOOKUP(C225,Emp_Master!$B$3:$C$500,2)","v":{"$error":"#N/A"}}]
[null,null,null,{"$f":"VLOOKUP(C226,Emp_Master!$B$3:$C$500,2)","v":{"$error":"#N/A"}}]
[null,null,null,{"$f":"VLOOKUP(C227,Emp_Master!$B$3:$C$500,2)","v":{"$error":"#N/A"}}]
[null,null,null,{"$f":"VLOOKUP(C228,Emp_Master!$B$3:$C$500,2)","v":{"$error":"#N/A"}}]
[null,null,null,{"$f":"VLOOKUP(C229,Emp_Master!$B$3:$C$500,2)","v":{"$error":"#N/A"}}]
[null,null,null,{"$f":"VLOOKUP(C230,Emp_Master!$B$3:$C$500,2)","v":{"$error":"#N/A"}}]
[null,null,null,{"$f":"VLOOKUP(C231,Emp_Master!$B$3:$C$500,2)","v":{"$error":"#N/A"}}]
[null,null,null,{"$f":"VLOOKUP(C232,Emp_Master!$B$3:$C$500,2)","v":{"$error":"#N/A"}}]
[null,null,null,{"$f":"VLOOKUP(C233,Emp_Master!$B$3:$C$500,2)","v":{"$error":"#N/A"}}]
[null,null,null,{"$f":"VLOOKUP(C234,Emp_Master!$B$3:$C$500,2)","v":{"$error":"#N/A"}}]
[null,null,null,{"$f":"VLOOKUP(C235,Emp_Master!$B$3:$C$500,2)","v":{"$error":"#N/A"}}]
[null,null,null,{"$f":"VLOOKUP(C236,Emp_Master!$B$3:$C$500,2)","v":{"$error":"#N/A"}}]
[null,null,null,{"$f":"VLOOKUP(C237,Emp_Master!$B$3:$C$500,2)","v":{"$error":"#N/A"}}]
[null,null,null,{"$f":"VLOOKUP(C238,Emp_Master!$B$3:$C$500,2)","v":{"$error":"#N/A"}}]
[null,null,null,{"$f":"VLOOKUP(C239,Emp_Master!$B$3:$C$500,2)","v":{"$error":"#N/A"}}]
[null,null,null,{"$f":"VLOOKUP(C240,Emp_Master!$B$3:$C$500,2)","v":{"$error":"#N/A"}}]
[null,null,null,{"$f":"VLOOKUP(C241,Emp_Master!$B$3:$C$500,2)","v":{"$error":"#N/A"}}]
[null,null,null,{"$f":"VLOOKUP(C242,Emp_Master!$B$3:$C$500,2)","v":{"$error":"#N/A"}}]
[null,null,null,{"$f":"VLOOKUP(C243,Emp_Master!$B$3:$C$500,2)","v":{"$error":"#N/A"}}]
[null,null,null,{"$f":"VLOOKUP(C244,Emp_Master!$B$3:$C$500,2)","v":{"$error":"#N/A"}}]
[null,null,null,{"$f":"VLOOKUP(C245,Emp_Master!$B$3:$C$500,2)","v":{"$error":"#N/A"}}]
[null,null,null,{"$f":"VLOOKUP(C246,Emp_Master!$B$3:$C$500,2)","v":{"$error":"#N/A"}}]
[null,null,null,{"$f":"VLOOKUP(C247,Emp_Master!$B$3:$C$500,2)","v":{"$error":"#N/A"}}]
[null,null,null,{"$f":"VLOOKUP(C248,Emp_Master!$B$3:$C$500,2)","v":{"$error":"#N/A"}}]
[null,null,null,{"$f":"VLOOKUP(C249,Emp_Master!$B$3:$C$500,2)","v":{"$error":"#N/A"}}]
[null,null,null,{"$f":"VLOOKUP(C250,Emp_Master!$B$3:$C$500,2)","v":{"$error":"#N/A"}}]
[null,null,null,{"$f":"VLOOKUP(C251,Emp_Master!$B$3:$C$500,2)","v":{"$error":"#N/A"}}]
[null,null,null,{"$f":"VLOOKUP(C252,Emp_Master!$B$3:$C$500,2)","v":{"$error":"#N/A"}}]
[null,null,null,{"$f":"VLOOKUP(C253,Emp_Master!$B$3:$C$500,2)","v":{"$error":"#N/A"}}]
[null,null,null,{"$f":"VLOOKUP(C254,Emp_Master!$B$3:$C$500,2)","v":{"$error":"#N/A"}}]
[null,null,null,{"$f":"VLOOKUP(C255,Emp_Master!$B$3:$C$500,2)","v":{"$error":"#N/A"}}]
[null,null,null,{"$f":"VLOOKUP(C256,Emp_Master!$B$3:$C$500,2)","v":{"$error":"#N/A"}}]
[null,null,null,{"$f":"VLOOKUP(C257,Emp_Master!$B$3:$C$500,2)","v":{"$error":"#N/A"}}]
[null,null,null,{"$f":"VLOOKUP(C258,Emp_Master!$B$3:$C$500,2)","v":{"$error":"#N/A"}}]
[null,null,null,{"$f":"VLOOKUP(C259,Emp_Master!$B$3:$C$500,2)","v":{"$error":"#N/A"}}]
[null,null,null,{"$f":"VLOOKUP(C260,Emp_Master!$B$3:$C$500,2)","v":{"$error":"#N/A"}}]
[null,null,null,{"$f":"VLOOKUP(C261,Emp_Master!$B$3:$C$500,2)","v":{"$error":"#N/A"}}]
[null,null,null,{"$f":"VLOOKUP(C262,Emp_Master!$B$3:$C$500,2)","v":{"$error":"#N/A"}}]
[null,null,null,{"$f":"VLOOKUP(C263,Emp_Master!$B$3:$C$500,2)","v":{"$error":"#N/A"}}]
[null,null,null,{"$f":"VLOOKUP(C264,Emp_Master!$B$3:$C$500,2)","v":{"$error":"#N/A"}}]
[null,null,null,{"$f":"VLOOKUP(C265,Emp_Master!$B$3:$C$500,2)","v":{"$error":"#N/A"}}]
[null,null,null,{"$f":"VLOOKUP(C266,Emp_Master!$B$3:$C$500,2)","v":{"$error":"#N/A"}}]
[null,null,null,{"$f":"VLOOKUP(C267,Emp_Master!$B$3:$C$500,2)","v":{"$error":"#N/A"}}]
[null,null,null,{"$f":"VLOOKUP(C268,Emp_Master!$B$3:$C$500,2)","v":{"$error":"#N/A"}}]
[null,null,null,{"$f":"VLOOKUP(C269,Emp_Master!$B$3:$C$500,2)","v":{"$error":"#N/A"}}]
[null,null,null,{"$f":"VLOOKUP(C270,Emp_Master!$B$3:$C$500,2)","v":{"$error":"#N/A"}}]
[null,null,null,{"$f":"VLOOKUP(C271,Emp_Master!$B$3:$C$500,2)","v":{"$error":"#N/A"}}]
[null,null,null,{"$f":"VLOOKUP(C272,Emp_Master!$B$3:$C$500,2)","v":{"$error":"#N/A"}}]
[null,null,null,{"$f":"VLOOKUP(C273,Emp_Master!$B$3:$C$500,2)","v":{"$error":"#N/A"}}]
[null,null,null,{"$f":"VLOOKUP(C274,Emp_Master!$B$3:$C$500,2)","v":{"$error":"#N/A"}}]
[null,null,null,{"$f":"VLOOKUP(C275,Emp_Master!$B$3:$C$500,2)","v":{"$error":"#N/A"}}]
[null,null,null,{"$f":"VLOOKUP(C276,Emp_Master!$B$3:$C$500,2)","v":{"$error":"#N/A"}}]
[null,null,null,{"$f":"VLOOKUP(C277,Emp_Master!$B$3:$C$500,2)","v":{"$error":"#N/A"}}]
[null,null,null,{"$f":"VLOOKUP(C278,Emp_Master!$B$3:$C$500,2)","v":{"$error":"#N/A"}}]
[null,null,null,{"$f":"VLOOKUP(C279,Emp_Master!$B$3:$C$500,2)","v":{"$error":"#N/A"}}]
[null,null,null,{"$f":"VLOOKUP(C280,Emp_Master!$B$3:$C$500,2)","v":{"$error":"#N/A"}}]
[null,null,null,{"$f":"VLOOKUP(C281,Emp_Master!$B$3:$C$500,2)","v":{"$error":"#N/A"}}]
[null,null,null,{"$f":"VLOOKUP(C282,Emp_Master!$B$3:$C$500,2)","v":{"$error":"#N/A"}}]
[null,null,null,{"$f":"VLOOKUP(C283,Emp_Master!$B$3:$C$500,2)","v":{"$error":"#N/A"}}]
[null,null,null,{"$f":"VLOOKUP(C284,Emp_Master!$B$3:$C$500,2)","v":{"$error":"#N/A"}}]
[null,null,null,{"$f":"VLOOKUP(C285,Emp_Master!$B$3:$C$500,2)","v":{"$error":"#N/A"}}]
[null,null,null,{"$f":"VLOOKUP(C286,Emp_Master!$B$3:$C$500,2)","v":{"$error":"#N/A"}}]
[null,null,null,{"$f":"VLOOKUP(C287,Emp_Master!$B$3:$C$500,2)","v":{"$error":"#N/A"}}]
[null,null,null,{"$f":"VLOOKUP(C288,Emp_Master!$B$3:$C$500,2)","v":{"$error":"#N/A"}}]
[null,null,null,{"$f":"VLOOKUP(C289,Emp_Master!$B$3:$C$500,2)","v":{"$error":"#N/A"}}]
[null,null,null,{"$f":"VLOOKUP(C290,Emp_Master!$B$3:$C$500,2)","v":{"$error":"#N/A"}}]
[null,null,null,{"$f":"VLOOKUP(C291,Emp_Master!$B$3:$C$500,2)","v":{"$error":"#N/A"}}]
[null,null,null,{"$f":"VLOOKUP(C292,Emp_Master!$B$3:$C$500,2)","v":{"$error":"#N/A"}}]
[null,null,null,{"$f":"VLOOKUP(C293,Emp_Master!$B$3:$C$500,2)","v":{"$error":"#N/A"}}]
[null,null,null,{"$f":"VLOOKUP(C294,Emp_Master!$B$3:$C$500,2)","v":{"$error":"#N/A"}}]
[null,null,null,{"$f":"VLOOKUP(C295,Emp_Master!$B$3:$C$500,2)","v":{"$error":"#N/A"}}]
[null,null,null,{"$f":"VLOOKUP(C296,Emp_Master!$B$3:$C$500,2)","v":{"$error":"#N/A"}}]
[null,null,null,{"$f":"VLOOKUP(C297,Emp_Master!$B$3:$C$500,2)","v":{"$error":"#N/A"}}]
[null,null,null,{"$f":"VLOOKUP(C298,Emp_Master!$B$3:$C$500,2)","v":{"$error":"#N/A"}}]
[null,null,null,{"$f":"VLOOKUP(C299,Emp_Master!$B$3:$C$500,2)","v":{"$error":"#N/A"}}]
[null,null,null,{"$f":"VLOOKUP(C300,Emp_Master!$B$3:$C$500,2)","v":{"$error":"#N/A"}}]
[null,null,null,{"$f":"VLOOKUP(C301,Emp_Master!$B$3:$C$500,2)","v":{"$error":"#N/A"}}]
[null,null,null,{"$f":"VLOOKUP(C302,Emp_Master!$B$3:$C$500,2)","v":{"$error":"#N/A"}}]
[null,null,null,{"$f":"VLOOKUP(C303,Emp_Master!$B$3:$C$500,2)","v":{"$error":"#N/A"}}]
[null,null,null,{"$f":"VLOOKUP(C304,Emp_Master!$B$3:$C$500,2)","v":{"$error":"#N/A"}}]
[null,null,null,{"$f":"VLOOKUP(C305,Emp_Master!$B$3:$C$500,2)","v":{"$error":"#N/A"}}]
[null,null,null,{"$f":"VLOOKUP(C306,Emp_Master!$B$3:$C$500,2)","v":{"$error":"#N/A"}}]
[null,null,null,{"$f":"VLOOKUP(C307,Emp_Master!$B$3:$C$500,2)","v":{"$error":"#N/A"}}]
[null,null,null,{"$f":"VLOOKUP(C308,Emp_Master!$B$3:$C$500,2)","v":{"$error":"#N/A"}}]
[null,null,null,{"$f":"VLOOKUP(C309,Emp_Master!$B$3:$C$500,2)","v":{"$error":"#N/A"}}]
[null,null,null,{"$f":"VLOOKUP(C310,Emp_Master!$B$3:$C$500,2)","v":{"$error":"#N/A"}}]
[null,null,null,{"$f":"VLOOKUP(C311,Emp_Master!$B$3:$C$500,2)","v":{"$error":"#N/A"}}]
[null,null,null,{"$f":"VLOOKUP(C312,Emp_Master!$B$3:$C$500,2)","v":{"$error":"#N/A"}}]
[null,null,null,{"$f":"VLOOKUP(C313,Emp_Master!$B$3:$C$500,2)","v":{"$error":"#N/A"}}]
[null,null,null,{"$f":"VLOOKUP(C314,Emp_Master!$B$3:$C$500,2)","v":{"$error":"#N/A"}}]
[null,null,null,{"$f":"VLOOKUP(C315,Emp_Master!$B$3:$C$500,2)","v":{"$error":"#N/A"}}]
[null,null,null,{"$f":"VLOOKUP(C316,Emp_Master!$B$3:$C$500,2)","v":{"$error":"#N/A"}}]
[null,null,null,{"$f":"VLOOKUP(C317,Emp_Master!$B$3:$C$500,2)","v":{"$error":"#N/A"}}]
[null,null,null,{"$f":"VLOOKUP(C318,Emp_Master!$B$3:$C$500,2)","v":{"$error":"#N/A"}}]
[null,null,null,{"$f":"VLOOKUP(C319,Emp_Master!$B$3:$C$500,2)","v":{"$error":"#N/A"}}]
[null,null,null,{"$f":"VLOOKUP(C320,Emp_Master!$B$3:$C$500,2)","v":{"$error":"#N/A"}}]
[null,null,null,{"$f":"VLOOKUP(C321,Emp_Master!$B$3:$C$500,2)","v":{"$error":"#N/A"}}]
[null,null,null,{"$f":"VLOOKUP(C322,Emp_Master!$B$3:$C$500,2)","v":{"$error":"#N/A"}}]
[null,null,null,{"$f":"VLOOKUP(C323,Emp_Master!$B$3:$C$500,2)","v":{"$error":"#N/A"}}]
[null,null,null,{"$f":"VLOOKUP(C324,Emp_Master!$B$3:$C$500,2)","v":{"$error":"#N/A"}}]
[null,null,null,{"$f":"VLOOKUP(C325,Emp_Master!$B$3:$C$500,2)","v":{"$error":"#N/A"}}]
[null,null,null,{"$f":"VLOOKUP(C326,Emp_Master!$B$3:$C$500,2)","v":{"$error":"#N/A"}}]
[null,null,null,{"$f":"VLOOKUP(C327,Emp_Master!$B$3:$C$500,2)","v":{"$error":"#N/A"}}]
[null,null,null,{"$f":"VLOOKUP(C328,Emp_Master!$B$3:$C$500,2)","v":{"$error":"#N/A"}}]
[null,null,null,{"$f":"VLOOKUP(C329,Emp_Master!$B$3:$C$500,2)","v":{"$error":"#N/A"}}]
[null,null,null,{"$f":"VLOOKUP(C330,Emp_Master!$B$3:$C$500,2)","v":{"$error":"#N/A"}}]
[null,null,null,{"$f":"VLOOKUP(C331,Emp_Master!$B$3:$C$500,2)","v":{"$error":"#N/A"}}]
[null,null,null,{"$f":"VLOOKUP(C332,Emp_Master!$B$3:$C$500,2)","v":{"$error":"#N/A"}}]
[null,null,null,{"$f":"VLOOKUP(C333,Emp_Master!$B$3:$C$500,2)","v":{"$error":"#N/A"}}]
[null,null,null,{"$f":"VLOOKUP(C334,Emp_Master!$B$3:$C$500,2)","v":{"$error":"#N/A"}}]
[null,null,null,{"$f":"VLOOKUP(C335,Emp_Master!$B$3:$C$500,2)","v":{"$error":"#N/A"}}]
[null,null,null,{"$f":"VLOOKUP(C336,Emp_Master!$B$3:$C$500,2)","v":{"$error":"#N/A"}}]
[null,null,null,{"$f":"VLOOKUP(C337,Emp_Master!$B$3:$C$500,2)","v":{"$error":"#N/A"}}]
[null,null,null,{"$f":"VLOOKUP(C338,Emp_Master!$B$3:$C$500,2)","v":{"$error":"#N/A"}}]
[null,null,null,{"$f":"VLOOKUP(C339,Emp_Master!$B$3:$C$500,2)","v":{"$error":"#N/A"}}]
[null,null,null,{"$f":"VLOOKUP(C340,Emp_Master!$B$3:$C$500,2)","v":{"$error":"#N/A"}}]
[null,null,null,{"$f":"VLOOKUP(C341,Emp_Master!$B$3:$C$500,2)","v":{"$error":"#N/A"}}]
[null,null,null,{"$f":"VLOOKUP(C342,Emp_Master!$B$3:$C$500,2)","v":{"$error":"#N/A"}}]
[null,null,null,{"$f":"VLOOKUP(C343,Emp_Master!$B$3:$C$500,2)","v":{"$error":"#N/A"}}]
[null,null,null,{"$f":"VLOOKUP(C344,Emp_Master!$B$3:$C$500,2)","v":{"$error":"#N/A"}}]
[null,null,null,{"$f":"VLOOKUP(C345,Emp_Master!$B$3:$C$500,2)","v":{"$error":"#N/A"}}]
[null,null,null,{"$f":"VLOOKUP(C346,Emp_Master!$B$3:$C$500,2)","v":{"$error":"#N/A"}}]
[null,null,null,{"$f":"VLOOKUP(C347,Emp_Master!$B$3:$C$500,2)","v":{"$error":"#N/A"}}]
[null,null,null,{"$f":"VLOOKUP(C348,Emp_Master!$B$3:$C$500,2)","v":{"$error":"#N/A"}}]
[null,null,null,{"$f":"VLOOKUP(C349,Emp_Master!$B$3:$C$500,2)","v":{"$error":"#N/A"}}]
[null,null,null,{"$f":"VLOOKUP(C350,Emp_Master!$B$3:$C$500,2)","v":{"$error":"#N/A"}}]
[null,null,null,{"$f":"VLOOKUP(C351,Emp_Master!$B$3:$C$500,2)","v":{"$error":"#N/A"}}]
[null,null,null,{"$f":"VLOOKUP(C352,Emp_Master!$B$3:$C$500,2)","v":{"$error":"#N/A"}}]
[null,null,null,{"$f":"VLOOKUP(C353,Emp_Master!$B$3:$C$500,2)","v":{"$error":"#N/A"}}]
[null,null,null,{"$f":"VLOOKUP(C354,Emp_Master!$B$3:$C$500,2)","v":{"$error":"#N/A"}}]
[null,null,null,{"$f":"VLOOKUP(C355,Emp_Master!$B$3:$C$500,2)","v":{"$error":"#N/A"}}]
[null,null,null,{"$f":"VLOOKUP(C356,Emp_Master!$B$3:$C$500,2)","v":{"$error":"#N/A"}}]
[null,null,null,{"$f":"VLOOKUP(C357,Emp_Master!$B$3:$C$500,2)","v":{"$error":"#N/A"}}]
[null,null,null,{"$f":"VLOOKUP(C358,Emp_Master!$B$3:$C$500,2)","v":{"$error":"#N/A"}}]
[null,null,null,{"$f":"VLOOKUP(C359,Emp_Master!$B$3:$C$500,2)","v":{"$error":"#N/A"}}]
[null,null,null,{"$f":"VLOOKUP(C360,Emp_Master!$B$3:$C$500,2)","v":{"$error":"#N/A"}}]
[null,null,null,{"$f":"VLOOKUP(C361,Emp_Master!$B$3:$C$500,2)","v":{"$error":"#N/A"}}]
[null,null,null,{"$f":"VLOOKUP(C362,Emp_Master!$B$3:$C$500,2)","v":{"$error":"#N/A"}}]
[null,null,null,{"$f":"VLOOKUP(C363,Emp_Master!$B$3:$C$500,2)","v":{"$error":"#N/A"}}]
[null,null,null,{"$f":"VLOOKUP(C364,Emp_Master!$B$3:$C$500,2)","v":{"$error":"#N/A"}}]
[null,null,null,{"$f":"VLOOKUP(C365,Emp_Master!$B$3:$C$500,2)","v":{"$error":"#N/A"}}]
[null,null,null,{"$f":"VLOOKUP(C366,Emp_Master!$B$3:$C$500,2)","v":{"$error":"#N/A"}}]
[null,null,null,{"$f":"VLOOKUP(C367,Emp_Master!$B$3:$C$500,2)","v":{"$error":"#N/A"}}]
[null,null,null,{"$f":"VLOOKUP(C368,Emp_Master!$B$3:$C$500,2)","v":{"$error":"#N/A"}}]
[null,null,null,{"$f":"VLOOKUP(C369,Emp_Master!$B$3:$C$500,2)","v":{"$error":"#N/A"}}]
[null,null,null,{"$f":"VLOOKUP(C370,Emp_Master!$B$3:$C$500,2)","v":{"$error":"#N/A"}}]
[null,null,null,{"$f":"VLOOKUP(C371,Emp_Master!$B$3:$C$500,2)","v":{"$error":"#N/A"}}]
[null,null,null,{"$f":"VLOOKUP(C372,Emp_Master!$B$3:$C$500,2)","v":{"$error":"#N/A"}}]
[null,null,null,{"$f":"VLOOKUP(C373,Emp_Master!$B$3:$C$500,2)","v":{"$error":"#N/A"}}]
[null,null,null,{"$f":"VLOOKUP(C374,Emp_Master!$B$3:$C$500,2)","v":{"$error":"#N/A"}}]
[null,null,null,{"$f":"VLOOKUP(C375,Emp_Master!$B$3:$C$500,2)","v":{"$error":"#N/A"}}]
[null,null,null,{"$f":"VLOOKUP(C376,Emp_Master!$B$3:$C$500,2)","v":{"$error":"#N/A"}}]
[null,null,null,{"$f":"VLOOKUP(C377,Emp_Master!$B$3:$C$500,2)","v":{"$error":"#N/A"}}]
[null,null,null,{"$f":"VLOOKUP(C378,Emp_Master!$B$3:$C$500,2)","v":{"$error":"#N/A"}}]
[null,null,null,{"$f":"VLOOKUP(C379,Emp_Master!$B$3:$C$500,2)","v":{"$error":"#N/A"}}]
[null,null,null,{"$f":"VLOOKUP(C380,Emp_Master!$B$3:$C$500,2)","v":{"$error":"#N/A"}}]
[null,null,null,{"$f":"VLOOKUP(C381,Emp_Master!$B$3:$C$500,2)","v":{"$error":"#N/A"}}]
[null,null,null,{"$f":"VLOOKUP(C382,Emp_Master!$B$3:$C$500,2)","v":{"$error":"#N/A"}}]
[null,null,null,{"$f":"VLOOKUP(C383,Emp_Master!$B$3:$C$500,2)","v":{"$error":"#N/A"}}]
[null,null,null,{"$f":"VLOOKUP(C384,Emp_Master!$B$3:$C$500,2)","v":{"$error":"#N/A"}}]
[null,null,null,{"$f":"VLOOKUP(C385,Emp_Master!$B$3:$C$500,2)","v":{"$error":"#N/A"}}]
[null,null,null,{"$f":"VLOOKUP(C386,Emp_Master!$B$3:$C$500,2)","v":{"$error":"#N/A"}}]
[null,null,null,{"$f":"VLOOKUP(C387,Emp_Master!$B$3:$C$500,2)","v":{"$error":"#N/A"}}]
[null,null,null,{"$f":"VLOOKUP(C388,Emp_Master!$B$3:$C$500,2)","v":{"$error":"#N/A"}}]
[null,null,null,{"$f":"VLOOKUP(C389,Emp_Master!$B$3:$C$500,2)","v":{"$error":"#N/A"}}]
[null,null,null,{"$f":"VLOOKUP(C390,Emp_Master!$B$3:$C$500,2)","v":{"$error":"#N/A"}}]
[null,null,null,{"$f":"VLOOKUP(C391,Emp_Master!$B$3:$C$500,2)","v":{"$error":"#N/A"}}]
[null,null,null,{"$f":"VLOOKUP(C392,Emp_Master!$B$3:$C$500,2)","v":{"$error":"#N/A"}}]
[null,null,null,{"$f":"VLOOKUP(C393,Emp_Master!$B$3:$C$500,2)","v":{"$error":"#N/A"}}]
[null,null,null,{"$f":"VLOOKUP(C394,Emp_Master!$B$3:$C$500,2)","v":{"$error":"#N/A"}}]
[null,null,null,{"$f":"VLOOKUP(C395,Emp_Master!$B$3:$C$500,2)","v":{"$error":"#N/A"}}]
[null,null,null,{"$f":"VLOOKUP(C396,Emp_Master!$B$3:$C$500,2)","v":{"$error":"#N/A"}}]
[null,null,null,{"$f":"VLOOKUP(C397,Emp_Master!$B$3:$C$500,2)","v":{"$error":"#N/A"}}]
[null,null,null,{"$f":"VLOOKUP(C398,Emp_Master!$B$3:$C$500,2)","v":{"$error":"#N/A"}}]
[null,null,null,{"$f":"VLOOKUP(C399,Emp_Master!$B$3:$C$500,2)","v":{"$error":"#N/A"}}]
[null,null,null,{"$f":"VLOOKUP(C400,Emp_Master!$B$3:$C$500,2)","v":{"$error":"#N/A"}}]
[null,null,null,{"$f":"VLOOKUP(C401,Emp_Master!$B$3:$C$500,2)","v":{"$error":"#N/A"}}]
[null,null,null,{"$f":"VLOOKUP(C402,Emp_Master!$B$3:$C$500,2)","v":{"$error":"#N/A"}}]
[null,null,null,{"$f":"VLOOKUP(C403,Emp_Master!$B$3:$C$500,2)","v":{"$error":"#N/A"}}]
[null,null,null,{"$f":"VLOOKUP(C404,Emp_Master!$B$3:$C$500,2)","v":{"$error":"#N/A"}}]
[null,null,null,{"$f":"VLOOKUP(C405,Emp_Master!$B$3:$C$500,2)","v":{"$error":"#N/A"}}]
[null,null,null,{"$f":"VLOOKUP(C406,Emp_Master!$B$3:$C$500,2)","v":{"$error":"#N/A"}}]
[null,null,null,{"$f":"VLOOKUP(C407,Emp_Master!$B$3:$C$500,2)","v":{"$error":"#N/A"}}]
[null,null,null,{"$f":"VLOOKUP(C408,Emp_Master!$B$3:$C$500,2)","v":{"$error":"#N/A"}}]
[null,null,null,{"$f":"VLOOKUP(C409,Emp_Master!$B$3:$C$500,2)","v":{"$error":"#N/A"}}]
[null,null,null,{"$f":"VLOOKUP(C410,Emp_Master!$B$3:$C$500,2)","v":{"$error":"#N/A"}}]
[null,null,null,{"$f":"VLOOKUP(C411,Emp_Master!$B$3:$C$500,2)","v":{"$error":"#N/A"}}]
[null,null,null,{"$f":"VLOOKUP(C412,Emp_Master!$B$3:$C$500,2)","v":{"$error":"#N/A"}}]
[null,null,null,{"$f":"VLOOKUP(C413,Emp_Master!$B$3:$C$500,2)","v":{"$error":"#N/A"}}]
[null,null,null,{"$f":"VLOOKUP(C414,Emp_Master!$B$3:$C$500,2)","v":{"$error":"#N/A"}}]
[null,null,null,{"$f":"VLOOKUP(C415,Emp_Master!$B$3:$C$500,2)","v":{"$error":"#N/A"}}]
[null,null,null,{"$f":"VLOOKUP(C416,Emp_Master!$B$3:$C$500,2)","v":{"$error":"#N/A"}}]
[null,null,null,{"$f":"VLOOKUP(C417,Emp_Master!$B$3:$C$500,2)","v":{"$error":"#N/A"}}]
[null,null,null,{"$f":"VLOOKUP(C418,Emp_Master!$B$3:$C$500,2)","v":{"$error":"#N/A"}}]
[null,null,null,{"$f":"VLOOKUP(C419,Emp_Master!$B$3:$C$500,2)","v":{"$error":"#N/A"}}]
[null,null,null,{"$f":"VLOOKUP(C420,Emp_Master!$B$3:$C$500,2)","v":{"$error":"#N/A"}}]
[null,null,null,{"$f":"VLOOKUP(C421,Emp_Master!$B$3:$C$500,2)","v":{"$error":"#N/A"}}]
[null,null,null,{"$f":"VLOOKUP(C422,Emp_Master!$B$3:$C$500,2)","v":{"$error":"#N/A"}}]
[null,null,null,{"$f":"VLOOKUP(C423,Emp_Master!$B$3:$C$500,2)","v":{"$error":"#N/A"}}]
[null,null,null,{"$f":"VLOOKUP(C424,Emp_Master!$B$3:$C$500,2)","v":{"$error":"#N/A"}}]
[null,null,null,{"$f":"VLOOKUP(C425,Emp_Master!$B$3:$C$500,2)","v":{"$error":"#N/A"}}]
[null,null,null,{"$f":"VLOOKUP(C426,Emp_Master!$B$3:$C$500,2)","v":{"$error":"#N/A"}}]
[null,null,null,{"$f":"VLOOKUP(C427,Emp_Master!$B$3:$C$500,2)","v":{"$error":"#N/A"}}]
[null,null,null,{"$f":"VLOOKUP(C428,Emp_Master!$B$3:$C$500,2)","v":{"$error":"#N/A"}}]
[null,null,null,{"$f":"VLOOKUP(C429,Emp_Master!$B$3:$C$500,2)","v":{"$error":"#N/A"}}]
[null,null,null,{"$f":"VLOOKUP(C430,Emp_Master!$B$3:$C$500,2)","v":{"$error":"#N/A"}}]
[null,null,null,{"$f":"VLOOKUP(C431,Emp_Master!$B$3:$C$500,2)","v":{"$error":"#N/A"}}]
[null,null,null,{"$f":"VLOOKUP(C432,Emp_Master!$B$3:$C$500,2)","v":{"$error":"#N/A"}}]
[null,null,null,{"$f":"VLOOKUP(C433,Emp_Master!$B$3:$C$500,2)","v":{"$error":"#N/A"}}]
[null,null,null,{"$f":"VLOOKUP(C434,Emp_Master!$B$3:$C$500,2)","v":{"$error":"#N/A"}}]
[null,null,null,{"$f":"VLOOKUP(C435,Emp_Master!$B$3:$C$500,2)","v":{"$error":"#N/A"}}]
[null,null,null,{"$f":"VLOOKUP(C436,Emp_Master!$B$3:$C$500,2)","v":{"$error":"#N/A"}}]
[null,null,null,{"$f":"VLOOKUP(C437,Emp_Master!$B$3:$C$500,2)","v":{"$error":"#N/A"}}]
[null,null,null,{"$f":"VLOOKUP(C438,Emp_Master!$B$3:$C$500,2)","v":{"$error":"#N/A"}}]
[null,null,null,{"$f":"VLOOKUP(C439,Emp_Master!$B$3:$C$500,2)","v":{"$error":"#N/A"}}]
[null,null,null,{"$f":"VLOOKUP(C440,Emp_Master!$B$3:$C$500,2)","v":{"$error":"#N/A"}}]
[null,null,null,{"$f":"VLOOKUP(C441,Emp_Master!$B$3:$C$500,2)","v":{"$error":"#N/A"}}]
[null,null,null,{"$f":"VLOOKUP(C442,Emp_Master!$B$3:$C$500,2)","v":{"$error":"#N/A"}}]
[null,null,null,{"$f":"VLOOKUP(C443,Emp_Master!$B$3:$C$500,2)","v":{"$error":"#N/A"}}]
[null,null,null,{"$f":"VLOOKUP(C444,Emp_Master!$B$3:$C$500,2)","v":{"$error":"#N/A"}}]
[null,null,null,{"$f":"VLOOKUP(C445,Emp_Master!$B$3:$C$500,2)","v":{"$error":"#N/A"}}]
[null,null,null,{"$f":"VLOOKUP(C446,Emp_Master!$B$3:$C$500,2)","v":{"$error":"#N/A"}}]
[null,null,null,{"$f":"VLOOKUP(C447,Emp_Master!$B$3:$C$500,2)","v":{"$error":"#N/A"}}]
[null,null,null,{"$f":"VLOOKUP(C448,Emp_Master!$B$3:$C$500,2)","v":{"$error":"#N/A"}}]
[null,null,null,{"$f":"VLOOKUP(C449,Emp_Master!$B$3:$C$500,2)","v":{"$error":"#N/A"}}]
[null,null,null,{"$f":"VLOOKUP(C450,Emp_Master!$B$3:$C$500,2)","v":{"$error":"#N/A"}}]
[null,null,null,{"$f":"VLOOKUP(C451,Emp_Master!$B$3:$C$500,2)","v":{"$error":"#N/A"}}]
[null,null,null,{"$f":"VLOOKUP(C452,Emp_Master!$B$3:$C$500,2)","v":{"$error":"#N/A"}}]
[null,null,null,{"$f":"VLOOKUP(C453,Emp_Master!$B$3:$C$500,2)","v":{"$error":"#N/A"}}]
[null,null,null,{"$f":"VLOOKUP(C454,Emp_Master!$B$3:$C$500,2)","v":{"$error":"#N/A"}}]
[null,null,null,{"$f":"VLOOKUP(C455,Emp_Master!$B$3:$C$500,2)","v":{"$error":"#N/A"}}]
[null,null,null,{"$f":"VLOOKUP(C456,Emp_Master!$B$3:$C$500,2)","v":{"$error":"#N/A"}}]
[null,null,null,{"$f":"VLOOKUP(C457,Emp_Master!$B$3:$C$500,2)","v":{"$error":"#N/A"}}]
[null,null,null,{"$f":"VLOOKUP(C458,Emp_Master!$B$3:$C$500,2)","v":{"$error":"#N/A"}}]
[null,null,null,{"$f":"VLOOKUP(C459,Emp_Master!$B$3:$C$500,2)","v":{"$error":"#N/A"}}]
[null,null,null,{"$f":"VLOOKUP(C460,Emp_Master!$B$3:$C$500,2)","v":{"$error":"#N/A"}}]
[null,null,null,{"$f":"VLOOKUP(C461,Emp_Master!$B$3:$C$500,2)","v":{"$error":"#N/A"}}]
[null,null,null,{"$f":"VLOOKUP(C462,Emp_Master!$B$3:$C$500,2)","v":{"$error":"#N/A"}}]
[null,null,null,{"$f":"VLOOKUP(C463,Emp_Master!$B$3:$C$500,2)","v":{"$error":"#N/A"}}]
[null,null,null,{"$f":"VLOOKUP(C464,Emp_Master!$B$3:$C$500,2)","v":{"$error":"#N/A"}}]
[null,null,null,{"$f":"VLOOKUP(C465,Emp_Master!$B$3:$C$500,2)","v":{"$error":"#N/A"}}]
[null,null,null,{"$f":"VLOOKUP(C466,Emp_Master!$B$3:$C$500,2)","v":{"$error":"#N/A"}}]
[null,null,null,{"$f":"VLOOKUP(C467,Emp_Master!$B$3:$C$500,2)","v":{"$error":"#N/A"}}]
[null,null,null,{"$f":"VLOOKUP(C468,Emp_Master!$B$3:$C$500,2)","v":{"$error":"#N/A"}}]
[null,null,null,{"$f":"VLOOKUP(C469,Emp_Master!$B$3:$C$500,2)","v":{"$error":"#N/A"}}]
[null,null,null,{"$f":"VLOOKUP(C470,Emp_Master!$B$3:$C$500,2)","v":{"$error":"#N/A"}}]
[null,null,null,{"$f":"VLOOKUP(C471,Emp_Master!$B$3:$C$500,2)","v":{"$error":"#N/A"}}]
[null,null,null,{"$f":"VLOOKUP(C472,Emp_Master!$B$3:$C$500,2)","v":{"$error":"#N/A"}}]
[null,null,null,{"$f":"VLOOKUP(C473,Emp_Master!$B$3:$C$500,2)","v":{"$error":"#N/A"}}]
[null,null,null,{"$f":"VLOOKUP(C474,Emp_Master!$B$3:$C$500,2)","v":{"$error":"#N/A"}}]
[null,null,null,{"$f":"VLOOKUP(C475,Emp_Master!$B$3:$C$500,2)","v":{"$error":"#N/A"}}]
[null,null,null,{"$f":"VLOOKUP(C476,Emp_Master!$B$3:$C$500,2)","v":{"$error":"#N/A"}}]
[null,null,null,{"$f":"VLOOKUP(C477,Emp_Master!$B$3:$C$500,2)","v":{"$error":"#N/A"}}]
[null,null,null,{"$f":"VLOOKUP(C478,Emp_Master!$B$3:$C$500,2)","v":{"$error":"#N/A"}}]
[null,null,null,{"$f":"VLOOKUP(C479,Emp_Master!$B$3:$C$500,2)","v":{"$error":"#N/A"}}]
[null,null,null,{"$f":"VLOOKUP(C480,Emp_Master!$B$3:$C$500,2)","v":{"$error":"#N/A"}}]
[null,null,null,{"$f":"VLOOKUP(C481,Emp_Master!$B$3:$C$500,2)","v":{"$error":"#N/A"}}]
[null,null,null,{"$f":"VLOOKUP(C482,Emp_Master!$B$3:$C$500,2)","v":{"$error":"#N/A"}}]
[null,null,null,{"$f":"VLOOKUP(C483,Emp_Master!$B$3:$C$500,2)","v":{"$error":"#N/A"}}]
[null,null,null,{"$f":"VLOOKUP(C484,Emp_Master!$B$3:$C$500,2)","v":{"$error":"#N/A"}}]
[null,null,null,{"$f":"VLOOKUP(C485,Emp_Master!$B$3:$C$500,2)","v":{"$error":"#N/A"}}]
[null,null,null,{"$f":"VLOOKUP(C486,Emp_Master!$B$3:$C$500,2)","v":{"$error":"#N/A"}}]
[null,null,null,{"$f":"VLOOKUP(C487,Emp_Master!$B$3:$C$500,2)","v":{"$error":"#N/A"}}]
[null,null,null,{"$f":"VLOOKUP(C488,Emp_Master!$B$3:$C$500,2)","v":{"$error":"#N/A"}}]
[null,null,null,{"$f":"VLOOKUP(C489,Emp_Master!$B$3:$C$500,2)","v":{"$error":"#N/A"}}]
[null,null,null,{"$f":"VLOOKUP(C490,Emp_Master!$B$3:$C$500,2)","v":{"$error":"#N/A"}}]
[null,null,null,{"$f":"VLOOKUP(C491,Emp_Master!$B$3:$C$500,2)","v":{"$error":"#N/A"}}]
[null,null,null,{"$f":"VLOOKUP(C492,Emp_Master!$B$3:$C$500,2)","v":{"$error":"#N/A"}}]
[null,null,null,{"$f":"VLOOKUP(C493,Emp_Master!$B$3:$C$500,2)","v":{"$error":"#N/A"}}]
[null,null,null,{"$f":"VLOOKUP(C494,Emp_Master!$B$3:$C$500,2)","v":{"$error":"#N/A"}}]
[null,null,null,{"$f":"VLOOKUP(C495,Emp_Master!$B$3:$C$500,2)","v":{"$error":"#N/A"}}]
[null,null,null,{"$f":"VLOOKUP(C496,Emp_Master!$B$3:$C$500,2)","v":{"$error":"#N/A"}}]
[null,null,null,{"$f":"VLOOKUP(C497,Emp_Master!$B$3:$C$500,2)","v":{"$error":"#N/A"}}]
[null,null,null,{"$f":"VLOOKUP(C498,Emp_Master!$B$3:$C$500,2)","v":{"$error":"#N/A"}}]
[null,null,null,{"$f":"VLOOKUP(C499,Emp_Master!$B$3:$C$500,2)","v":{"$error":"#N/A"}}]
[null,null,null,{"$f":"VLOOKUP(C500,Emp_Master!$B$3:$C$500,2)","v":{"$error":"#N/A"}}]
[null,null,null,{"$f":"VLOOKUP(C501,Emp_Master!$B$3:$C$500,2)","v":{"$error":"#N/A"}}]
[]
[]
[]
[]
[]
[]
[]
[]
[]
[]
[]
[]
[]
[]
[]
[]
[]
[]
[]
[]
[]
[]
[]
[]
[]
[]
[]
[]
[]
[]
[]
[]
[]
[]
[]
[]
[]
[]
[]
[]
[]
[]
[]
[]
[]
[]
[]
[]
[]
[]
[]
[]
[]
[]
[]
[]
[]
[]
[]
[]
[]
[]
[]
[]
[]
[]
[]
[]
[]
[]
[]
[]
[]
[]
[]
[]
[]
[]
[]
[]
[]
[]
[]
[]
[]
[]
[]
[]
[]
[]
[]
[]
[]
[]
[]
[]
[]
[]
[]
[]
[]
["Apr",2015,{"$f":"Emp_Master!B3","v":0}]
["May",{"$f":"+B603+1","v":2016},{"$f":"Emp_Master!B4","v":0}]
["Jun",{"$f":"+B604+1","v":2017},{"$f":"Emp_Master!B5","v":0}]
["Jul",2018,{"$f":"Emp_Master!B6","v":0}]
["Aug",2019,{"$f":"Emp_Master!B7","v":0}]
["Sep",2020,{"$f":"Emp_Master!B8","v":0}]
["Oct",2021,{"$f":"Emp_Master!B9","v":0}]
["Nov",2022,{"$f":"Emp_Master!B10","v":0}]
["Dec",2023,{"$f":"Emp_Master!B11","v":0}]
["Jan",2024,{"$f":"Emp_Master!B12","v":0}]
["Feb",2025,{"$f":"Emp_Master!B13","v":0}]
["Mar",null,{"$f":"Emp_Master!B14","v":0}]
[null,null,{"$f":"Emp_Master!B15","v":0}]
[null,null,{"$f":"Emp_Master!B16","v":0}]
[null,null,{"$f":"Emp_Master!B17","v":0}]
[null,null,{"$f":"Emp_Master!B18","v":0}]
[null,null,{"$f":"Emp_Master!B19","v":0}]
[null,null,{"$f":"Emp_Master!B20","v":0}]
[null,null,{"$f":"Emp_Master!B21","v":0}]
[null,null,{"$f":"Emp_Master!B22","v":0}]
[null,null,{"$f":"Emp_Master!B23","v":0}]
[null,null,{"$f":"Emp_Master!B24","v":0}]
[null,null,{"$f":"Emp_Master!B25","v":0}]
[null,null,{"$f":"Emp_Master!B26","v":0}]
[null,null,{"$f":"Emp_Master!B27","v":0}]
[null,null,{"$f":"Emp_Master!B28","v":0}]
[null,null,{"$f":"Emp_Master!B29","v":0}]
[null,null,{"$f":"Emp_Master!B30","v":0}]
[null,null,{"$f":"Emp_Master!B31","v":0}]
[null,null,{"$f":"Emp_Master!B32","v":0}]
[null,null,{"$f":"Emp_Master!B33","v":0}]
[null,null,{"$f":"Emp_Master!B34","v":0}]
[null,null,{"$f":"Emp_Master!B35","v":0}]
[null,null,{"$f":"Emp_Master!B36","v":0}]
[null,null,{"$f":"Emp_Master!B37","v":0}]
[null,null,{"$f":"Emp_Master!B38","v":0}]
[null,null,{"$f":"Emp_Master!B39","v":0}]
[null,null,{"$f":"Emp_Master!B40","v":0}]
[null,null,{"$f":"Emp_Master!B41","v":0}]
[null,null,{"$f":"Emp_Master!B42","v":0}]
[null,null,{"$f":"Emp_Master!B43","v":0}]
[null,null,{"$f":"Emp_Master!B44","v":0}]
[null,null,{"$f":"Emp_Master!B45","v":0}]
[null,null,{"$f":"Emp_Master!B46","v":0}]
[null,null,{"$f":"Emp_Master!B47","v":0}]
[null,null,{"$f":"Emp_Master!B48","v":0}]
[null,null,{"$f":"Emp_Master!B49","v":0}]
[null,null,{"$f":"Emp_Master!B50","v":0}]
[null,null,{"$f":"Emp_Master!B51","v":0}]
[null,null,{"$f":"Emp_Master!B52","v":0}]
[null,null,{"$f":"Emp_Master!B53","v":0}]
[null,null,{"$f":"Emp_Master!B54","v":0}]
[null,null,{"$f":"Emp_Master!B55","v":0}]
[null,null,{"$f":"Emp_Master!B56","v":0}]
[null,null,{"$f":"Emp_Master!B57","v":0}]
[null,null,{"$f":"Emp_Master!B58","v":0}]
[null,null,{"$f":"Emp_Master!B59","v":0}]
[null,null,{"$f":"Emp_Master!B60","v":0}]
[null,null,{"$f":"Emp_Master!B61","v":0}]
[null,null,{"$f":"Emp_Master!B62","v":0}]
[null,null,{"$f":"Emp_Master!B63","v":0}]
[null,null,{"$f":"Emp_Master!B64","v":0}]
[null,null,{"$f":"Emp_Master!B65","v":0}]
[null,null,{"$f":"Emp_Master!B66","v":0}]
[null,null,{"$f":"Emp_Master!B67","v":0}]
[null,null,{"$f":"Emp_Master!B68","v":0}]
[null,null,{"$f":"Emp_Master!B69","v":0}]
[null,null,{"$f":"Emp_Master!B70","v":0}]
[null,null,{"$f":"Emp_Master!B71","v":0}]
[null,null,{"$f":"Emp_Master!B72","v":0}]
[null,null,{"$f":"Emp_Master!B73","v":0}]
[null,null,{"$f":"Emp_Master!B74","v":0}]
[null,null,{"$f":"Emp_Master!B75","v":0}]
[null,null,{"$f":"Emp_Master!B76","v":0}]
[null,null,{"$f":"Emp_Master!B77","v":0}]
[null,null,{"$f":"Emp_Master!B78","v":0}]
[null,null,{"$f":"Emp_Master!B79","v":0}]
[null,null,{"$f":"Emp_Master!B80","v":0}]
[null,null,{"$f":"Emp_Master!B81","v":0}]
[null,null,{"$f":"Emp_Master!B82","v":0}]
[null,null,{"$f":"Emp_Master!B83","v":0}]
[null,null,{"$f":"Emp_Master!B84","v":0}]
[null,null,{"$f":"Emp_Master!B85","v":0}]
[null,null,{"$f":"Emp_Master!B86","v":0}]
[null,null,{"$f":"Emp_Master!B87","v":0}]
[null,null,{"$f":"Emp_Master!B88","v":0}]
[null,null,{"$f":"Emp_Master!B89","v":0}]
[null,null,{"$f":"Emp_Master!B90","v":0}]
[null,null,{"$f":"Emp_Master!B91","v":0}]
[null,null,{"$f":"Emp_Master!B92","v":0}]
[null,null,{"$f":"Emp_Master!B93","v":0}]
[null,null,{"$f":"Emp_Master!B94","v":0}]
[null,null,{"$f":"Emp_Master!B95","v":0}]
[null,null,{"$f":"Emp_Master!B96","v":0}]
[null,null,{"$f":"Emp_Master!B97","v":0}]
[null,null,{"$f":"Emp_Master!B98","v":0}]
[null,null,{"$f":"Emp_Master!B99","v":0}]
[null,null,{"$f":"Emp_Master!B100","v":0}]
[null,null,{"$f":"Emp_Master!B101","v":0}]
[null,null,{"$f":"Emp_Master!B102","v":0}]
[null,null,{"$f":"Emp_Master!B103","v":0}]
[null,null,{"$f":"Emp_Master!B104","v":0}]
[null,null,{"$f":"Emp_Master!B105","v":0}]
[null,null,{"$f":"Emp_Master!B106","v":0}]
[null,null,{"$f":"Emp_Master!B107","v":0}]
[null,null,{"$f":"Emp_Master!B108","v":0}]
[null,null,{"$f":"Emp_Master!B109","v":0}]
[null,null,{"$f":"Emp_Master!B110","v":0}]
[null,null,{"$f":"Emp_Master!B111","v":0}]
[null,null,{"$f":"Emp_Master!B112","v":0}]
[null,null,{"$f":"Emp_Master!B113","v":0}]
[null,null,{"$f":"Emp_Master!B114","v":0}]
[null,null,{"$f":"Emp_Master!B115","v":0}]
[null,null,{"$f":"Emp_Master!B116","v":0}]
[null,null,{"$f":"Emp_Master!B117","v":0}]
[null,null,{"$f":"Emp_Master!B118","v":0}]
[null,null,{"$f":"Emp_Master!B119","v":0}]
[null,null,{"$f":"Emp_Master!B120","v":0}]
[null,null,{"$f":"Emp_Master!B121","v":0}]
[null,null,{"$f":"Emp_Master!B122","v":0}]
[null,null,{"$f":"Emp_Master!B123","v":0}]
[null,null,{"$f":"Emp_Master!B124","v":0}]
[null,null,{"$f":"Emp_Master!B125","v":0}]
[null,null,{"$f":"Emp_Master!B126","v":0}]
[null,null,{"$f":"Emp_Master!B127","v":0}]
[null,null,{"$f":"Emp_Master!B128","v":0}]
[null,null,{"$f":"Emp_Master!B129","v":0}]
[null,null,{"$f":"Emp_Master!B130","v":0}]
[null,null,{"$f":"Emp_Master!B131","v":0}]
[null,null,{"$f":"Emp_Master!B132","v":0}]
[null,null,{"$f":"Emp_Master!B133","v":0}]
[null,null,{"$f":"Emp_Master!B134","v":0}]
[null,null,{"$f":"Emp_Master!B135","v":0}]
[null,null,{"$f":"Emp_Master!B136","v":0}]
[null,null,{"$f":"Emp_Master!B137","v":0}]
[null,null,{"$f":"Emp_Master!B138","v":0}]
[null,null,{"$f":"Emp_Master!B139","v":0}]
[null,null,{"$f":"Emp_Master!B140","v":0}]
[null,null,{"$f":"Emp_Master!B141","v":0}]
[null,null,{"$f":"Emp_Master!B142","v":0}]
[null,null,{"$f":"Emp_Master!B143","v":0}]
[null,null,{"$f":"Emp_Master!B144","v":0}]
[null,null,{"$f":"Emp_Master!B145","v":0}]
[null,null,{"$f":"Emp_Master!B146","v":0}]
[null,null,{"$f":"Emp_Master!B147","v":0}]
[null,null,{"$f":"Emp_Master!B148","v":0}]
[null,null,{"$f":"Emp_Master!B149","v":0}]
[null,null,{"$f":"Emp_Master!B150","v":0}]
[null,null,{"$f":"Emp_Master!B151","v":0}]
[null,null,{"$f":"Emp_Master!B152","v":0}]
[null,null,{"$f":"Emp_Master!B153","v":0}]
[null,null,{"$f":"Emp_Master!B154","v":0}]
[null,null,{"$f":"Emp_Master!B155","v":0}]
[null,null,{"$f":"Emp_Master!B156","v":0}]
[null,null,{"$f":"Emp_Master!B157","v":0}]
[null,null,{"$f":"Emp_Master!B158","v":0}]
[null,null,{"$f":"Emp_Master!B159","v":0}]
[null,null,{"$f":"Emp_Master!B160","v":0}]
[null,null,{"$f":"Emp_Master!B161","v":0}]
[null,null,{"$f":"Emp_Master!B162","v":0}]
[null,null,{"$f":"Emp_Master!B163","v":0}]
[null,null,{"$f":"Emp_Master!B164","v":0}]
[null,null,{"$f":"Emp_Master!B165","v":0}]
[null,null,{"$f":"Emp_Master!B166","v":0}]
[null,null,{"$f":"Emp_Master!B167","v":0}]
[null,null,{"$f":"Emp_Master!B168","v":0}]
[null,null,{"$f":"Emp_Master!B169","v":0}]
[null,null,{"$f":"Emp_Master!B170","v":0}]
[null,null,{"$f":"Emp_Master!B171","v":0}]
[null,null,{"$f":"Emp_Master!B172","v":0}]
[null,null,{"$f":"Emp_Master!B173","v":0}]
[null,null,{"$f":"Emp_Master!B174","v":0}]
[null,null,{"$f":"Emp_Master!B175","v":0}]
[null,null,{"$f":"Emp_Master!B176","v":0}]
[null,null,{"$f":"Emp_Master!B177","v":0}]
[null,null,{"$f":"Emp_Master!B178","v":0}]
[null,null,{"$f":"Emp_Master!B179","v":0}]
[null,null,{"$f":"Emp_Master!B180","v":0}]
[null,null,{"$f":"Emp_Master!B181","v":0}]
[null,null,{"$f":"Emp_Master!B182","v":0}]
[null,null,{"$f":"Emp_Master!B183","v":0}]
[null,null,{"$f":"Emp_Master!B184","v":0}]
[null,null,{"$f":"Emp_Master!B185","v":0}]
[null,null,{"$f":"Emp_Master!B186","v":0}]
[null,null,{"$f":"Emp_Master!B187","v":0}]
[null,null,{"$f":"Emp_Master!B188","v":0}]
[null,null,{"$f":"Emp_Master!B189","v":0}]
[null,null,{"$f":"Emp_Master!B190","v":0}]
[null,null,{"$f":"Emp_Master!B191","v":0}]
[null,null,{"$f":"Emp_Master!B192","v":0}]
[null,null,{"$f":"Emp_Master!B193","v":0}]
[null,null,{"$f":"Emp_Master!B194","v":0}]
[null,null,{"$f":"Emp_Master!B195","v":0}]
[null,null,{"$f":"Emp_Master!B196","v":0}]
[null,null,{"$f":"Emp_Master!B197","v":0}]
[null,null,{"$f":"Emp_Master!B198","v":0}]
[null,null,{"$f":"Emp_Master!B199","v":0}]
[null,null,{"$f":"Emp_Master!B200","v":0}]
[null,null,{"$f":"Emp_Master!B201","v":0}]
[null,null,{"$f":"Emp_Master!B202","v":0}]
[null,null,{"$f":"Emp_Master!B203","v":0}]
[null,null,{"$f":"Emp_Master!B204","v":0}]
[null,null,{"$f":"Emp_Master!B205","v":0}]
[null,null,{"$f":"Emp_Master!B206","v":0}]
[null,null,{"$f":"Emp_Master!B207","v":0}]
[null,null,{"$f":"Emp_Master!B208","v":0}]
[null,null,{"$f":"Emp_Master!B209","v":0}]
[null,null,{"$f":"Emp_Master!B210","v":0}]
[null,null,{"$f":"Emp_Master!B211","v":0}]
[null,null,{"$f":"Emp_Master!B212","v":0}]
[null,null,{"$f":"Emp_Master!B213","v":0}]
[null,null,{"$f":"Emp_Master!B214","v":0}]
[null,null,{"$f":"Emp_Master!B215","v":0}]
[null,null,{"$f":"Emp_Master!B216","v":0}]
[null,null,{"$f":"Emp_Master!B217","v":0}]
[null,null,{"$f":"Emp_Master!B218","v":0}]
[null,null,{"$f":"Emp_Master!B219","v":0}]
[null,null,{"$f":"Emp_Master!B220","v":0}]
[null,null,{"$f":"Emp_Master!B221","v":0}]
[null,null,{"$f":"Emp_Master!B222","v":0}]
[null,null,{"$f":"Emp_Master!B223","v":0}]
[null,null,{"$f":"Emp_Master!B224","v":0}]
[null,null,{"$f":"Emp_Master!B225","v":0}]
[null,null,{"$f":"Emp_Master!B226","v":0}]
[null,null,{"$f":"Emp_Master!B227","v":0}]
[null,null,{"$f":"Emp_Master!B228","v":0}]
[null,null,{"$f":"Emp_Master!B229","v":0}]
[null,null,{"$f":"Emp_Master!B230","v":0}]
[null,null,{"$f":"Emp_Master!B231","v":0}]
[null,null,{"$f":"Emp_Master!B232","v":0}]
[null,null,{"$f":"Emp_Master!B233","v":0}]
[null,null,{"$f":"Emp_Master!B234","v":0}]
[null,null,{"$f":"Emp_Master!B235","v":0}]
[null,null,{"$f":"Emp_Master!B236","v":0}]
[null,null,{"$f":"Emp_Master!B237","v":0}]
[null,null,{"$f":"Emp_Master!B238","v":0}]
[null,null,{"$f":"Emp_Master!B239","v":0}]
[null,null,{"$f":"Emp_Master!B240","v":0}]
[null,null,{"$f":"Emp_Master!B241","v":0}]
[null,null,{"$f":"Emp_Master!B242","v":0}]
[null,null,{"$f":"Emp_Master!B243","v":0}]
[null,null,{"$f":"Emp_Master!B244","v":0}]
[null,null,{"$f":"Emp_Master!B245","v":0}]
[null,null,{"$f":"Emp_Master!B246","v":0}]
[null,null,{"$f":"Emp_Master!B247","v":0}]
[null,null,{"$f":"Emp_Master!B248","v":0}]
[null,null,{"$f":"Emp_Master!B249","v":0}]
[null,null,{"$f":"Emp_Master!B250","v":0}]
[null,null,{"$f":"Emp_Master!B251","v":0}]
[null,null,{"$f":"Emp_Master!B252","v":0}]
[null,null,{"$f":"Emp_Master!B253","v":0}]
[null,null,{"$f":"Emp_Master!B254","v":0}]
[null,null,{"$f":"Emp_Master!B255","v":0}]
[null,null,{"$f":"Emp_Master!B256","v":0}]
[null,null,{"$f":"Emp_Master!B257","v":0}]
[null,null,{"$f":"Emp_Master!B258","v":0}]
[null,null,{"$f":"Emp_Master!B259","v":0}]
[null,null,{"$f":"Emp_Master!B260","v":0}]
[null,null,{"$f":"Emp_Master!B261","v":0}]
[null,null,{"$f":"Emp_Master!B262","v":0}]
[null,null,{"$f":"Emp_Master!B263","v":0}]
[null,null,{"$f":"Emp_Master!B264","v":0}]
[null,null,{"$f":"Emp_Master!B265","v":0}]
[null,null,{"$f":"Emp_Master!B266","v":0}]
[null,null,{"$f":"Emp_Master!B267","v":0}]
[null,null,{"$f":"Emp_Master!B268","v":0}]
[null,null,{"$f":"Emp_Master!B269","v":0}]
[null,null,{"$f":"Emp_Master!B270","v":0}]
[null,null,{"$f":"Emp_Master!B271","v":0}]
[null,null,{"$f":"Emp_Master!B272","v":0}]
[null,null,{"$f":"Emp_Master!B273","v":0}]
[null,null,{"$f":"Emp_Master!B274","v":0}]
[null,null,{"$f":"Emp_Master!B275","v":0}]
[null,null,{"$f":"Emp_Master!B276","v":0}]
[null,null,{"$f":"Emp_Master!B277","v":0}]
[null,null,{"$f":"Emp_Master!B278","v":0}]
[null,null,{"$f":"Emp_Master!B279","v":0}]
[null,null,{"$f":"Emp_Master!B280","v":0}]
[null,null,{"$f":"Emp_Master!B281","v":0}]
[null,null,{"$f":"Emp_Master!B282","v":0}]
[null,null,{"$f":"Emp_Master!B283","v":0}]
[null,null,{"$f":"Emp_Master!B284","v":0}]
[null,null,{"$f":"Emp_Master!B285","v":0}]
[null,null,{"$f":"Emp_Master!B286","v":0}]
[null,null,{"$f":"Emp_Master!B287","v":0}]
[null,null,{"$f":"Emp_Master!B288","v":0}]
[null,null,{"$f":"Emp_Master!B289","v":0}]
[null,null,{"$f":"Emp_Master!B290","v":0}]
[null,null,{"$f":"Emp_Master!B291","v":0}]
[null,null,{"$f":"Emp_Master!B292","v":0}]
[null,null,{"$f":"Emp_Master!B293","v":0}]
[null,null,{"$f":"Emp_Master!B294","v":0}]
[null,null,{"$f":"Emp_Master!B295","v":0}]
[null,null,{"$f":"Emp_Master!B296","v":0}]
[null,null,{"$f":"Emp_Master!B297","v":0}]
[null,null,{"$f":"Emp_Master!B298","v":0}]
[null,null,{"$f":"Emp_Master!B299","v":0}]
[null,null,{"$f":"Emp_Master!B300","v":0}]
[null,null,{"$f":"Emp_Master!B301","v":0}]
[null,null,{"$f":"Emp_Master!B302","v":0}]
[null,null,{"$f":"Emp_Master!B303","v":0}]
[null,null,{"$f":"Emp_Master!B304","v":0}]
[null,null,{"$f":"Emp_Master!B305","v":0}]
[null,null,{"$f":"Emp_Master!B306","v":0}]
[null,null,{"$f":"Emp_Master!B307","v":0}]
[null,null,{"$f":"Emp_Master!B308","v":0}]
[null,null,{"$f":"Emp_Master!B309","v":0}]
[null,null,{"$f":"Emp_Master!B310","v":0}]
[null,null,{"$f":"Emp_Master!B311","v":0}]
[null,null,{"$f":"Emp_Master!B312","v":0}]
[null,null,{"$f":"Emp_Master!B313","v":0}]
[null,null,{"$f":"Emp_Master!B314","v":0}]
[null,null,{"$f":"Emp_Master!B315","v":0}]
[null,null,{"$f":"Emp_Master!B316","v":0}]
[null,null,{"$f":"Emp_Master!B317","v":0}]
[null,null,{"$f":"Emp_Master!B318","v":0}]
[null,null,{"$f":"Emp_Master!B319","v":0}]
[null,null,{"$f":"Emp_Master!B320","v":0}]
[null,null,{"$f":"Emp_Master!B321","v":0}]
[null,null,{"$f":"Emp_Master!B322","v":0}]
[null,null,{"$f":"Emp_Master!B323","v":0}]
[null,null,{"$f":"Emp_Master!B324","v":0}]
[null,null,{"$f":"Emp_Master!B325","v":0}]
[null,null,{"$f":"Emp_Master!B326","v":0}]
[null,null,{"$f":"Emp_Master!B327","v":0}]
[null,null,{"$f":"Emp_Master!B328","v":0}]
[null,null,{"$f":"Emp_Master!B329","v":0}]
[null,null,{"$f":"Emp_Master!B330","v":0}]
[null,null,{"$f":"Emp_Master!B331","v":0}]
[null,null,{"$f":"Emp_Master!B332","v":0}]
[null,null,{"$f":"Emp_Master!B333","v":0}]
[null,null,{"$f":"Emp_Master!B334","v":0}]
[null,null,{"$f":"Emp_Master!B335","v":0}]
[null,null,{"$f":"Emp_Master!B336","v":0}]
[null,null,{"$f":"Emp_Master!B337","v":0}]
[null,null,{"$f":"Emp_Master!B338","v":0}]
[null,null,{"$f":"Emp_Master!B339","v":0}]
[null,null,{"$f":"Emp_Master!B340","v":0}]
[null,null,{"$f":"Emp_Master!B341","v":0}]
[null,null,{"$f":"Emp_Master!B342","v":0}]
[null,null,{"$f":"Emp_Master!B343","v":0}]
[null,null,{"$f":"Emp_Master!B344","v":0}]
[null,null,{"$f":"Emp_Master!B345","v":0}]
[null,null,{"$f":"Emp_Master!B346","v":0}]
[null,null,{"$f":"Emp_Master!B347","v":0}]
[null,null,{"$f":"Emp_Master!B348","v":0}]
[null,null,{"$f":"Emp_Master!B349","v":0}]
[null,null,{"$f":"Emp_Master!B350","v":0}]
[null,null,{"$f":"Emp_Master!B351","v":0}]
[null,null,{"$f":"Emp_Master!B352","v":0}]
[null,null,{"$f":"Emp_Master!B353","v":0}]
[null,null,{"$f":"Emp_Master!B354","v":0}]
[null,null,{"$f":"Emp_Master!B355","v":0}]
[null,null,{"$f":"Emp_Master!B356","v":0}]
[null,null,{"$f":"Emp_Master!B357","v":0}]
[null,null,{"$f":"Emp_Master!B358","v":0}]
[null,null,{"$f":"Emp_Master!B359","v":0}]
[null,null,{"$f":"Emp_Master!B360","v":0}]
[null,null,{"$f":"Emp_Master!B361","v":0}]
[null,null,{"$f":"Emp_Master!B362","v":0}]
[null,null,{"$f":"Emp_Master!B363","v":0}]
[null,null,{"$f":"Emp_Master!B364","v":0}]
[null,null,{"$f":"Emp_Master!B365","v":0}]
[null,null,{"$f":"Emp_Master!B366","v":0}]
[null,null,{"$f":"Emp_Master!B367","v":0}]
[null,null,{"$f":"Emp_Master!B368","v":0}]
[null,null,{"$f":"Emp_Master!B369","v":0}]
[null,null,{"$f":"Emp_Master!B370","v":0}]
[null,null,{"$f":"Emp_Master!B371","v":0}]
[null,null,{"$f":"Emp_Master!B372","v":0}]
[null,null,{"$f":"Emp_Master!B373","v":0}]
[null,null,{"$f":"Emp_Master!B374","v":0}]
[null,null,{"$f":"Emp_Master!B375","v":0}]
[null,null,{"$f":"Emp_Master!B376","v":0}]
[null,null,{"$f":"Emp_Master!B377","v":0}]
[null,null,{"$f":"Emp_Master!B378","v":0}]
[null,null,{"$f":"Emp_Master!B379","v":0}]
[null,null,{"$f":"Emp_Master!B380","v":0}]
[null,null,{"$f":"Emp_Master!B381","v":0}]
[null,null,{"$f":"Emp_Master!B382","v":0}]
[null,null,{"$f":"Emp_Master!B383","v":0}]
[null,null,{"$f":"Emp_Master!B384","v":0}]
[null,null,{"$f":"Emp_Master!B385","v":0}]
[null,null,{"$f":"Emp_Master!B386","v":0}]
[null,null,{"$f":"Emp_Master!B387","v":0}]
[null,null,{"$f":"Emp_Master!B388","v":0}]
[null,null,{"$f":"Emp_Master!B389","v":0}]
[null,null,{"$f":"Emp_Master!B390","v":0}]
[null,null,{"$f":"Emp_Master!B391","v":0}]
[null,null,{"$f":"Emp_Master!B392","v":0}]
[null,null,{"$f":"Emp_Master!B393","v":0}]
[null,null,{"$f":"Emp_Master!B394","v":0}]
[null,null,{"$f":"Emp_Master!B395","v":0}]
[null,null,{"$f":"Emp_Master!B396","v":0}]
[null,null,{"$f":"Emp_Master!B397","v":0}]
[null,null,{"$f":"Emp_Master!B398","v":0}]
[null,null,{"$f":"Emp_Master!B399","v":0}]
[null,null,{"$f":"Emp_Master!B400","v":0}]
[null,null,{"$f":"Emp_Master!B401","v":0}]
[null,null,{"$f":"Emp_Master!B402","v":0}]
[null,null,{"$f":"Emp_Master!B403","v":0}]
[null,null,{"$f":"Emp_Master!B404","v":0}]
[null,null,{"$f":"Emp_Master!B405","v":0}]
[null,null,{"$f":"Emp_Master!B406","v":0}]
[null,null,{"$f":"Emp_Master!B407","v":0}]
[null,null,{"$f":"Emp_Master!B408","v":0}]
[null,null,{"$f":"Emp_Master!B409","v":0}]
[null,null,{"$f":"Emp_Master!B410","v":0}]
[null,null,{"$f":"Emp_Master!B411","v":0}]
[null,null,{"$f":"Emp_Master!B412","v":0}]
[null,null,{"$f":"Emp_Master!B413","v":0}]
[null,null,{"$f":"Emp_Master!B414","v":0}]
[null,null,{"$f":"Emp_Master!B415","v":0}]
[null,null,{"$f":"Emp_Master!B416","v":0}]
[null,null,{"$f":"Emp_Master!B417","v":0}]
[null,null,{"$f":"Emp_Master!B418","v":0}]
[null,null,{"$f":"Emp_Master!B419","v":0}]
[null,null,{"$f":"Emp_Master!B420","v":0}]
[null,null,{"$f":"Emp_Master!B421","v":0}]
[null,null,{"$f":"Emp_Master!B422","v":0}]
[null,null,{"$f":"Emp_Master!B423","v":0}]
[null,null,{"$f":"Emp_Master!B424","v":0}]
[null,null,{"$f":"Emp_Master!B425","v":0}]
[null,null,{"$f":"Emp_Master!B426","v":0}]
[null,null,{"$f":"Emp_Master!B427","v":0}]
[null,null,{"$f":"Emp_Master!B428","v":0}]
[null,null,{"$f":"Emp_Master!B429","v":0}]
[null,null,{"$f":"Emp_Master!B430","v":0}]
[null,null,{"$f":"Emp_Master!B431","v":0}]
[null,null,{"$f":"Emp_Master!B432","v":0}]
[null,null,{"$f":"Emp_Master!B433","v":0}]
[null,null,{"$f":"Emp_Master!B434","v":0}]
[null,null,{"$f":"Emp_Master!B435","v":0}]
[null,null,{"$f":"Emp_Master!B436","v":0}]
[null,null,{"$f":"Emp_Master!B437","v":0}]
[null,null,{"$f":"Emp_Master!B438","v":0}]
[null,null,{"$f":"Emp_Master!B439","v":0}]
[null,null,{"$f":"Emp_Master!B440","v":0}]
[null,null,{"$f":"Emp_Master!B441","v":0}]
[null,null,{"$f":"Emp_Master!B442","v":0}]
[null,null,{"$f":"Emp_Master!B443","v":0}]
[null,null,{"$f":"Emp_Master!B444","v":0}]
[null,null,{"$f":"Emp_Master!B445","v":0}]
[null,null,{"$f":"Emp_Master!B446","v":0}]
[null,null,{"$f":"Emp_Master!B447","v":0}]
[null,null,{"$f":"Emp_Master!B448","v":0}]
[null,null,{"$f":"Emp_Master!B449","v":0}]
[null,null,{"$f":"Emp_Master!B450","v":0}]
[null,null,{"$f":"Emp_Master!B451","v":0}]
[null,null,{"$f":"Emp_Master!B452","v":0}]
[null,null,{"$f":"Emp_Master!B453","v":0}]
[null,null,{"$f":"Emp_Master!B454","v":0}]
[null,null,{"$f":"Emp_Master!B455","v":0}]
[null,null,{"$f":"Emp_Master!B456","v":0}]
[null,null,{"$f":"Emp_Master!B457","v":0}]
[null,null,{"$f":"Emp_Master!B458","v":0}]
[null,null,{"$f":"Emp_Master!B459","v":0}]
[null,null,{"$f":"Emp_Master!B460","v":0}]
[null,null,{"$f":"Emp_Master!B461","v":0}]
[null,null,{"$f":"Emp_Master!B462","v":0}]
[null,null,{"$f":"Emp_Master!B463","v":0}]
[null,null,{"$f":"Emp_Master!B464","v":0}]
[null,null,{"$f":"Emp_Master!B465","v":0}]
[null,null,{"$f":"Emp_Master!B466","v":0}]
[null,null,{"$f":"Emp_Master!B467","v":0}]
[null,null,{"$f":"Emp_Master!B468","v":0}]
[null,null,{"$f":"Emp_Master!B469","v":0}]
[null,null,{"$f":"Emp_Master!B470","v":0}]
[null,null,{"$f":"Emp_Master!B471","v":0}]
[null,null,{"$f":"Emp_Master!B472","v":0}]
[null,null,{"$f":"Emp_Master!B473","v":0}]
[null,null,{"$f":"Emp_Master!B474","v":0}]
[null,null,{"$f":"Emp_Master!B475","v":0}]
[null,null,{"$f":"Emp_Master!B476","v":0}]
[null,null,{"$f":"Emp_Master!B477","v":0}]
[null,null,{"$f":"Emp_Master!B478","v":0}]
[null,null,{"$f":"Emp_Master!B479","v":0}]
[null,null,{"$f":"Emp_Master!B480","v":0}]
[null,null,{"$f":"Emp_Master!B481","v":0}]
[null,null,{"$f":"Emp_Master!B482","v":0}]
[null,null,{"$f":"Emp_Master!B483","v":0}]
[null,null,{"$f":"Emp_Master!B484","v":0}]
[null,null,{"$f":"Emp_Master!B485","v":0}]
[null,null,{"$f":"Emp_Master!B486","v":0}]
[null,null,{"$f":"Emp_Master!B487","v":0}]
[null,null,{"$f":"Emp_Master!B488","v":0}]
[null,null,{"$f":"Emp_Master!B489","v":0}]
[null,null,{"$f":"Emp_Master!B490","v":0}]
[null,null,{"$f":"Emp_Master!B491","v":0}]
[null,null,{"$f":"Emp_Master!B492","v":0}]
[null,null,{"$f":"Emp_Master!B493","v":0}]
[null,null,{"$f":"Emp_Master!B494","v":0}]
[null,null,{"$f":"Emp_Master!B495","v":0}]
[null,null,{"$f":"Emp_Master!B496","v":0}]
[null,null,{"$f":"Emp_Master!B497","v":0}]
[null,null,{"$f":"Emp_Master!B498","v":0}]
[null,null,{"$f":"Emp_Master!B499","v":0}]
[null,null,{"$f":"Emp_Master!B500","v":0}]
[null,null,{"$f":"Emp_Master!B501","v":0}]

{"sheet":"Sheet8","index":6,"n_rows":552,"n_cols":27,"rows_kept":552,"cut":false,"hidden":true,"merged":[]}
[]
["Salary Month","Salary Year","Pay Scale Applicable","Emp_Code","Emp_Name","Gross Salary Scale (Rs.)","Medical Reimbursement (Rs.)","Telephone Reimbursement (Rs.)","Other Reimbursement (Rs.)","Leave Encashment (Rs.)","Perquisites (Rs.)","Increment if any (Rs.)","Working Days (Nos.)","Paid Days (Nos.)","Absent Days (Nos.)","leave Encashment Days (Nos.)","Salary Deducted (Rs.)","Net Salary Payable","TDS","PF","P.Tax","Interest","Advance","Security Deposit","Other Deduction","Net Payable Rs.","Branch"]
[{"$f":"Salary_Entitlement!A4","v":0},{"$f":"Salary_Entitlement!B4","v":0},{"$f":"Salary_Entitlement!C4","v":0},{"$f":"Salary_Entitlement!D4","v":0},{"$f":"Salary_Entitlement!E4","v":{"$error":"#N/A"}},{"$f":"Salary_Entitlement!F4","v":0},{"$f":"Salary_Entitlement!G4","v":0},{"$f":"Salary_Entitlement!H4","v":0},{"$f":"Salary_Entitlement!I4","v":0},{"$f":"Salary_Entitlement!J4","v":0},{"$f":"Salary_Entitlement!K4","v":0},{"$f":"Salary_Entitlement!L4","v":0},{"$f":"Salary_Entitlement!M4","v":0},{"$f":"Salary_Entitlement!N4","v":0},{"$f":"Salary_Entitlement!O4","v":0},{"$f":"Salary_Entitlement!P4","v":0},{"$f":"F3/M3*(M3-N3)","v":{"$error":"#DIV/0!"}},{"$f":"SUM(F3:L3)-Q3","v":{"$error":"#DIV/0!"}},{"$f":"INDEX(Deduction!$A$3:$K$501,MATCH(1,(Deduction!$A$3:$A$501=Sheet8!A3)*(Deduction!$B$3:$B$501=Sheet8!B3)*(Deduction!$C$3:$C$501=Sheet8!D3),0),5)","v":0},{"$f":"INDEX(Deduction!$A$3:$K$501,MATCH(1,(Deduction!$A$3:$A$501=Sheet8!A3)*(Deduction!$B$3:$B$501=Sheet8!B3)*(Deduction!$C$3:$C$501=Sheet8!D3),0),6)","v":0},{"$f":"INDEX(Deduction!$A$3:$K$501,MATCH(1,(Deduction!$A$3:$A$501=Sheet8!A3)*(Deduction!$B$3:$B$501=Sheet8!B3)*(Deduction!$C$3:$C$501=Sheet8!D3),0),7)","v":0},{"$f":"INDEX(Deduction!$A$3:$K$501,MATCH(1,(Deduction!$A$3:$A$501=Sheet8!A3)*(Deduction!$B$3:$B$501=Sheet8!B3)*(Deduction!$C$3:$C$501=Sheet8!D3),0),8)","v":0},{"$f":"INDEX(Deduction!$A$3:$K$501,MATCH(1,(Deduction!$A$3:$A$501=Sheet8!A3)*(Deduction!$B$3:$B$501=Sheet8!B3)*(Deduction!$C$3:$C$501=Sheet8!D3),0),9)","v":0},{"$f":"INDEX(Deduction!$A$3:$K$501,MATCH(1,(Deduction!$A$3:$A$501=Sheet8!A3)*(Deduction!$B$3:$B$501=Sheet8!B3)*(Deduction!$C$3:$C$501=Sheet8!D3),0),10)","v":0},{"$f":"INDEX(Deduction!$A$3:$K$501,MATCH(1,(Deduction!$A$3:$A$501=Sheet8!A3)*(Deduction!$B$3:$B$501=Sheet8!B3)*(Deduction!$C$3:$C$501=Sheet8!D3),0),11)","v":0},{"$f":"+R3-SUM(S3:Y3)","v":{"$error":"#DIV/0!"}},{"$f":"VLOOKUP(D3,Emp_Master!$B$3:$H$501,7)","v":{"$error":"#N/A"}}]
[{"$f":"Salary_Entitlement!A5","v":0},{"$f":"Salary_Entitlement!B5","v":0},{"$f":"Salary_Entitlement!C5","v":0},{"$f":"Salary_Entitlement!D5","v":0},{"$f":"Salary_Entitlement!E5","v":{"$error":"#N/A"}},{"$f":"Salary_Entitlement!F5","v":0},{"$f":"Salary_Entitlement!G5","v":0},{"$f":"Salary_Entitlement!H5","v":0},{"$f":"Salary_Entitlement!I5","v":0},{"$f":"Salary_Entitlement!J5","v":0},{"$f":"Salary_Entitlement!K5","v":0},{"$f":"Salary_Entitlement!L5","v":0},{"$f":"Salary_Entitlement!M5","v":0},{"$f":"Salary_Entitlement!N5","v":0},{"$f":"Salary_Entitlement!O5","v":0},{"$f":"Salary_Entitlement!P5","v":0},{"$f":"F4/M4*(M4-N4)","v":{"$error":"#DIV/0!"}},{"$f":"SUM(F4:L4)-Q4","v":{"$error":"#DIV/0!"}},{"$f":"INDEX(Deduction!$A$3:$K$501,MATCH(1,(Deduction!$A$3:$A$501=Sheet8!A4)*(Deduction!$B$3:$B$501=Sheet8!B4)*(Deduction!$C$3:$C$501=Sheet8!D4),0),5)","v":0},{"$f":"INDEX(Deduction!$A$3:$K$501,MATCH(1,(Deduction!$A$3:$A$501=Sheet8!A4)*(Deduction!$B$3:$B$501=Sheet8!B4)*(Deduction!$C$3:$C$501=Sheet8!D4),0),6)","v":0},{"$f":"INDEX(Deduction!$A$3:$K$501,MATCH(1,(Deduction!$A$3:$A$501=Sheet8!A4)*(Deduction!$B$3:$B$501=Sheet8!B4)*(Deduction!$C$3:$C$501=Sheet8!D4),0),7)","v":0},{"$f":"INDEX(Deduction!$A$3:$K$501,MATCH(1,(Deduction!$A$3:$A$501=Sheet8!A4)*(Deduction!$B$3:$B$501=Sheet8!B4)*(Deduction!$C$3:$C$501=Sheet8!D4),0),8)","v":0},{"$f":"INDEX(Deduction!$A$3:$K$501,MATCH(1,(Deduction!$A$3:$A$501=Sheet8!A4)*(Deduction!$B$3:$B$501=Sheet8!B4)*(Deduction!$C$3:$C$501=Sheet8!D4),0),9)","v":0},{"$f":"INDEX(Deduction!$A$3:$K$501,MATCH(1,(Deduction!$A$3:$A$501=Sheet8!A4)*(Deduction!$B$3:$B$501=Sheet8!B4)*(Deduction!$C$3:$C$501=Sheet8!D4),0),10)","v":0},{"$f":"INDEX(Deduction!$A$3:$K$501,MATCH(1,(Deduction!$A$3:$A$501=Sheet8!A4)*(Deduction!$B$3:$B$501=Sheet8!B4)*(Deduction!$C$3:$C$501=Sheet8!D4),0),11)","v":0},{"$f":"+R4-SUM(S4:Y4)","v":{"$error":"#DIV/0!"}},{"$f":"VLOOKUP(D4,Emp_Master!$B$3:$H$501,7)","v":{"$error":"#N/A"}}]
[{"$f":"Salary_Entitlement!A6","v":0},{"$f":"Salary_Entitlement!B6","v":0},{"$f":"Salary_Entitlement!C6","v":0},{"$f":"Salary_Entitlement!D6","v":0},{"$f":"Salary_Entitlement!E6","v":{"$error":"#N/A"}},{"$f":"Salary_Entitlement!F6","v":0},{"$f":"Salary_Entitlement!G6","v":0},{"$f":"Salary_Entitlement!H6","v":0},{"$f":"Salary_Entitlement!I6","v":0},{"$f":"Salary_Entitlement!J6","v":0},{"$f":"Salary_Entitlement!K6","v":0},{"$f":"Salary_Entitlement!L6","v":0},{"$f":"Salary_Entitlement!M6","v":0},{"$f":"Salary_Entitlement!N6","v":0},{"$f":"Salary_Entitlement!O6","v":0},{"$f":"Salary_Entitlement!P6","v":0},{"$f":"F5/M5*(M5-N5)","v":{"$error":"#DIV/0!"}},{"$error":"#DIV/0!"},{"$f":"INDEX(Deduction!$A$3:$K$501,MATCH(1,(Deduction!$A$3:$A$501=Sheet8!A5)*(Deduction!$B$3:$B$501=Sheet8!B5)*(Deduction!$C$3:$C$501=Sheet8!D5),0),5)","v":0},{"$f":"INDEX(Deduction!$A$3:$K$501,MATCH(1,(Deduction!$A$3:$A$501=Sheet8!A5)*(Deduction!$B$3:$B$501=Sheet8!B5)*(Deduction!$C$3:$C$501=Sheet8!D5),0),6)","v":0},{"$f":"INDEX(Deduction!$A$3:$K$501,MATCH(1,(Deduction!$A$3:$A$501=Sheet8!A5)*(Deduction!$B$3:$B$501=Sheet8!B5)*(Deduction!$C$3:$C$501=Sheet8!D5),0),7)","v":0},{"$f":"INDEX(Deduction!$A$3:$K$501,MATCH(1,(Deduction!$A$3:$A$501=Sheet8!A5)*(Deduction!$B$3:$B$501=Sheet8!B5)*(Deduction!$C$3:$C$501=Sheet8!D5),0),8)","v":0},{"$f":"INDEX(Deduction!$A$3:$K$501,MATCH(1,(Deduction!$A$3:$A$501=Sheet8!A5)*(Deduction!$B$3:$B$501=Sheet8!B5)*(Deduction!$C$3:$C$501=Sheet8!D5),0),9)","v":0},{"$f":"INDEX(Deduction!$A$3:$K$501,MATCH(1,(Deduction!$A$3:$A$501=Sheet8!A5)*(Deduction!$B$3:$B$501=Sheet8!B5)*(Deduction!$C$3:$C$501=Sheet8!D5),0),10)","v":0},{"$f":"INDEX(Deduction!$A$3:$K$501,MATCH(1,(Deduction!$A$3:$A$501=Sheet8!A5)*(Deduction!$B$3:$B$501=Sheet8!B5)*(Deduction!$C$3:$C$501=Sheet8!D5),0),11)","v":0},{"$error":"#DIV/0!"},{"$f":"VLOOKUP(D5,Emp_Master!$B$3:$H$501,7)","v":{"$error":"#N/A"}}]
[{"$f":"Salary_Entitlement!A7","v":0},{"$f":"Salary_Entitlement!B7","v":0},{"$f":"Salary_Entitlement!C7","v":0},{"$f":"Salary_Entitlement!D7","v":0},{"$f":"Salary_Entitlement!E7","v":{"$error":"#N/A"}},{"$f":"Salary_Entitlement!F7","v":0},{"$f":"Salary_Entitlement!G7","v":0},{"$f":"Salary_Entitlement!H7","v":0},{"$f":"Salary_Entitlement!I7","v":0},{"$f":"Salary_Entitlement!J7","v":0},{"$f":"Salary_Entitlement!K7","v":0},{"$f":"Salary_Entitlement!L7","v":0},{"$f":"Salary_Entitlement!M7","v":0},{"$f":"Salary_Entitlement!N7","v":0},{"$f":"Salary_Entitlement!O7","v":0},{"$f":"Salary_Entitlement!P7","v":0},{"$error":"#DIV/0!"},{"$error":"#DIV/0!"},{"$f":"INDEX(Deduction!$A$3:$K$501,MATCH(1,(Deduction!$A$3:$A$501=Sheet8!A6)*(Deduction!$B$3:$B$501=Sheet8!B6)*(Deduction!$C$3:$C$501=Sheet8!D6),0),5)","v":0},{"$f":"INDEX(Deduction!$A$3:$K$501,MATCH(1,(Deduction!$A$3:$A$501=Sheet8!A6)*(Deduction!$B$3:$B$501=Sheet8!B6)*(Deduction!$C$3:$C$501=Sheet8!D6),0),6)","v":0},{"$f":"INDEX(Deduction!$A$3:$K$501,MATCH(1,(Deduction!$A$3:$A$501=Sheet8!A6)*(Deduction!$B$3:$B$501=Sheet8!B6)*(Deduction!$C$3:$C$501=Sheet8!D6),0),7)","v":0},{"$f":"INDEX(Deduction!$A$3:$K$501,MATCH(1,(Deduction!$A$3:$A$501=Sheet8!A6)*(Deduction!$B$3:$B$501=Sheet8!B6)*(Deduction!$C$3:$C$501=Sheet8!D6),0),8)","v":0},{"$f":"INDEX(Deduction!$A$3:$K$501,MATCH(1,(Deduction!$A$3:$A$501=Sheet8!A6)*(Deduction!$B$3:$B$501=Sheet8!B6)*(Deduction!$C$3:$C$501=Sheet8!D6),0),9)","v":0},{"$f":"INDEX(Deduction!$A$3:$K$501,MATCH(1,(Deduction!$A$3:$A$501=Sheet8!A6)*(Deduction!$B$3:$B$501=Sheet8!B6)*(Deduction!$C$3:$C$501=Sheet8!D6),0),10)","v":0},{"$f":"INDEX(Deduction!$A$3:$K$501,MATCH(1,(Deduction!$A$3:$A$501=Sheet8!A6)*(Deduction!$B$3:$B$501=Sheet8!B6)*(Deduction!$C$3:$C$501=Sheet8!D6),0),11)","v":0},{"$error":"#DIV/0!"},{"$f":"VLOOKUP(D6,Emp_Master!$B$3:$H$501,7)","v":{"$error":"#N/A"}}]
[{"$f":"Salary_Entitlement!A8","v":0},{"$f":"Salary_Entitlement!B8","v":0},{"$f":"Salary_Entitlement!C8","v":0},{"$f":"Salary_Entitlement!D8","v":0},{"$f":"Salary_Entitlement!E8","v":{"$error":"#N/A"}},{"$f":"Salary_Entitlement!F8","v":0},{"$f":"Salary_Entitlement!G8","v":0},{"$f":"Salary_Entitlement!H8","v":0},{"$f":"Salary_Entitlement!I8","v":0},{"$f":"Salary_Entitlement!J8","v":0},{"$f":"Salary_Entitlement!K8","v":0},{"$f":"Salary_Entitlement!L8","v":0},{"$f":"Salary_Entitlement!M8","v":0},{"$f":"Salary_Entitlement!N8","v":0},{"$f":"Salary_Entitlement!O8","v":0},{"$f":"Salary_Entitlement!P8","v":0},{"$error":"#DIV/0!"},{"$error":"#DIV/0!"},{"$f":"INDEX(Deduction!$A$3:$K$501,MATCH(1,(Deduction!$A$3:$A$501=Sheet8!A7)*(Deduction!$B$3:$B$501=Sheet8!B7)*(Deduction!$C$3:$C$501=Sheet8!D7),0),5)","v":0},{"$f":"INDEX(Deduction!$A$3:$K$501,MATCH(1,(Deduction!$A$3:$A$501=Sheet8!A7)*(Deduction!$B$3:$B$501=Sheet8!B7)*(Deduction!$C$3:$C$501=Sheet8!D7),0),6)","v":0},{"$f":"INDEX(Deduction!$A$3:$K$501,MATCH(1,(Deduction!$A$3:$A$501=Sheet8!A7)*(Deduction!$B$3:$B$501=Sheet8!B7)*(Deduction!$C$3:$C$501=Sheet8!D7),0),7)","v":0},{"$f":"INDEX(Deduction!$A$3:$K$501,MATCH(1,(Deduction!$A$3:$A$501=Sheet8!A7)*(Deduction!$B$3:$B$501=Sheet8!B7)*(Deduction!$C$3:$C$501=Sheet8!D7),0),8)","v":0},{"$f":"INDEX(Deduction!$A$3:$K$501,MATCH(1,(Deduction!$A$3:$A$501=Sheet8!A7)*(Deduction!$B$3:$B$501=Sheet8!B7)*(Deduction!$C$3:$C$501=Sheet8!D7),0),9)","v":0},{"$f":"INDEX(Deduction!$A$3:$K$501,MATCH(1,(Deduction!$A$3:$A$501=Sheet8!A7)*(Deduction!$B$3:$B$501=Sheet8!B7)*(Deduction!$C$3:$C$501=Sheet8!D7),0),10)","v":0},{"$f":"INDEX(Deduction!$A$3:$K$501,MATCH(1,(Deduction!$A$3:$A$501=Sheet8!A7)*(Deduction!$B$3:$B$501=Sheet8!B7)*(Deduction!$C$3:$C$501=Sheet8!D7),0),11)","v":0},{"$error":"#DIV/0!"},{"$f":"VLOOKUP(D7,Emp_Master!$B$3:$H$501,7)","v":{"$error":"#N/A"}}]
[{"$f":"Salary_Entitlement!A9","v":0},{"$f":"Salary_Entitlement!B9","v":0},{"$f":"Salary_Entitlement!C9","v":0},{"$f":"Salary_Entitlement!D9","v":0},{"$f":"Salary_Entitlement!E9","v":{"$error":"#N/A"}},{"$f":"Salary_Entitlement!F9","v":0},{"$f":"Salary_Entitlement!G9","v":0},{"$f":"Salary_Entitlement!H9","v":0},{"$f":"Salary_Entitlement!I9","v":0},{"$f":"Salary_Entitlement!J9","v":0},{"$f":"Salary_Entitlement!K9","v":0},{"$f":"Salary_Entitlement!L9","v":0},{"$f":"Salary_Entitlement!M9","v":0},{"$f":"Salary_Entitlement!N9","v":0},{"$f":"Salary_Entitlement!O9","v":0},{"$f":"Salary_Entitlement!P9","v":0},{"$error":"#DIV/0!"},{"$error":"#DIV/0!"},{"$f":"INDEX(Deduction!$A$3:$K$501,MATCH(1,(Deduction!$A$3:$A$501=Sheet8!A8)*(Deduction!$B$3:$B$501=Sheet8!B8)*(Deduction!$C$3:$C$501=Sheet8!D8),0),5)","v":0},{"$f":"INDEX(Deduction!$A$3:$K$501,MATCH(1,(Deduction!$A$3:$A$501=Sheet8!A8)*(Deduction!$B$3:$B$501=Sheet8!B8)*(Deduction!$C$3:$C$501=Sheet8!D8),0),6)","v":0},{"$f":"INDEX(Deduction!$A$3:$K$501,MATCH(1,(Deduction!$A$3:$A$501=Sheet8!A8)*(Deduction!$B$3:$B$501=Sheet8!B8)*(Deduction!$C$3:$C$501=Sheet8!D8),0),7)","v":0},{"$f":"INDEX(Deduction!$A$3:$K$501,MATCH(1,(Deduction!$A$3:$A$501=Sheet8!A8)*(Deduction!$B$3:$B$501=Sheet8!B8)*(Deduction!$C$3:$C$501=Sheet8!D8),0),8)","v":0},{"$f":"INDEX(Deduction!$A$3:$K$501,MATCH(1,(Deduction!$A$3:$A$501=Sheet8!A8)*(Deduction!$B$3:$B$501=Sheet8!B8)*(Deduction!$C$3:$C$501=Sheet8!D8),0),9)","v":0},{"$f":"INDEX(Deduction!$A$3:$K$501,MATCH(1,(Deduction!$A$3:$A$501=Sheet8!A8)*(Deduction!$B$3:$B$501=Sheet8!B8)*(Deduction!$C$3:$C$501=Sheet8!D8),0),10)","v":0},{"$f":"INDEX(Deduction!$A$3:$K$501,MATCH(1,(Deduction!$A$3:$A$501=Sheet8!A8)*(Deduction!$B$3:$B$501=Sheet8!B8)*(Deduction!$C$3:$C$501=Sheet8!D8),0),11)","v":0},{"$error":"#DIV/0!"},{"$f":"VLOOKUP(D8,Emp_Master!$B$3:$H$501,7)","v":{"$error":"#N/A"}}]
[{"$f":"Salary_Entitlement!A10","v":0},{"$f":"Salary_Entitlement!B10","v":0},{"$f":"Salary_Entitlement!C10","v":0},{"$f":"Salary_Entitlement!D10","v":0},{"$f":"Salary_Entitlement!E10","v":{"$error":"#N/A"}},{"$f":"Salary_Entitlement!F10","v":0},{"$f":"Salary_Entitlement!G10","v":0},{"$f":"Salary_Entitlement!H10","v":0},{"$f":"Salary_Entitlement!I10","v":0},{"$f":"Salary_Entitlement!J10","v":0},{"$f":"Salary_Entitlement!K10","v":0},{"$f":"Salary_Entitlement!L10","v":0},{"$f":"Salary_Entitlement!M10","v":0},{"$f":"Salary_Entitlement!N10","v":0},{"$f":"Salary_Entitlement!O10","v":0},{"$f":"Salary_Entitlement!P10","v":0},{"$error":"#DIV/0!"},{"$error":"#DIV/0!"},{"$f":"INDEX(Deduction!$A$3:$K$501,MATCH(1,(Deduction!$A$3:$A$501=Sheet8!A9)*(Deduction!$B$3:$B$501=Sheet8!B9)*(Deduction!$C$3:$C$501=Sheet8!D9),0),5)","v":0},{"$f":"INDEX(Deduction!$A$3:$K$501,MATCH(1,(Deduction!$A$3:$A$501=Sheet8!A9)*(Deduction!$B$3:$B$501=Sheet8!B9)*(Deduction!$C$3:$C$501=Sheet8!D9),0),6)","v":0},{"$f":"INDEX(Deduction!$A$3:$K$501,MATCH(1,(Deduction!$A$3:$A$501=Sheet8!A9)*(Deduction!$B$3:$B$501=Sheet8!B9)*(Deduction!$C$3:$C$501=Sheet8!D9),0),7)","v":0},{"$f":"INDEX(Deduction!$A$3:$K$501,MATCH(1,(Deduction!$A$3:$A$501=Sheet8!A9)*(Deduction!$B$3:$B$501=Sheet8!B9)*(Deduction!$C$3:$C$501=Sheet8!D9),0),8)","v":0},{"$f":"INDEX(Deduction!$A$3:$K$501,MATCH(1,(Deduction!$A$3:$A$501=Sheet8!A9)*(Deduction!$B$3:$B$501=Sheet8!B9)*(Deduction!$C$3:$C$501=Sheet8!D9),0),9)","v":0},{"$f":"INDEX(Deduction!$A$3:$K$501,MATCH(1,(Deduction!$A$3:$A$501=Sheet8!A9)*(Deduction!$B$3:$B$501=Sheet8!B9)*(Deduction!$C$3:$C$501=Sheet8!D9),0),10)","v":0},{"$f":"INDEX(Deduction!$A$3:$K$501,MATCH(1,(Deduction!$A$3:$A$501=Sheet8!A9)*(Deduction!$B$3:$B$501=Sheet8!B9)*(Deduction!$C$3:$C$501=Sheet8!D9),0),11)","v":0},{"$error":"#DIV/0!"},{"$f":"VLOOKUP(D9,Emp_Master!$B$3:$H$501,7)","v":{"$error":"#N/A"}}]
[{"$f":"Salary_Entitlement!A11","v":0},{"$f":"Salary_Entitlement!B11","v":0},{"$f":"Salary_Entitlement!C11","v":0},{"$f":"Salary_Entitlement!D11","v":0},{"$f":"Salary_Entitlement!E11","v":{"$error":"#N/A"}},{"$f":"Salary_Entitlement!F11","v":0},{"$f":"Salary_Entitlement!G11","v":0},{"$f":"Salary_Entitlement!H11","v":0},{"$f":"Salary_Entitlement!I11","v":0},{"$f":"Salary_Entitlement!J11","v":0},{"$f":"Salary_Entitlement!K11","v":0},{"$f":"Salary_Entitlement!L11","v":0},{"$f":"Salary_Entitlement!M11","v":0},{"$f":"Salary_Entitlement!N11","v":0},{"$f":"Salary_Entitlement!O11","v":0},{"$f":"Salary_Entitlement!P11","v":0},{"$error":"#DIV/0!"},{"$error":"#DIV/0!"},{"$f":"INDEX(Deduction!$A$3:$K$501,MATCH(1,(Deduction!$A$3:$A$501=Sheet8!A10)*(Deduction!$B$3:$B$501=Sheet8!B10)*(Deduction!$C$3:$C$501=Sheet8!D10),0),5)","v":0},{"$f":"INDEX(Deduction!$A$3:$K$501,MATCH(1,(Deduction!$A$3:$A$501=Sheet8!A10)*(Deduction!$B$3:$B$501=Sheet8!B10)*(Deduction!$C$3:$C$501=Sheet8!D10),0),6)","v":0},{"$f":"INDEX(Deduction!$A$3:$K$501,MATCH(1,(Deduction!$A$3:$A$501=Sheet8!A10)*(Deduction!$B$3:$B$501=Sheet8!B10)*(Deduction!$C$3:$C$501=Sheet8!D10),0),7)","v":0},{"$f":"INDEX(Deduction!$A$3:$K$501,MATCH(1,(Deduction!$A$3:$A$501=Sheet8!A10)*(Deduction!$B$3:$B$501=Sheet8!B10)*(Deduction!$C$3:$C$501=Sheet8!D10),0),8)","v":0},{"$f":"INDEX(Deduction!$A$3:$K$501,MATCH(1,(Deduction!$A$3:$A$501=Sheet8!A10)*(Deduction!$B$3:$B$501=Sheet8!B10)*(Deduction!$C$3:$C$501=Sheet8!D10),0),9)","v":0},{"$f":"INDEX(Deduction!$A$3:$K$501,MATCH(1,(Deduction!$A$3:$A$501=Sheet8!A10)*(Deduction!$B$3:$B$501=Sheet8!B10)*(Deduction!$C$3:$C$501=Sheet8!D10),0),10)","v":0},{"$f":"INDEX(Deduction!$A$3:$K$501,MATCH(1,(Deduction!$A$3:$A$501=Sheet8!A10)*(Deduction!$B$3:$B$501=Sheet8!B10)*(Deduction!$C$3:$C$501=Sheet8!D10),0),11)","v":0},{"$error":"#DIV/0!"},{"$f":"VLOOKUP(D10,Emp_Master!$B$3:$H$501,7)","v":{"$error":"#N/A"}}]
[{"$f":"Salary_Entitlement!A12","v":0},{"$f":"Salary_Entitlement!B12","v":0},{"$f":"Salary_Entitlement!C12","v":0},{"$f":"Salary_Entitlement!D12","v":0},{"$f":"Salary_Entitlement!E12","v":{"$error":"#N/A"}},{"$f":"Salary_Entitlement!F12","v":0},{"$f":"Salary_Entitlement!G12","v":0},{"$f":"Salary_Entitlement!H12","v":0},{"$f":"Salary_Entitlement!I12","v":0},{"$f":"Salary_Entitlement!J12","v":0},{"$f":"Salary_Entitlement!K12","v":0},{"$f":"Salary_Entitlement!L12","v":0},{"$f":"Salary_Entitlement!M12","v":0},{"$f":"Salary_Entitlement!N12","v":0},{"$f":"Salary_Entitlement!O12","v":0},{"$f":"Salary_Entitlement!P12","v":0},{"$error":"#DIV/0!"},{"$error":"#DIV/0!"},{"$f":"INDEX(Deduction!$A$3:$K$501,MATCH(1,(Deduction!$A$3:$A$501=Sheet8!A11)*(Deduction!$B$3:$B$501=Sheet8!B11)*(Deduction!$C$3:$C$501=Sheet8!D11),0),5)","v":0},{"$f":"INDEX(Deduction!$A$3:$K$501,MATCH(1,(Deduction!$A$3:$A$501=Sheet8!A11)*(Deduction!$B$3:$B$501=Sheet8!B11)*(Deduction!$C$3:$C$501=Sheet8!D11),0),6)","v":0},{"$f":"INDEX(Deduction!$A$3:$K$501,MATCH(1,(Deduction!$A$3:$A$501=Sheet8!A11)*(Deduction!$B$3:$B$501=Sheet8!B11)*(Deduction!$C$3:$C$501=Sheet8!D11),0),7)","v":0},{"$f":"INDEX(Deduction!$A$3:$K$501,MATCH(1,(Deduction!$A$3:$A$501=Sheet8!A11)*(Deduction!$B$3:$B$501=Sheet8!B11)*(Deduction!$C$3:$C$501=Sheet8!D11),0),8)","v":0},{"$f":"INDEX(Deduction!$A$3:$K$501,MATCH(1,(Deduction!$A$3:$A$501=Sheet8!A11)*(Deduction!$B$3:$B$501=Sheet8!B11)*(Deduction!$C$3:$C$501=Sheet8!D11),0),9)","v":0},{"$f":"INDEX(Deduction!$A$3:$K$501,MATCH(1,(Deduction!$A$3:$A$501=Sheet8!A11)*(Deduction!$B$3:$B$501=Sheet8!B11)*(Deduction!$C$3:$C$501=Sheet8!D11),0),10)","v":0},{"$f":"INDEX(Deduction!$A$3:$K$501,MATCH(1,(Deduction!$A$3:$A$501=Sheet8!A11)*(Deduction!$B$3:$B$501=Sheet8!B11)*(Deduction!$C$3:$C$501=Sheet8!D11),0),11)","v":0},{"$error":"#DIV/0!"},{"$f":"VLOOKUP(D11,Emp_Master!$B$3:$H$501,7)","v":{"$error":"#N/A"}}]
[{"$f":"Salary_Entitlement!A13","v":0},{"$f":"Salary_Entitlement!B13","v":0},{"$f":"Salary_Entitlement!C13","v":0},{"$f":"Salary_Entitlement!D13","v":0},{"$f":"Salary_Entitlement!E13","v":{"$error":"#N/A"}},{"$f":"Salary_Entitlement!F13","v":0},{"$f":"Salary_Entitlement!G13","v":0},{"$f":"Salary_Entitlement!H13","v":0},{"$f":"Salary_Entitlement!I13","v":0},{"$f":"Salary_Entitlement!J13","v":0},{"$f":"Salary_Entitlement!K13","v":0},{"$f":"Salary_Entitlement!L13","v":0},{"$f":"Salary_Entitlement!M13","v":0},{"$f":"Salary_Entitlement!N13","v":0},{"$f":"Salary_Entitlement!O13","v":0},{"$f":"Salary_Entitlement!P13","v":0},{"$error":"#DIV/0!"},{"$error":"#DIV/0!"},{"$f":"INDEX(Deduction!$A$3:$K$501,MATCH(1,(Deduction!$A$3:$A$501=Sheet8!A12)*(Deduction!$B$3:$B$501=Sheet8!B12)*(Deduction!$C$3:$C$501=Sheet8!D12),0),5)","v":0},{"$f":"INDEX(Deduction!$A$3:$K$501,MATCH(1,(Deduction!$A$3:$A$501=Sheet8!A12)*(Deduction!$B$3:$B$501=Sheet8!B12)*(Deduction!$C$3:$C$501=Sheet8!D12),0),6)","v":0},{"$f":"INDEX(Deduction!$A$3:$K$501,MATCH(1,(Deduction!$A$3:$A$501=Sheet8!A12)*(Deduction!$B$3:$B$501=Sheet8!B12)*(Deduction!$C$3:$C$501=Sheet8!D12),0),7)","v":0},{"$f":"INDEX(Deduction!$A$3:$K$501,MATCH(1,(Deduction!$A$3:$A$501=Sheet8!A12)*(Deduction!$B$3:$B$501=Sheet8!B12)*(Deduction!$C$3:$C$501=Sheet8!D12),0),8)","v":0},{"$f":"INDEX(Deduction!$A$3:$K$501,MATCH(1,(Deduction!$A$3:$A$501=Sheet8!A12)*(Deduction!$B$3:$B$501=Sheet8!B12)*(Deduction!$C$3:$C$501=Sheet8!D12),0),9)","v":0},{"$f":"INDEX(Deduction!$A$3:$K$501,MATCH(1,(Deduction!$A$3:$A$501=Sheet8!A12)*(Deduction!$B$3:$B$501=Sheet8!B12)*(Deduction!$C$3:$C$501=Sheet8!D12),0),10)","v":0},{"$f":"INDEX(Deduction!$A$3:$K$501,MATCH(1,(Deduction!$A$3:$A$501=Sheet8!A12)*(Deduction!$B$3:$B$501=Sheet8!B12)*(Deduction!$C$3:$C$501=Sheet8!D12),0),11)","v":0},{"$error":"#DIV/0!"},{"$f":"VLOOKUP(D12,Emp_Master!$B$3:$H$501,7)","v":{"$error":"#N/A"}}]
[{"$f":"Salary_Entitlement!A14","v":0},{"$f":"Salary_Entitlement!B14","v":0},{"$f":"Salary_Entitlement!C14","v":0},{"$f":"Salary_Entitlement!D14","v":0},{"$f":"Salary_Entitlement!E14","v":{"$error":"#N/A"}},{"$f":"Salary_Entitlement!F14","v":0},{"$f":"Salary_Entitlement!G14","v":0},{"$f":"Salary_Entitlement!H14","v":0},{"$f":"Salary_Entitlement!I14","v":0},{"$f":"Salary_Entitlement!J14","v":0},{"$f":"Salary_Entitlement!K14","v":0},{"$f":"Salary_Entitlement!L14","v":0},{"$f":"Salary_Entitlement!M14","v":0},{"$f":"Salary_Entitlement!N14","v":0},{"$f":"Salary_Entitlement!O14","v":0},{"$f":"Salary_Entitlement!P14","v":0},{"$error":"#DIV/0!"},{"$error":"#DIV/0!"},{"$f":"INDEX(Deduction!$A$3:$K$501,MATCH(1,(Deduction!$A$3:$A$501=Sheet8!A13)*(Deduction!$B$3:$B$501=Sheet8!B13)*(Deduction!$C$3:$C$501=Sheet8!D13),0),5)","v":0},{"$f":"INDEX(Deduction!$A$3:$K$501,MATCH(1,(Deduction!$A$3:$A$501=Sheet8!A13)*(Deduction!$B$3:$B$501=Sheet8!B13)*(Deduction!$C$3:$C$501=Sheet8!D13),0),6)","v":0},{"$f":"INDEX(Deduction!$A$3:$K$501,MATCH(1,(Deduction!$A$3:$A$501=Sheet8!A13)*(Deduction!$B$3:$B$501=Sheet8!B13)*(Deduction!$C$3:$C$501=Sheet8!D13),0),7)","v":0},{"$f":"INDEX(Deduction!$A$3:$K$501,MATCH(1,(Deduction!$A$3:$A$501=Sheet8!A13)*(Deduction!$B$3:$B$501=Sheet8!B13)*(Deduction!$C$3:$C$501=Sheet8!D13),0),8)","v":0},{"$f":"INDEX(Deduction!$A$3:$K$501,MATCH(1,(Deduction!$A$3:$A$501=Sheet8!A13)*(Deduction!$B$3:$B$501=Sheet8!B13)*(Deduction!$C$3:$C$501=Sheet8!D13),0),9)","v":0},{"$f":"INDEX(Deduction!$A$3:$K$501,MATCH(1,(Deduction!$A$3:$A$501=Sheet8!A13)*(Deduction!$B$3:$B$501=Sheet8!B13)*(Deduction!$C$3:$C$501=Sheet8!D13),0),10)","v":0},{"$f":"INDEX(Deduction!$A$3:$K$501,MATCH(1,(Deduction!$A$3:$A$501=Sheet8!A13)*(Deduction!$B$3:$B$501=Sheet8!B13)*(Deduction!$C$3:$C$501=Sheet8!D13),0),11)","v":0},{"$error":"#DIV/0!"},{"$f":"VLOOKUP(D13,Emp_Master!$B$3:$H$501,7)","v":{"$error":"#N/A"}}]
[{"$f":"Salary_Entitlement!A15","v":0},{"$f":"Salary_Entitlement!B15","v":0},{"$f":"Salary_Entitlement!C15","v":0},{"$f":"Salary_Entitlement!D15","v":0},{"$f":"Salary_Entitlement!E15","v":{"$error":"#N/A"}},{"$f":"Salary_Entitlement!F15","v":0},{"$f":"Salary_Entitlement!G15","v":0},{"$f":"Salary_Entitlement!H15","v":0},{"$f":"Salary_Entitlement!I15","v":0},{"$f":"Salary_Entitlement!J15","v":0},{"$f":"Salary_Entitlement!K15","v":0},{"$f":"Salary_Entitlement!L15","v":0},{"$f":"Salary_Entitlement!M15","v":0},{"$f":"Salary_Entitlement!N15","v":0},{"$f":"Salary_Entitlement!O15","v":0},{"$f":"Salary_Entitlement!P15","v":0},{"$error":"#DIV/0!"},{"$error":"#DIV/0!"},{"$f":"INDEX(Deduction!$A$3:$K$501,MATCH(1,(Deduction!$A$3:$A$501=Sheet8!A14)*(Deduction!$B$3:$B$501=Sheet8!B14)*(Deduction!$C$3:$C$501=Sheet8!D14),0),5)","v":0},{"$f":"INDEX(Deduction!$A$3:$K$501,MATCH(1,(Deduction!$A$3:$A$501=Sheet8!A14)*(Deduction!$B$3:$B$501=Sheet8!B14)*(Deduction!$C$3:$C$501=Sheet8!D14),0),6)","v":0},{"$f":"INDEX(Deduction!$A$3:$K$501,MATCH(1,(Deduction!$A$3:$A$501=Sheet8!A14)*(Deduction!$B$3:$B$501=Sheet8!B14)*(Deduction!$C$3:$C$501=Sheet8!D14),0),7)","v":0},{"$f":"INDEX(Deduction!$A$3:$K$501,MATCH(1,(Deduction!$A$3:$A$501=Sheet8!A14)*(Deduction!$B$3:$B$501=Sheet8!B14)*(Deduction!$C$3:$C$501=Sheet8!D14),0),8)","v":0},{"$f":"INDEX(Deduction!$A$3:$K$501,MATCH(1,(Deduction!$A$3:$A$501=Sheet8!A14)*(Deduction!$B$3:$B$501=Sheet8!B14)*(Deduction!$C$3:$C$501=Sheet8!D14),0),9)","v":0},{"$f":"INDEX(Deduction!$A$3:$K$501,MATCH(1,(Deduction!$A$3:$A$501=Sheet8!A14)*(Deduction!$B$3:$B$501=Sheet8!B14)*(Deduction!$C$3:$C$501=Sheet8!D14),0),10)","v":0},{"$f":"INDEX(Deduction!$A$3:$K$501,MATCH(1,(Deduction!$A$3:$A$501=Sheet8!A14)*(Deduction!$B$3:$B$501=Sheet8!B14)*(Deduction!$C$3:$C$501=Sheet8!D14),0),11)","v":0},{"$error":"#DIV/0!"},{"$f":"VLOOKUP(D14,Emp_Master!$B$3:$H$501,7)","v":{"$error":"#N/A"}}]
[{"$f":"Salary_Entitlement!A16","v":0},{"$f":"Salary_Entitlement!B16","v":0},{"$f":"Salary_Entitlement!C16","v":0},{"$f":"Salary_Entitlement!D16","v":0},{"$f":"Salary_Entitlement!E16","v":{"$error":"#N/A"}},{"$f":"Salary_Entitlement!F16","v":0},{"$f":"Salary_Entitlement!G16","v":0},{"$f":"Salary_Entitlement!H16","v":0},{"$f":"Salary_Entitlement!I16","v":0},{"$f":"Salary_Entitlement!J16","v":0},{"$f":"Salary_Entitlement!K16","v":0},{"$f":"Salary_Entitlement!L16","v":0},{"$f":"Salary_Entitlement!M16","v":0},{"$f":"Salary_Entitlement!N16","v":0},{"$f":"Salary_Entitlement!O16","v":0},{"$f":"Salary_Entitlement!P16","v":0},{"$error":"#DIV/0!"},{"$error":"#DIV/0!"},{"$f":"INDEX(Deduction!$A$3:$K$501,MATCH(1,(Deduction!$A$3:$A$501=Sheet8!A15)*(Deduction!$B$3:$B$501=Sheet8!B15)*(Deduction!$C$3:$C$501=Sheet8!D15),0),5)","v":0},{"$f":"INDEX(Deduction!$A$3:$K$501,MATCH(1,(Deduction!$A$3:$A$501=Sheet8!A15)*(Deduction!$B$3:$B$501=Sheet8!B15)*(Deduction!$C$3:$C$501=Sheet8!D15),0),6)","v":0},{"$f":"INDEX(Deduction!$A$3:$K$501,MATCH(1,(Deduction!$A$3:$A$501=Sheet8!A15)*(Deduction!$B$3:$B$501=Sheet8!B15)*(Deduction!$C$3:$C$501=Sheet8!D15),0),7)","v":0},{"$f":"INDEX(Deduction!$A$3:$K$501,MATCH(1,(Deduction!$A$3:$A$501=Sheet8!A15)*(Deduction!$B$3:$B$501=Sheet8!B15)*(Deduction!$C$3:$C$501=Sheet8!D15),0),8)","v":0},{"$f":"INDEX(Deduction!$A$3:$K$501,MATCH(1,(Deduction!$A$3:$A$501=Sheet8!A15)*(Deduction!$B$3:$B$501=Sheet8!B15)*(Deduction!$C$3:$C$501=Sheet8!D15),0),9)","v":0},{"$f":"INDEX(Deduction!$A$3:$K$501,MATCH(1,(Deduction!$A$3:$A$501=Sheet8!A15)*(Deduction!$B$3:$B$501=Sheet8!B15)*(Deduction!$C$3:$C$501=Sheet8!D15),0),10)","v":0},{"$f":"INDEX(Deduction!$A$3:$K$501,MATCH(1,(Deduction!$A$3:$A$501=Sheet8!A15)*(Deduction!$B$3:$B$501=Sheet8!B15)*(Deduction!$C$3:$C$501=Sheet8!D15),0),11)","v":0},{"$error":"#DIV/0!"},{"$f":"VLOOKUP(D15,Emp_Master!$B$3:$H$501,7)","v":{"$error":"#N/A"}}]
[{"$f":"Salary_Entitlement!A17","v":0},{"$f":"Salary_Entitlement!B17","v":0},{"$f":"Salary_Entitlement!C17","v":0},{"$f":"Salary_Entitlement!D17","v":0},{"$f":"Salary_Entitlement!E17","v":{"$error":"#N/A"}},{"$f":"Salary_Entitlement!F17","v":0},{"$f":"Salary_Entitlement!G17","v":0},{"$f":"Salary_Entitlement!H17","v":0},{"$f":"Salary_Entitlement!I17","v":0},{"$f":"Salary_Entitlement!J17","v":0},{"$f":"Salary_Entitlement!K17","v":0},{"$f":"Salary_Entitlement!L17","v":0},{"$f":"Salary_Entitlement!M17","v":0},{"$f":"Salary_Entitlement!N17","v":0},{"$f":"Salary_Entitlement!O17","v":0},{"$f":"Salary_Entitlement!P17","v":0},{"$error":"#DIV/0!"},{"$error":"#DIV/0!"},{"$f":"INDEX(Deduction!$A$3:$K$501,MATCH(1,(Deduction!$A$3:$A$501=Sheet8!A16)*(Deduction!$B$3:$B$501=Sheet8!B16)*(Deduction!$C$3:$C$501=Sheet8!D16),0),5)","v":0},{"$f":"INDEX(Deduction!$A$3:$K$501,MATCH(1,(Deduction!$A$3:$A$501=Sheet8!A16)*(Deduction!$B$3:$B$501=Sheet8!B16)*(Deduction!$C$3:$C$501=Sheet8!D16),0),6)","v":0},{"$f":"INDEX(Deduction!$A$3:$K$501,MATCH(1,(Deduction!$A$3:$A$501=Sheet8!A16)*(Deduction!$B$3:$B$501=Sheet8!B16)*(Deduction!$C$3:$C$501=Sheet8!D16),0),7)","v":0},{"$f":"INDEX(Deduction!$A$3:$K$501,MATCH(1,(Deduction!$A$3:$A$501=Sheet8!A16)*(Deduction!$B$3:$B$501=Sheet8!B16)*(Deduction!$C$3:$C$501=Sheet8!D16),0),8)","v":0},{"$f":"INDEX(Deduction!$A$3:$K$501,MATCH(1,(Deduction!$A$3:$A$501=Sheet8!A16)*(Deduction!$B$3:$B$501=Sheet8!B16)*(Deduction!$C$3:$C$501=Sheet8!D16),0),9)","v":0},{"$f":"INDEX(Deduction!$A$3:$K$501,MATCH(1,(Deduction!$A$3:$A$501=Sheet8!A16)*(Deduction!$B$3:$B$501=Sheet8!B16)*(Deduction!$C$3:$C$501=Sheet8!D16),0),10)","v":0},{"$f":"INDEX(Deduction!$A$3:$K$501,MATCH(1,(Deduction!$A$3:$A$501=Sheet8!A16)*(Deduction!$B$3:$B$501=Sheet8!B16)*(Deduction!$C$3:$C$501=Sheet8!D16),0),11)","v":0},{"$error":"#DIV/0!"},{"$f":"VLOOKUP(D16,Emp_Master!$B$3:$H$501,7)","v":{"$error":"#N/A"}}]
[{"$f":"Salary_Entitlement!A18","v":0},{"$f":"Salary_Entitlement!B18","v":0},{"$f":"Salary_Entitlement!C18","v":0},{"$f":"Salary_Entitlement!D18","v":0},{"$f":"Salary_Entitlement!E18","v":{"$error":"#N/A"}},{"$f":"Salary_Entitlement!F18","v":0},{"$f":"Salary_Entitlement!G18","v":0},{"$f":"Salary_Entitlement!H18","v":0},{"$f":"Salary_Entitlement!I18","v":0},{"$f":"Salary_Entitlement!J18","v":0},{"$f":"Salary_Entitlement!K18","v":0},{"$f":"Salary_Entitlement!L18","v":0},{"$f":"Salary_Entitlement!M18","v":0},{"$f":"Salary_Entitlement!N18","v":0},{"$f":"Salary_Entitlement!O18","v":0},{"$f":"Salary_Entitlement!P18","v":0},{"$error":"#DIV/0!"},{"$error":"#DIV/0!"},{"$f":"INDEX(Deduction!$A$3:$K$501,MATCH(1,(Deduction!$A$3:$A$501=Sheet8!A17)*(Deduction!$B$3:$B$501=Sheet8!B17)*(Deduction!$C$3:$C$501=Sheet8!D17),0),5)","v":0},{"$f":"INDEX(Deduction!$A$3:$K$501,MATCH(1,(Deduction!$A$3:$A$501=Sheet8!A17)*(Deduction!$B$3:$B$501=Sheet8!B17)*(Deduction!$C$3:$C$501=Sheet8!D17),0),6)","v":0},{"$f":"INDEX(Deduction!$A$3:$K$501,MATCH(1,(Deduction!$A$3:$A$501=Sheet8!A17)*(Deduction!$B$3:$B$501=Sheet8!B17)*(Deduction!$C$3:$C$501=Sheet8!D17),0),7)","v":0},{"$f":"INDEX(Deduction!$A$3:$K$501,MATCH(1,(Deduction!$A$3:$A$501=Sheet8!A17)*(Deduction!$B$3:$B$501=Sheet8!B17)*(Deduction!$C$3:$C$501=Sheet8!D17),0),8)","v":0},{"$f":"INDEX(Deduction!$A$3:$K$501,MATCH(1,(Deduction!$A$3:$A$501=Sheet8!A17)*(Deduction!$B$3:$B$501=Sheet8!B17)*(Deduction!$C$3:$C$501=Sheet8!D17),0),9)","v":0},{"$f":"INDEX(Deduction!$A$3:$K$501,MATCH(1,(Deduction!$A$3:$A$501=Sheet8!A17)*(Deduction!$B$3:$B$501=Sheet8!B17)*(Deduction!$C$3:$C$501=Sheet8!D17),0),10)","v":0},{"$f":"INDEX(Deduction!$A$3:$K$501,MATCH(1,(Deduction!$A$3:$A$501=Sheet8!A17)*(Deduction!$B$3:$B$501=Sheet8!B17)*(Deduction!$C$3:$C$501=Sheet8!D17),0),11)","v":0},{"$error":"#DIV/0!"},{"$f":"VLOOKUP(D17,Emp_Master!$B$3:$H$501,7)","v":{"$error":"#N/A"}}]
[{"$f":"Salary_Entitlement!A19","v":0},{"$f":"Salary_Entitlement!B19","v":0},{"$f":"Salary_Entitlement!C19","v":0},{"$f":"Salary_Entitlement!D19","v":0},{"$f":"Salary_Entitlement!E19","v":{"$error":"#N/A"}},{"$f":"Salary_Entitlement!F19","v":0},{"$f":"Salary_Entitlement!G19","v":0},{"$f":"Salary_Entitlement!H19","v":0},{"$f":"Salary_Entitlement!I19","v":0},{"$f":"Salary_Entitlement!J19","v":0},{"$f":"Salary_Entitlement!K19","v":0},{"$f":"Salary_Entitlement!L19","v":0},{"$f":"Salary_Entitlement!M19","v":0},{"$f":"Salary_Entitlement!N19","v":0},{"$f":"Salary_Entitlement!O19","v":0},{"$f":"Salary_Entitlement!P19","v":0},{"$error":"#DIV/0!"},{"$error":"#DIV/0!"},{"$f":"INDEX(Deduction!$A$3:$K$501,MATCH(1,(Deduction!$A$3:$A$501=Sheet8!A18)*(Deduction!$B$3:$B$501=Sheet8!B18)*(Deduction!$C$3:$C$501=Sheet8!D18),0),5)","v":0},{"$f":"INDEX(Deduction!$A$3:$K$501,MATCH(1,(Deduction!$A$3:$A$501=Sheet8!A18)*(Deduction!$B$3:$B$501=Sheet8!B18)*(Deduction!$C$3:$C$501=Sheet8!D18),0),6)","v":0},{"$f":"INDEX(Deduction!$A$3:$K$501,MATCH(1,(Deduction!$A$3:$A$501=Sheet8!A18)*(Deduction!$B$3:$B$501=Sheet8!B18)*(Deduction!$C$3:$C$501=Sheet8!D18),0),7)","v":0},{"$f":"INDEX(Deduction!$A$3:$K$501,MATCH(1,(Deduction!$A$3:$A$501=Sheet8!A18)*(Deduction!$B$3:$B$501=Sheet8!B18)*(Deduction!$C$3:$C$501=Sheet8!D18),0),8)","v":0},{"$f":"INDEX(Deduction!$A$3:$K$501,MATCH(1,(Deduction!$A$3:$A$501=Sheet8!A18)*(Deduction!$B$3:$B$501=Sheet8!B18)*(Deduction!$C$3:$C$501=Sheet8!D18),0),9)","v":0},{"$f":"INDEX(Deduction!$A$3:$K$501,MATCH(1,(Deduction!$A$3:$A$501=Sheet8!A18)*(Deduction!$B$3:$B$501=Sheet8!B18)*(Deduction!$C$3:$C$501=Sheet8!D18),0),10)","v":0},{"$f":"INDEX(Deduction!$A$3:$K$501,MATCH(1,(Deduction!$A$3:$A$501=Sheet8!A18)*(Deduction!$B$3:$B$501=Sheet8!B18)*(Deduction!$C$3:$C$501=Sheet8!D18),0),11)","v":0},{"$error":"#DIV/0!"},{"$f":"VLOOKUP(D18,Emp_Master!$B$3:$H$501,7)","v":{"$error":"#N/A"}}]
[{"$f":"Salary_Entitlement!A20","v":0},{"$f":"Salary_Entitlement!B20","v":0},{"$f":"Salary_Entitlement!C20","v":0},{"$f":"Salary_Entitlement!D20","v":0},{"$f":"Salary_Entitlement!E20","v":{"$error":"#N/A"}},{"$f":"Salary_Entitlement!F20","v":0},{"$f":"Salary_Entitlement!G20","v":0},{"$f":"Salary_Entitlement!H20","v":0},{"$f":"Salary_Entitlement!I20","v":0},{"$f":"Salary_Entitlement!J20","v":0},{"$f":"Salary_Entitlement!K20","v":0},{"$f":"Salary_Entitlement!L20","v":0},{"$f":"Salary_Entitlement!M20","v":0},{"$f":"Salary_Entitlement!N20","v":0},{"$f":"Salary_Entitlement!O20","v":0},{"$f":"Salary_Entitlement!P20","v":0},{"$error":"#DIV/0!"},{"$error":"#DIV/0!"},{"$f":"INDEX(Deduction!$A$3:$K$501,MATCH(1,(Deduction!$A$3:$A$501=Sheet8!A19)*(Deduction!$B$3:$B$501=Sheet8!B19)*(Deduction!$C$3:$C$501=Sheet8!D19),0),5)","v":0},{"$f":"INDEX(Deduction!$A$3:$K$501,MATCH(1,(Deduction!$A$3:$A$501=Sheet8!A19)*(Deduction!$B$3:$B$501=Sheet8!B19)*(Deduction!$C$3:$C$501=Sheet8!D19),0),6)","v":0},{"$f":"INDEX(Deduction!$A$3:$K$501,MATCH(1,(Deduction!$A$3:$A$501=Sheet8!A19)*(Deduction!$B$3:$B$501=Sheet8!B19)*(Deduction!$C$3:$C$501=Sheet8!D19),0),7)","v":0},{"$f":"INDEX(Deduction!$A$3:$K$501,MATCH(1,(Deduction!$A$3:$A$501=Sheet8!A19)*(Deduction!$B$3:$B$501=Sheet8!B19)*(Deduction!$C$3:$C$501=Sheet8!D19),0),8)","v":0},{"$f":"INDEX(Deduction!$A$3:$K$501,MATCH(1,(Deduction!$A$3:$A$501=Sheet8!A19)*(Deduction!$B$3:$B$501=Sheet8!B19)*(Deduction!$C$3:$C$501=Sheet8!D19),0),9)","v":0},{"$f":"INDEX(Deduction!$A$3:$K$501,MATCH(1,(Deduction!$A$3:$A$501=Sheet8!A19)*(Deduction!$B$3:$B$501=Sheet8!B19)*(Deduction!$C$3:$C$501=Sheet8!D19),0),10)","v":0},{"$f":"INDEX(Deduction!$A$3:$K$501,MATCH(1,(Deduction!$A$3:$A$501=Sheet8!A19)*(Deduction!$B$3:$B$501=Sheet8!B19)*(Deduction!$C$3:$C$501=Sheet8!D19),0),11)","v":0},{"$error":"#DIV/0!"},{"$f":"VLOOKUP(D19,Emp_Master!$B$3:$H$501,7)","v":{"$error":"#N/A"}}]
[{"$f":"Salary_Entitlement!A21","v":0},{"$f":"Salary_Entitlement!B21","v":0},{"$f":"Salary_Entitlement!C21","v":0},{"$f":"Salary_Entitlement!D21","v":0},{"$f":"Salary_Entitlement!E21","v":{"$error":"#N/A"}},{"$f":"Salary_Entitlement!F21","v":0},{"$f":"Salary_Entitlement!G21","v":0},{"$f":"Salary_Entitlement!H21","v":0},{"$f":"Salary_Entitlement!I21","v":0},{"$f":"Salary_Entitlement!J21","v":0},{"$f":"Salary_Entitlement!K21","v":0},{"$f":"Salary_Entitlement!L21","v":0},{"$f":"Salary_Entitlement!M21","v":0},{"$f":"Salary_Entitlement!N21","v":0},{"$f":"Salary_Entitlement!O21","v":0},{"$f":"Salary_Entitlement!P21","v":0},{"$error":"#DIV/0!"},{"$error":"#DIV/0!"},{"$f":"INDEX(Deduction!$A$3:$K$501,MATCH(1,(Deduction!$A$3:$A$501=Sheet8!A20)*(Deduction!$B$3:$B$501=Sheet8!B20)*(Deduction!$C$3:$C$501=Sheet8!D20),0),5)","v":0},{"$f":"INDEX(Deduction!$A$3:$K$501,MATCH(1,(Deduction!$A$3:$A$501=Sheet8!A20)*(Deduction!$B$3:$B$501=Sheet8!B20)*(Deduction!$C$3:$C$501=Sheet8!D20),0),6)","v":0},{"$f":"INDEX(Deduction!$A$3:$K$501,MATCH(1,(Deduction!$A$3:$A$501=Sheet8!A20)*(Deduction!$B$3:$B$501=Sheet8!B20)*(Deduction!$C$3:$C$501=Sheet8!D20),0),7)","v":0},{"$f":"INDEX(Deduction!$A$3:$K$501,MATCH(1,(Deduction!$A$3:$A$501=Sheet8!A20)*(Deduction!$B$3:$B$501=Sheet8!B20)*(Deduction!$C$3:$C$501=Sheet8!D20),0),8)","v":0},{"$f":"INDEX(Deduction!$A$3:$K$501,MATCH(1,(Deduction!$A$3:$A$501=Sheet8!A20)*(Deduction!$B$3:$B$501=Sheet8!B20)*(Deduction!$C$3:$C$501=Sheet8!D20),0),9)","v":0},{"$f":"INDEX(Deduction!$A$3:$K$501,MATCH(1,(Deduction!$A$3:$A$501=Sheet8!A20)*(Deduction!$B$3:$B$501=Sheet8!B20)*(Deduction!$C$3:$C$501=Sheet8!D20),0),10)","v":0},{"$f":"INDEX(Deduction!$A$3:$K$501,MATCH(1,(Deduction!$A$3:$A$501=Sheet8!A20)*(Deduction!$B$3:$B$501=Sheet8!B20)*(Deduction!$C$3:$C$501=Sheet8!D20),0),11)","v":0},{"$error":"#DIV/0!"},{"$f":"VLOOKUP(D20,Emp_Master!$B$3:$H$501,7)","v":{"$error":"#N/A"}}]
[{"$f":"Salary_Entitlement!A22","v":0},{"$f":"Salary_Entitlement!B22","v":0},{"$f":"Salary_Entitlement!C22","v":0},{"$f":"Salary_Entitlement!D22","v":0},{"$f":"Salary_Entitlement!E22","v":{"$error":"#N/A"}},{"$f":"Salary_Entitlement!F22","v":0},{"$f":"Salary_Entitlement!G22","v":0},{"$f":"Salary_Entitlement!H22","v":0},{"$f":"Salary_Entitlement!I22","v":0},{"$f":"Salary_Entitlement!J22","v":0},{"$f":"Salary_Entitlement!K22","v":0},{"$f":"Salary_Entitlement!L22","v":0},{"$f":"Salary_Entitlement!M22","v":0},{"$f":"Salary_Entitlement!N22","v":0},{"$f":"Salary_Entitlement!O22","v":0},{"$f":"Salary_Entitlement!P22","v":0},{"$error":"#DIV/0!"},{"$error":"#DIV/0!"},{"$f":"INDEX(Deduction!$A$3:$K$501,MATCH(1,(Deduction!$A$3:$A$501=Sheet8!A21)*(Deduction!$B$3:$B$501=Sheet8!B21)*(Deduction!$C$3:$C$501=Sheet8!D21),0),5)","v":0},{"$f":"INDEX(Deduction!$A$3:$K$501,MATCH(1,(Deduction!$A$3:$A$501=Sheet8!A21)*(Deduction!$B$3:$B$501=Sheet8!B21)*(Deduction!$C$3:$C$501=Sheet8!D21),0),6)","v":0},{"$f":"INDEX(Deduction!$A$3:$K$501,MATCH(1,(Deduction!$A$3:$A$501=Sheet8!A21)*(Deduction!$B$3:$B$501=Sheet8!B21)*(Deduction!$C$3:$C$501=Sheet8!D21),0),7)","v":0},{"$f":"INDEX(Deduction!$A$3:$K$501,MATCH(1,(Deduction!$A$3:$A$501=Sheet8!A21)*(Deduction!$B$3:$B$501=Sheet8!B21)*(Deduction!$C$3:$C$501=Sheet8!D21),0),8)","v":0},{"$f":"INDEX(Deduction!$A$3:$K$501,MATCH(1,(Deduction!$A$3:$A$501=Sheet8!A21)*(Deduction!$B$3:$B$501=Sheet8!B21)*(Deduction!$C$3:$C$501=Sheet8!D21),0),9)","v":0},{"$f":"INDEX(Deduction!$A$3:$K$501,MATCH(1,(Deduction!$A$3:$A$501=Sheet8!A21)*(Deduction!$B$3:$B$501=Sheet8!B21)*(Deduction!$C$3:$C$501=Sheet8!D21),0),10)","v":0},{"$f":"INDEX(Deduction!$A$3:$K$501,MATCH(1,(Deduction!$A$3:$A$501=Sheet8!A21)*(Deduction!$B$3:$B$501=Sheet8!B21)*(Deduction!$C$3:$C$501=Sheet8!D21),0),11)","v":0},{"$error":"#DIV/0!"},{"$f":"VLOOKUP(D21,Emp_Master!$B$3:$H$501,7)","v":{"$error":"#N/A"}}]
[{"$f":"Salary_Entitlement!A23","v":0},{"$f":"Salary_Entitlement!B23","v":0},{"$f":"Salary_Entitlement!C23","v":0},{"$f":"Salary_Entitlement!D23","v":0},{"$f":"Salary_Entitlement!E23","v":{"$error":"#N/A"}},{"$f":"Salary_Entitlement!F23","v":0},{"$f":"Salary_Entitlement!G23","v":0},{"$f":"Salary_Entitlement!H23","v":0},{"$f":"Salary_Entitlement!I23","v":0},{"$f":"Salary_Entitlement!J23","v":0},{"$f":"Salary_Entitlement!K23","v":0},{"$f":"Salary_Entitlement!L23","v":0},{"$f":"Salary_Entitlement!M23","v":0},{"$f":"Salary_Entitlement!N23","v":0},{"$f":"Salary_Entitlement!O23","v":0},{"$f":"Salary_Entitlement!P23","v":0},{"$error":"#DIV/0!"},{"$error":"#DIV/0!"},{"$f":"INDEX(Deduction!$A$3:$K$501,MATCH(1,(Deduction!$A$3:$A$501=Sheet8!A22)*(Deduction!$B$3:$B$501=Sheet8!B22)*(Deduction!$C$3:$C$501=Sheet8!D22),0),5)","v":0},{"$f":"INDEX(Deduction!$A$3:$K$501,MATCH(1,(Deduction!$A$3:$A$501=Sheet8!A22)*(Deduction!$B$3:$B$501=Sheet8!B22)*(Deduction!$C$3:$C$501=Sheet8!D22),0),6)","v":0},{"$f":"INDEX(Deduction!$A$3:$K$501,MATCH(1,(Deduction!$A$3:$A$501=Sheet8!A22)*(Deduction!$B$3:$B$501=Sheet8!B22)*(Deduction!$C$3:$C$501=Sheet8!D22),0),7)","v":0},{"$f":"INDEX(Deduction!$A$3:$K$501,MATCH(1,(Deduction!$A$3:$A$501=Sheet8!A22)*(Deduction!$B$3:$B$501=Sheet8!B22)*(Deduction!$C$3:$C$501=Sheet8!D22),0),8)","v":0},{"$f":"INDEX(Deduction!$A$3:$K$501,MATCH(1,(Deduction!$A$3:$A$501=Sheet8!A22)*(Deduction!$B$3:$B$501=Sheet8!B22)*(Deduction!$C$3:$C$501=Sheet8!D22),0),9)","v":0},{"$f":"INDEX(Deduction!$A$3:$K$501,MATCH(1,(Deduction!$A$3:$A$501=Sheet8!A22)*(Deduction!$B$3:$B$501=Sheet8!B22)*(Deduction!$C$3:$C$501=Sheet8!D22),0),10)","v":0},{"$f":"INDEX(Deduction!$A$3:$K$501,MATCH(1,(Deduction!$A$3:$A$501=Sheet8!A22)*(Deduction!$B$3:$B$501=Sheet8!B22)*(Deduction!$C$3:$C$501=Sheet8!D22),0),11)","v":0},{"$error":"#DIV/0!"},{"$f":"VLOOKUP(D22,Emp_Master!$B$3:$H$501,7)","v":{"$error":"#N/A"}}]
[{"$f":"Salary_Entitlement!A24","v":0},{"$f":"Salary_Entitlement!B24","v":0},{"$f":"Salary_Entitlement!C24","v":0},{"$f":"Salary_Entitlement!D24","v":0},{"$f":"Salary_Entitlement!E24","v":{"$error":"#N/A"}},{"$f":"Salary_Entitlement!F24","v":0},{"$f":"Salary_Entitlement!G24","v":0},{"$f":"Salary_Entitlement!H24","v":0},{"$f":"Salary_Entitlement!I24","v":0},{"$f":"Salary_Entitlement!J24","v":0},{"$f":"Salary_Entitlement!K24","v":0},{"$f":"Salary_Entitlement!L24","v":0},{"$f":"Salary_Entitlement!M24","v":0},{"$f":"Salary_Entitlement!N24","v":0},{"$f":"Salary_Entitlement!O24","v":0},{"$f":"Salary_Entitlement!P24","v":0},{"$error":"#DIV/0!"},{"$error":"#DIV/0!"},{"$f":"INDEX(Deduction!$A$3:$K$501,MATCH(1,(Deduction!$A$3:$A$501=Sheet8!A23)*(Deduction!$B$3:$B$501=Sheet8!B23)*(Deduction!$C$3:$C$501=Sheet8!D23),0),5)","v":0},{"$f":"INDEX(Deduction!$A$3:$K$501,MATCH(1,(Deduction!$A$3:$A$501=Sheet8!A23)*(Deduction!$B$3:$B$501=Sheet8!B23)*(Deduction!$C$3:$C$501=Sheet8!D23),0),6)","v":0},{"$f":"INDEX(Deduction!$A$3:$K$501,MATCH(1,(Deduction!$A$3:$A$501=Sheet8!A23)*(Deduction!$B$3:$B$501=Sheet8!B23)*(Deduction!$C$3:$C$501=Sheet8!D23),0),7)","v":0},{"$f":"INDEX(Deduction!$A$3:$K$501,MATCH(1,(Deduction!$A$3:$A$501=Sheet8!A23)*(Deduction!$B$3:$B$501=Sheet8!B23)*(Deduction!$C$3:$C$501=Sheet8!D23),0),8)","v":0},{"$f":"INDEX(Deduction!$A$3:$K$501,MATCH(1,(Deduction!$A$3:$A$501=Sheet8!A23)*(Deduction!$B$3:$B$501=Sheet8!B23)*(Deduction!$C$3:$C$501=Sheet8!D23),0),9)","v":0},{"$f":"INDEX(Deduction!$A$3:$K$501,MATCH(1,(Deduction!$A$3:$A$501=Sheet8!A23)*(Deduction!$B$3:$B$501=Sheet8!B23)*(Deduction!$C$3:$C$501=Sheet8!D23),0),10)","v":0},{"$f":"INDEX(Deduction!$A$3:$K$501,MATCH(1,(Deduction!$A$3:$A$501=Sheet8!A23)*(Deduction!$B$3:$B$501=Sheet8!B23)*(Deduction!$C$3:$C$501=Sheet8!D23),0),11)","v":0},{"$error":"#DIV/0!"},{"$f":"VLOOKUP(D23,Emp_Master!$B$3:$H$501,7)","v":{"$error":"#N/A"}}]
[{"$f":"Salary_Entitlement!A25","v":0},{"$f":"Salary_Entitlement!B25","v":0},{"$f":"Salary_Entitlement!C25","v":0},{"$f":"Salary_Entitlement!D25","v":0},{"$f":"Salary_Entitlement!E25","v":{"$error":"#N/A"}},{"$f":"Salary_Entitlement!F25","v":0},{"$f":"Salary_Entitlement!G25","v":0},{"$f":"Salary_Entitlement!H25","v":0},{"$f":"Salary_Entitlement!I25","v":0},{"$f":"Salary_Entitlement!J25","v":0},{"$f":"Salary_Entitlement!K25","v":0},{"$f":"Salary_Entitlement!L25","v":0},{"$f":"Salary_Entitlement!M25","v":0},{"$f":"Salary_Entitlement!N25","v":0},{"$f":"Salary_Entitlement!O25","v":0},{"$f":"Salary_Entitlement!P25","v":0},{"$f":"F24/M24*(M24-N24)","v":{"$error":"#DIV/0!"}},{"$f":"SUM(F24:L24)-Q24","v":{"$error":"#DIV/0!"}},{"$f":"INDEX(Deduction!$A$3:$K$501,MATCH(1,(Deduction!$A$3:$A$501=Sheet8!A24)*(Deduction!$B$3:$B$501=Sheet8!B24)*(Deduction!$C$3:$C$501=Sheet8!D24),0),5)","v":0},{"$f":"INDEX(Deduction!$A$3:$K$501,MATCH(1,(Deduction!$A$3:$A$501=Sheet8!A24)*(Deduction!$B$3:$B$501=Sheet8!B24)*(Deduction!$C$3:$C$501=Sheet8!D24),0),6)","v":0},{"$f":"INDEX(Deduction!$A$3:$K$501,MATCH(1,(Deduction!$A$3:$A$501=Sheet8!A24)*(Deduction!$B$3:$B$501=Sheet8!B24)*(Deduction!$C$3:$C$501=Sheet8!D24),0),7)","v":0},{"$f":"INDEX(Deduction!$A$3:$K$501,MATCH(1,(Deduction!$A$3:$A$501=Sheet8!A24)*(Deduction!$B$3:$B$501=Sheet8!B24)*(Deduction!$C$3:$C$501=Sheet8!D24),0),8)","v":0},{"$f":"INDEX(Deduction!$A$3:$K$501,MATCH(1,(Deduction!$A$3:$A$501=Sheet8!A24)*(Deduction!$B$3:$B$501=Sheet8!B24)*(Deduction!$C$3:$C$501=Sheet8!D24),0),9)","v":0},{"$f":"INDEX(Deduction!$A$3:$K$501,MATCH(1,(Deduction!$A$3:$A$501=Sheet8!A24)*(Deduction!$B$3:$B$501=Sheet8!B24)*(Deduction!$C$3:$C$501=Sheet8!D24),0),10)","v":0},{"$f":"INDEX(Deduction!$A$3:$K$501,MATCH(1,(Deduction!$A$3:$A$501=Sheet8!A24)*(Deduction!$B$3:$B$501=Sheet8!B24)*(Deduction!$C$3:$C$501=Sheet8!D24),0),11)","v":0},{"$error":"#DIV/0!"},{"$f":"VLOOKUP(D24,Emp_Master!$B$3:$H$501,7)","v":{"$error":"#N/A"}}]
[{"$f":"Salary_Entitlement!A26","v":0},{"$f":"Salary_Entitlement!B26","v":0},{"$f":"Salary_Entitlement!C26","v":0},{"$f":"Salary_Entitlement!D26","v":0},{"$f":"Salary_Entitlement!E26","v":{"$error":"#N/A"}},{"$f":"Salary_Entitlement!F26","v":0},{"$f":"Salary_Entitlement!G26","v":0},{"$f":"Salary_Entitlement!H26","v":0},{"$f":"Salary_Entitlement!I26","v":0},{"$f":"Salary_Entitlement!J26","v":0},{"$f":"Salary_Entitlement!K26","v":0},{"$f":"Salary_Entitlement!L26","v":0},{"$f":"Salary_Entitlement!M26","v":0},{"$f":"Salary_Entitlement!N26","v":0},{"$f":"Salary_Entitlement!O26","v":0},{"$f":"Salary_Entitlement!P26","v":0},{"$error":"#DIV/0!"},{"$error":"#DIV/0!"},{"$f":"INDEX(Deduction!$A$3:$K$501,MATCH(1,(Deduction!$A$3:$A$501=Sheet8!A25)*(Deduction!$B$3:$B$501=Sheet8!B25)*(Deduction!$C$3:$C$501=Sheet8!D25),0),5)","v":0},{"$f":"INDEX(Deduction!$A$3:$K$501,MATCH(1,(Deduction!$A$3:$A$501=Sheet8!A25)*(Deduction!$B$3:$B$501=Sheet8!B25)*(Deduction!$C$3:$C$501=Sheet8!D25),0),6)","v":0},{"$f":"INDEX(Deduction!$A$3:$K$501,MATCH(1,(Deduction!$A$3:$A$501=Sheet8!A25)*(Deduction!$B$3:$B$501=Sheet8!B25)*(Deduction!$C$3:$C$501=Sheet8!D25),0),7)","v":0},{"$f":"INDEX(Deduction!$A$3:$K$501,MATCH(1,(Deduction!$A$3:$A$501=Sheet8!A25)*(Deduction!$B$3:$B$501=Sheet8!B25)*(Deduction!$C$3:$C$501=Sheet8!D25),0),8)","v":0},{"$f":"INDEX(Deduction!$A$3:$K$501,MATCH(1,(Deduction!$A$3:$A$501=Sheet8!A25)*(Deduction!$B$3:$B$501=Sheet8!B25)*(Deduction!$C$3:$C$501=Sheet8!D25),0),9)","v":0},{"$f":"INDEX(Deduction!$A$3:$K$501,MATCH(1,(Deduction!$A$3:$A$501=Sheet8!A25)*(Deduction!$B$3:$B$501=Sheet8!B25)*(Deduction!$C$3:$C$501=Sheet8!D25),0),10)","v":0},{"$f":"INDEX(Deduction!$A$3:$K$501,MATCH(1,(Deduction!$A$3:$A$501=Sheet8!A25)*(Deduction!$B$3:$B$501=Sheet8!B25)*(Deduction!$C$3:$C$501=Sheet8!D25),0),11)","v":0},{"$error":"#DIV/0!"},{"$f":"VLOOKUP(D25,Emp_Master!$B$3:$H$501,7)","v":{"$error":"#N/A"}}]
[{"$f":"Salary_Entitlement!A27","v":0},{"$f":"Salary_Entitlement!B27","v":0},{"$f":"Salary_Entitlement!C27","v":0},{"$f":"Salary_Entitlement!D27","v":0},{"$f":"Salary_Entitlement!E27","v":{"$error":"#N/A"}},{"$f":"Salary_Entitlement!F27","v":0},{"$f":"Salary_Entitlement!G27","v":0},{"$f":"Salary_Entitlement!H27","v":0},{"$f":"Salary_Entitlement!I27","v":0},{"$f":"Salary_Entitlement!J27","v":0},{"$f":"Salary_Entitlement!K27","v":0},{"$f":"Salary_Entitlement!L27","v":0},{"$f":"Salary_Entitlement!M27","v":0},{"$f":"Salary_Entitlement!N27","v":0},{"$f":"Salary_Entitlement!O27","v":0},{"$f":"Salary_Entitlement!P27","v":0},{"$error":"#DIV/0!"},{"$error":"#DIV/0!"},{"$f":"INDEX(Deduction!$A$3:$K$501,MATCH(1,(Deduction!$A$3:$A$501=Sheet8!A26)*(Deduction!$B$3:$B$501=Sheet8!B26)*(Deduction!$C$3:$C$501=Sheet8!D26),0),5)","v":0},{"$f":"INDEX(Deduction!$A$3:$K$501,MATCH(1,(Deduction!$A$3:$A$501=Sheet8!A26)*(Deduction!$B$3:$B$501=Sheet8!B26)*(Deduction!$C$3:$C$501=Sheet8!D26),0),6)","v":0},{"$f":"INDEX(Deduction!$A$3:$K$501,MATCH(1,(Deduction!$A$3:$A$501=Sheet8!A26)*(Deduction!$B$3:$B$501=Sheet8!B26)*(Deduction!$C$3:$C$501=Sheet8!D26),0),7)","v":0},{"$f":"INDEX(Deduction!$A$3:$K$501,MATCH(1,(Deduction!$A$3:$A$501=Sheet8!A26)*(Deduction!$B$3:$B$501=Sheet8!B26)*(Deduction!$C$3:$C$501=Sheet8!D26),0),8)","v":0},{"$f":"INDEX(Deduction!$A$3:$K$501,MATCH(1,(Deduction!$A$3:$A$501=Sheet8!A26)*(Deduction!$B$3:$B$501=Sheet8!B26)*(Deduction!$C$3:$C$501=Sheet8!D26),0),9)","v":0},{"$f":"INDEX(Deduction!$A$3:$K$501,MATCH(1,(Deduction!$A$3:$A$501=Sheet8!A26)*(Deduction!$B$3:$B$501=Sheet8!B26)*(Deduction!$C$3:$C$501=Sheet8!D26),0),10)","v":0},{"$f":"INDEX(Deduction!$A$3:$K$501,MATCH(1,(Deduction!$A$3:$A$501=Sheet8!A26)*(Deduction!$B$3:$B$501=Sheet8!B26)*(Deduction!$C$3:$C$501=Sheet8!D26),0),11)","v":0},{"$error":"#DIV/0!"},{"$f":"VLOOKUP(D26,Emp_Master!$B$3:$H$501,7)","v":{"$error":"#N/A"}}]
[{"$f":"Salary_Entitlement!A28","v":0},{"$f":"Salary_Entitlement!B28","v":0},{"$f":"Salary_Entitlement!C28","v":0},{"$f":"Salary_Entitlement!D28","v":0},{"$f":"Salary_Entitlement!E28","v":{"$error":"#N/A"}},{"$f":"Salary_Entitlement!F28","v":0},{"$f":"Salary_Entitlement!G28","v":0},{"$f":"Salary_Entitlement!H28","v":0},{"$f":"Salary_Entitlement!I28","v":0},{"$f":"Salary_Entitlement!J28","v":0},{"$f":"Salary_Entitlement!K28","v":0},{"$f":"Salary_Entitlement!L28","v":0},{"$f":"Salary_Entitlement!M28","v":0},{"$f":"Salary_Entitlement!N28","v":0},{"$f":"Salary_Entitlement!O28","v":0},{"$f":"Salary_Entitlement!P28","v":0},{"$error":"#DIV/0!"},{"$error":"#DIV/0!"},{"$f":"INDEX(Deduction!$A$3:$K$501,MATCH(1,(Deduction!$A$3:$A$501=Sheet8!A27)*(Deduction!$B$3:$B$501=Sheet8!B27)*(Deduction!$C$3:$C$501=Sheet8!D27),0),5)","v":0},{"$f":"INDEX(Deduction!$A$3:$K$501,MATCH(1,(Deduction!$A$3:$A$501=Sheet8!A27)*(Deduction!$B$3:$B$501=Sheet8!B27)*(Deduction!$C$3:$C$501=Sheet8!D27),0),6)","v":0},{"$f":"INDEX(Deduction!$A$3:$K$501,MATCH(1,(Deduction!$A$3:$A$501=Sheet8!A27)*(Deduction!$B$3:$B$501=Sheet8!B27)*(Deduction!$C$3:$C$501=Sheet8!D27),0),7)","v":0},{"$f":"INDEX(Deduction!$A$3:$K$501,MATCH(1,(Deduction!$A$3:$A$501=Sheet8!A27)*(Deduction!$B$3:$B$501=Sheet8!B27)*(Deduction!$C$3:$C$501=Sheet8!D27),0),8)","v":0},{"$f":"INDEX(Deduction!$A$3:$K$501,MATCH(1,(Deduction!$A$3:$A$501=Sheet8!A27)*(Deduction!$B$3:$B$501=Sheet8!B27)*(Deduction!$C$3:$C$501=Sheet8!D27),0),9)","v":0},{"$f":"INDEX(Deduction!$A$3:$K$501,MATCH(1,(Deduction!$A$3:$A$501=Sheet8!A27)*(Deduction!$B$3:$B$501=Sheet8!B27)*(Deduction!$C$3:$C$501=Sheet8!D27),0),10)","v":0},{"$f":"INDEX(Deduction!$A$3:$K$501,MATCH(1,(Deduction!$A$3:$A$501=Sheet8!A27)*(Deduction!$B$3:$B$501=Sheet8!B27)*(Deduction!$C$3:$C$501=Sheet8!D27),0),11)","v":0},{"$error":"#DIV/0!"},{"$f":"VLOOKUP(D27,Emp_Master!$B$3:$H$501,7)","v":{"$error":"#N/A"}}]
[{"$f":"Salary_Entitlement!A29","v":0},{"$f":"Salary_Entitlement!B29","v":0},{"$f":"Salary_Entitlement!C29","v":0},{"$f":"Salary_Entitlement!D29","v":0},{"$f":"Salary_Entitlement!E29","v":{"$error":"#N/A"}},{"$f":"Salary_Entitlement!F29","v":0},{"$f":"Salary_Entitlement!G29","v":0},{"$f":"Salary_Entitlement!H29","v":0},{"$f":"Salary_Entitlement!I29","v":0},{"$f":"Salary_Entitlement!J29","v":0},{"$f":"Salary_Entitlement!K29","v":0},{"$f":"Salary_Entitlement!L29","v":0},{"$f":"Salary_Entitlement!M29","v":0},{"$f":"Salary_Entitlement!N29","v":0},{"$f":"Salary_Entitlement!O29","v":0},{"$f":"Salary_Entitlement!P29","v":0},{"$error":"#DIV/0!"},{"$error":"#DIV/0!"},{"$f":"INDEX(Deduction!$A$3:$K$501,MATCH(1,(Deduction!$A$3:$A$501=Sheet8!A28)*(Deduction!$B$3:$B$501=Sheet8!B28)*(Deduction!$C$3:$C$501=Sheet8!D28),0),5)","v":0},{"$f":"INDEX(Deduction!$A$3:$K$501,MATCH(1,(Deduction!$A$3:$A$501=Sheet8!A28)*(Deduction!$B$3:$B$501=Sheet8!B28)*(Deduction!$C$3:$C$501=Sheet8!D28),0),6)","v":0},{"$f":"INDEX(Deduction!$A$3:$K$501,MATCH(1,(Deduction!$A$3:$A$501=Sheet8!A28)*(Deduction!$B$3:$B$501=Sheet8!B28)*(Deduction!$C$3:$C$501=Sheet8!D28),0),7)","v":0},{"$f":"INDEX(Deduction!$A$3:$K$501,MATCH(1,(Deduction!$A$3:$A$501=Sheet8!A28)*(Deduction!$B$3:$B$501=Sheet8!B28)*(Deduction!$C$3:$C$501=Sheet8!D28),0),8)","v":0},{"$f":"INDEX(Deduction!$A$3:$K$501,MATCH(1,(Deduction!$A$3:$A$501=Sheet8!A28)*(Deduction!$B$3:$B$501=Sheet8!B28)*(Deduction!$C$3:$C$501=Sheet8!D28),0),9)","v":0},{"$f":"INDEX(Deduction!$A$3:$K$501,MATCH(1,(Deduction!$A$3:$A$501=Sheet8!A28)*(Deduction!$B$3:$B$501=Sheet8!B28)*(Deduction!$C$3:$C$501=Sheet8!D28),0),10)","v":0},{"$f":"INDEX(Deduction!$A$3:$K$501,MATCH(1,(Deduction!$A$3:$A$501=Sheet8!A28)*(Deduction!$B$3:$B$501=Sheet8!B28)*(Deduction!$C$3:$C$501=Sheet8!D28),0),11)","v":0},{"$error":"#DIV/0!"},{"$f":"VLOOKUP(D28,Emp_Master!$B$3:$H$501,7)","v":{"$error":"#N/A"}}]
[{"$f":"Salary_Entitlement!A30","v":0},{"$f":"Salary_Entitlement!B30","v":0},{"$f":"Salary_Entitlement!C30","v":0},{"$f":"Salary_Entitlement!D30","v":0},{"$f":"Salary_Entitlement!E30","v":{"$error":"#N/A"}},{"$f":"Salary_Entitlement!F30","v":0},{"$f":"Salary_Entitlement!G30","v":0},{"$f":"Salary_Entitlement!H30","v":0},{"$f":"Salary_Entitlement!I30","v":0},{"$f":"Salary_Entitlement!J30","v":0},{"$f":"Salary_Entitlement!K30","v":0},{"$f":"Salary_Entitlement!L30","v":0},{"$f":"Salary_Entitlement!M30","v":0},{"$f":"Salary_Entitlement!N30","v":0},{"$f":"Salary_Entitlement!O30","v":0},{"$f":"Salary_Entitlement!P30","v":0},{"$error":"#DIV/0!"},{"$error":"#DIV/0!"},{"$f":"INDEX(Deduction!$A$3:$K$501,MATCH(1,(Deduction!$A$3:$A$501=Sheet8!A29)*(Deduction!$B$3:$B$501=Sheet8!B29)*(Deduction!$C$3:$C$501=Sheet8!D29),0),5)","v":0},{"$f":"INDEX(Deduction!$A$3:$K$501,MATCH(1,(Deduction!$A$3:$A$501=Sheet8!A29)*(Deduction!$B$3:$B$501=Sheet8!B29)*(Deduction!$C$3:$C$501=Sheet8!D29),0),6)","v":0},{"$f":"INDEX(Deduction!$A$3:$K$501,MATCH(1,(Deduction!$A$3:$A$501=Sheet8!A29)*(Deduction!$B$3:$B$501=Sheet8!B29)*(Deduction!$C$3:$C$501=Sheet8!D29),0),7)","v":0},{"$f":"INDEX(Deduction!$A$3:$K$501,MATCH(1,(Deduction!$A$3:$A$501=Sheet8!A29)*(Deduction!$B$3:$B$501=Sheet8!B29)*(Deduction!$C$3:$C$501=Sheet8!D29),0),8)","v":0},{"$f":"INDEX(Deduction!$A$3:$K$501,MATCH(1,(Deduction!$A$3:$A$501=Sheet8!A29)*(Deduction!$B$3:$B$501=Sheet8!B29)*(Deduction!$C$3:$C$501=Sheet8!D29),0),9)","v":0},{"$f":"INDEX(Deduction!$A$3:$K$501,MATCH(1,(Deduction!$A$3:$A$501=Sheet8!A29)*(Deduction!$B$3:$B$501=Sheet8!B29)*(Deduction!$C$3:$C$501=Sheet8!D29),0),10)","v":0},{"$f":"INDEX(Deduction!$A$3:$K$501,MATCH(1,(Deduction!$A$3:$A$501=Sheet8!A29)*(Deduction!$B$3:$B$501=Sheet8!B29)*(Deduction!$C$3:$C$501=Sheet8!D29),0),11)","v":0},{"$error":"#DIV/0!"},{"$f":"VLOOKUP(D29,Emp_Master!$B$3:$H$501,7)","v":{"$error":"#N/A"}}]
[{"$f":"Salary_Entitlement!A31","v":0},{"$f":"Salary_Entitlement!B31","v":0},{"$f":"Salary_Entitlement!C31","v":0},{"$f":"Salary_Entitlement!D31","v":0},{"$f":"Salary_Entitlement!E31","v":{"$error":"#N/A"}},{"$f":"Salary_Entitlement!F31","v":0},{"$f":"Salary_Entitlement!G31","v":0},{"$f":"Salary_Entitlement!H31","v":0},{"$f":"Salary_Entitlement!I31","v":0},{"$f":"Salary_Entitlement!J31","v":0},{"$f":"Salary_Entitlement!K31","v":0},{"$f":"Salary_Entitlement!L31","v":0},{"$f":"Salary_Entitlement!M31","v":0},{"$f":"Salary_Entitlement!N31","v":0},{"$f":"Salary_Entitlement!O31","v":0},{"$f":"Salary_Entitlement!P31","v":0},{"$error":"#DIV/0!"},{"$error":"#DIV/0!"},{"$f":"INDEX(Deduction!$A$3:$K$501,MATCH(1,(Deduction!$A$3:$A$501=Sheet8!A30)*(Deduction!$B$3:$B$501=Sheet8!B30)*(Deduction!$C$3:$C$501=Sheet8!D30),0),5)","v":0},{"$f":"INDEX(Deduction!$A$3:$K$501,MATCH(1,(Deduction!$A$3:$A$501=Sheet8!A30)*(Deduction!$B$3:$B$501=Sheet8!B30)*(Deduction!$C$3:$C$501=Sheet8!D30),0),6)","v":0},{"$f":"INDEX(Deduction!$A$3:$K$501,MATCH(1,(Deduction!$A$3:$A$501=Sheet8!A30)*(Deduction!$B$3:$B$501=Sheet8!B30)*(Deduction!$C$3:$C$501=Sheet8!D30),0),7)","v":0},{"$f":"INDEX(Deduction!$A$3:$K$501,MATCH(1,(Deduction!$A$3:$A$501=Sheet8!A30)*(Deduction!$B$3:$B$501=Sheet8!B30)*(Deduction!$C$3:$C$501=Sheet8!D30),0),8)","v":0},{"$f":"INDEX(Deduction!$A$3:$K$501,MATCH(1,(Deduction!$A$3:$A$501=Sheet8!A30)*(Deduction!$B$3:$B$501=Sheet8!B30)*(Deduction!$C$3:$C$501=Sheet8!D30),0),9)","v":0},{"$f":"INDEX(Deduction!$A$3:$K$501,MATCH(1,(Deduction!$A$3:$A$501=Sheet8!A30)*(Deduction!$B$3:$B$501=Sheet8!B30)*(Deduction!$C$3:$C$501=Sheet8!D30),0),10)","v":0},{"$f":"INDEX(Deduction!$A$3:$K$501,MATCH(1,(Deduction!$A$3:$A$501=Sheet8!A30)*(Deduction!$B$3:$B$501=Sheet8!B30)*(Deduction!$C$3:$C$501=Sheet8!D30),0),11)","v":0},{"$error":"#DIV/0!"},{"$f":"VLOOKUP(D30,Emp_Master!$B$3:$H$501,7)","v":{"$error":"#N/A"}}]
[{"$f":"Salary_Entitlement!A32","v":0},{"$f":"Salary_Entitlement!B32","v":0},{"$f":"Salary_Entitlement!C32","v":0},{"$f":"Salary_Entitlement!D32","v":0},{"$f":"Salary_Entitlement!E32","v":{"$error":"#N/A"}},{"$f":"Salary_Entitlement!F32","v":0},{"$f":"Salary_Entitlement!G32","v":0},{"$f":"Salary_Entitlement!H32","v":0},{"$f":"Salary_Entitlement!I32","v":0},{"$f":"Salary_Entitlement!J32","v":0},{"$f":"Salary_Entitlement!K32","v":0},{"$f":"Salary_Entitlement!L32","v":0},{"$f":"Salary_Entitlement!M32","v":0},{"$f":"Salary_Entitlement!N32","v":0},{"$f":"Salary_Entitlement!O32","v":0},{"$f":"Salary_Entitlement!P32","v":0},{"$error":"#DIV/0!"},{"$error":"#DIV/0!"},{"$f":"INDEX(Deduction!$A$3:$K$501,MATCH(1,(Deduction!$A$3:$A$501=Sheet8!A31)*(Deduction!$B$3:$B$501=Sheet8!B31)*(Deduction!$C$3:$C$501=Sheet8!D31),0),5)","v":0},{"$f":"INDEX(Deduction!$A$3:$K$501,MATCH(1,(Deduction!$A$3:$A$501=Sheet8!A31)*(Deduction!$B$3:$B$501=Sheet8!B31)*(Deduction!$C$3:$C$501=Sheet8!D31),0),6)","v":0},{"$f":"INDEX(Deduction!$A$3:$K$501,MATCH(1,(Deduction!$A$3:$A$501=Sheet8!A31)*(Deduction!$B$3:$B$501=Sheet8!B31)*(Deduction!$C$3:$C$501=Sheet8!D31),0),7)","v":0},{"$f":"INDEX(Deduction!$A$3:$K$501,MATCH(1,(Deduction!$A$3:$A$501=Sheet8!A31)*(Deduction!$B$3:$B$501=Sheet8!B31)*(Deduction!$C$3:$C$501=Sheet8!D31),0),8)","v":0},{"$f":"INDEX(Deduction!$A$3:$K$501,MATCH(1,(Deduction!$A$3:$A$501=Sheet8!A31)*(Deduction!$B$3:$B$501=Sheet8!B31)*(Deduction!$C$3:$C$501=Sheet8!D31),0),9)","v":0},{"$f":"INDEX(Deduction!$A$3:$K$501,MATCH(1,(Deduction!$A$3:$A$501=Sheet8!A31)*(Deduction!$B$3:$B$501=Sheet8!B31)*(Deduction!$C$3:$C$501=Sheet8!D31),0),10)","v":0},{"$f":"INDEX(Deduction!$A$3:$K$501,MATCH(1,(Deduction!$A$3:$A$501=Sheet8!A31)*(Deduction!$B$3:$B$501=Sheet8!B31)*(Deduction!$C$3:$C$501=Sheet8!D31),0),11)","v":0},{"$error":"#DIV/0!"},{"$f":"VLOOKUP(D31,Emp_Master!$B$3:$H$501,7)","v":{"$error":"#N/A"}}]
[{"$f":"Salary_Entitlement!A33","v":0},{"$f":"Salary_Entitlement!B33","v":0},{"$f":"Salary_Entitlement!C33","v":0},{"$f":"Salary_Entitlement!D33","v":0},{"$f":"Salary_Entitlement!E33","v":{"$error":"#N/A"}},{"$f":"Salary_Entitlement!F33","v":0},{"$f":"Salary_Entitlement!G33","v":0},{"$f":"Salary_Entitlement!H33","v":0},{"$f":"Salary_Entitlement!I33","v":0},{"$f":"Salary_Entitlement!J33","v":0},{"$f":"Salary_Entitlement!K33","v":0},{"$f":"Salary_Entitlement!L33","v":0},{"$f":"Salary_Entitlement!M33","v":0},{"$f":"Salary_Entitlement!N33","v":0},{"$f":"Salary_Entitlement!O33","v":0},{"$f":"Salary_Entitlement!P33","v":0},{"$error":"#DIV/0!"},{"$error":"#DIV/0!"},{"$f":"INDEX(Deduction!$A$3:$K$501,MATCH(1,(Deduction!$A$3:$A$501=Sheet8!A32)*(Deduction!$B$3:$B$501=Sheet8!B32)*(Deduction!$C$3:$C$501=Sheet8!D32),0),5)","v":0},{"$f":"INDEX(Deduction!$A$3:$K$501,MATCH(1,(Deduction!$A$3:$A$501=Sheet8!A32)*(Deduction!$B$3:$B$501=Sheet8!B32)*(Deduction!$C$3:$C$501=Sheet8!D32),0),6)","v":0},{"$f":"INDEX(Deduction!$A$3:$K$501,MATCH(1,(Deduction!$A$3:$A$501=Sheet8!A32)*(Deduction!$B$3:$B$501=Sheet8!B32)*(Deduction!$C$3:$C$501=Sheet8!D32),0),7)","v":0},{"$f":"INDEX(Deduction!$A$3:$K$501,MATCH(1,(Deduction!$A$3:$A$501=Sheet8!A32)*(Deduction!$B$3:$B$501=Sheet8!B32)*(Deduction!$C$3:$C$501=Sheet8!D32),0),8)","v":0},{"$f":"INDEX(Deduction!$A$3:$K$501,MATCH(1,(Deduction!$A$3:$A$501=Sheet8!A32)*(Deduction!$B$3:$B$501=Sheet8!B32)*(Deduction!$C$3:$C$501=Sheet8!D32),0),9)","v":0},{"$f":"INDEX(Deduction!$A$3:$K$501,MATCH(1,(Deduction!$A$3:$A$501=Sheet8!A32)*(Deduction!$B$3:$B$501=Sheet8!B32)*(Deduction!$C$3:$C$501=Sheet8!D32),0),10)","v":0},{"$f":"INDEX(Deduction!$A$3:$K$501,MATCH(1,(Deduction!$A$3:$A$501=Sheet8!A32)*(Deduction!$B$3:$B$501=Sheet8!B32)*(Deduction!$C$3:$C$501=Sheet8!D32),0),11)","v":0},{"$error":"#DIV/0!"},{"$f":"VLOOKUP(D32,Emp_Master!$B$3:$H$501,7)","v":{"$error":"#N/A"}}]
[{"$f":"Salary_Entitlement!A34","v":0},{"$f":"Salary_Entitlement!B34","v":0},{"$f":"Salary_Entitlement!C34","v":0},{"$f":"Salary_Entitlement!D34","v":0},{"$f":"Salary_Entitlement!E34","v":{"$error":"#N/A"}},{"$f":"Salary_Entitlement!F34","v":0},{"$f":"Salary_Entitlement!G34","v":0},{"$f":"Salary_Entitlement!H34","v":0},{"$f":"Salary_Entitlement!I34","v":0},{"$f":"Salary_Entitlement!J34","v":0},{"$f":"Salary_Entitlement!K34","v":0},{"$f":"Salary_Entitlement!L34","v":0},{"$f":"Salary_Entitlement!M34","v":0},{"$f":"Salary_Entitlement!N34","v":0},{"$f":"Salary_Entitlement!O34","v":0},{"$f":"Salary_Entitlement!P34","v":0},{"$error":"#DIV/0!"},{"$error":"#DIV/0!"},{"$f":"INDEX(Deduction!$A$3:$K$501,MATCH(1,(Deduction!$A$3:$A$501=Sheet8!A33)*(Deduction!$B$3:$B$501=Sheet8!B33)*(Deduction!$C$3:$C$501=Sheet8!D33),0),5)","v":0},{"$f":"INDEX(Deduction!$A$3:$K$501,MATCH(1,(Deduction!$A$3:$A$501=Sheet8!A33)*(Deduction!$B$3:$B$501=Sheet8!B33)*(Deduction!$C$3:$C$501=Sheet8!D33),0),6)","v":0},{"$f":"INDEX(Deduction!$A$3:$K$501,MATCH(1,(Deduction!$A$3:$A$501=Sheet8!A33)*(Deduction!$B$3:$B$501=Sheet8!B33)*(Deduction!$C$3:$C$501=Sheet8!D33),0),7)","v":0},{"$f":"INDEX(Deduction!$A$3:$K$501,MATCH(1,(Deduction!$A$3:$A$501=Sheet8!A33)*(Deduction!$B$3:$B$501=Sheet8!B33)*(Deduction!$C$3:$C$501=Sheet8!D33),0),8)","v":0},{"$f":"INDEX(Deduction!$A$3:$K$501,MATCH(1,(Deduction!$A$3:$A$501=Sheet8!A33)*(Deduction!$B$3:$B$501=Sheet8!B33)*(Deduction!$C$3:$C$501=Sheet8!D33),0),9)","v":0},{"$f":"INDEX(Deduction!$A$3:$K$501,MATCH(1,(Deduction!$A$3:$A$501=Sheet8!A33)*(Deduction!$B$3:$B$501=Sheet8!B33)*(Deduction!$C$3:$C$501=Sheet8!D33),0),10)","v":0},{"$f":"INDEX(Deduction!$A$3:$K$501,MATCH(1,(Deduction!$A$3:$A$501=Sheet8!A33)*(Deduction!$B$3:$B$501=Sheet8!B33)*(Deduction!$C$3:$C$501=Sheet8!D33),0),11)","v":0},{"$error":"#DIV/0!"},{"$f":"VLOOKUP(D33,Emp_Master!$B$3:$H$501,7)","v":{"$error":"#N/A"}}]
[{"$f":"Salary_Entitlement!A35","v":0},{"$f":"Salary_Entitlement!B35","v":0},{"$f":"Salary_Entitlement!C35","v":0},{"$f":"Salary_Entitlement!D35","v":0},{"$f":"Salary_Entitlement!E35","v":{"$error":"#N/A"}},{"$f":"Salary_Entitlement!F35","v":0},{"$f":"Salary_Entitlement!G35","v":0},{"$f":"Salary_Entitlement!H35","v":0},{"$f":"Salary_Entitlement!I35","v":0},{"$f":"Salary_Entitlement!J35","v":0},{"$f":"Salary_Entitlement!K35","v":0},{"$f":"Salary_Entitlement!L35","v":0},{"$f":"Salary_Entitlement!M35","v":0},{"$f":"Salary_Entitlement!N35","v":0},{"$f":"Salary_Entitlement!O35","v":0},{"$f":"Salary_Entitlement!P35","v":0},{"$error":"#DIV/0!"},{"$error":"#DIV/0!"},{"$f":"INDEX(Deduction!$A$3:$K$501,MATCH(1,(Deduction!$A$3:$A$501=Sheet8!A34)*(Deduction!$B$3:$B$501=Sheet8!B34)*(Deduction!$C$3:$C$501=Sheet8!D34),0),5)","v":0},{"$f":"INDEX(Deduction!$A$3:$K$501,MATCH(1,(Deduction!$A$3:$A$501=Sheet8!A34)*(Deduction!$B$3:$B$501=Sheet8!B34)*(Deduction!$C$3:$C$501=Sheet8!D34),0),6)","v":0},{"$f":"INDEX(Deduction!$A$3:$K$501,MATCH(1,(Deduction!$A$3:$A$501=Sheet8!A34)*(Deduction!$B$3:$B$501=Sheet8!B34)*(Deduction!$C$3:$C$501=Sheet8!D34),0),7)","v":0},{"$f":"INDEX(Deduction!$A$3:$K$501,MATCH(1,(Deduction!$A$3:$A$501=Sheet8!A34)*(Deduction!$B$3:$B$501=Sheet8!B34)*(Deduction!$C$3:$C$501=Sheet8!D34),0),8)","v":0},{"$f":"INDEX(Deduction!$A$3:$K$501,MATCH(1,(Deduction!$A$3:$A$501=Sheet8!A34)*(Deduction!$B$3:$B$501=Sheet8!B34)*(Deduction!$C$3:$C$501=Sheet8!D34),0),9)","v":0},{"$f":"INDEX(Deduction!$A$3:$K$501,MATCH(1,(Deduction!$A$3:$A$501=Sheet8!A34)*(Deduction!$B$3:$B$501=Sheet8!B34)*(Deduction!$C$3:$C$501=Sheet8!D34),0),10)","v":0},{"$f":"INDEX(Deduction!$A$3:$K$501,MATCH(1,(Deduction!$A$3:$A$501=Sheet8!A34)*(Deduction!$B$3:$B$501=Sheet8!B34)*(Deduction!$C$3:$C$501=Sheet8!D34),0),11)","v":0},{"$error":"#DIV/0!"},{"$f":"VLOOKUP(D34,Emp_Master!$B$3:$H$501,7)","v":{"$error":"#N/A"}}]
[{"$f":"Salary_Entitlement!A36","v":0},{"$f":"Salary_Entitlement!B36","v":0},{"$f":"Salary_Entitlement!C36","v":0},{"$f":"Salary_Entitlement!D36","v":0},{"$f":"Salary_Entitlement!E36","v":{"$error":"#N/A"}},{"$f":"Salary_Entitlement!F36","v":0},{"$f":"Salary_Entitlement!G36","v":0},{"$f":"Salary_Entitlement!H36","v":0},{"$f":"Salary_Entitlement!I36","v":0},{"$f":"Salary_Entitlement!J36","v":0},{"$f":"Salary_Entitlement!K36","v":0},{"$f":"Salary_Entitlement!L36","v":0},{"$f":"Salary_Entitlement!M36","v":0},{"$f":"Salary_Entitlement!N36","v":0},{"$f":"Salary_Entitlement!O36","v":0},{"$f":"Salary_Entitlement!P36","v":0},{"$error":"#DIV/0!"},{"$error":"#DIV/0!"},{"$f":"INDEX(Deduction!$A$3:$K$501,MATCH(1,(Deduction!$A$3:$A$501=Sheet8!A35)*(Deduction!$B$3:$B$501=Sheet8!B35)*(Deduction!$C$3:$C$501=Sheet8!D35),0),5)","v":0},{"$f":"INDEX(Deduction!$A$3:$K$501,MATCH(1,(Deduction!$A$3:$A$501=Sheet8!A35)*(Deduction!$B$3:$B$501=Sheet8!B35)*(Deduction!$C$3:$C$501=Sheet8!D35),0),6)","v":0},{"$f":"INDEX(Deduction!$A$3:$K$501,MATCH(1,(Deduction!$A$3:$A$501=Sheet8!A35)*(Deduction!$B$3:$B$501=Sheet8!B35)*(Deduction!$C$3:$C$501=Sheet8!D35),0),7)","v":0},{"$f":"INDEX(Deduction!$A$3:$K$501,MATCH(1,(Deduction!$A$3:$A$501=Sheet8!A35)*(Deduction!$B$3:$B$501=Sheet8!B35)*(Deduction!$C$3:$C$501=Sheet8!D35),0),8)","v":0},{"$f":"INDEX(Deduction!$A$3:$K$501,MATCH(1,(Deduction!$A$3:$A$501=Sheet8!A35)*(Deduction!$B$3:$B$501=Sheet8!B35)*(Deduction!$C$3:$C$501=Sheet8!D35),0),9)","v":0},{"$f":"INDEX(Deduction!$A$3:$K$501,MATCH(1,(Deduction!$A$3:$A$501=Sheet8!A35)*(Deduction!$B$3:$B$501=Sheet8!B35)*(Deduction!$C$3:$C$501=Sheet8!D35),0),10)","v":0},{"$f":"INDEX(Deduction!$A$3:$K$501,MATCH(1,(Deduction!$A$3:$A$501=Sheet8!A35)*(Deduction!$B$3:$B$501=Sheet8!B35)*(Deduction!$C$3:$C$501=Sheet8!D35),0),11)","v":0},{"$error":"#DIV/0!"},{"$f":"VLOOKUP(D35,Emp_Master!$B$3:$H$501,7)","v":{"$error":"#N/A"}}]
[{"$f":"Salary_Entitlement!A37","v":0},{"$f":"Salary_Entitlement!B37","v":0},{"$f":"Salary_Entitlement!C37","v":0},{"$f":"Salary_Entitlement!D37","v":0},{"$f":"Salary_Entitlement!E37","v":{"$error":"#N/A"}},{"$f":"Salary_Entitlement!F37","v":0},{"$f":"Salary_Entitlement!G37","v":0},{"$f":"Salary_Entitlement!H37","v":0},{"$f":"Salary_Entitlement!I37","v":0},{"$f":"Salary_Entitlement!J37","v":0},{"$f":"Salary_Entitlement!K37","v":0},{"$f":"Salary_Entitlement!L37","v":0},{"$f":"Salary_Entitlement!M37","v":0},{"$f":"Salary_Entitlement!N37","v":0},{"$f":"Salary_Entitlement!O37","v":0},{"$f":"Salary_Entitlement!P37","v":0},{"$error":"#DIV/0!"},{"$error":"#DIV/0!"},{"$f":"INDEX(Deduction!$A$3:$K$501,MATCH(1,(Deduction!$A$3:$A$501=Sheet8!A36)*(Deduction!$B$3:$B$501=Sheet8!B36)*(Deduction!$C$3:$C$501=Sheet8!D36),0),5)","v":0},{"$f":"INDEX(Deduction!$A$3:$K$501,MATCH(1,(Deduction!$A$3:$A$501=Sheet8!A36)*(Deduction!$B$3:$B$501=Sheet8!B36)*(Deduction!$C$3:$C$501=Sheet8!D36),0),6)","v":0},{"$f":"INDEX(Deduction!$A$3:$K$501,MATCH(1,(Deduction!$A$3:$A$501=Sheet8!A36)*(Deduction!$B$3:$B$501=Sheet8!B36)*(Deduction!$C$3:$C$501=Sheet8!D36),0),7)","v":0},{"$f":"INDEX(Deduction!$A$3:$K$501,MATCH(1,(Deduction!$A$3:$A$501=Sheet8!A36)*(Deduction!$B$3:$B$501=Sheet8!B36)*(Deduction!$C$3:$C$501=Sheet8!D36),0),8)","v":0},{"$f":"INDEX(Deduction!$A$3:$K$501,MATCH(1,(Deduction!$A$3:$A$501=Sheet8!A36)*(Deduction!$B$3:$B$501=Sheet8!B36)*(Deduction!$C$3:$C$501=Sheet8!D36),0),9)","v":0},{"$f":"INDEX(Deduction!$A$3:$K$501,MATCH(1,(Deduction!$A$3:$A$501=Sheet8!A36)*(Deduction!$B$3:$B$501=Sheet8!B36)*(Deduction!$C$3:$C$501=Sheet8!D36),0),10)","v":0},{"$f":"INDEX(Deduction!$A$3:$K$501,MATCH(1,(Deduction!$A$3:$A$501=Sheet8!A36)*(Deduction!$B$3:$B$501=Sheet8!B36)*(Deduction!$C$3:$C$501=Sheet8!D36),0),11)","v":0},{"$error":"#DIV/0!"},{"$f":"VLOOKUP(D36,Emp_Master!$B$3:$H$501,7)","v":{"$error":"#N/A"}}]
[{"$f":"Salary_Entitlement!A38","v":0},{"$f":"Salary_Entitlement!B38","v":0},{"$f":"Salary_Entitlement!C38","v":0},{"$f":"Salary_Entitlement!D38","v":0},{"$f":"Salary_Entitlement!E38","v":{"$error":"#N/A"}},{"$f":"Salary_Entitlement!F38","v":0},{"$f":"Salary_Entitlement!G38","v":0},{"$f":"Salary_Entitlement!H38","v":0},{"$f":"Salary_Entitlement!I38","v":0},{"$f":"Salary_Entitlement!J38","v":0},{"$f":"Salary_Entitlement!K38","v":0},{"$f":"Salary_Entitlement!L38","v":0},{"$f":"Salary_Entitlement!M38","v":0},{"$f":"Salary_Entitlement!N38","v":0},{"$f":"Salary_Entitlement!O38","v":0},{"$f":"Salary_Entitlement!P38","v":0},{"$error":"#DIV/0!"},{"$error":"#DIV/0!"},{"$f":"INDEX(Deduction!$A$3:$K$501,MATCH(1,(Deduction!$A$3:$A$501=Sheet8!A37)*(Deduction!$B$3:$B$501=Sheet8!B37)*(Deduction!$C$3:$C$501=Sheet8!D37),0),5)","v":0},{"$f":"INDEX(Deduction!$A$3:$K$501,MATCH(1,(Deduction!$A$3:$A$501=Sheet8!A37)*(Deduction!$B$3:$B$501=Sheet8!B37)*(Deduction!$C$3:$C$501=Sheet8!D37),0),6)","v":0},{"$f":"INDEX(Deduction!$A$3:$K$501,MATCH(1,(Deduction!$A$3:$A$501=Sheet8!A37)*(Deduction!$B$3:$B$501=Sheet8!B37)*(Deduction!$C$3:$C$501=Sheet8!D37),0),7)","v":0},{"$f":"INDEX(Deduction!$A$3:$K$501,MATCH(1,(Deduction!$A$3:$A$501=Sheet8!A37)*(Deduction!$B$3:$B$501=Sheet8!B37)*(Deduction!$C$3:$C$501=Sheet8!D37),0),8)","v":0},{"$f":"INDEX(Deduction!$A$3:$K$501,MATCH(1,(Deduction!$A$3:$A$501=Sheet8!A37)*(Deduction!$B$3:$B$501=Sheet8!B37)*(Deduction!$C$3:$C$501=Sheet8!D37),0),9)","v":0},{"$f":"INDEX(Deduction!$A$3:$K$501,MATCH(1,(Deduction!$A$3:$A$501=Sheet8!A37)*(Deduction!$B$3:$B$501=Sheet8!B37)*(Deduction!$C$3:$C$501=Sheet8!D37),0),10)","v":0},{"$f":"INDEX(Deduction!$A$3:$K$501,MATCH(1,(Deduction!$A$3:$A$501=Sheet8!A37)*(Deduction!$B$3:$B$501=Sheet8!B37)*(Deduction!$C$3:$C$501=Sheet8!D37),0),11)","v":0},{"$error":"#DIV/0!"},{"$f":"VLOOKUP(D37,Emp_Master!$B$3:$H$501,7)","v":{"$error":"#N/A"}}]
[{"$f":"Salary_Entitlement!A39","v":0},{"$f":"Salary_Entitlement!B39","v":0},{"$f":"Salary_Entitlement!C39","v":0},{"$f":"Salary_Entitlement!D39","v":0},{"$f":"Salary_Entitlement!E39","v":{"$error":"#N/A"}},{"$f":"Salary_Entitlement!F39","v":0},{"$f":"Salary_Entitlement!G39","v":0},{"$f":"Salary_Entitlement!H39","v":0},{"$f":"Salary_Entitlement!I39","v":0},{"$f":"Salary_Entitlement!J39","v":0},{"$f":"Salary_Entitlement!K39","v":0},{"$f":"Salary_Entitlement!L39","v":0},{"$f":"Salary_Entitlement!M39","v":0},{"$f":"Salary_Entitlement!N39","v":0},{"$f":"Salary_Entitlement!O39","v":0},{"$f":"Salary_Entitlement!P39","v":0},{"$error":"#DIV/0!"},{"$error":"#DIV/0!"},{"$f":"INDEX(Deduction!$A$3:$K$501,MATCH(1,(Deduction!$A$3:$A$501=Sheet8!A38)*(Deduction!$B$3:$B$501=Sheet8!B38)*(Deduction!$C$3:$C$501=Sheet8!D38),0),5)","v":0},{"$f":"INDEX(Deduction!$A$3:$K$501,MATCH(1,(Deduction!$A$3:$A$501=Sheet8!A38)*(Deduction!$B$3:$B$501=Sheet8!B38)*(Deduction!$C$3:$C$501=Sheet8!D38),0),6)","v":0},{"$f":"INDEX(Deduction!$A$3:$K$501,MATCH(1,(Deduction!$A$3:$A$501=Sheet8!A38)*(Deduction!$B$3:$B$501=Sheet8!B38)*(Deduction!$C$3:$C$501=Sheet8!D38),0),7)","v":0},{"$f":"INDEX(Deduction!$A$3:$K$501,MATCH(1,(Deduction!$A$3:$A$501=Sheet8!A38)*(Deduction!$B$3:$B$501=Sheet8!B38)*(Deduction!$C$3:$C$501=Sheet8!D38),0),8)","v":0},{"$f":"INDEX(Deduction!$A$3:$K$501,MATCH(1,(Deduction!$A$3:$A$501=Sheet8!A38)*(Deduction!$B$3:$B$501=Sheet8!B38)*(Deduction!$C$3:$C$501=Sheet8!D38),0),9)","v":0},{"$f":"INDEX(Deduction!$A$3:$K$501,MATCH(1,(Deduction!$A$3:$A$501=Sheet8!A38)*(Deduction!$B$3:$B$501=Sheet8!B38)*(Deduction!$C$3:$C$501=Sheet8!D38),0),10)","v":0},{"$f":"INDEX(Deduction!$A$3:$K$501,MATCH(1,(Deduction!$A$3:$A$501=Sheet8!A38)*(Deduction!$B$3:$B$501=Sheet8!B38)*(Deduction!$C$3:$C$501=Sheet8!D38),0),11)","v":0},{"$error":"#DIV/0!"},{"$f":"VLOOKUP(D38,Emp_Master!$B$3:$H$501,7)","v":{"$error":"#N/A"}}]
[{"$f":"Salary_Entitlement!A40","v":0},{"$f":"Salary_Entitlement!B40","v":0},{"$f":"Salary_Entitlement!C40","v":0},{"$f":"Salary_Entitlement!D40","v":0},{"$f":"Salary_Entitlement!E40","v":{"$error":"#N/A"}},{"$f":"Salary_Entitlement!F40","v":0},{"$f":"Salary_Entitlement!G40","v":0},{"$f":"Salary_Entitlement!H40","v":0},{"$f":"Salary_Entitlement!I40","v":0},{"$f":"Salary_Entitlement!J40","v":0},{"$f":"Salary_Entitlement!K40","v":0},{"$f":"Salary_Entitlement!L40","v":0},{"$f":"Salary_Entitlement!M40","v":0},{"$f":"Salary_Entitlement!N40","v":0},{"$f":"Salary_Entitlement!O40","v":0},{"$f":"Salary_Entitlement!P40","v":0},{"$error":"#DIV/0!"},{"$error":"#DIV/0!"},{"$f":"INDEX(Deduction!$A$3:$K$501,MATCH(1,(Deduction!$A$3:$A$501=Sheet8!A39)*(Deduction!$B$3:$B$501=Sheet8!B39)*(Deduction!$C$3:$C$501=Sheet8!D39),0),5)","v":0},{"$f":"INDEX(Deduction!$A$3:$K$501,MATCH(1,(Deduction!$A$3:$A$501=Sheet8!A39)*(Deduction!$B$3:$B$501=Sheet8!B39)*(Deduction!$C$3:$C$501=Sheet8!D39),0),6)","v":0},{"$f":"INDEX(Deduction!$A$3:$K$501,MATCH(1,(Deduction!$A$3:$A$501=Sheet8!A39)*(Deduction!$B$3:$B$501=Sheet8!B39)*(Deduction!$C$3:$C$501=Sheet8!D39),0),7)","v":0},{"$f":"INDEX(Deduction!$A$3:$K$501,MATCH(1,(Deduction!$A$3:$A$501=Sheet8!A39)*(Deduction!$B$3:$B$501=Sheet8!B39)*(Deduction!$C$3:$C$501=Sheet8!D39),0),8)","v":0},{"$f":"INDEX(Deduction!$A$3:$K$501,MATCH(1,(Deduction!$A$3:$A$501=Sheet8!A39)*(Deduction!$B$3:$B$501=Sheet8!B39)*(Deduction!$C$3:$C$501=Sheet8!D39),0),9)","v":0},{"$f":"INDEX(Deduction!$A$3:$K$501,MATCH(1,(Deduction!$A$3:$A$501=Sheet8!A39)*(Deduction!$B$3:$B$501=Sheet8!B39)*(Deduction!$C$3:$C$501=Sheet8!D39),0),10)","v":0},{"$f":"INDEX(Deduction!$A$3:$K$501,MATCH(1,(Deduction!$A$3:$A$501=Sheet8!A39)*(Deduction!$B$3:$B$501=Sheet8!B39)*(Deduction!$C$3:$C$501=Sheet8!D39),0),11)","v":0},{"$error":"#DIV/0!"},{"$f":"VLOOKUP(D39,Emp_Master!$B$3:$H$501,7)","v":{"$error":"#N/A"}}]
[{"$f":"Salary_Entitlement!A41","v":0},{"$f":"Salary_Entitlement!B41","v":0},{"$f":"Salary_Entitlement!C41","v":0},{"$f":"Salary_Entitlement!D41","v":0},{"$f":"Salary_Entitlement!E41","v":{"$error":"#N/A"}},{"$f":"Salary_Entitlement!F41","v":0},{"$f":"Salary_Entitlement!G41","v":0},{"$f":"Salary_Entitlement!H41","v":0},{"$f":"Salary_Entitlement!I41","v":0},{"$f":"Salary_Entitlement!J41","v":0},{"$f":"Salary_Entitlement!K41","v":0},{"$f":"Salary_Entitlement!L41","v":0},{"$f":"Salary_Entitlement!M41","v":0},{"$f":"Salary_Entitlement!N41","v":0},{"$f":"Salary_Entitlement!O41","v":0},{"$f":"Salary_Entitlement!P41","v":0},{"$error":"#DIV/0!"},{"$error":"#DIV/0!"},{"$f":"INDEX(Deduction!$A$3:$K$501,MATCH(1,(Deduction!$A$3:$A$501=Sheet8!A40)*(Deduction!$B$3:$B$501=Sheet8!B40)*(Deduction!$C$3:$C$501=Sheet8!D40),0),5)","v":0},{"$f":"INDEX(Deduction!$A$3:$K$501,MATCH(1,(Deduction!$A$3:$A$501=Sheet8!A40)*(Deduction!$B$3:$B$501=Sheet8!B40)*(Deduction!$C$3:$C$501=Sheet8!D40),0),6)","v":0},{"$f":"INDEX(Deduction!$A$3:$K$501,MATCH(1,(Deduction!$A$3:$A$501=Sheet8!A40)*(Deduction!$B$3:$B$501=Sheet8!B40)*(Deduction!$C$3:$C$501=Sheet8!D40),0),7)","v":0},{"$f":"INDEX(Deduction!$A$3:$K$501,MATCH(1,(Deduction!$A$3:$A$501=Sheet8!A40)*(Deduction!$B$3:$B$501=Sheet8!B40)*(Deduction!$C$3:$C$501=Sheet8!D40),0),8)","v":0},{"$f":"INDEX(Deduction!$A$3:$K$501,MATCH(1,(Deduction!$A$3:$A$501=Sheet8!A40)*(Deduction!$B$3:$B$501=Sheet8!B40)*(Deduction!$C$3:$C$501=Sheet8!D40),0),9)","v":0},{"$f":"INDEX(Deduction!$A$3:$K$501,MATCH(1,(Deduction!$A$3:$A$501=Sheet8!A40)*(Deduction!$B$3:$B$501=Sheet8!B40)*(Deduction!$C$3:$C$501=Sheet8!D40),0),10)","v":0},{"$f":"INDEX(Deduction!$A$3:$K$501,MATCH(1,(Deduction!$A$3:$A$501=Sheet8!A40)*(Deduction!$B$3:$B$501=Sheet8!B40)*(Deduction!$C$3:$C$501=Sheet8!D40),0),11)","v":0},{"$error":"#DIV/0!"},{"$f":"VLOOKUP(D40,Emp_Master!$B$3:$H$501,7)","v":{"$error":"#N/A"}}]
[{"$f":"Salary_Entitlement!A42","v":0},{"$f":"Salary_Entitlement!B42","v":0},{"$f":"Salary_Entitlement!C42","v":0},{"$f":"Salary_Entitlement!D42","v":0},{"$f":"Salary_Entitlement!E42","v":{"$error":"#N/A"}},{"$f":"Salary_Entitlement!F42","v":0},{"$f":"Salary_Entitlement!G42","v":0},{"$f":"Salary_Entitlement!H42","v":0},{"$f":"Salary_Entitlement!I42","v":0},{"$f":"Salary_Entitlement!J42","v":0},{"$f":"Salary_Entitlement!K42","v":0},{"$f":"Salary_Entitlement!L42","v":0},{"$f":"Salary_Entitlement!M42","v":0},{"$f":"Salary_Entitlement!N42","v":0},{"$f":"Salary_Entitlement!O42","v":0},{"$f":"Salary_Entitlement!P42","v":0},{"$error":"#DIV/0!"},{"$error":"#DIV/0!"},{"$f":"INDEX(Deduction!$A$3:$K$501,MATCH(1,(Deduction!$A$3:$A$501=Sheet8!A41)*(Deduction!$B$3:$B$501=Sheet8!B41)*(Deduction!$C$3:$C$501=Sheet8!D41),0),5)","v":0},{"$f":"INDEX(Deduction!$A$3:$K$501,MATCH(1,(Deduction!$A$3:$A$501=Sheet8!A41)*(Deduction!$B$3:$B$501=Sheet8!B41)*(Deduction!$C$3:$C$501=Sheet8!D41),0),6)","v":0},{"$f":"INDEX(Deduction!$A$3:$K$501,MATCH(1,(Deduction!$A$3:$A$501=Sheet8!A41)*(Deduction!$B$3:$B$501=Sheet8!B41)*(Deduction!$C$3:$C$501=Sheet8!D41),0),7)","v":0},{"$f":"INDEX(Deduction!$A$3:$K$501,MATCH(1,(Deduction!$A$3:$A$501=Sheet8!A41)*(Deduction!$B$3:$B$501=Sheet8!B41)*(Deduction!$C$3:$C$501=Sheet8!D41),0),8)","v":0},{"$f":"INDEX(Deduction!$A$3:$K$501,MATCH(1,(Deduction!$A$3:$A$501=Sheet8!A41)*(Deduction!$B$3:$B$501=Sheet8!B41)*(Deduction!$C$3:$C$501=Sheet8!D41),0),9)","v":0},{"$f":"INDEX(Deduction!$A$3:$K$501,MATCH(1,(Deduction!$A$3:$A$501=Sheet8!A41)*(Deduction!$B$3:$B$501=Sheet8!B41)*(Deduction!$C$3:$C$501=Sheet8!D41),0),10)","v":0},{"$f":"INDEX(Deduction!$A$3:$K$501,MATCH(1,(Deduction!$A$3:$A$501=Sheet8!A41)*(Deduction!$B$3:$B$501=Sheet8!B41)*(Deduction!$C$3:$C$501=Sheet8!D41),0),11)","v":0},{"$error":"#DIV/0!"},{"$f":"VLOOKUP(D41,Emp_Master!$B$3:$H$501,7)","v":{"$error":"#N/A"}}]
[{"$f":"Salary_Entitlement!A43","v":0},{"$f":"Salary_Entitlement!B43","v":0},{"$f":"Salary_Entitlement!C43","v":0},{"$f":"Salary_Entitlement!D43","v":0},{"$f":"Salary_Entitlement!E43","v":{"$error":"#N/A"}},{"$f":"Salary_Entitlement!F43","v":0},{"$f":"Salary_Entitlement!G43","v":0},{"$f":"Salary_Entitlement!H43","v":0},{"$f":"Salary_Entitlement!I43","v":0},{"$f":"Salary_Entitlement!J43","v":0},{"$f":"Salary_Entitlement!K43","v":0},{"$f":"Salary_Entitlement!L43","v":0},{"$f":"Salary_Entitlement!M43","v":0},{"$f":"Salary_Entitlement!N43","v":0},{"$f":"Salary_Entitlement!O43","v":0},{"$f":"Salary_Entitlement!P43","v":0},{"$error":"#DIV/0!"},{"$error":"#DIV/0!"},{"$f":"INDEX(Deduction!$A$3:$K$501,MATCH(1,(Deduction!$A$3:$A$501=Sheet8!A42)*(Deduction!$B$3:$B$501=Sheet8!B42)*(Deduction!$C$3:$C$501=Sheet8!D42),0),5)","v":0},{"$f":"INDEX(Deduction!$A$3:$K$501,MATCH(1,(Deduction!$A$3:$A$501=Sheet8!A42)*(Deduction!$B$3:$B$501=Sheet8!B42)*(Deduction!$C$3:$C$501=Sheet8!D42),0),6)","v":0},{"$f":"INDEX(Deduction!$A$3:$K$501,MATCH(1,(Deduction!$A$3:$A$501=Sheet8!A42)*(Deduction!$B$3:$B$501=Sheet8!B42)*(Deduction!$C$3:$C$501=Sheet8!D42),0),7)","v":0},{"$f":"INDEX(Deduction!$A$3:$K$501,MATCH(1,(Deduction!$A$3:$A$501=Sheet8!A42)*(Deduction!$B$3:$B$501=Sheet8!B42)*(Deduction!$C$3:$C$501=Sheet8!D42),0),8)","v":0},{"$f":"INDEX(Deduction!$A$3:$K$501,MATCH(1,(Deduction!$A$3:$A$501=Sheet8!A42)*(Deduction!$B$3:$B$501=Sheet8!B42)*(Deduction!$C$3:$C$501=Sheet8!D42),0),9)","v":0},{"$f":"INDEX(Deduction!$A$3:$K$501,MATCH(1,(Deduction!$A$3:$A$501=Sheet8!A42)*(Deduction!$B$3:$B$501=Sheet8!B42)*(Deduction!$C$3:$C$501=Sheet8!D42),0),10)","v":0},{"$f":"INDEX(Deduction!$A$3:$K$501,MATCH(1,(Deduction!$A$3:$A$501=Sheet8!A42)*(Deduction!$B$3:$B$501=Sheet8!B42)*(Deduction!$C$3:$C$501=Sheet8!D42),0),11)","v":0},{"$error":"#DIV/0!"},{"$f":"VLOOKUP(D42,Emp_Master!$B$3:$H$501,7)","v":{"$error":"#N/A"}}]
[{"$f":"Salary_Entitlement!A44","v":0},{"$f":"Salary_Entitlement!B44","v":0},{"$f":"Salary_Entitlement!C44","v":0},{"$f":"Salary_Entitlement!D44","v":0},{"$f":"Salary_Entitlement!E44","v":{"$error":"#N/A"}},{"$f":"Salary_Entitlement!F44","v":0},{"$f":"Salary_Entitlement!G44","v":0},{"$f":"Salary_Entitlement!H44","v":0},{"$f":"Salary_Entitlement!I44","v":0},{"$f":"Salary_Entitlement!J44","v":0},{"$f":"Salary_Entitlement!K44","v":0},{"$f":"Salary_Entitlement!L44","v":0},{"$f":"Salary_Entitlement!M44","v":0},{"$f":"Salary_Entitlement!N44","v":0},{"$f":"Salary_Entitlement!O44","v":0},{"$f":"Salary_Entitlement!P44","v":0},{"$error":"#DIV/0!"},{"$error":"#DIV/0!"},{"$f":"INDEX(Deduction!$A$3:$K$501,MATCH(1,(Deduction!$A$3:$A$501=Sheet8!A43)*(Deduction!$B$3:$B$501=Sheet8!B43)*(Deduction!$C$3:$C$501=Sheet8!D43),0),5)","v":0},{"$f":"INDEX(Deduction!$A$3:$K$501,MATCH(1,(Deduction!$A$3:$A$501=Sheet8!A43)*(Deduction!$B$3:$B$501=Sheet8!B43)*(Deduction!$C$3:$C$501=Sheet8!D43),0),6)","v":0},{"$f":"INDEX(Deduction!$A$3:$K$501,MATCH(1,(Deduction!$A$3:$A$501=Sheet8!A43)*(Deduction!$B$3:$B$501=Sheet8!B43)*(Deduction!$C$3:$C$501=Sheet8!D43),0),7)","v":0},{"$f":"INDEX(Deduction!$A$3:$K$501,MATCH(1,(Deduction!$A$3:$A$501=Sheet8!A43)*(Deduction!$B$3:$B$501=Sheet8!B43)*(Deduction!$C$3:$C$501=Sheet8!D43),0),8)","v":0},{"$f":"INDEX(Deduction!$A$3:$K$501,MATCH(1,(Deduction!$A$3:$A$501=Sheet8!A43)*(Deduction!$B$3:$B$501=Sheet8!B43)*(Deduction!$C$3:$C$501=Sheet8!D43),0),9)","v":0},{"$f":"INDEX(Deduction!$A$3:$K$501,MATCH(1,(Deduction!$A$3:$A$501=Sheet8!A43)*(Deduction!$B$3:$B$501=Sheet8!B43)*(Deduction!$C$3:$C$501=Sheet8!D43),0),10)","v":0},{"$f":"INDEX(Deduction!$A$3:$K$501,MATCH(1,(Deduction!$A$3:$A$501=Sheet8!A43)*(Deduction!$B$3:$B$501=Sheet8!B43)*(Deduction!$C$3:$C$501=Sheet8!D43),0),11)","v":0},{"$error":"#DIV/0!"},{"$f":"VLOOKUP(D43,Emp_Master!$B$3:$H$501,7)","v":{"$error":"#N/A"}}]
[{"$f":"Salary_Entitlement!A45","v":0},{"$f":"Salary_Entitlement!B45","v":0},{"$f":"Salary_Entitlement!C45","v":0},{"$f":"Salary_Entitlement!D45","v":0},{"$f":"Salary_Entitlement!E45","v":{"$error":"#N/A"}},{"$f":"Salary_Entitlement!F45","v":0},{"$f":"Salary_Entitlement!G45","v":0},{"$f":"Salary_Entitlement!H45","v":0},{"$f":"Salary_Entitlement!I45","v":0},{"$f":"Salary_Entitlement!J45","v":0},{"$f":"Salary_Entitlement!K45","v":0},{"$f":"Salary_Entitlement!L45","v":0},{"$f":"Salary_Entitlement!M45","v":0},{"$f":"Salary_Entitlement!N45","v":0},{"$f":"Salary_Entitlement!O45","v":0},{"$f":"Salary_Entitlement!P45","v":0},{"$error":"#DIV/0!"},{"$error":"#DIV/0!"},{"$f":"INDEX(Deduction!$A$3:$K$501,MATCH(1,(Deduction!$A$3:$A$501=Sheet8!A44)*(Deduction!$B$3:$B$501=Sheet8!B44)*(Deduction!$C$3:$C$501=Sheet8!D44),0),5)","v":0},{"$f":"INDEX(Deduction!$A$3:$K$501,MATCH(1,(Deduction!$A$3:$A$501=Sheet8!A44)*(Deduction!$B$3:$B$501=Sheet8!B44)*(Deduction!$C$3:$C$501=Sheet8!D44),0),6)","v":0},{"$f":"INDEX(Deduction!$A$3:$K$501,MATCH(1,(Deduction!$A$3:$A$501=Sheet8!A44)*(Deduction!$B$3:$B$501=Sheet8!B44)*(Deduction!$C$3:$C$501=Sheet8!D44),0),7)","v":0},{"$f":"INDEX(Deduction!$A$3:$K$501,MATCH(1,(Deduction!$A$3:$A$501=Sheet8!A44)*(Deduction!$B$3:$B$501=Sheet8!B44)*(Deduction!$C$3:$C$501=Sheet8!D44),0),8)","v":0},{"$f":"INDEX(Deduction!$A$3:$K$501,MATCH(1,(Deduction!$A$3:$A$501=Sheet8!A44)*(Deduction!$B$3:$B$501=Sheet8!B44)*(Deduction!$C$3:$C$501=Sheet8!D44),0),9)","v":0},{"$f":"INDEX(Deduction!$A$3:$K$501,MATCH(1,(Deduction!$A$3:$A$501=Sheet8!A44)*(Deduction!$B$3:$B$501=Sheet8!B44)*(Deduction!$C$3:$C$501=Sheet8!D44),0),10)","v":0},{"$f":"INDEX(Deduction!$A$3:$K$501,MATCH(1,(Deduction!$A$3:$A$501=Sheet8!A44)*(Deduction!$B$3:$B$501=Sheet8!B44)*(Deduction!$C$3:$C$501=Sheet8!D44),0),11)","v":0},{"$error":"#DIV/0!"},{"$f":"VLOOKUP(D44,Emp_Master!$B$3:$H$501,7)","v":{"$error":"#N/A"}}]
[{"$f":"Salary_Entitlement!A46","v":0},{"$f":"Salary_Entitlement!B46","v":0},{"$f":"Salary_Entitlement!C46","v":0},{"$f":"Salary_Entitlement!D46","v":0},{"$f":"Salary_Entitlement!E46","v":{"$error":"#N/A"}},{"$f":"Salary_Entitlement!F46","v":0},{"$f":"Salary_Entitlement!G46","v":0},{"$f":"Salary_Entitlement!H46","v":0},{"$f":"Salary_Entitlement!I46","v":0},{"$f":"Salary_Entitlement!J46","v":0},{"$f":"Salary_Entitlement!K46","v":0},{"$f":"Salary_Entitlement!L46","v":0},{"$f":"Salary_Entitlement!M46","v":0},{"$f":"Salary_Entitlement!N46","v":0},{"$f":"Salary_Entitlement!O46","v":0},{"$f":"Salary_Entitlement!P46","v":0},{"$error":"#DIV/0!"},{"$error":"#DIV/0!"},{"$f":"INDEX(Deduction!$A$3:$K$501,MATCH(1,(Deduction!$A$3:$A$501=Sheet8!A45)*(Deduction!$B$3:$B$501=Sheet8!B45)*(Deduction!$C$3:$C$501=Sheet8!D45),0),5)","v":0},{"$f":"INDEX(Deduction!$A$3:$K$501,MATCH(1,(Deduction!$A$3:$A$501=Sheet8!A45)*(Deduction!$B$3:$B$501=Sheet8!B45)*(Deduction!$C$3:$C$501=Sheet8!D45),0),6)","v":0},{"$f":"INDEX(Deduction!$A$3:$K$501,MATCH(1,(Deduction!$A$3:$A$501=Sheet8!A45)*(Deduction!$B$3:$B$501=Sheet8!B45)*(Deduction!$C$3:$C$501=Sheet8!D45),0),7)","v":0},{"$f":"INDEX(Deduction!$A$3:$K$501,MATCH(1,(Deduction!$A$3:$A$501=Sheet8!A45)*(Deduction!$B$3:$B$501=Sheet8!B45)*(Deduction!$C$3:$C$501=Sheet8!D45),0),8)","v":0},{"$f":"INDEX(Deduction!$A$3:$K$501,MATCH(1,(Deduction!$A$3:$A$501=Sheet8!A45)*(Deduction!$B$3:$B$501=Sheet8!B45)*(Deduction!$C$3:$C$501=Sheet8!D45),0),9)","v":0},{"$f":"INDEX(Deduction!$A$3:$K$501,MATCH(1,(Deduction!$A$3:$A$501=Sheet8!A45)*(Deduction!$B$3:$B$501=Sheet8!B45)*(Deduction!$C$3:$C$501=Sheet8!D45),0),10)","v":0},{"$f":"INDEX(Deduction!$A$3:$K$501,MATCH(1,(Deduction!$A$3:$A$501=Sheet8!A45)*(Deduction!$B$3:$B$501=Sheet8!B45)*(Deduction!$C$3:$C$501=Sheet8!D45),0),11)","v":0},{"$error":"#DIV/0!"},{"$f":"VLOOKUP(D45,Emp_Master!$B$3:$H$501,7)","v":{"$error":"#N/A"}}]
[{"$f":"Salary_Entitlement!A47","v":0},{"$f":"Salary_Entitlement!B47","v":0},{"$f":"Salary_Entitlement!C47","v":0},{"$f":"Salary_Entitlement!D47","v":0},{"$f":"Salary_Entitlement!E47","v":{"$error":"#N/A"}},{"$f":"Salary_Entitlement!F47","v":0},{"$f":"Salary_Entitlement!G47","v":0},{"$f":"Salary_Entitlement!H47","v":0},{"$f":"Salary_Entitlement!I47","v":0},{"$f":"Salary_Entitlement!J47","v":0},{"$f":"Salary_Entitlement!K47","v":0},{"$f":"Salary_Entitlement!L47","v":0},{"$f":"Salary_Entitlement!M47","v":0},{"$f":"Salary_Entitlement!N47","v":0},{"$f":"Salary_Entitlement!O47","v":0},{"$f":"Salary_Entitlement!P47","v":0},{"$error":"#DIV/0!"},{"$error":"#DIV/0!"},{"$f":"INDEX(Deduction!$A$3:$K$501,MATCH(1,(Deduction!$A$3:$A$501=Sheet8!A46)*(Deduction!$B$3:$B$501=Sheet8!B46)*(Deduction!$C$3:$C$501=Sheet8!D46),0),5)","v":0},{"$f":"INDEX(Deduction!$A$3:$K$501,MATCH(1,(Deduction!$A$3:$A$501=Sheet8!A46)*(Deduction!$B$3:$B$501=Sheet8!B46)*(Deduction!$C$3:$C$501=Sheet8!D46),0),6)","v":0},{"$f":"INDEX(Deduction!$A$3:$K$501,MATCH(1,(Deduction!$A$3:$A$501=Sheet8!A46)*(Deduction!$B$3:$B$501=Sheet8!B46)*(Deduction!$C$3:$C$501=Sheet8!D46),0),7)","v":0},{"$f":"INDEX(Deduction!$A$3:$K$501,MATCH(1,(Deduction!$A$3:$A$501=Sheet8!A46)*(Deduction!$B$3:$B$501=Sheet8!B46)*(Deduction!$C$3:$C$501=Sheet8!D46),0),8)","v":0},{"$f":"INDEX(Deduction!$A$3:$K$501,MATCH(1,(Deduction!$A$3:$A$501=Sheet8!A46)*(Deduction!$B$3:$B$501=Sheet8!B46)*(Deduction!$C$3:$C$501=Sheet8!D46),0),9)","v":0},{"$f":"INDEX(Deduction!$A$3:$K$501,MATCH(1,(Deduction!$A$3:$A$501=Sheet8!A46)*(Deduction!$B$3:$B$501=Sheet8!B46)*(Deduction!$C$3:$C$501=Sheet8!D46),0),10)","v":0},{"$f":"INDEX(Deduction!$A$3:$K$501,MATCH(1,(Deduction!$A$3:$A$501=Sheet8!A46)*(Deduction!$B$3:$B$501=Sheet8!B46)*(Deduction!$C$3:$C$501=Sheet8!D46),0),11)","v":0},{"$error":"#DIV/0!"},{"$f":"VLOOKUP(D46,Emp_Master!$B$3:$H$501,7)","v":{"$error":"#N/A"}}]
[{"$f":"Salary_Entitlement!A48","v":0},{"$f":"Salary_Entitlement!B48","v":0},{"$f":"Salary_Entitlement!C48","v":0},{"$f":"Salary_Entitlement!D48","v":0},{"$f":"Salary_Entitlement!E48","v":{"$error":"#N/A"}},{"$f":"Salary_Entitlement!F48","v":0},{"$f":"Salary_Entitlement!G48","v":0},{"$f":"Salary_Entitlement!H48","v":0},{"$f":"Salary_Entitlement!I48","v":0},{"$f":"Salary_Entitlement!J48","v":0},{"$f":"Salary_Entitlement!K48","v":0},{"$f":"Salary_Entitlement!L48","v":0},{"$f":"Salary_Entitlement!M48","v":0},{"$f":"Salary_Entitlement!N48","v":0},{"$f":"Salary_Entitlement!O48","v":0},{"$f":"Salary_Entitlement!P48","v":0},{"$error":"#DIV/0!"},{"$error":"#DIV/0!"},{"$f":"INDEX(Deduction!$A$3:$K$501,MATCH(1,(Deduction!$A$3:$A$501=Sheet8!A47)*(Deduction!$B$3:$B$501=Sheet8!B47)*(Deduction!$C$3:$C$501=Sheet8!D47),0),5)","v":0},{"$f":"INDEX(Deduction!$A$3:$K$501,MATCH(1,(Deduction!$A$3:$A$501=Sheet8!A47)*(Deduction!$B$3:$B$501=Sheet8!B47)*(Deduction!$C$3:$C$501=Sheet8!D47),0),6)","v":0},{"$f":"INDEX(Deduction!$A$3:$K$501,MATCH(1,(Deduction!$A$3:$A$501=Sheet8!A47)*(Deduction!$B$3:$B$501=Sheet8!B47)*(Deduction!$C$3:$C$501=Sheet8!D47),0),7)","v":0},{"$f":"INDEX(Deduction!$A$3:$K$501,MATCH(1,(Deduction!$A$3:$A$501=Sheet8!A47)*(Deduction!$B$3:$B$501=Sheet8!B47)*(Deduction!$C$3:$C$501=Sheet8!D47),0),8)","v":0},{"$f":"INDEX(Deduction!$A$3:$K$501,MATCH(1,(Deduction!$A$3:$A$501=Sheet8!A47)*(Deduction!$B$3:$B$501=Sheet8!B47)*(Deduction!$C$3:$C$501=Sheet8!D47),0),9)","v":0},{"$f":"INDEX(Deduction!$A$3:$K$501,MATCH(1,(Deduction!$A$3:$A$501=Sheet8!A47)*(Deduction!$B$3:$B$501=Sheet8!B47)*(Deduction!$C$3:$C$501=Sheet8!D47),0),10)","v":0},{"$f":"INDEX(Deduction!$A$3:$K$501,MATCH(1,(Deduction!$A$3:$A$501=Sheet8!A47)*(Deduction!$B$3:$B$501=Sheet8!B47)*(Deduction!$C$3:$C$501=Sheet8!D47),0),11)","v":0},{"$error":"#DIV/0!"},{"$f":"VLOOKUP(D47,Emp_Master!$B$3:$H$501,7)","v":{"$error":"#N/A"}}]
[{"$f":"Salary_Entitlement!A49","v":0},{"$f":"Salary_Entitlement!B49","v":0},{"$f":"Salary_Entitlement!C49","v":0},{"$f":"Salary_Entitlement!D49","v":0},{"$f":"Salary_Entitlement!E49","v":{"$error":"#N/A"}},{"$f":"Salary_Entitlement!F49","v":0},{"$f":"Salary_Entitlement!G49","v":0},{"$f":"Salary_Entitlement!H49","v":0},{"$f":"Salary_Entitlement!I49","v":0},{"$f":"Salary_Entitlement!J49","v":0},{"$f":"Salary_Entitlement!K49","v":0},{"$f":"Salary_Entitlement!L49","v":0},{"$f":"Salary_Entitlement!M49","v":0},{"$f":"Salary_Entitlement!N49","v":0},{"$f":"Salary_Entitlement!O49","v":0},{"$f":"Salary_Entitlement!P49","v":0},{"$error":"#DIV/0!"},{"$error":"#DIV/0!"},{"$f":"INDEX(Deduction!$A$3:$K$501,MATCH(1,(Deduction!$A$3:$A$501=Sheet8!A48)*(Deduction!$B$3:$B$501=Sheet8!B48)*(Deduction!$C$3:$C$501=Sheet8!D48),0),5)","v":0},{"$f":"INDEX(Deduction!$A$3:$K$501,MATCH(1,(Deduction!$A$3:$A$501=Sheet8!A48)*(Deduction!$B$3:$B$501=Sheet8!B48)*(Deduction!$C$3:$C$501=Sheet8!D48),0),6)","v":0},{"$f":"INDEX(Deduction!$A$3:$K$501,MATCH(1,(Deduction!$A$3:$A$501=Sheet8!A48)*(Deduction!$B$3:$B$501=Sheet8!B48)*(Deduction!$C$3:$C$501=Sheet8!D48),0),7)","v":0},{"$f":"INDEX(Deduction!$A$3:$K$501,MATCH(1,(Deduction!$A$3:$A$501=Sheet8!A48)*(Deduction!$B$3:$B$501=Sheet8!B48)*(Deduction!$C$3:$C$501=Sheet8!D48),0),8)","v":0},{"$f":"INDEX(Deduction!$A$3:$K$501,MATCH(1,(Deduction!$A$3:$A$501=Sheet8!A48)*(Deduction!$B$3:$B$501=Sheet8!B48)*(Deduction!$C$3:$C$501=Sheet8!D48),0),9)","v":0},{"$f":"INDEX(Deduction!$A$3:$K$501,MATCH(1,(Deduction!$A$3:$A$501=Sheet8!A48)*(Deduction!$B$3:$B$501=Sheet8!B48)*(Deduction!$C$3:$C$501=Sheet8!D48),0),10)","v":0},{"$f":"INDEX(Deduction!$A$3:$K$501,MATCH(1,(Deduction!$A$3:$A$501=Sheet8!A48)*(Deduction!$B$3:$B$501=Sheet8!B48)*(Deduction!$C$3:$C$501=Sheet8!D48),0),11)","v":0},{"$error":"#DIV/0!"},{"$f":"VLOOKUP(D48,Emp_Master!$B$3:$H$501,7)","v":{"$error":"#N/A"}}]
[{"$f":"Salary_Entitlement!A50","v":0},{"$f":"Salary_Entitlement!B50","v":0},{"$f":"Salary_Entitlement!C50","v":0},{"$f":"Salary_Entitlement!D50","v":0},{"$f":"Salary_Entitlement!E50","v":{"$error":"#N/A"}},{"$f":"Salary_Entitlement!F50","v":0},{"$f":"Salary_Entitlement!G50","v":0},{"$f":"Salary_Entitlement!H50","v":0},{"$f":"Salary_Entitlement!I50","v":0},{"$f":"Salary_Entitlement!J50","v":0},{"$f":"Salary_Entitlement!K50","v":0},{"$f":"Salary_Entitlement!L50","v":0},{"$f":"Salary_Entitlement!M50","v":0},{"$f":"Salary_Entitlement!N50","v":0},{"$f":"Salary_Entitlement!O50","v":0},{"$f":"Salary_Entitlement!P50","v":0},{"$error":"#DIV/0!"},{"$error":"#DIV/0!"},{"$f":"INDEX(Deduction!$A$3:$K$501,MATCH(1,(Deduction!$A$3:$A$501=Sheet8!A49)*(Deduction!$B$3:$B$501=Sheet8!B49)*(Deduction!$C$3:$C$501=Sheet8!D49),0),5)","v":0},{"$f":"INDEX(Deduction!$A$3:$K$501,MATCH(1,(Deduction!$A$3:$A$501=Sheet8!A49)*(Deduction!$B$3:$B$501=Sheet8!B49)*(Deduction!$C$3:$C$501=Sheet8!D49),0),6)","v":0},{"$f":"INDEX(Deduction!$A$3:$K$501,MATCH(1,(Deduction!$A$3:$A$501=Sheet8!A49)*(Deduction!$B$3:$B$501=Sheet8!B49)*(Deduction!$C$3:$C$501=Sheet8!D49),0),7)","v":0},{"$f":"INDEX(Deduction!$A$3:$K$501,MATCH(1,(Deduction!$A$3:$A$501=Sheet8!A49)*(Deduction!$B$3:$B$501=Sheet8!B49)*(Deduction!$C$3:$C$501=Sheet8!D49),0),8)","v":0},{"$f":"INDEX(Deduction!$A$3:$K$501,MATCH(1,(Deduction!$A$3:$A$501=Sheet8!A49)*(Deduction!$B$3:$B$501=Sheet8!B49)*(Deduction!$C$3:$C$501=Sheet8!D49),0),9)","v":0},{"$f":"INDEX(Deduction!$A$3:$K$501,MATCH(1,(Deduction!$A$3:$A$501=Sheet8!A49)*(Deduction!$B$3:$B$501=Sheet8!B49)*(Deduction!$C$3:$C$501=Sheet8!D49),0),10)","v":0},{"$f":"INDEX(Deduction!$A$3:$K$501,MATCH(1,(Deduction!$A$3:$A$501=Sheet8!A49)*(Deduction!$B$3:$B$501=Sheet8!B49)*(Deduction!$C$3:$C$501=Sheet8!D49),0),11)","v":0},{"$error":"#DIV/0!"},{"$f":"VLOOKUP(D49,Emp_Master!$B$3:$H$501,7)","v":{"$error":"#N/A"}}]
[{"$f":"Salary_Entitlement!A51","v":0},{"$f":"Salary_Entitlement!B51","v":0},{"$f":"Salary_Entitlement!C51","v":0},{"$f":"Salary_Entitlement!D51","v":0},{"$f":"Salary_Entitlement!E51","v":{"$error":"#N/A"}},{"$f":"Salary_Entitlement!F51","v":0},{"$f":"Salary_Entitlement!G51","v":0},{"$f":"Salary_Entitlement!H51","v":0},{"$f":"Salary_Entitlement!I51","v":0},{"$f":"Salary_Entitlement!J51","v":0},{"$f":"Salary_Entitlement!K51","v":0},{"$f":"Salary_Entitlement!L51","v":0},{"$f":"Salary_Entitlement!M51","v":0},{"$f":"Salary_Entitlement!N51","v":0},{"$f":"Salary_Entitlement!O51","v":0},{"$f":"Salary_Entitlement!P51","v":0},{"$error":"#DIV/0!"},{"$error":"#DIV/0!"},{"$f":"INDEX(Deduction!$A$3:$K$501,MATCH(1,(Deduction!$A$3:$A$501=Sheet8!A50)*(Deduction!$B$3:$B$501=Sheet8!B50)*(Deduction!$C$3:$C$501=Sheet8!D50),0),5)","v":0},{"$f":"INDEX(Deduction!$A$3:$K$501,MATCH(1,(Deduction!$A$3:$A$501=Sheet8!A50)*(Deduction!$B$3:$B$501=Sheet8!B50)*(Deduction!$C$3:$C$501=Sheet8!D50),0),6)","v":0},{"$f":"INDEX(Deduction!$A$3:$K$501,MATCH(1,(Deduction!$A$3:$A$501=Sheet8!A50)*(Deduction!$B$3:$B$501=Sheet8!B50)*(Deduction!$C$3:$C$501=Sheet8!D50),0),7)","v":0},{"$f":"INDEX(Deduction!$A$3:$K$501,MATCH(1,(Deduction!$A$3:$A$501=Sheet8!A50)*(Deduction!$B$3:$B$501=Sheet8!B50)*(Deduction!$C$3:$C$501=Sheet8!D50),0),8)","v":0},{"$f":"INDEX(Deduction!$A$3:$K$501,MATCH(1,(Deduction!$A$3:$A$501=Sheet8!A50)*(Deduction!$B$3:$B$501=Sheet8!B50)*(Deduction!$C$3:$C$501=Sheet8!D50),0),9)","v":0},{"$f":"INDEX(Deduction!$A$3:$K$501,MATCH(1,(Deduction!$A$3:$A$501=Sheet8!A50)*(Deduction!$B$3:$B$501=Sheet8!B50)*(Deduction!$C$3:$C$501=Sheet8!D50),0),10)","v":0},{"$f":"INDEX(Deduction!$A$3:$K$501,MATCH(1,(Deduction!$A$3:$A$501=Sheet8!A50)*(Deduction!$B$3:$B$501=Sheet8!B50)*(Deduction!$C$3:$C$501=Sheet8!D50),0),11)","v":0},{"$error":"#DIV/0!"},{"$f":"VLOOKUP(D50,Emp_Master!$B$3:$H$501,7)","v":{"$error":"#N/A"}}]
[{"$f":"Salary_Entitlement!A52","v":0},{"$f":"Salary_Entitlement!B52","v":0},{"$f":"Salary_Entitlement!C52","v":0},{"$f":"Salary_Entitlement!D52","v":0},{"$f":"Salary_Entitlement!E52","v":{"$error":"#N/A"}},{"$f":"Salary_Entitlement!F52","v":0},{"$f":"Salary_Entitlement!G52","v":0},{"$f":"Salary_Entitlement!H52","v":0},{"$f":"Salary_Entitlement!I52","v":0},{"$f":"Salary_Entitlement!J52","v":0},{"$f":"Salary_Entitlement!K52","v":0},{"$f":"Salary_Entitlement!L52","v":0},{"$f":"Salary_Entitlement!M52","v":0},{"$f":"Salary_Entitlement!N52","v":0},{"$f":"Salary_Entitlement!O52","v":0},{"$f":"Salary_Entitlement!P52","v":0},{"$error":"#DIV/0!"},{"$error":"#DIV/0!"},{"$f":"INDEX(Deduction!$A$3:$K$501,MATCH(1,(Deduction!$A$3:$A$501=Sheet8!A51)*(Deduction!$B$3:$B$501=Sheet8!B51)*(Deduction!$C$3:$C$501=Sheet8!D51),0),5)","v":0},{"$f":"INDEX(Deduction!$A$3:$K$501,MATCH(1,(Deduction!$A$3:$A$501=Sheet8!A51)*(Deduction!$B$3:$B$501=Sheet8!B51)*(Deduction!$C$3:$C$501=Sheet8!D51),0),6)","v":0},{"$f":"INDEX(Deduction!$A$3:$K$501,MATCH(1,(Deduction!$A$3:$A$501=Sheet8!A51)*(Deduction!$B$3:$B$501=Sheet8!B51)*(Deduction!$C$3:$C$501=Sheet8!D51),0),7)","v":0},{"$f":"INDEX(Deduction!$A$3:$K$501,MATCH(1,(Deduction!$A$3:$A$501=Sheet8!A51)*(Deduction!$B$3:$B$501=Sheet8!B51)*(Deduction!$C$3:$C$501=Sheet8!D51),0),8)","v":0},{"$f":"INDEX(Deduction!$A$3:$K$501,MATCH(1,(Deduction!$A$3:$A$501=Sheet8!A51)*(Deduction!$B$3:$B$501=Sheet8!B51)*(Deduction!$C$3:$C$501=Sheet8!D51),0),9)","v":0},{"$f":"INDEX(Deduction!$A$3:$K$501,MATCH(1,(Deduction!$A$3:$A$501=Sheet8!A51)*(Deduction!$B$3:$B$501=Sheet8!B51)*(Deduction!$C$3:$C$501=Sheet8!D51),0),10)","v":0},{"$f":"INDEX(Deduction!$A$3:$K$501,MATCH(1,(Deduction!$A$3:$A$501=Sheet8!A51)*(Deduction!$B$3:$B$501=Sheet8!B51)*(Deduction!$C$3:$C$501=Sheet8!D51),0),11)","v":0},{"$error":"#DIV/0!"},{"$f":"VLOOKUP(D51,Emp_Master!$B$3:$H$501,7)","v":{"$error":"#N/A"}}]
[{"$f":"Salary_Entitlement!A53","v":0},{"$f":"Salary_Entitlement!B53","v":0},{"$f":"Salary_Entitlement!C53","v":0},{"$f":"Salary_Entitlement!D53","v":0},{"$f":"Salary_Entitlement!E53","v":{"$error":"#N/A"}},{"$f":"Salary_Entitlement!F53","v":0},{"$f":"Salary_Entitlement!G53","v":0},{"$f":"Salary_Entitlement!H53","v":0},{"$f":"Salary_Entitlement!I53","v":0},{"$f":"Salary_Entitlement!J53","v":0},{"$f":"Salary_Entitlement!K53","v":0},{"$f":"Salary_Entitlement!L53","v":0},{"$f":"Salary_Entitlement!M53","v":0},{"$f":"Salary_Entitlement!N53","v":0},{"$f":"Salary_Entitlement!O53","v":0},{"$f":"Salary_Entitlement!P53","v":0},{"$error":"#DIV/0!"},{"$error":"#DIV/0!"},{"$f":"INDEX(Deduction!$A$3:$K$501,MATCH(1,(Deduction!$A$3:$A$501=Sheet8!A52)*(Deduction!$B$3:$B$501=Sheet8!B52)*(Deduction!$C$3:$C$501=Sheet8!D52),0),5)","v":0},{"$f":"INDEX(Deduction!$A$3:$K$501,MATCH(1,(Deduction!$A$3:$A$501=Sheet8!A52)*(Deduction!$B$3:$B$501=Sheet8!B52)*(Deduction!$C$3:$C$501=Sheet8!D52),0),6)","v":0},{"$f":"INDEX(Deduction!$A$3:$K$501,MATCH(1,(Deduction!$A$3:$A$501=Sheet8!A52)*(Deduction!$B$3:$B$501=Sheet8!B52)*(Deduction!$C$3:$C$501=Sheet8!D52),0),7)","v":0},{"$f":"INDEX(Deduction!$A$3:$K$501,MATCH(1,(Deduction!$A$3:$A$501=Sheet8!A52)*(Deduction!$B$3:$B$501=Sheet8!B52)*(Deduction!$C$3:$C$501=Sheet8!D52),0),8)","v":0},{"$f":"INDEX(Deduction!$A$3:$K$501,MATCH(1,(Deduction!$A$3:$A$501=Sheet8!A52)*(Deduction!$B$3:$B$501=Sheet8!B52)*(Deduction!$C$3:$C$501=Sheet8!D52),0),9)","v":0},{"$f":"INDEX(Deduction!$A$3:$K$501,MATCH(1,(Deduction!$A$3:$A$501=Sheet8!A52)*(Deduction!$B$3:$B$501=Sheet8!B52)*(Deduction!$C$3:$C$501=Sheet8!D52),0),10)","v":0},{"$f":"INDEX(Deduction!$A$3:$K$501,MATCH(1,(Deduction!$A$3:$A$501=Sheet8!A52)*(Deduction!$B$3:$B$501=Sheet8!B52)*(Deduction!$C$3:$C$501=Sheet8!D52),0),11)","v":0},{"$error":"#DIV/0!"},{"$f":"VLOOKUP(D52,Emp_Master!$B$3:$H$501,7)","v":{"$error":"#N/A"}}]
[{"$f":"Salary_Entitlement!A54","v":0},{"$f":"Salary_Entitlement!B54","v":0},{"$f":"Salary_Entitlement!C54","v":0},{"$f":"Salary_Entitlement!D54","v":0},{"$f":"Salary_Entitlement!E54","v":{"$error":"#N/A"}},{"$f":"Salary_Entitlement!F54","v":0},{"$f":"Salary_Entitlement!G54","v":0},{"$f":"Salary_Entitlement!H54","v":0},{"$f":"Salary_Entitlement!I54","v":0},{"$f":"Salary_Entitlement!J54","v":0},{"$f":"Salary_Entitlement!K54","v":0},{"$f":"Salary_Entitlement!L54","v":0},{"$f":"Salary_Entitlement!M54","v":0},{"$f":"Salary_Entitlement!N54","v":0},{"$f":"Salary_Entitlement!O54","v":0},{"$f":"Salary_Entitlement!P54","v":0},{"$error":"#DIV/0!"},{"$error":"#DIV/0!"},{"$f":"INDEX(Deduction!$A$3:$K$501,MATCH(1,(Deduction!$A$3:$A$501=Sheet8!A53)*(Deduction!$B$3:$B$501=Sheet8!B53)*(Deduction!$C$3:$C$501=Sheet8!D53),0),5)","v":0},{"$f":"INDEX(Deduction!$A$3:$K$501,MATCH(1,(Deduction!$A$3:$A$501=Sheet8!A53)*(Deduction!$B$3:$B$501=Sheet8!B53)*(Deduction!$C$3:$C$501=Sheet8!D53),0),6)","v":0},{"$f":"INDEX(Deduction!$A$3:$K$501,MATCH(1,(Deduction!$A$3:$A$501=Sheet8!A53)*(Deduction!$B$3:$B$501=Sheet8!B53)*(Deduction!$C$3:$C$501=Sheet8!D53),0),7)","v":0},{"$f":"INDEX(Deduction!$A$3:$K$501,MATCH(1,(Deduction!$A$3:$A$501=Sheet8!A53)*(Deduction!$B$3:$B$501=Sheet8!B53)*(Deduction!$C$3:$C$501=Sheet8!D53),0),8)","v":0},{"$f":"INDEX(Deduction!$A$3:$K$501,MATCH(1,(Deduction!$A$3:$A$501=Sheet8!A53)*(Deduction!$B$3:$B$501=Sheet8!B53)*(Deduction!$C$3:$C$501=Sheet8!D53),0),9)","v":0},{"$f":"INDEX(Deduction!$A$3:$K$501,MATCH(1,(Deduction!$A$3:$A$501=Sheet8!A53)*(Deduction!$B$3:$B$501=Sheet8!B53)*(Deduction!$C$3:$C$501=Sheet8!D53),0),10)","v":0},{"$f":"INDEX(Deduction!$A$3:$K$501,MATCH(1,(Deduction!$A$3:$A$501=Sheet8!A53)*(Deduction!$B$3:$B$501=Sheet8!B53)*(Deduction!$C$3:$C$501=Sheet8!D53),0),11)","v":0},{"$error":"#DIV/0!"},{"$f":"VLOOKUP(D53,Emp_Master!$B$3:$H$501,7)","v":{"$error":"#N/A"}}]
[{"$f":"Salary_Entitlement!A55","v":0},{"$f":"Salary_Entitlement!B55","v":0},{"$f":"Salary_Entitlement!C55","v":0},{"$f":"Salary_Entitlement!D55","v":0},{"$f":"Salary_Entitlement!E55","v":{"$error":"#N/A"}},{"$f":"Salary_Entitlement!F55","v":0},{"$f":"Salary_Entitlement!G55","v":0},{"$f":"Salary_Entitlement!H55","v":0},{"$f":"Salary_Entitlement!I55","v":0},{"$f":"Salary_Entitlement!J55","v":0},{"$f":"Salary_Entitlement!K55","v":0},{"$f":"Salary_Entitlement!L55","v":0},{"$f":"Salary_Entitlement!M55","v":0},{"$f":"Salary_Entitlement!N55","v":0},{"$f":"Salary_Entitlement!O55","v":0},{"$f":"Salary_Entitlement!P55","v":0},{"$error":"#DIV/0!"},{"$error":"#DIV/0!"},{"$f":"INDEX(Deduction!$A$3:$K$501,MATCH(1,(Deduction!$A$3:$A$501=Sheet8!A54)*(Deduction!$B$3:$B$501=Sheet8!B54)*(Deduction!$C$3:$C$501=Sheet8!D54),0),5)","v":0},{"$f":"INDEX(Deduction!$A$3:$K$501,MATCH(1,(Deduction!$A$3:$A$501=Sheet8!A54)*(Deduction!$B$3:$B$501=Sheet8!B54)*(Deduction!$C$3:$C$501=Sheet8!D54),0),6)","v":0},{"$f":"INDEX(Deduction!$A$3:$K$501,MATCH(1,(Deduction!$A$3:$A$501=Sheet8!A54)*(Deduction!$B$3:$B$501=Sheet8!B54)*(Deduction!$C$3:$C$501=Sheet8!D54),0),7)","v":0},{"$f":"INDEX(Deduction!$A$3:$K$501,MATCH(1,(Deduction!$A$3:$A$501=Sheet8!A54)*(Deduction!$B$3:$B$501=Sheet8!B54)*(Deduction!$C$3:$C$501=Sheet8!D54),0),8)","v":0},{"$f":"INDEX(Deduction!$A$3:$K$501,MATCH(1,(Deduction!$A$3:$A$501=Sheet8!A54)*(Deduction!$B$3:$B$501=Sheet8!B54)*(Deduction!$C$3:$C$501=Sheet8!D54),0),9)","v":0},{"$f":"INDEX(Deduction!$A$3:$K$501,MATCH(1,(Deduction!$A$3:$A$501=Sheet8!A54)*(Deduction!$B$3:$B$501=Sheet8!B54)*(Deduction!$C$3:$C$501=Sheet8!D54),0),10)","v":0},{"$f":"INDEX(Deduction!$A$3:$K$501,MATCH(1,(Deduction!$A$3:$A$501=Sheet8!A54)*(Deduction!$B$3:$B$501=Sheet8!B54)*(Deduction!$C$3:$C$501=Sheet8!D54),0),11)","v":0},{"$error":"#DIV/0!"},{"$f":"VLOOKUP(D54,Emp_Master!$B$3:$H$501,7)","v":{"$error":"#N/A"}}]
[{"$f":"Salary_Entitlement!A56","v":0},{"$f":"Salary_Entitlement!B56","v":0},{"$f":"Salary_Entitlement!C56","v":0},{"$f":"Salary_Entitlement!D56","v":0},{"$f":"Salary_Entitlement!E56","v":{"$error":"#N/A"}},{"$f":"Salary_Entitlement!F56","v":0},{"$f":"Salary_Entitlement!G56","v":0},{"$f":"Salary_Entitlement!H56","v":0},{"$f":"Salary_Entitlement!I56","v":0},{"$f":"Salary_Entitlement!J56","v":0},{"$f":"Salary_Entitlement!K56","v":0},{"$f":"Salary_Entitlement!L56","v":0},{"$f":"Salary_Entitlement!M56","v":0},{"$f":"Salary_Entitlement!N56","v":0},{"$f":"Salary_Entitlement!O56","v":0},{"$f":"Salary_Entitlement!P56","v":0},{"$error":"#DIV/0!"},{"$error":"#DIV/0!"},{"$f":"INDEX(Deduction!$A$3:$K$501,MATCH(1,(Deduction!$A$3:$A$501=Sheet8!A55)*(Deduction!$B$3:$B$501=Sheet8!B55)*(Deduction!$C$3:$C$501=Sheet8!D55),0),5)","v":0},{"$f":"INDEX(Deduction!$A$3:$K$501,MATCH(1,(Deduction!$A$3:$A$501=Sheet8!A55)*(Deduction!$B$3:$B$501=Sheet8!B55)*(Deduction!$C$3:$C$501=Sheet8!D55),0),6)","v":0},{"$f":"INDEX(Deduction!$A$3:$K$501,MATCH(1,(Deduction!$A$3:$A$501=Sheet8!A55)*(Deduction!$B$3:$B$501=Sheet8!B55)*(Deduction!$C$3:$C$501=Sheet8!D55),0),7)","v":0},{"$f":"INDEX(Deduction!$A$3:$K$501,MATCH(1,(Deduction!$A$3:$A$501=Sheet8!A55)*(Deduction!$B$3:$B$501=Sheet8!B55)*(Deduction!$C$3:$C$501=Sheet8!D55),0),8)","v":0},{"$f":"INDEX(Deduction!$A$3:$K$501,MATCH(1,(Deduction!$A$3:$A$501=Sheet8!A55)*(Deduction!$B$3:$B$501=Sheet8!B55)*(Deduction!$C$3:$C$501=Sheet8!D55),0),9)","v":0},{"$f":"INDEX(Deduction!$A$3:$K$501,MATCH(1,(Deduction!$A$3:$A$501=Sheet8!A55)*(Deduction!$B$3:$B$501=Sheet8!B55)*(Deduction!$C$3:$C$501=Sheet8!D55),0),10)","v":0},{"$f":"INDEX(Deduction!$A$3:$K$501,MATCH(1,(Deduction!$A$3:$A$501=Sheet8!A55)*(Deduction!$B$3:$B$501=Sheet8!B55)*(Deduction!$C$3:$C$501=Sheet8!D55),0),11)","v":0},{"$error":"#DIV/0!"},{"$f":"VLOOKUP(D55,Emp_Master!$B$3:$H$501,7)","v":{"$error":"#N/A"}}]
[{"$f":"Salary_Entitlement!A57","v":0},{"$f":"Salary_Entitlement!B57","v":0},{"$f":"Salary_Entitlement!C57","v":0},{"$f":"Salary_Entitlement!D57","v":0},{"$f":"Salary_Entitlement!E57","v":{"$error":"#N/A"}},{"$f":"Salary_Entitlement!F57","v":0},{"$f":"Salary_Entitlement!G57","v":0},{"$f":"Salary_Entitlement!H57","v":0},{"$f":"Salary_Entitlement!I57","v":0},{"$f":"Salary_Entitlement!J57","v":0},{"$f":"Salary_Entitlement!K57","v":0},{"$f":"Salary_Entitlement!L57","v":0},{"$f":"Salary_Entitlement!M57","v":0},{"$f":"Salary_Entitlement!N57","v":0},{"$f":"Salary_Entitlement!O57","v":0},{"$f":"Salary_Entitlement!P57","v":0},{"$error":"#DIV/0!"},{"$error":"#DIV/0!"},{"$f":"INDEX(Deduction!$A$3:$K$501,MATCH(1,(Deduction!$A$3:$A$501=Sheet8!A56)*(Deduction!$B$3:$B$501=Sheet8!B56)*(Deduction!$C$3:$C$501=Sheet8!D56),0),5)","v":0},{"$f":"INDEX(Deduction!$A$3:$K$501,MATCH(1,(Deduction!$A$3:$A$501=Sheet8!A56)*(Deduction!$B$3:$B$501=Sheet8!B56)*(Deduction!$C$3:$C$501=Sheet8!D56),0),6)","v":0},{"$f":"INDEX(Deduction!$A$3:$K$501,MATCH(1,(Deduction!$A$3:$A$501=Sheet8!A56)*(Deduction!$B$3:$B$501=Sheet8!B56)*(Deduction!$C$3:$C$501=Sheet8!D56),0),7)","v":0},{"$f":"INDEX(Deduction!$A$3:$K$501,MATCH(1,(Deduction!$A$3:$A$501=Sheet8!A56)*(Deduction!$B$3:$B$501=Sheet8!B56)*(Deduction!$C$3:$C$501=Sheet8!D56),0),8)","v":0},{"$f":"INDEX(Deduction!$A$3:$K$501,MATCH(1,(Deduction!$A$3:$A$501=Sheet8!A56)*(Deduction!$B$3:$B$501=Sheet8!B56)*(Deduction!$C$3:$C$501=Sheet8!D56),0),9)","v":0},{"$f":"INDEX(Deduction!$A$3:$K$501,MATCH(1,(Deduction!$A$3:$A$501=Sheet8!A56)*(Deduction!$B$3:$B$501=Sheet8!B56)*(Deduction!$C$3:$C$501=Sheet8!D56),0),10)","v":0},{"$f":"INDEX(Deduction!$A$3:$K$501,MATCH(1,(Deduction!$A$3:$A$501=Sheet8!A56)*(Deduction!$B$3:$B$501=Sheet8!B56)*(Deduction!$C$3:$C$501=Sheet8!D56),0),11)","v":0},{"$error":"#DIV/0!"},{"$f":"VLOOKUP(D56,Emp_Master!$B$3:$H$501,7)","v":{"$error":"#N/A"}}]
[{"$f":"Salary_Entitlement!A58","v":0},{"$f":"Salary_Entitlement!B58","v":0},{"$f":"Salary_Entitlement!C58","v":0},{"$f":"Salary_Entitlement!D58","v":0},{"$f":"Salary_Entitlement!E58","v":{"$error":"#N/A"}},{"$f":"Salary_Entitlement!F58","v":0},{"$f":"Salary_Entitlement!G58","v":0},{"$f":"Salary_Entitlement!H58","v":0},{"$f":"Salary_Entitlement!I58","v":0},{"$f":"Salary_Entitlement!J58","v":0},{"$f":"Salary_Entitlement!K58","v":0},{"$f":"Salary_Entitlement!L58","v":0},{"$f":"Salary_Entitlement!M58","v":0},{"$f":"Salary_Entitlement!N58","v":0},{"$f":"Salary_Entitlement!O58","v":0},{"$f":"Salary_Entitlement!P58","v":0},{"$error":"#DIV/0!"},{"$error":"#DIV/0!"},{"$f":"INDEX(Deduction!$A$3:$K$501,MATCH(1,(Deduction!$A$3:$A$501=Sheet8!A57)*(Deduction!$B$3:$B$501=Sheet8!B57)*(Deduction!$C$3:$C$501=Sheet8!D57),0),5)","v":0},{"$f":"INDEX(Deduction!$A$3:$K$501,MATCH(1,(Deduction!$A$3:$A$501=Sheet8!A57)*(Deduction!$B$3:$B$501=Sheet8!B57)*(Deduction!$C$3:$C$501=Sheet8!D57),0),6)","v":0},{"$f":"INDEX(Deduction!$A$3:$K$501,MATCH(1,(Deduction!$A$3:$A$501=Sheet8!A57)*(Deduction!$B$3:$B$501=Sheet8!B57)*(Deduction!$C$3:$C$501=Sheet8!D57),0),7)","v":0},{"$f":"INDEX(Deduction!$A$3:$K$501,MATCH(1,(Deduction!$A$3:$A$501=Sheet8!A57)*(Deduction!$B$3:$B$501=Sheet8!B57)*(Deduction!$C$3:$C$501=Sheet8!D57),0),8)","v":0},{"$f":"INDEX(Deduction!$A$3:$K$501,MATCH(1,(Deduction!$A$3:$A$501=Sheet8!A57)*(Deduction!$B$3:$B$501=Sheet8!B57)*(Deduction!$C$3:$C$501=Sheet8!D57),0),9)","v":0},{"$f":"INDEX(Deduction!$A$3:$K$501,MATCH(1,(Deduction!$A$3:$A$501=Sheet8!A57)*(Deduction!$B$3:$B$501=Sheet8!B57)*(Deduction!$C$3:$C$501=Sheet8!D57),0),10)","v":0},{"$f":"INDEX(Deduction!$A$3:$K$501,MATCH(1,(Deduction!$A$3:$A$501=Sheet8!A57)*(Deduction!$B$3:$B$501=Sheet8!B57)*(Deduction!$C$3:$C$501=Sheet8!D57),0),11)","v":0},{"$error":"#DIV/0!"},{"$f":"VLOOKUP(D57,Emp_Master!$B$3:$H$501,7)","v":{"$error":"#N/A"}}]
[{"$f":"Salary_Entitlement!A59","v":0},{"$f":"Salary_Entitlement!B59","v":0},{"$f":"Salary_Entitlement!C59","v":0},{"$f":"Salary_Entitlement!D59","v":0},{"$f":"Salary_Entitlement!E59","v":{"$error":"#N/A"}},{"$f":"Salary_Entitlement!F59","v":0},{"$f":"Salary_Entitlement!G59","v":0},{"$f":"Salary_Entitlement!H59","v":0},{"$f":"Salary_Entitlement!I59","v":0},{"$f":"Salary_Entitlement!J59","v":0},{"$f":"Salary_Entitlement!K59","v":0},{"$f":"Salary_Entitlement!L59","v":0},{"$f":"Salary_Entitlement!M59","v":0},{"$f":"Salary_Entitlement!N59","v":0},{"$f":"Salary_Entitlement!O59","v":0},{"$f":"Salary_Entitlement!P59","v":0},{"$error":"#DIV/0!"},{"$error":"#DIV/0!"},{"$f":"INDEX(Deduction!$A$3:$K$501,MATCH(1,(Deduction!$A$3:$A$501=Sheet8!A58)*(Deduction!$B$3:$B$501=Sheet8!B58)*(Deduction!$C$3:$C$501=Sheet8!D58),0),5)","v":0},{"$f":"INDEX(Deduction!$A$3:$K$501,MATCH(1,(Deduction!$A$3:$A$501=Sheet8!A58)*(Deduction!$B$3:$B$501=Sheet8!B58)*(Deduction!$C$3:$C$501=Sheet8!D58),0),6)","v":0},{"$f":"INDEX(Deduction!$A$3:$K$501,MATCH(1,(Deduction!$A$3:$A$501=Sheet8!A58)*(Deduction!$B$3:$B$501=Sheet8!B58)*(Deduction!$C$3:$C$501=Sheet8!D58),0),7)","v":0},{"$f":"INDEX(Deduction!$A$3:$K$501,MATCH(1,(Deduction!$A$3:$A$501=Sheet8!A58)*(Deduction!$B$3:$B$501=Sheet8!B58)*(Deduction!$C$3:$C$501=Sheet8!D58),0),8)","v":0},{"$f":"INDEX(Deduction!$A$3:$K$501,MATCH(1,(Deduction!$A$3:$A$501=Sheet8!A58)*(Deduction!$B$3:$B$501=Sheet8!B58)*(Deduction!$C$3:$C$501=Sheet8!D58),0),9)","v":0},{"$f":"INDEX(Deduction!$A$3:$K$501,MATCH(1,(Deduction!$A$3:$A$501=Sheet8!A58)*(Deduction!$B$3:$B$501=Sheet8!B58)*(Deduction!$C$3:$C$501=Sheet8!D58),0),10)","v":0},{"$f":"INDEX(Deduction!$A$3:$K$501,MATCH(1,(Deduction!$A$3:$A$501=Sheet8!A58)*(Deduction!$B$3:$B$501=Sheet8!B58)*(Deduction!$C$3:$C$501=Sheet8!D58),0),11)","v":0},{"$error":"#DIV/0!"},{"$f":"VLOOKUP(D58,Emp_Master!$B$3:$H$501,7)","v":{"$error":"#N/A"}}]
[{"$f":"Salary_Entitlement!A60","v":0},{"$f":"Salary_Entitlement!B60","v":0},{"$f":"Salary_Entitlement!C60","v":0},{"$f":"Salary_Entitlement!D60","v":0},{"$f":"Salary_Entitlement!E60","v":{"$error":"#N/A"}},{"$f":"Salary_Entitlement!F60","v":0},{"$f":"Salary_Entitlement!G60","v":0},{"$f":"Salary_Entitlement!H60","v":0},{"$f":"Salary_Entitlement!I60","v":0},{"$f":"Salary_Entitlement!J60","v":0},{"$f":"Salary_Entitlement!K60","v":0},{"$f":"Salary_Entitlement!L60","v":0},{"$f":"Salary_Entitlement!M60","v":0},{"$f":"Salary_Entitlement!N60","v":0},{"$f":"Salary_Entitlement!O60","v":0},{"$f":"Salary_Entitlement!P60","v":0},{"$error":"#DIV/0!"},{"$error":"#DIV/0!"},{"$f":"INDEX(Deduction!$A$3:$K$501,MATCH(1,(Deduction!$A$3:$A$501=Sheet8!A59)*(Deduction!$B$3:$B$501=Sheet8!B59)*(Deduction!$C$3:$C$501=Sheet8!D59),0),5)","v":0},{"$f":"INDEX(Deduction!$A$3:$K$501,MATCH(1,(Deduction!$A$3:$A$501=Sheet8!A59)*(Deduction!$B$3:$B$501=Sheet8!B59)*(Deduction!$C$3:$C$501=Sheet8!D59),0),6)","v":0},{"$f":"INDEX(Deduction!$A$3:$K$501,MATCH(1,(Deduction!$A$3:$A$501=Sheet8!A59)*(Deduction!$B$3:$B$501=Sheet8!B59)*(Deduction!$C$3:$C$501=Sheet8!D59),0),7)","v":0},{"$f":"INDEX(Deduction!$A$3:$K$501,MATCH(1,(Deduction!$A$3:$A$501=Sheet8!A59)*(Deduction!$B$3:$B$501=Sheet8!B59)*(Deduction!$C$3:$C$501=Sheet8!D59),0),8)","v":0},{"$f":"INDEX(Deduction!$A$3:$K$501,MATCH(1,(Deduction!$A$3:$A$501=Sheet8!A59)*(Deduction!$B$3:$B$501=Sheet8!B59)*(Deduction!$C$3:$C$501=Sheet8!D59),0),9)","v":0},{"$f":"INDEX(Deduction!$A$3:$K$501,MATCH(1,(Deduction!$A$3:$A$501=Sheet8!A59)*(Deduction!$B$3:$B$501=Sheet8!B59)*(Deduction!$C$3:$C$501=Sheet8!D59),0),10)","v":0},{"$f":"INDEX(Deduction!$A$3:$K$501,MATCH(1,(Deduction!$A$3:$A$501=Sheet8!A59)*(Deduction!$B$3:$B$501=Sheet8!B59)*(Deduction!$C$3:$C$501=Sheet8!D59),0),11)","v":0},{"$error":"#DIV/0!"},{"$f":"VLOOKUP(D59,Emp_Master!$B$3:$H$501,7)","v":{"$error":"#N/A"}}]
[{"$f":"Salary_Entitlement!A61","v":0},{"$f":"Salary_Entitlement!B61","v":0},{"$f":"Salary_Entitlement!C61","v":0},{"$f":"Salary_Entitlement!D61","v":0},{"$f":"Salary_Entitlement!E61","v":{"$error":"#N/A"}},{"$f":"Salary_Entitlement!F61","v":0},{"$f":"Salary_Entitlement!G61","v":0},{"$f":"Salary_Entitlement!H61","v":0},{"$f":"Salary_Entitlement!I61","v":0},{"$f":"Salary_Entitlement!J61","v":0},{"$f":"Salary_Entitlement!K61","v":0},{"$f":"Salary_Entitlement!L61","v":0},{"$f":"Salary_Entitlement!M61","v":0},{"$f":"Salary_Entitlement!N61","v":0},{"$f":"Salary_Entitlement!O61","v":0},{"$f":"Salary_Entitlement!P61","v":0},{"$error":"#DIV/0!"},{"$error":"#DIV/0!"},{"$f":"INDEX(Deduction!$A$3:$K$501,MATCH(1,(Deduction!$A$3:$A$501=Sheet8!A60)*(Deduction!$B$3:$B$501=Sheet8!B60)*(Deduction!$C$3:$C$501=Sheet8!D60),0),5)","v":0},{"$f":"INDEX(Deduction!$A$3:$K$501,MATCH(1,(Deduction!$A$3:$A$501=Sheet8!A60)*(Deduction!$B$3:$B$501=Sheet8!B60)*(Deduction!$C$3:$C$501=Sheet8!D60),0),6)","v":0},{"$f":"INDEX(Deduction!$A$3:$K$501,MATCH(1,(Deduction!$A$3:$A$501=Sheet8!A60)*(Deduction!$B$3:$B$501=Sheet8!B60)*(Deduction!$C$3:$C$501=Sheet8!D60),0),7)","v":0},{"$f":"INDEX(Deduction!$A$3:$K$501,MATCH(1,(Deduction!$A$3:$A$501=Sheet8!A60)*(Deduction!$B$3:$B$501=Sheet8!B60)*(Deduction!$C$3:$C$501=Sheet8!D60),0),8)","v":0},{"$f":"INDEX(Deduction!$A$3:$K$501,MATCH(1,(Deduction!$A$3:$A$501=Sheet8!A60)*(Deduction!$B$3:$B$501=Sheet8!B60)*(Deduction!$C$3:$C$501=Sheet8!D60),0),9)","v":0},{"$f":"INDEX(Deduction!$A$3:$K$501,MATCH(1,(Deduction!$A$3:$A$501=Sheet8!A60)*(Deduction!$B$3:$B$501=Sheet8!B60)*(Deduction!$C$3:$C$501=Sheet8!D60),0),10)","v":0},{"$f":"INDEX(Deduction!$A$3:$K$501,MATCH(1,(Deduction!$A$3:$A$501=Sheet8!A60)*(Deduction!$B$3:$B$501=Sheet8!B60)*(Deduction!$C$3:$C$501=Sheet8!D60),0),11)","v":0},{"$error":"#DIV/0!"},{"$f":"VLOOKUP(D60,Emp_Master!$B$3:$H$501,7)","v":{"$error":"#N/A"}}]
[{"$f":"Salary_Entitlement!A62","v":0},{"$f":"Salary_Entitlement!B62","v":0},{"$f":"Salary_Entitlement!C62","v":0},{"$f":"Salary_Entitlement!D62","v":0},{"$f":"Salary_Entitlement!E62","v":{"$error":"#N/A"}},{"$f":"Salary_Entitlement!F62","v":0},{"$f":"Salary_Entitlement!G62","v":0},{"$f":"Salary_Entitlement!H62","v":0},{"$f":"Salary_Entitlement!I62","v":0},{"$f":"Salary_Entitlement!J62","v":0},{"$f":"Salary_Entitlement!K62","v":0},{"$f":"Salary_Entitlement!L62","v":0},{"$f":"Salary_Entitlement!M62","v":0},{"$f":"Salary_Entitlement!N62","v":0},{"$f":"Salary_Entitlement!O62","v":0},{"$f":"Salary_Entitlement!P62","v":0},{"$error":"#DIV/0!"},{"$error":"#DIV/0!"},{"$f":"INDEX(Deduction!$A$3:$K$501,MATCH(1,(Deduction!$A$3:$A$501=Sheet8!A61)*(Deduction!$B$3:$B$501=Sheet8!B61)*(Deduction!$C$3:$C$501=Sheet8!D61),0),5)","v":0},{"$f":"INDEX(Deduction!$A$3:$K$501,MATCH(1,(Deduction!$A$3:$A$501=Sheet8!A61)*(Deduction!$B$3:$B$501=Sheet8!B61)*(Deduction!$C$3:$C$501=Sheet8!D61),0),6)","v":0},{"$f":"INDEX(Deduction!$A$3:$K$501,MATCH(1,(Deduction!$A$3:$A$501=Sheet8!A61)*(Deduction!$B$3:$B$501=Sheet8!B61)*(Deduction!$C$3:$C$501=Sheet8!D61),0),7)","v":0},{"$f":"INDEX(Deduction!$A$3:$K$501,MATCH(1,(Deduction!$A$3:$A$501=Sheet8!A61)*(Deduction!$B$3:$B$501=Sheet8!B61)*(Deduction!$C$3:$C$501=Sheet8!D61),0),8)","v":0},{"$f":"INDEX(Deduction!$A$3:$K$501,MATCH(1,(Deduction!$A$3:$A$501=Sheet8!A61)*(Deduction!$B$3:$B$501=Sheet8!B61)*(Deduction!$C$3:$C$501=Sheet8!D61),0),9)","v":0},{"$f":"INDEX(Deduction!$A$3:$K$501,MATCH(1,(Deduction!$A$3:$A$501=Sheet8!A61)*(Deduction!$B$3:$B$501=Sheet8!B61)*(Deduction!$C$3:$C$501=Sheet8!D61),0),10)","v":0},{"$f":"INDEX(Deduction!$A$3:$K$501,MATCH(1,(Deduction!$A$3:$A$501=Sheet8!A61)*(Deduction!$B$3:$B$501=Sheet8!B61)*(Deduction!$C$3:$C$501=Sheet8!D61),0),11)","v":0},{"$error":"#DIV/0!"},{"$f":"VLOOKUP(D61,Emp_Master!$B$3:$H$501,7)","v":{"$error":"#N/A"}}]
[{"$f":"Salary_Entitlement!A63","v":0},{"$f":"Salary_Entitlement!B63","v":0},{"$f":"Salary_Entitlement!C63","v":0},{"$f":"Salary_Entitlement!D63","v":0},{"$f":"Salary_Entitlement!E63","v":{"$error":"#N/A"}},{"$f":"Salary_Entitlement!F63","v":0},{"$f":"Salary_Entitlement!G63","v":0},{"$f":"Salary_Entitlement!H63","v":0},{"$f":"Salary_Entitlement!I63","v":0},{"$f":"Salary_Entitlement!J63","v":0},{"$f":"Salary_Entitlement!K63","v":0},{"$f":"Salary_Entitlement!L63","v":0},{"$f":"Salary_Entitlement!M63","v":0},{"$f":"Salary_Entitlement!N63","v":0},{"$f":"Salary_Entitlement!O63","v":0},{"$f":"Salary_Entitlement!P63","v":0},{"$error":"#DIV/0!"},{"$error":"#DIV/0!"},{"$f":"INDEX(Deduction!$A$3:$K$501,MATCH(1,(Deduction!$A$3:$A$501=Sheet8!A62)*(Deduction!$B$3:$B$501=Sheet8!B62)*(Deduction!$C$3:$C$501=Sheet8!D62),0),5)","v":0},{"$f":"INDEX(Deduction!$A$3:$K$501,MATCH(1,(Deduction!$A$3:$A$501=Sheet8!A62)*(Deduction!$B$3:$B$501=Sheet8!B62)*(Deduction!$C$3:$C$501=Sheet8!D62),0),6)","v":0},{"$f":"INDEX(Deduction!$A$3:$K$501,MATCH(1,(Deduction!$A$3:$A$501=Sheet8!A62)*(Deduction!$B$3:$B$501=Sheet8!B62)*(Deduction!$C$3:$C$501=Sheet8!D62),0),7)","v":0},{"$f":"INDEX(Deduction!$A$3:$K$501,MATCH(1,(Deduction!$A$3:$A$501=Sheet8!A62)*(Deduction!$B$3:$B$501=Sheet8!B62)*(Deduction!$C$3:$C$501=Sheet8!D62),0),8)","v":0},{"$f":"INDEX(Deduction!$A$3:$K$501,MATCH(1,(Deduction!$A$3:$A$501=Sheet8!A62)*(Deduction!$B$3:$B$501=Sheet8!B62)*(Deduction!$C$3:$C$501=Sheet8!D62),0),9)","v":0},{"$f":"INDEX(Deduction!$A$3:$K$501,MATCH(1,(Deduction!$A$3:$A$501=Sheet8!A62)*(Deduction!$B$3:$B$501=Sheet8!B62)*(Deduction!$C$3:$C$501=Sheet8!D62),0),10)","v":0},{"$f":"INDEX(Deduction!$A$3:$K$501,MATCH(1,(Deduction!$A$3:$A$501=Sheet8!A62)*(Deduction!$B$3:$B$501=Sheet8!B62)*(Deduction!$C$3:$C$501=Sheet8!D62),0),11)","v":0},{"$error":"#DIV/0!"},{"$f":"VLOOKUP(D62,Emp_Master!$B$3:$H$501,7)","v":{"$error":"#N/A"}}]
[{"$f":"Salary_Entitlement!A64","v":0},{"$f":"Salary_Entitlement!B64","v":0},{"$f":"Salary_Entitlement!C64","v":0},{"$f":"Salary_Entitlement!D64","v":0},{"$f":"Salary_Entitlement!E64","v":{"$error":"#N/A"}},{"$f":"Salary_Entitlement!F64","v":0},{"$f":"Salary_Entitlement!G64","v":0},{"$f":"Salary_Entitlement!H64","v":0},{"$f":"Salary_Entitlement!I64","v":0},{"$f":"Salary_Entitlement!J64","v":0},{"$f":"Salary_Entitlement!K64","v":0},{"$f":"Salary_Entitlement!L64","v":0},{"$f":"Salary_Entitlement!M64","v":0},{"$f":"Salary_Entitlement!N64","v":0},{"$f":"Salary_Entitlement!O64","v":0},{"$f":"Salary_Entitlement!P64","v":0},{"$error":"#DIV/0!"},{"$error":"#DIV/0!"},{"$f":"INDEX(Deduction!$A$3:$K$501,MATCH(1,(Deduction!$A$3:$A$501=Sheet8!A63)*(Deduction!$B$3:$B$501=Sheet8!B63)*(Deduction!$C$3:$C$501=Sheet8!D63),0),5)","v":0},{"$f":"INDEX(Deduction!$A$3:$K$501,MATCH(1,(Deduction!$A$3:$A$501=Sheet8!A63)*(Deduction!$B$3:$B$501=Sheet8!B63)*(Deduction!$C$3:$C$501=Sheet8!D63),0),6)","v":0},{"$f":"INDEX(Deduction!$A$3:$K$501,MATCH(1,(Deduction!$A$3:$A$501=Sheet8!A63)*(Deduction!$B$3:$B$501=Sheet8!B63)*(Deduction!$C$3:$C$501=Sheet8!D63),0),7)","v":0},{"$f":"INDEX(Deduction!$A$3:$K$501,MATCH(1,(Deduction!$A$3:$A$501=Sheet8!A63)*(Deduction!$B$3:$B$501=Sheet8!B63)*(Deduction!$C$3:$C$501=Sheet8!D63),0),8)","v":0},{"$f":"INDEX(Deduction!$A$3:$K$501,MATCH(1,(Deduction!$A$3:$A$501=Sheet8!A63)*(Deduction!$B$3:$B$501=Sheet8!B63)*(Deduction!$C$3:$C$501=Sheet8!D63),0),9)","v":0},{"$f":"INDEX(Deduction!$A$3:$K$501,MATCH(1,(Deduction!$A$3:$A$501=Sheet8!A63)*(Deduction!$B$3:$B$501=Sheet8!B63)*(Deduction!$C$3:$C$501=Sheet8!D63),0),10)","v":0},{"$f":"INDEX(Deduction!$A$3:$K$501,MATCH(1,(Deduction!$A$3:$A$501=Sheet8!A63)*(Deduction!$B$3:$B$501=Sheet8!B63)*(Deduction!$C$3:$C$501=Sheet8!D63),0),11)","v":0},{"$error":"#DIV/0!"},{"$f":"VLOOKUP(D63,Emp_Master!$B$3:$H$501,7)","v":{"$error":"#N/A"}}]
[{"$f":"Salary_Entitlement!A65","v":0},{"$f":"Salary_Entitlement!B65","v":0},{"$f":"Salary_Entitlement!C65","v":0},{"$f":"Salary_Entitlement!D65","v":0},{"$f":"Salary_Entitlement!E65","v":{"$error":"#N/A"}},{"$f":"Salary_Entitlement!F65","v":0},{"$f":"Salary_Entitlement!G65","v":0},{"$f":"Salary_Entitlement!H65","v":0},{"$f":"Salary_Entitlement!I65","v":0},{"$f":"Salary_Entitlement!J65","v":0},{"$f":"Salary_Entitlement!K65","v":0},{"$f":"Salary_Entitlement!L65","v":0},{"$f":"Salary_Entitlement!M65","v":0},{"$f":"Salary_Entitlement!N65","v":0},{"$f":"Salary_Entitlement!O65","v":0},{"$f":"Salary_Entitlement!P65","v":0},{"$error":"#DIV/0!"},{"$error":"#DIV/0!"},{"$f":"INDEX(Deduction!$A$3:$K$501,MATCH(1,(Deduction!$A$3:$A$501=Sheet8!A64)*(Deduction!$B$3:$B$501=Sheet8!B64)*(Deduction!$C$3:$C$501=Sheet8!D64),0),5)","v":0},{"$f":"INDEX(Deduction!$A$3:$K$501,MATCH(1,(Deduction!$A$3:$A$501=Sheet8!A64)*(Deduction!$B$3:$B$501=Sheet8!B64)*(Deduction!$C$3:$C$501=Sheet8!D64),0),6)","v":0},{"$f":"INDEX(Deduction!$A$3:$K$501,MATCH(1,(Deduction!$A$3:$A$501=Sheet8!A64)*(Deduction!$B$3:$B$501=Sheet8!B64)*(Deduction!$C$3:$C$501=Sheet8!D64),0),7)","v":0},{"$f":"INDEX(Deduction!$A$3:$K$501,MATCH(1,(Deduction!$A$3:$A$501=Sheet8!A64)*(Deduction!$B$3:$B$501=Sheet8!B64)*(Deduction!$C$3:$C$501=Sheet8!D64),0),8)","v":0},{"$f":"INDEX(Deduction!$A$3:$K$501,MATCH(1,(Deduction!$A$3:$A$501=Sheet8!A64)*(Deduction!$B$3:$B$501=Sheet8!B64)*(Deduction!$C$3:$C$501=Sheet8!D64),0),9)","v":0},{"$f":"INDEX(Deduction!$A$3:$K$501,MATCH(1,(Deduction!$A$3:$A$501=Sheet8!A64)*(Deduction!$B$3:$B$501=Sheet8!B64)*(Deduction!$C$3:$C$501=Sheet8!D64),0),10)","v":0},{"$f":"INDEX(Deduction!$A$3:$K$501,MATCH(1,(Deduction!$A$3:$A$501=Sheet8!A64)*(Deduction!$B$3:$B$501=Sheet8!B64)*(Deduction!$C$3:$C$501=Sheet8!D64),0),11)","v":0},{"$error":"#DIV/0!"},{"$f":"VLOOKUP(D64,Emp_Master!$B$3:$H$501,7)","v":{"$error":"#N/A"}}]
[{"$f":"Salary_Entitlement!A66","v":0},{"$f":"Salary_Entitlement!B66","v":0},{"$f":"Salary_Entitlement!C66","v":0},{"$f":"Salary_Entitlement!D66","v":0},{"$f":"Salary_Entitlement!E66","v":{"$error":"#N/A"}},{"$f":"Salary_Entitlement!F66","v":0},{"$f":"Salary_Entitlement!G66","v":0},{"$f":"Salary_Entitlement!H66","v":0},{"$f":"Salary_Entitlement!I66","v":0},{"$f":"Salary_Entitlement!J66","v":0},{"$f":"Salary_Entitlement!K66","v":0},{"$f":"Salary_Entitlement!L66","v":0},{"$f":"Salary_Entitlement!M66","v":0},{"$f":"Salary_Entitlement!N66","v":0},{"$f":"Salary_Entitlement!O66","v":0},{"$f":"Salary_Entitlement!P66","v":0},{"$error":"#DIV/0!"},{"$error":"#DIV/0!"},{"$f":"INDEX(Deduction!$A$3:$K$501,MATCH(1,(Deduction!$A$3:$A$501=Sheet8!A65)*(Deduction!$B$3:$B$501=Sheet8!B65)*(Deduction!$C$3:$C$501=Sheet8!D65),0),5)","v":0},{"$f":"INDEX(Deduction!$A$3:$K$501,MATCH(1,(Deduction!$A$3:$A$501=Sheet8!A65)*(Deduction!$B$3:$B$501=Sheet8!B65)*(Deduction!$C$3:$C$501=Sheet8!D65),0),6)","v":0},{"$f":"INDEX(Deduction!$A$3:$K$501,MATCH(1,(Deduction!$A$3:$A$501=Sheet8!A65)*(Deduction!$B$3:$B$501=Sheet8!B65)*(Deduction!$C$3:$C$501=Sheet8!D65),0),7)","v":0},{"$f":"INDEX(Deduction!$A$3:$K$501,MATCH(1,(Deduction!$A$3:$A$501=Sheet8!A65)*(Deduction!$B$3:$B$501=Sheet8!B65)*(Deduction!$C$3:$C$501=Sheet8!D65),0),8)","v":0},{"$f":"INDEX(Deduction!$A$3:$K$501,MATCH(1,(Deduction!$A$3:$A$501=Sheet8!A65)*(Deduction!$B$3:$B$501=Sheet8!B65)*(Deduction!$C$3:$C$501=Sheet8!D65),0),9)","v":0},{"$f":"INDEX(Deduction!$A$3:$K$501,MATCH(1,(Deduction!$A$3:$A$501=Sheet8!A65)*(Deduction!$B$3:$B$501=Sheet8!B65)*(Deduction!$C$3:$C$501=Sheet8!D65),0),10)","v":0},{"$f":"INDEX(Deduction!$A$3:$K$501,MATCH(1,(Deduction!$A$3:$A$501=Sheet8!A65)*(Deduction!$B$3:$B$501=Sheet8!B65)*(Deduction!$C$3:$C$501=Sheet8!D65),0),11)","v":0},{"$error":"#DIV/0!"},{"$f":"VLOOKUP(D65,Emp_Master!$B$3:$H$501,7)","v":{"$error":"#N/A"}}]
[{"$f":"Salary_Entitlement!A67","v":0},{"$f":"Salary_Entitlement!B67","v":0},{"$f":"Salary_Entitlement!C67","v":0},{"$f":"Salary_Entitlement!D67","v":0},{"$f":"Salary_Entitlement!E67","v":{"$error":"#N/A"}},{"$f":"Salary_Entitlement!F67","v":0},{"$f":"Salary_Entitlement!G67","v":0},{"$f":"Salary_Entitlement!H67","v":0},{"$f":"Salary_Entitlement!I67","v":0},{"$f":"Salary_Entitlement!J67","v":0},{"$f":"Salary_Entitlement!K67","v":0},{"$f":"Salary_Entitlement!L67","v":0},{"$f":"Salary_Entitlement!M67","v":0},{"$f":"Salary_Entitlement!N67","v":0},{"$f":"Salary_Entitlement!O67","v":0},{"$f":"Salary_Entitlement!P67","v":0},{"$error":"#DIV/0!"},{"$error":"#DIV/0!"},{"$f":"INDEX(Deduction!$A$3:$K$501,MATCH(1,(Deduction!$A$3:$A$501=Sheet8!A66)*(Deduction!$B$3:$B$501=Sheet8!B66)*(Deduction!$C$3:$C$501=Sheet8!D66),0),5)","v":0},{"$f":"INDEX(Deduction!$A$3:$K$501,MATCH(1,(Deduction!$A$3:$A$501=Sheet8!A66)*(Deduction!$B$3:$B$501=Sheet8!B66)*(Deduction!$C$3:$C$501=Sheet8!D66),0),6)","v":0},{"$f":"INDEX(Deduction!$A$3:$K$501,MATCH(1,(Deduction!$A$3:$A$501=Sheet8!A66)*(Deduction!$B$3:$B$501=Sheet8!B66)*(Deduction!$C$3:$C$501=Sheet8!D66),0),7)","v":0},{"$f":"INDEX(Deduction!$A$3:$K$501,MATCH(1,(Deduction!$A$3:$A$501=Sheet8!A66)*(Deduction!$B$3:$B$501=Sheet8!B66)*(Deduction!$C$3:$C$501=Sheet8!D66),0),8)","v":0},{"$f":"INDEX(Deduction!$A$3:$K$501,MATCH(1,(Deduction!$A$3:$A$501=Sheet8!A66)*(Deduction!$B$3:$B$501=Sheet8!B66)*(Deduction!$C$3:$C$501=Sheet8!D66),0),9)","v":0},{"$f":"INDEX(Deduction!$A$3:$K$501,MATCH(1,(Deduction!$A$3:$A$501=Sheet8!A66)*(Deduction!$B$3:$B$501=Sheet8!B66)*(Deduction!$C$3:$C$501=Sheet8!D66),0),10)","v":0},{"$f":"INDEX(Deduction!$A$3:$K$501,MATCH(1,(Deduction!$A$3:$A$501=Sheet8!A66)*(Deduction!$B$3:$B$501=Sheet8!B66)*(Deduction!$C$3:$C$501=Sheet8!D66),0),11)","v":0},{"$error":"#DIV/0!"},{"$f":"VLOOKUP(D66,Emp_Master!$B$3:$H$501,7)","v":{"$error":"#N/A"}}]
[{"$f":"Salary_Entitlement!A68","v":0},{"$f":"Salary_Entitlement!B68","v":0},{"$f":"Salary_Entitlement!C68","v":0},{"$f":"Salary_Entitlement!D68","v":0},{"$f":"Salary_Entitlement!E68","v":{"$error":"#N/A"}},{"$f":"Salary_Entitlement!F68","v":0},{"$f":"Salary_Entitlement!G68","v":0},{"$f":"Salary_Entitlement!H68","v":0},{"$f":"Salary_Entitlement!I68","v":0},{"$f":"Salary_Entitlement!J68","v":0},{"$f":"Salary_Entitlement!K68","v":0},{"$f":"Salary_Entitlement!L68","v":0},{"$f":"Salary_Entitlement!M68","v":0},{"$f":"Salary_Entitlement!N68","v":0},{"$f":"Salary_Entitlement!O68","v":0},{"$f":"Salary_Entitlement!P68","v":0},{"$error":"#DIV/0!"},{"$error":"#DIV/0!"},{"$f":"INDEX(Deduction!$A$3:$K$501,MATCH(1,(Deduction!$A$3:$A$501=Sheet8!A67)*(Deduction!$B$3:$B$501=Sheet8!B67)*(Deduction!$C$3:$C$501=Sheet8!D67),0),5)","v":0},{"$f":"INDEX(Deduction!$A$3:$K$501,MATCH(1,(Deduction!$A$3:$A$501=Sheet8!A67)*(Deduction!$B$3:$B$501=Sheet8!B67)*(Deduction!$C$3:$C$501=Sheet8!D67),0),6)","v":0},{"$f":"INDEX(Deduction!$A$3:$K$501,MATCH(1,(Deduction!$A$3:$A$501=Sheet8!A67)*(Deduction!$B$3:$B$501=Sheet8!B67)*(Deduction!$C$3:$C$501=Sheet8!D67),0),7)","v":0},{"$f":"INDEX(Deduction!$A$3:$K$501,MATCH(1,(Deduction!$A$3:$A$501=Sheet8!A67)*(Deduction!$B$3:$B$501=Sheet8!B67)*(Deduction!$C$3:$C$501=Sheet8!D67),0),8)","v":0},{"$f":"INDEX(Deduction!$A$3:$K$501,MATCH(1,(Deduction!$A$3:$A$501=Sheet8!A67)*(Deduction!$B$3:$B$501=Sheet8!B67)*(Deduction!$C$3:$C$501=Sheet8!D67),0),9)","v":0},{"$f":"INDEX(Deduction!$A$3:$K$501,MATCH(1,(Deduction!$A$3:$A$501=Sheet8!A67)*(Deduction!$B$3:$B$501=Sheet8!B67)*(Deduction!$C$3:$C$501=Sheet8!D67),0),10)","v":0},{"$f":"INDEX(Deduction!$A$3:$K$501,MATCH(1,(Deduction!$A$3:$A$501=Sheet8!A67)*(Deduction!$B$3:$B$501=Sheet8!B67)*(Deduction!$C$3:$C$501=Sheet8!D67),0),11)","v":0},{"$error":"#DIV/0!"},{"$f":"VLOOKUP(D67,Emp_Master!$B$3:$H$501,7)","v":{"$error":"#N/A"}}]
[{"$f":"Salary_Entitlement!A69","v":0},{"$f":"Salary_Entitlement!B69","v":0},{"$f":"Salary_Entitlement!C69","v":0},{"$f":"Salary_Entitlement!D69","v":0},{"$f":"Salary_Entitlement!E69","v":{"$error":"#N/A"}},{"$f":"Salary_Entitlement!F69","v":0},{"$f":"Salary_Entitlement!G69","v":0},{"$f":"Salary_Entitlement!H69","v":0},{"$f":"Salary_Entitlement!I69","v":0},{"$f":"Salary_Entitlement!J69","v":0},{"$f":"Salary_Entitlement!K69","v":0},{"$f":"Salary_Entitlement!L69","v":0},{"$f":"Salary_Entitlement!M69","v":0},{"$f":"Salary_Entitlement!N69","v":0},{"$f":"Salary_Entitlement!O69","v":0},{"$f":"Salary_Entitlement!P69","v":0},{"$error":"#DIV/0!"},{"$error":"#DIV/0!"},{"$f":"INDEX(Deduction!$A$3:$K$501,MATCH(1,(Deduction!$A$3:$A$501=Sheet8!A68)*(Deduction!$B$3:$B$501=Sheet8!B68)*(Deduction!$C$3:$C$501=Sheet8!D68),0),5)","v":0},{"$f":"INDEX(Deduction!$A$3:$K$501,MATCH(1,(Deduction!$A$3:$A$501=Sheet8!A68)*(Deduction!$B$3:$B$501=Sheet8!B68)*(Deduction!$C$3:$C$501=Sheet8!D68),0),6)","v":0},{"$f":"INDEX(Deduction!$A$3:$K$501,MATCH(1,(Deduction!$A$3:$A$501=Sheet8!A68)*(Deduction!$B$3:$B$501=Sheet8!B68)*(Deduction!$C$3:$C$501=Sheet8!D68),0),7)","v":0},{"$f":"INDEX(Deduction!$A$3:$K$501,MATCH(1,(Deduction!$A$3:$A$501=Sheet8!A68)*(Deduction!$B$3:$B$501=Sheet8!B68)*(Deduction!$C$3:$C$501=Sheet8!D68),0),8)","v":0},{"$f":"INDEX(Deduction!$A$3:$K$501,MATCH(1,(Deduction!$A$3:$A$501=Sheet8!A68)*(Deduction!$B$3:$B$501=Sheet8!B68)*(Deduction!$C$3:$C$501=Sheet8!D68),0),9)","v":0},{"$f":"INDEX(Deduction!$A$3:$K$501,MATCH(1,(Deduction!$A$3:$A$501=Sheet8!A68)*(Deduction!$B$3:$B$501=Sheet8!B68)*(Deduction!$C$3:$C$501=Sheet8!D68),0),10)","v":0},{"$f":"INDEX(Deduction!$A$3:$K$501,MATCH(1,(Deduction!$A$3:$A$501=Sheet8!A68)*(Deduction!$B$3:$B$501=Sheet8!B68)*(Deduction!$C$3:$C$501=Sheet8!D68),0),11)","v":0},{"$f":"+R68-SUM(S68:Y68)","v":{"$error":"#DIV/0!"}},{"$f":"VLOOKUP(D68,Emp_Master!$B$3:$H$501,7)","v":{"$error":"#N/A"}}]
[{"$f":"Salary_Entitlement!A70","v":0},{"$f":"Salary_Entitlement!B70","v":0},{"$f":"Salary_Entitlement!C70","v":0},{"$f":"Salary_Entitlement!D70","v":0},{"$f":"Salary_Entitlement!E70","v":{"$error":"#N/A"}},{"$f":"Salary_Entitlement!F70","v":0},{"$f":"Salary_Entitlement!G70","v":0},{"$f":"Salary_Entitlement!H70","v":0},{"$f":"Salary_Entitlement!I70","v":0},{"$f":"Salary_Entitlement!J70","v":0},{"$f":"Salary_Entitlement!K70","v":0},{"$f":"Salary_Entitlement!L70","v":0},{"$f":"Salary_Entitlement!M70","v":0},{"$f":"Salary_Entitlement!N70","v":0},{"$f":"Salary_Entitlement!O70","v":0},{"$f":"Salary_Entitlement!P70","v":0},{"$error":"#DIV/0!"},{"$error":"#DIV/0!"},{"$f":"INDEX(Deduction!$A$3:$K$501,MATCH(1,(Deduction!$A$3:$A$501=Sheet8!A69)*(Deduction!$B$3:$B$501=Sheet8!B69)*(Deduction!$C$3:$C$501=Sheet8!D69),0),5)","v":0},{"$f":"INDEX(Deduction!$A$3:$K$501,MATCH(1,(Deduction!$A$3:$A$501=Sheet8!A69)*(Deduction!$B$3:$B$501=Sheet8!B69)*(Deduction!$C$3:$C$501=Sheet8!D69),0),6)","v":0},{"$f":"INDEX(Deduction!$A$3:$K$501,MATCH(1,(Deduction!$A$3:$A$501=Sheet8!A69)*(Deduction!$B$3:$B$501=Sheet8!B69)*(Deduction!$C$3:$C$501=Sheet8!D69),0),7)","v":0},{"$f":"INDEX(Deduction!$A$3:$K$501,MATCH(1,(Deduction!$A$3:$A$501=Sheet8!A69)*(Deduction!$B$3:$B$501=Sheet8!B69)*(Deduction!$C$3:$C$501=Sheet8!D69),0),8)","v":0},{"$f":"INDEX(Deduction!$A$3:$K$501,MATCH(1,(Deduction!$A$3:$A$501=Sheet8!A69)*(Deduction!$B$3:$B$501=Sheet8!B69)*(Deduction!$C$3:$C$501=Sheet8!D69),0),9)","v":0},{"$f":"INDEX(Deduction!$A$3:$K$501,MATCH(1,(Deduction!$A$3:$A$501=Sheet8!A69)*(Deduction!$B$3:$B$501=Sheet8!B69)*(Deduction!$C$3:$C$501=Sheet8!D69),0),10)","v":0},{"$f":"INDEX(Deduction!$A$3:$K$501,MATCH(1,(Deduction!$A$3:$A$501=Sheet8!A69)*(Deduction!$B$3:$B$501=Sheet8!B69)*(Deduction!$C$3:$C$501=Sheet8!D69),0),11)","v":0},{"$error":"#DIV/0!"},{"$f":"VLOOKUP(D69,Emp_Master!$B$3:$H$501,7)","v":{"$error":"#N/A"}}]
[{"$f":"Salary_Entitlement!A71","v":0},{"$f":"Salary_Entitlement!B71","v":0},{"$f":"Salary_Entitlement!C71","v":0},{"$f":"Salary_Entitlement!D71","v":0},{"$f":"Salary_Entitlement!E71","v":{"$error":"#N/A"}},{"$f":"Salary_Entitlement!F71","v":0},{"$f":"Salary_Entitlement!G71","v":0},{"$f":"Salary_Entitlement!H71","v":0},{"$f":"Salary_Entitlement!I71","v":0},{"$f":"Salary_Entitlement!J71","v":0},{"$f":"Salary_Entitlement!K71","v":0},{"$f":"Salary_Entitlement!L71","v":0},{"$f":"Salary_Entitlement!M71","v":0},{"$f":"Salary_Entitlement!N71","v":0},{"$f":"Salary_Entitlement!O71","v":0},{"$f":"Salary_Entitlement!P71","v":0},{"$error":"#DIV/0!"},{"$error":"#DIV/0!"},{"$f":"INDEX(Deduction!$A$3:$K$501,MATCH(1,(Deduction!$A$3:$A$501=Sheet8!A70)*(Deduction!$B$3:$B$501=Sheet8!B70)*(Deduction!$C$3:$C$501=Sheet8!D70),0),5)","v":0},{"$f":"INDEX(Deduction!$A$3:$K$501,MATCH(1,(Deduction!$A$3:$A$501=Sheet8!A70)*(Deduction!$B$3:$B$501=Sheet8!B70)*(Deduction!$C$3:$C$501=Sheet8!D70),0),6)","v":0},{"$f":"INDEX(Deduction!$A$3:$K$501,MATCH(1,(Deduction!$A$3:$A$501=Sheet8!A70)*(Deduction!$B$3:$B$501=Sheet8!B70)*(Deduction!$C$3:$C$501=Sheet8!D70),0),7)","v":0},{"$f":"INDEX(Deduction!$A$3:$K$501,MATCH(1,(Deduction!$A$3:$A$501=Sheet8!A70)*(Deduction!$B$3:$B$501=Sheet8!B70)*(Deduction!$C$3:$C$501=Sheet8!D70),0),8)","v":0},{"$f":"INDEX(Deduction!$A$3:$K$501,MATCH(1,(Deduction!$A$3:$A$501=Sheet8!A70)*(Deduction!$B$3:$B$501=Sheet8!B70)*(Deduction!$C$3:$C$501=Sheet8!D70),0),9)","v":0},{"$f":"INDEX(Deduction!$A$3:$K$501,MATCH(1,(Deduction!$A$3:$A$501=Sheet8!A70)*(Deduction!$B$3:$B$501=Sheet8!B70)*(Deduction!$C$3:$C$501=Sheet8!D70),0),10)","v":0},{"$f":"INDEX(Deduction!$A$3:$K$501,MATCH(1,(Deduction!$A$3:$A$501=Sheet8!A70)*(Deduction!$B$3:$B$501=Sheet8!B70)*(Deduction!$C$3:$C$501=Sheet8!D70),0),11)","v":0},{"$error":"#DIV/0!"},{"$f":"VLOOKUP(D70,Emp_Master!$B$3:$H$501,7)","v":{"$error":"#N/A"}}]
[{"$f":"Salary_Entitlement!A72","v":0},{"$f":"Salary_Entitlement!B72","v":0},{"$f":"Salary_Entitlement!C72","v":0},{"$f":"Salary_Entitlement!D72","v":0},{"$f":"Salary_Entitlement!E72","v":{"$error":"#N/A"}},{"$f":"Salary_Entitlement!F72","v":0},{"$f":"Salary_Entitlement!G72","v":0},{"$f":"Salary_Entitlement!H72","v":0},{"$f":"Salary_Entitlement!I72","v":0},{"$f":"Salary_Entitlement!J72","v":0},{"$f":"Salary_Entitlement!K72","v":0},{"$f":"Salary_Entitlement!L72","v":0},{"$f":"Salary_Entitlement!M72","v":0},{"$f":"Salary_Entitlement!N72","v":0},{"$f":"Salary_Entitlement!O72","v":0},{"$f":"Salary_Entitlement!P72","v":0},{"$error":"#DIV/0!"},{"$error":"#DIV/0!"},{"$f":"INDEX(Deduction!$A$3:$K$501,MATCH(1,(Deduction!$A$3:$A$501=Sheet8!A71)*(Deduction!$B$3:$B$501=Sheet8!B71)*(Deduction!$C$3:$C$501=Sheet8!D71),0),5)","v":0},{"$f":"INDEX(Deduction!$A$3:$K$501,MATCH(1,(Deduction!$A$3:$A$501=Sheet8!A71)*(Deduction!$B$3:$B$501=Sheet8!B71)*(Deduction!$C$3:$C$501=Sheet8!D71),0),6)","v":0},{"$f":"INDEX(Deduction!$A$3:$K$501,MATCH(1,(Deduction!$A$3:$A$501=Sheet8!A71)*(Deduction!$B$3:$B$501=Sheet8!B71)*(Deduction!$C$3:$C$501=Sheet8!D71),0),7)","v":0},{"$f":"INDEX(Deduction!$A$3:$K$501,MATCH(1,(Deduction!$A$3:$A$501=Sheet8!A71)*(Deduction!$B$3:$B$501=Sheet8!B71)*(Deduction!$C$3:$C$501=Sheet8!D71),0),8)","v":0},{"$f":"INDEX(Deduction!$A$3:$K$501,MATCH(1,(Deduction!$A$3:$A$501=Sheet8!A71)*(Deduction!$B$3:$B$501=Sheet8!B71)*(Deduction!$C$3:$C$501=Sheet8!D71),0),9)","v":0},{"$f":"INDEX(Deduction!$A$3:$K$501,MATCH(1,(Deduction!$A$3:$A$501=Sheet8!A71)*(Deduction!$B$3:$B$501=Sheet8!B71)*(Deduction!$C$3:$C$501=Sheet8!D71),0),10)","v":0},{"$f":"INDEX(Deduction!$A$3:$K$501,MATCH(1,(Deduction!$A$3:$A$501=Sheet8!A71)*(Deduction!$B$3:$B$501=Sheet8!B71)*(Deduction!$C$3:$C$501=Sheet8!D71),0),11)","v":0},{"$error":"#DIV/0!"},{"$f":"VLOOKUP(D71,Emp_Master!$B$3:$H$501,7)","v":{"$error":"#N/A"}}]
[{"$f":"Salary_Entitlement!A73","v":0},{"$f":"Salary_Entitlement!B73","v":0},{"$f":"Salary_Entitlement!C73","v":0},{"$f":"Salary_Entitlement!D73","v":0},{"$f":"Salary_Entitlement!E73","v":{"$error":"#N/A"}},{"$f":"Salary_Entitlement!F73","v":0},{"$f":"Salary_Entitlement!G73","v":0},{"$f":"Salary_Entitlement!H73","v":0},{"$f":"Salary_Entitlement!I73","v":0},{"$f":"Salary_Entitlement!J73","v":0},{"$f":"Salary_Entitlement!K73","v":0},{"$f":"Salary_Entitlement!L73","v":0},{"$f":"Salary_Entitlement!M73","v":0},{"$f":"Salary_Entitlement!N73","v":0},{"$f":"Salary_Entitlement!O73","v":0},{"$f":"Salary_Entitlement!P73","v":0},{"$error":"#DIV/0!"},{"$error":"#DIV/0!"},{"$f":"INDEX(Deduction!$A$3:$K$501,MATCH(1,(Deduction!$A$3:$A$501=Sheet8!A72)*(Deduction!$B$3:$B$501=Sheet8!B72)*(Deduction!$C$3:$C$501=Sheet8!D72),0),5)","v":0},{"$f":"INDEX(Deduction!$A$3:$K$501,MATCH(1,(Deduction!$A$3:$A$501=Sheet8!A72)*(Deduction!$B$3:$B$501=Sheet8!B72)*(Deduction!$C$3:$C$501=Sheet8!D72),0),6)","v":0},{"$f":"INDEX(Deduction!$A$3:$K$501,MATCH(1,(Deduction!$A$3:$A$501=Sheet8!A72)*(Deduction!$B$3:$B$501=Sheet8!B72)*(Deduction!$C$3:$C$501=Sheet8!D72),0),7)","v":0},{"$f":"INDEX(Deduction!$A$3:$K$501,MATCH(1,(Deduction!$A$3:$A$501=Sheet8!A72)*(Deduction!$B$3:$B$501=Sheet8!B72)*(Deduction!$C$3:$C$501=Sheet8!D72),0),8)","v":0},{"$f":"INDEX(Deduction!$A$3:$K$501,MATCH(1,(Deduction!$A$3:$A$501=Sheet8!A72)*(Deduction!$B$3:$B$501=Sheet8!B72)*(Deduction!$C$3:$C$501=Sheet8!D72),0),9)","v":0},{"$f":"INDEX(Deduction!$A$3:$K$501,MATCH(1,(Deduction!$A$3:$A$501=Sheet8!A72)*(Deduction!$B$3:$B$501=Sheet8!B72)*(Deduction!$C$3:$C$501=Sheet8!D72),0),10)","v":0},{"$f":"INDEX(Deduction!$A$3:$K$501,MATCH(1,(Deduction!$A$3:$A$501=Sheet8!A72)*(Deduction!$B$3:$B$501=Sheet8!B72)*(Deduction!$C$3:$C$501=Sheet8!D72),0),11)","v":0},{"$error":"#DIV/0!"},{"$f":"VLOOKUP(D72,Emp_Master!$B$3:$H$501,7)","v":{"$error":"#N/A"}}]
[{"$f":"Salary_Entitlement!A74","v":0},{"$f":"Salary_Entitlement!B74","v":0},{"$f":"Salary_Entitlement!C74","v":0},{"$f":"Salary_Entitlement!D74","v":0},{"$f":"Salary_Entitlement!E74","v":{"$error":"#N/A"}},{"$f":"Salary_Entitlement!F74","v":0},{"$f":"Salary_Entitlement!G74","v":0},{"$f":"Salary_Entitlement!H74","v":0},{"$f":"Salary_Entitlement!I74","v":0},{"$f":"Salary_Entitlement!J74","v":0},{"$f":"Salary_Entitlement!K74","v":0},{"$f":"Salary_Entitlement!L74","v":0},{"$f":"Salary_Entitlement!M74","v":0},{"$f":"Salary_Entitlement!N74","v":0},{"$f":"Salary_Entitlement!O74","v":0},{"$f":"Salary_Entitlement!P74","v":0},{"$error":"#DIV/0!"},{"$error":"#DIV/0!"},{"$f":"INDEX(Deduction!$A$3:$K$501,MATCH(1,(Deduction!$A$3:$A$501=Sheet8!A73)*(Deduction!$B$3:$B$501=Sheet8!B73)*(Deduction!$C$3:$C$501=Sheet8!D73),0),5)","v":0},{"$f":"INDEX(Deduction!$A$3:$K$501,MATCH(1,(Deduction!$A$3:$A$501=Sheet8!A73)*(Deduction!$B$3:$B$501=Sheet8!B73)*(Deduction!$C$3:$C$501=Sheet8!D73),0),6)","v":0},{"$f":"INDEX(Deduction!$A$3:$K$501,MATCH(1,(Deduction!$A$3:$A$501=Sheet8!A73)*(Deduction!$B$3:$B$501=Sheet8!B73)*(Deduction!$C$3:$C$501=Sheet8!D73),0),7)","v":0},{"$f":"INDEX(Deduction!$A$3:$K$501,MATCH(1,(Deduction!$A$3:$A$501=Sheet8!A73)*(Deduction!$B$3:$B$501=Sheet8!B73)*(Deduction!$C$3:$C$501=Sheet8!D73),0),8)","v":0},{"$f":"INDEX(Deduction!$A$3:$K$501,MATCH(1,(Deduction!$A$3:$A$501=Sheet8!A73)*(Deduction!$B$3:$B$501=Sheet8!B73)*(Deduction!$C$3:$C$501=Sheet8!D73),0),9)","v":0},{"$f":"INDEX(Deduction!$A$3:$K$501,MATCH(1,(Deduction!$A$3:$A$501=Sheet8!A73)*(Deduction!$B$3:$B$501=Sheet8!B73)*(Deduction!$C$3:$C$501=Sheet8!D73),0),10)","v":0},{"$f":"INDEX(Deduction!$A$3:$K$501,MATCH(1,(Deduction!$A$3:$A$501=Sheet8!A73)*(Deduction!$B$3:$B$501=Sheet8!B73)*(Deduction!$C$3:$C$501=Sheet8!D73),0),11)","v":0},{"$error":"#DIV/0!"},{"$f":"VLOOKUP(D73,Emp_Master!$B$3:$H$501,7)","v":{"$error":"#N/A"}}]
[{"$f":"Salary_Entitlement!A75","v":0},{"$f":"Salary_Entitlement!B75","v":0},{"$f":"Salary_Entitlement!C75","v":0},{"$f":"Salary_Entitlement!D75","v":0},{"$f":"Salary_Entitlement!E75","v":{"$error":"#N/A"}},{"$f":"Salary_Entitlement!F75","v":0},{"$f":"Salary_Entitlement!G75","v":0},{"$f":"Salary_Entitlement!H75","v":0},{"$f":"Salary_Entitlement!I75","v":0},{"$f":"Salary_Entitlement!J75","v":0},{"$f":"Salary_Entitlement!K75","v":0},{"$f":"Salary_Entitlement!L75","v":0},{"$f":"Salary_Entitlement!M75","v":0},{"$f":"Salary_Entitlement!N75","v":0},{"$f":"Salary_Entitlement!O75","v":0},{"$f":"Salary_Entitlement!P75","v":0},{"$error":"#DIV/0!"},{"$error":"#DIV/0!"},{"$f":"INDEX(Deduction!$A$3:$K$501,MATCH(1,(Deduction!$A$3:$A$501=Sheet8!A74)*(Deduction!$B$3:$B$501=Sheet8!B74)*(Deduction!$C$3:$C$501=Sheet8!D74),0),5)","v":0},{"$f":"INDEX(Deduction!$A$3:$K$501,MATCH(1,(Deduction!$A$3:$A$501=Sheet8!A74)*(Deduction!$B$3:$B$501=Sheet8!B74)*(Deduction!$C$3:$C$501=Sheet8!D74),0),6)","v":0},{"$f":"INDEX(Deduction!$A$3:$K$501,MATCH(1,(Deduction!$A$3:$A$501=Sheet8!A74)*(Deduction!$B$3:$B$501=Sheet8!B74)*(Deduction!$C$3:$C$501=Sheet8!D74),0),7)","v":0},{"$f":"INDEX(Deduction!$A$3:$K$501,MATCH(1,(Deduction!$A$3:$A$501=Sheet8!A74)*(Deduction!$B$3:$B$501=Sheet8!B74)*(Deduction!$C$3:$C$501=Sheet8!D74),0),8)","v":0},{"$f":"INDEX(Deduction!$A$3:$K$501,MATCH(1,(Deduction!$A$3:$A$501=Sheet8!A74)*(Deduction!$B$3:$B$501=Sheet8!B74)*(Deduction!$C$3:$C$501=Sheet8!D74),0),9)","v":0},{"$f":"INDEX(Deduction!$A$3:$K$501,MATCH(1,(Deduction!$A$3:$A$501=Sheet8!A74)*(Deduction!$B$3:$B$501=Sheet8!B74)*(Deduction!$C$3:$C$501=Sheet8!D74),0),10)","v":0},{"$f":"INDEX(Deduction!$A$3:$K$501,MATCH(1,(Deduction!$A$3:$A$501=Sheet8!A74)*(Deduction!$B$3:$B$501=Sheet8!B74)*(Deduction!$C$3:$C$501=Sheet8!D74),0),11)","v":0},{"$error":"#DIV/0!"},{"$f":"VLOOKUP(D74,Emp_Master!$B$3:$H$501,7)","v":{"$error":"#N/A"}}]
[{"$f":"Salary_Entitlement!A76","v":0},{"$f":"Salary_Entitlement!B76","v":0},{"$f":"Salary_Entitlement!C76","v":0},{"$f":"Salary_Entitlement!D76","v":0},{"$f":"Salary_Entitlement!E76","v":{"$error":"#N/A"}},{"$f":"Salary_Entitlement!F76","v":0},{"$f":"Salary_Entitlement!G76","v":0},{"$f":"Salary_Entitlement!H76","v":0},{"$f":"Salary_Entitlement!I76","v":0},{"$f":"Salary_Entitlement!J76","v":0},{"$f":"Salary_Entitlement!K76","v":0},{"$f":"Salary_Entitlement!L76","v":0},{"$f":"Salary_Entitlement!M76","v":0},{"$f":"Salary_Entitlement!N76","v":0},{"$f":"Salary_Entitlement!O76","v":0},{"$f":"Salary_Entitlement!P76","v":0},{"$error":"#DIV/0!"},{"$error":"#DIV/0!"},{"$f":"INDEX(Deduction!$A$3:$K$501,MATCH(1,(Deduction!$A$3:$A$501=Sheet8!A75)*(Deduction!$B$3:$B$501=Sheet8!B75)*(Deduction!$C$3:$C$501=Sheet8!D75),0),5)","v":0},{"$f":"INDEX(Deduction!$A$3:$K$501,MATCH(1,(Deduction!$A$3:$A$501=Sheet8!A75)*(Deduction!$B$3:$B$501=Sheet8!B75)*(Deduction!$C$3:$C$501=Sheet8!D75),0),6)","v":0},{"$f":"INDEX(Deduction!$A$3:$K$501,MATCH(1,(Deduction!$A$3:$A$501=Sheet8!A75)*(Deduction!$B$3:$B$501=Sheet8!B75)*(Deduction!$C$3:$C$501=Sheet8!D75),0),7)","v":0},{"$f":"INDEX(Deduction!$A$3:$K$501,MATCH(1,(Deduction!$A$3:$A$501=Sheet8!A75)*(Deduction!$B$3:$B$501=Sheet8!B75)*(Deduction!$C$3:$C$501=Sheet8!D75),0),8)","v":0},{"$f":"INDEX(Deduction!$A$3:$K$501,MATCH(1,(Deduction!$A$3:$A$501=Sheet8!A75)*(Deduction!$B$3:$B$501=Sheet8!B75)*(Deduction!$C$3:$C$501=Sheet8!D75),0),9)","v":0},{"$f":"INDEX(Deduction!$A$3:$K$501,MATCH(1,(Deduction!$A$3:$A$501=Sheet8!A75)*(Deduction!$B$3:$B$501=Sheet8!B75)*(Deduction!$C$3:$C$501=Sheet8!D75),0),10)","v":0},{"$f":"INDEX(Deduction!$A$3:$K$501,MATCH(1,(Deduction!$A$3:$A$501=Sheet8!A75)*(Deduction!$B$3:$B$501=Sheet8!B75)*(Deduction!$C$3:$C$501=Sheet8!D75),0),11)","v":0},{"$error":"#DIV/0!"},{"$f":"VLOOKUP(D75,Emp_Master!$B$3:$H$501,7)","v":{"$error":"#N/A"}}]
[{"$f":"Salary_Entitlement!A77","v":0},{"$f":"Salary_Entitlement!B77","v":0},{"$f":"Salary_Entitlement!C77","v":0},{"$f":"Salary_Entitlement!D77","v":0},{"$f":"Salary_Entitlement!E77","v":{"$error":"#N/A"}},{"$f":"Salary_Entitlement!F77","v":0},{"$f":"Salary_Entitlement!G77","v":0},{"$f":"Salary_Entitlement!H77","v":0},{"$f":"Salary_Entitlement!I77","v":0},{"$f":"Salary_Entitlement!J77","v":0},{"$f":"Salary_Entitlement!K77","v":0},{"$f":"Salary_Entitlement!L77","v":0},{"$f":"Salary_Entitlement!M77","v":0},{"$f":"Salary_Entitlement!N77","v":0},{"$f":"Salary_Entitlement!O77","v":0},{"$f":"Salary_Entitlement!P77","v":0},{"$error":"#DIV/0!"},{"$error":"#DIV/0!"},{"$f":"INDEX(Deduction!$A$3:$K$501,MATCH(1,(Deduction!$A$3:$A$501=Sheet8!A76)*(Deduction!$B$3:$B$501=Sheet8!B76)*(Deduction!$C$3:$C$501=Sheet8!D76),0),5)","v":0},{"$f":"INDEX(Deduction!$A$3:$K$501,MATCH(1,(Deduction!$A$3:$A$501=Sheet8!A76)*(Deduction!$B$3:$B$501=Sheet8!B76)*(Deduction!$C$3:$C$501=Sheet8!D76),0),6)","v":0},{"$f":"INDEX(Deduction!$A$3:$K$501,MATCH(1,(Deduction!$A$3:$A$501=Sheet8!A76)*(Deduction!$B$3:$B$501=Sheet8!B76)*(Deduction!$C$3:$C$501=Sheet8!D76),0),7)","v":0},{"$f":"INDEX(Deduction!$A$3:$K$501,MATCH(1,(Deduction!$A$3:$A$501=Sheet8!A76)*(Deduction!$B$3:$B$501=Sheet8!B76)*(Deduction!$C$3:$C$501=Sheet8!D76),0),8)","v":0},{"$f":"INDEX(Deduction!$A$3:$K$501,MATCH(1,(Deduction!$A$3:$A$501=Sheet8!A76)*(Deduction!$B$3:$B$501=Sheet8!B76)*(Deduction!$C$3:$C$501=Sheet8!D76),0),9)","v":0},{"$f":"INDEX(Deduction!$A$3:$K$501,MATCH(1,(Deduction!$A$3:$A$501=Sheet8!A76)*(Deduction!$B$3:$B$501=Sheet8!B76)*(Deduction!$C$3:$C$501=Sheet8!D76),0),10)","v":0},{"$f":"INDEX(Deduction!$A$3:$K$501,MATCH(1,(Deduction!$A$3:$A$501=Sheet8!A76)*(Deduction!$B$3:$B$501=Sheet8!B76)*(Deduction!$C$3:$C$501=Sheet8!D76),0),11)","v":0},{"$error":"#DIV/0!"},{"$f":"VLOOKUP(D76,Emp_Master!$B$3:$H$501,7)","v":{"$error":"#N/A"}}]
[{"$f":"Salary_Entitlement!A78","v":0},{"$f":"Salary_Entitlement!B78","v":0},{"$f":"Salary_Entitlement!C78","v":0},{"$f":"Salary_Entitlement!D78","v":0},{"$f":"Salary_Entitlement!E78","v":{"$error":"#N/A"}},{"$f":"Salary_Entitlement!F78","v":0},{"$f":"Salary_Entitlement!G78","v":0},{"$f":"Salary_Entitlement!H78","v":0},{"$f":"Salary_Entitlement!I78","v":0},{"$f":"Salary_Entitlement!J78","v":0},{"$f":"Salary_Entitlement!K78","v":0},{"$f":"Salary_Entitlement!L78","v":0},{"$f":"Salary_Entitlement!M78","v":0},{"$f":"Salary_Entitlement!N78","v":0},{"$f":"Salary_Entitlement!O78","v":0},{"$f":"Salary_Entitlement!P78","v":0},{"$error":"#DIV/0!"},{"$error":"#DIV/0!"},{"$f":"INDEX(Deduction!$A$3:$K$501,MATCH(1,(Deduction!$A$3:$A$501=Sheet8!A77)*(Deduction!$B$3:$B$501=Sheet8!B77)*(Deduction!$C$3:$C$501=Sheet8!D77),0),5)","v":0},{"$f":"INDEX(Deduction!$A$3:$K$501,MATCH(1,(Deduction!$A$3:$A$501=Sheet8!A77)*(Deduction!$B$3:$B$501=Sheet8!B77)*(Deduction!$C$3:$C$501=Sheet8!D77),0),6)","v":0},{"$f":"INDEX(Deduction!$A$3:$K$501,MATCH(1,(Deduction!$A$3:$A$501=Sheet8!A77)*(Deduction!$B$3:$B$501=Sheet8!B77)*(Deduction!$C$3:$C$501=Sheet8!D77),0),7)","v":0},{"$f":"INDEX(Deduction!$A$3:$K$501,MATCH(1,(Deduction!$A$3:$A$501=Sheet8!A77)*(Deduction!$B$3:$B$501=Sheet8!B77)*(Deduction!$C$3:$C$501=Sheet8!D77),0),8)","v":0},{"$f":"INDEX(Deduction!$A$3:$K$501,MATCH(1,(Deduction!$A$3:$A$501=Sheet8!A77)*(Deduction!$B$3:$B$501=Sheet8!B77)*(Deduction!$C$3:$C$501=Sheet8!D77),0),9)","v":0},{"$f":"INDEX(Deduction!$A$3:$K$501,MATCH(1,(Deduction!$A$3:$A$501=Sheet8!A77)*(Deduction!$B$3:$B$501=Sheet8!B77)*(Deduction!$C$3:$C$501=Sheet8!D77),0),10)","v":0},{"$f":"INDEX(Deduction!$A$3:$K$501,MATCH(1,(Deduction!$A$3:$A$501=Sheet8!A77)*(Deduction!$B$3:$B$501=Sheet8!B77)*(Deduction!$C$3:$C$501=Sheet8!D77),0),11)","v":0},{"$error":"#DIV/0!"},{"$f":"VLOOKUP(D77,Emp_Master!$B$3:$H$501,7)","v":{"$error":"#N/A"}}]
[{"$f":"Salary_Entitlement!A79","v":0},{"$f":"Salary_Entitlement!B79","v":0},{"$f":"Salary_Entitlement!C79","v":0},{"$f":"Salary_Entitlement!D79","v":0},{"$f":"Salary_Entitlement!E79","v":{"$error":"#N/A"}},{"$f":"Salary_Entitlement!F79","v":0},{"$f":"Salary_Entitlement!G79","v":0},{"$f":"Salary_Entitlement!H79","v":0},{"$f":"Salary_Entitlement!I79","v":0},{"$f":"Salary_Entitlement!J79","v":0},{"$f":"Salary_Entitlement!K79","v":0},{"$f":"Salary_Entitlement!L79","v":0},{"$f":"Salary_Entitlement!M79","v":0},{"$f":"Salary_Entitlement!N79","v":0},{"$f":"Salary_Entitlement!O79","v":0},{"$f":"Salary_Entitlement!P79","v":0},{"$error":"#DIV/0!"},{"$error":"#DIV/0!"},{"$f":"INDEX(Deduction!$A$3:$K$501,MATCH(1,(Deduction!$A$3:$A$501=Sheet8!A78)*(Deduction!$B$3:$B$501=Sheet8!B78)*(Deduction!$C$3:$C$501=Sheet8!D78),0),5)","v":0},{"$f":"INDEX(Deduction!$A$3:$K$501,MATCH(1,(Deduction!$A$3:$A$501=Sheet8!A78)*(Deduction!$B$3:$B$501=Sheet8!B78)*(Deduction!$C$3:$C$501=Sheet8!D78),0),6)","v":0},{"$f":"INDEX(Deduction!$A$3:$K$501,MATCH(1,(Deduction!$A$3:$A$501=Sheet8!A78)*(Deduction!$B$3:$B$501=Sheet8!B78)*(Deduction!$C$3:$C$501=Sheet8!D78),0),7)","v":0},{"$f":"INDEX(Deduction!$A$3:$K$501,MATCH(1,(Deduction!$A$3:$A$501=Sheet8!A78)*(Deduction!$B$3:$B$501=Sheet8!B78)*(Deduction!$C$3:$C$501=Sheet8!D78),0),8)","v":0},{"$f":"INDEX(Deduction!$A$3:$K$501,MATCH(1,(Deduction!$A$3:$A$501=Sheet8!A78)*(Deduction!$B$3:$B$501=Sheet8!B78)*(Deduction!$C$3:$C$501=Sheet8!D78),0),9)","v":0},{"$f":"INDEX(Deduction!$A$3:$K$501,MATCH(1,(Deduction!$A$3:$A$501=Sheet8!A78)*(Deduction!$B$3:$B$501=Sheet8!B78)*(Deduction!$C$3:$C$501=Sheet8!D78),0),10)","v":0},{"$f":"INDEX(Deduction!$A$3:$K$501,MATCH(1,(Deduction!$A$3:$A$501=Sheet8!A78)*(Deduction!$B$3:$B$501=Sheet8!B78)*(Deduction!$C$3:$C$501=Sheet8!D78),0),11)","v":0},{"$error":"#DIV/0!"},{"$f":"VLOOKUP(D78,Emp_Master!$B$3:$H$501,7)","v":{"$error":"#N/A"}}]
[{"$f":"Salary_Entitlement!A80","v":0},{"$f":"Salary_Entitlement!B80","v":0},{"$f":"Salary_Entitlement!C80","v":0},{"$f":"Salary_Entitlement!D80","v":0},{"$f":"Salary_Entitlement!E80","v":{"$error":"#N/A"}},{"$f":"Salary_Entitlement!F80","v":0},{"$f":"Salary_Entitlement!G80","v":0},{"$f":"Salary_Entitlement!H80","v":0},{"$f":"Salary_Entitlement!I80","v":0},{"$f":"Salary_Entitlement!J80","v":0},{"$f":"Salary_Entitlement!K80","v":0},{"$f":"Salary_Entitlement!L80","v":0},{"$f":"Salary_Entitlement!M80","v":0},{"$f":"Salary_Entitlement!N80","v":0},{"$f":"Salary_Entitlement!O80","v":0},{"$f":"Salary_Entitlement!P80","v":0},{"$error":"#DIV/0!"},{"$error":"#DIV/0!"},{"$f":"INDEX(Deduction!$A$3:$K$501,MATCH(1,(Deduction!$A$3:$A$501=Sheet8!A79)*(Deduction!$B$3:$B$501=Sheet8!B79)*(Deduction!$C$3:$C$501=Sheet8!D79),0),5)","v":0},{"$f":"INDEX(Deduction!$A$3:$K$501,MATCH(1,(Deduction!$A$3:$A$501=Sheet8!A79)*(Deduction!$B$3:$B$501=Sheet8!B79)*(Deduction!$C$3:$C$501=Sheet8!D79),0),6)","v":0},{"$f":"INDEX(Deduction!$A$3:$K$501,MATCH(1,(Deduction!$A$3:$A$501=Sheet8!A79)*(Deduction!$B$3:$B$501=Sheet8!B79)*(Deduction!$C$3:$C$501=Sheet8!D79),0),7)","v":0},{"$f":"INDEX(Deduction!$A$3:$K$501,MATCH(1,(Deduction!$A$3:$A$501=Sheet8!A79)*(Deduction!$B$3:$B$501=Sheet8!B79)*(Deduction!$C$3:$C$501=Sheet8!D79),0),8)","v":0},{"$f":"INDEX(Deduction!$A$3:$K$501,MATCH(1,(Deduction!$A$3:$A$501=Sheet8!A79)*(Deduction!$B$3:$B$501=Sheet8!B79)*(Deduction!$C$3:$C$501=Sheet8!D79),0),9)","v":0},{"$f":"INDEX(Deduction!$A$3:$K$501,MATCH(1,(Deduction!$A$3:$A$501=Sheet8!A79)*(Deduction!$B$3:$B$501=Sheet8!B79)*(Deduction!$C$3:$C$501=Sheet8!D79),0),10)","v":0},{"$f":"INDEX(Deduction!$A$3:$K$501,MATCH(1,(Deduction!$A$3:$A$501=Sheet8!A79)*(Deduction!$B$3:$B$501=Sheet8!B79)*(Deduction!$C$3:$C$501=Sheet8!D79),0),11)","v":0},{"$error":"#DIV/0!"},{"$f":"VLOOKUP(D79,Emp_Master!$B$3:$H$501,7)","v":{"$error":"#N/A"}}]
[{"$f":"Salary_Entitlement!A81","v":0},{"$f":"Salary_Entitlement!B81","v":0},{"$f":"Salary_Entitlement!C81","v":0},{"$f":"Salary_Entitlement!D81","v":0},{"$f":"Salary_Entitlement!E81","v":{"$error":"#N/A"}},{"$f":"Salary_Entitlement!F81","v":0},{"$f":"Salary_Entitlement!G81","v":0},{"$f":"Salary_Entitlement!H81","v":0},{"$f":"Salary_Entitlement!I81","v":0},{"$f":"Salary_Entitlement!J81","v":0},{"$f":"Salary_Entitlement!K81","v":0},{"$f":"Salary_Entitlement!L81","v":0},{"$f":"Salary_Entitlement!M81","v":0},{"$f":"Salary_Entitlement!N81","v":0},{"$f":"Salary_Entitlement!O81","v":0},{"$f":"Salary_Entitlement!P81","v":0},{"$error":"#DIV/0!"},{"$error":"#DIV/0!"},{"$f":"INDEX(Deduction!$A$3:$K$501,MATCH(1,(Deduction!$A$3:$A$501=Sheet8!A80)*(Deduction!$B$3:$B$501=Sheet8!B80)*(Deduction!$C$3:$C$501=Sheet8!D80),0),5)","v":0},{"$f":"INDEX(Deduction!$A$3:$K$501,MATCH(1,(Deduction!$A$3:$A$501=Sheet8!A80)*(Deduction!$B$3:$B$501=Sheet8!B80)*(Deduction!$C$3:$C$501=Sheet8!D80),0),6)","v":0},{"$f":"INDEX(Deduction!$A$3:$K$501,MATCH(1,(Deduction!$A$3:$A$501=Sheet8!A80)*(Deduction!$B$3:$B$501=Sheet8!B80)*(Deduction!$C$3:$C$501=Sheet8!D80),0),7)","v":0},{"$f":"INDEX(Deduction!$A$3:$K$501,MATCH(1,(Deduction!$A$3:$A$501=Sheet8!A80)*(Deduction!$B$3:$B$501=Sheet8!B80)*(Deduction!$C$3:$C$501=Sheet8!D80),0),8)","v":0},{"$f":"INDEX(Deduction!$A$3:$K$501,MATCH(1,(Deduction!$A$3:$A$501=Sheet8!A80)*(Deduction!$B$3:$B$501=Sheet8!B80)*(Deduction!$C$3:$C$501=Sheet8!D80),0),9)","v":0},{"$f":"INDEX(Deduction!$A$3:$K$501,MATCH(1,(Deduction!$A$3:$A$501=Sheet8!A80)*(Deduction!$B$3:$B$501=Sheet8!B80)*(Deduction!$C$3:$C$501=Sheet8!D80),0),10)","v":0},{"$f":"INDEX(Deduction!$A$3:$K$501,MATCH(1,(Deduction!$A$3:$A$501=Sheet8!A80)*(Deduction!$B$3:$B$501=Sheet8!B80)*(Deduction!$C$3:$C$501=Sheet8!D80),0),11)","v":0},{"$error":"#DIV/0!"},{"$f":"VLOOKUP(D80,Emp_Master!$B$3:$H$501,7)","v":{"$error":"#N/A"}}]
[{"$f":"Salary_Entitlement!A82","v":0},{"$f":"Salary_Entitlement!B82","v":0},{"$f":"Salary_Entitlement!C82","v":0},{"$f":"Salary_Entitlement!D82","v":0},{"$f":"Salary_Entitlement!E82","v":{"$error":"#N/A"}},{"$f":"Salary_Entitlement!F82","v":0},{"$f":"Salary_Entitlement!G82","v":0},{"$f":"Salary_Entitlement!H82","v":0},{"$f":"Salary_Entitlement!I82","v":0},{"$f":"Salary_Entitlement!J82","v":0},{"$f":"Salary_Entitlement!K82","v":0},{"$f":"Salary_Entitlement!L82","v":0},{"$f":"Salary_Entitlement!M82","v":0},{"$f":"Salary_Entitlement!N82","v":0},{"$f":"Salary_Entitlement!O82","v":0},{"$f":"Salary_Entitlement!P82","v":0},{"$error":"#DIV/0!"},{"$error":"#DIV/0!"},{"$f":"INDEX(Deduction!$A$3:$K$501,MATCH(1,(Deduction!$A$3:$A$501=Sheet8!A81)*(Deduction!$B$3:$B$501=Sheet8!B81)*(Deduction!$C$3:$C$501=Sheet8!D81),0),5)","v":0},{"$f":"INDEX(Deduction!$A$3:$K$501,MATCH(1,(Deduction!$A$3:$A$501=Sheet8!A81)*(Deduction!$B$3:$B$501=Sheet8!B81)*(Deduction!$C$3:$C$501=Sheet8!D81),0),6)","v":0},{"$f":"INDEX(Deduction!$A$3:$K$501,MATCH(1,(Deduction!$A$3:$A$501=Sheet8!A81)*(Deduction!$B$3:$B$501=Sheet8!B81)*(Deduction!$C$3:$C$501=Sheet8!D81),0),7)","v":0},{"$f":"INDEX(Deduction!$A$3:$K$501,MATCH(1,(Deduction!$A$3:$A$501=Sheet8!A81)*(Deduction!$B$3:$B$501=Sheet8!B81)*(Deduction!$C$3:$C$501=Sheet8!D81),0),8)","v":0},{"$f":"INDEX(Deduction!$A$3:$K$501,MATCH(1,(Deduction!$A$3:$A$501=Sheet8!A81)*(Deduction!$B$3:$B$501=Sheet8!B81)*(Deduction!$C$3:$C$501=Sheet8!D81),0),9)","v":0},{"$f":"INDEX(Deduction!$A$3:$K$501,MATCH(1,(Deduction!$A$3:$A$501=Sheet8!A81)*(Deduction!$B$3:$B$501=Sheet8!B81)*(Deduction!$C$3:$C$501=Sheet8!D81),0),10)","v":0},{"$f":"INDEX(Deduction!$A$3:$K$501,MATCH(1,(Deduction!$A$3:$A$501=Sheet8!A81)*(Deduction!$B$3:$B$501=Sheet8!B81)*(Deduction!$C$3:$C$501=Sheet8!D81),0),11)","v":0},{"$error":"#DIV/0!"},{"$f":"VLOOKUP(D81,Emp_Master!$B$3:$H$501,7)","v":{"$error":"#N/A"}}]
[{"$f":"Salary_Entitlement!A83","v":0},{"$f":"Salary_Entitlement!B83","v":0},{"$f":"Salary_Entitlement!C83","v":0},{"$f":"Salary_Entitlement!D83","v":0},{"$f":"Salary_Entitlement!E83","v":{"$error":"#N/A"}},{"$f":"Salary_Entitlement!F83","v":0},{"$f":"Salary_Entitlement!G83","v":0},{"$f":"Salary_Entitlement!H83","v":0},{"$f":"Salary_Entitlement!I83","v":0},{"$f":"Salary_Entitlement!J83","v":0},{"$f":"Salary_Entitlement!K83","v":0},{"$f":"Salary_Entitlement!L83","v":0},{"$f":"Salary_Entitlement!M83","v":0},{"$f":"Salary_Entitlement!N83","v":0},{"$f":"Salary_Entitlement!O83","v":0},{"$f":"Salary_Entitlement!P83","v":0},{"$error":"#DIV/0!"},{"$error":"#DIV/0!"},{"$f":"INDEX(Deduction!$A$3:$K$501,MATCH(1,(Deduction!$A$3:$A$501=Sheet8!A82)*(Deduction!$B$3:$B$501=Sheet8!B82)*(Deduction!$C$3:$C$501=Sheet8!D82),0),5)","v":0},{"$f":"INDEX(Deduction!$A$3:$K$501,MATCH(1,(Deduction!$A$3:$A$501=Sheet8!A82)*(Deduction!$B$3:$B$501=Sheet8!B82)*(Deduction!$C$3:$C$501=Sheet8!D82),0),6)","v":0},{"$f":"INDEX(Deduction!$A$3:$K$501,MATCH(1,(Deduction!$A$3:$A$501=Sheet8!A82)*(Deduction!$B$3:$B$501=Sheet8!B82)*(Deduction!$C$3:$C$501=Sheet8!D82),0),7)","v":0},{"$f":"INDEX(Deduction!$A$3:$K$501,MATCH(1,(Deduction!$A$3:$A$501=Sheet8!A82)*(Deduction!$B$3:$B$501=Sheet8!B82)*(Deduction!$C$3:$C$501=Sheet8!D82),0),8)","v":0},{"$f":"INDEX(Deduction!$A$3:$K$501,MATCH(1,(Deduction!$A$3:$A$501=Sheet8!A82)*(Deduction!$B$3:$B$501=Sheet8!B82)*(Deduction!$C$3:$C$501=Sheet8!D82),0),9)","v":0},{"$f":"INDEX(Deduction!$A$3:$K$501,MATCH(1,(Deduction!$A$3:$A$501=Sheet8!A82)*(Deduction!$B$3:$B$501=Sheet8!B82)*(Deduction!$C$3:$C$501=Sheet8!D82),0),10)","v":0},{"$f":"INDEX(Deduction!$A$3:$K$501,MATCH(1,(Deduction!$A$3:$A$501=Sheet8!A82)*(Deduction!$B$3:$B$501=Sheet8!B82)*(Deduction!$C$3:$C$501=Sheet8!D82),0),11)","v":0},{"$error":"#DIV/0!"},{"$f":"VLOOKUP(D82,Emp_Master!$B$3:$H$501,7)","v":{"$error":"#N/A"}}]
[{"$f":"Salary_Entitlement!A84","v":0},{"$f":"Salary_Entitlement!B84","v":0},{"$f":"Salary_Entitlement!C84","v":0},{"$f":"Salary_Entitlement!D84","v":0},{"$f":"Salary_Entitlement!E84","v":{"$error":"#N/A"}},{"$f":"Salary_Entitlement!F84","v":0},{"$f":"Salary_Entitlement!G84","v":0},{"$f":"Salary_Entitlement!H84","v":0},{"$f":"Salary_Entitlement!I84","v":0},{"$f":"Salary_Entitlement!J84","v":0},{"$f":"Salary_Entitlement!K84","v":0},{"$f":"Salary_Entitlement!L84","v":0},{"$f":"Salary_Entitlement!M84","v":0},{"$f":"Salary_Entitlement!N84","v":0},{"$f":"Salary_Entitlement!O84","v":0},{"$f":"Salary_Entitlement!P84","v":0},{"$error":"#DIV/0!"},{"$error":"#DIV/0!"},{"$f":"INDEX(Deduction!$A$3:$K$501,MATCH(1,(Deduction!$A$3:$A$501=Sheet8!A83)*(Deduction!$B$3:$B$501=Sheet8!B83)*(Deduction!$C$3:$C$501=Sheet8!D83),0),5)","v":0},{"$f":"INDEX(Deduction!$A$3:$K$501,MATCH(1,(Deduction!$A$3:$A$501=Sheet8!A83)*(Deduction!$B$3:$B$501=Sheet8!B83)*(Deduction!$C$3:$C$501=Sheet8!D83),0),6)","v":0},{"$f":"INDEX(Deduction!$A$3:$K$501,MATCH(1,(Deduction!$A$3:$A$501=Sheet8!A83)*(Deduction!$B$3:$B$501=Sheet8!B83)*(Deduction!$C$3:$C$501=Sheet8!D83),0),7)","v":0},{"$f":"INDEX(Deduction!$A$3:$K$501,MATCH(1,(Deduction!$A$3:$A$501=Sheet8!A83)*(Deduction!$B$3:$B$501=Sheet8!B83)*(Deduction!$C$3:$C$501=Sheet8!D83),0),8)","v":0},{"$f":"INDEX(Deduction!$A$3:$K$501,MATCH(1,(Deduction!$A$3:$A$501=Sheet8!A83)*(Deduction!$B$3:$B$501=Sheet8!B83)*(Deduction!$C$3:$C$501=Sheet8!D83),0),9)","v":0},{"$f":"INDEX(Deduction!$A$3:$K$501,MATCH(1,(Deduction!$A$3:$A$501=Sheet8!A83)*(Deduction!$B$3:$B$501=Sheet8!B83)*(Deduction!$C$3:$C$501=Sheet8!D83),0),10)","v":0},{"$f":"INDEX(Deduction!$A$3:$K$501,MATCH(1,(Deduction!$A$3:$A$501=Sheet8!A83)*(Deduction!$B$3:$B$501=Sheet8!B83)*(Deduction!$C$3:$C$501=Sheet8!D83),0),11)","v":0},{"$error":"#DIV/0!"},{"$f":"VLOOKUP(D83,Emp_Master!$B$3:$H$501,7)","v":{"$error":"#N/A"}}]
[{"$f":"Salary_Entitlement!A85","v":0},{"$f":"Salary_Entitlement!B85","v":0},{"$f":"Salary_Entitlement!C85","v":0},{"$f":"Salary_Entitlement!D85","v":0},{"$f":"Salary_Entitlement!E85","v":{"$error":"#N/A"}},{"$f":"Salary_Entitlement!F85","v":0},{"$f":"Salary_Entitlement!G85","v":0},{"$f":"Salary_Entitlement!H85","v":0},{"$f":"Salary_Entitlement!I85","v":0},{"$f":"Salary_Entitlement!J85","v":0},{"$f":"Salary_Entitlement!K85","v":0},{"$f":"Salary_Entitlement!L85","v":0},{"$f":"Salary_Entitlement!M85","v":0},{"$f":"Salary_Entitlement!N85","v":0},{"$f":"Salary_Entitlement!O85","v":0},{"$f":"Salary_Entitlement!P85","v":0},{"$error":"#DIV/0!"},{"$error":"#DIV/0!"},{"$f":"INDEX(Deduction!$A$3:$K$501,MATCH(1,(Deduction!$A$3:$A$501=Sheet8!A84)*(Deduction!$B$3:$B$501=Sheet8!B84)*(Deduction!$C$3:$C$501=Sheet8!D84),0),5)","v":0},{"$f":"INDEX(Deduction!$A$3:$K$501,MATCH(1,(Deduction!$A$3:$A$501=Sheet8!A84)*(Deduction!$B$3:$B$501=Sheet8!B84)*(Deduction!$C$3:$C$501=Sheet8!D84),0),6)","v":0},{"$f":"INDEX(Deduction!$A$3:$K$501,MATCH(1,(Deduction!$A$3:$A$501=Sheet8!A84)*(Deduction!$B$3:$B$501=Sheet8!B84)*(Deduction!$C$3:$C$501=Sheet8!D84),0),7)","v":0},{"$f":"INDEX(Deduction!$A$3:$K$501,MATCH(1,(Deduction!$A$3:$A$501=Sheet8!A84)*(Deduction!$B$3:$B$501=Sheet8!B84)*(Deduction!$C$3:$C$501=Sheet8!D84),0),8)","v":0},{"$f":"INDEX(Deduction!$A$3:$K$501,MATCH(1,(Deduction!$A$3:$A$501=Sheet8!A84)*(Deduction!$B$3:$B$501=Sheet8!B84)*(Deduction!$C$3:$C$501=Sheet8!D84),0),9)","v":0},{"$f":"INDEX(Deduction!$A$3:$K$501,MATCH(1,(Deduction!$A$3:$A$501=Sheet8!A84)*(Deduction!$B$3:$B$501=Sheet8!B84)*(Deduction!$C$3:$C$501=Sheet8!D84),0),10)","v":0},{"$f":"INDEX(Deduction!$A$3:$K$501,MATCH(1,(Deduction!$A$3:$A$501=Sheet8!A84)*(Deduction!$B$3:$B$501=Sheet8!B84)*(Deduction!$C$3:$C$501=Sheet8!D84),0),11)","v":0},{"$error":"#DIV/0!"},{"$f":"VLOOKUP(D84,Emp_Master!$B$3:$H$501,7)","v":{"$error":"#N/A"}}]
[{"$f":"Salary_Entitlement!A86","v":0},{"$f":"Salary_Entitlement!B86","v":0},{"$f":"Salary_Entitlement!C86","v":0},{"$f":"Salary_Entitlement!D86","v":0},{"$f":"Salary_Entitlement!E86","v":{"$error":"#N/A"}},{"$f":"Salary_Entitlement!F86","v":0},{"$f":"Salary_Entitlement!G86","v":0},{"$f":"Salary_Entitlement!H86","v":0},{"$f":"Salary_Entitlement!I86","v":0},{"$f":"Salary_Entitlement!J86","v":0},{"$f":"Salary_Entitlement!K86","v":0},{"$f":"Salary_Entitlement!L86","v":0},{"$f":"Salary_Entitlement!M86","v":0},{"$f":"Salary_Entitlement!N86","v":0},{"$f":"Salary_Entitlement!O86","v":0},{"$f":"Salary_Entitlement!P86","v":0},{"$error":"#DIV/0!"},{"$error":"#DIV/0!"},{"$f":"INDEX(Deduction!$A$3:$K$501,MATCH(1,(Deduction!$A$3:$A$501=Sheet8!A85)*(Deduction!$B$3:$B$501=Sheet8!B85)*(Deduction!$C$3:$C$501=Sheet8!D85),0),5)","v":0},{"$f":"INDEX(Deduction!$A$3:$K$501,MATCH(1,(Deduction!$A$3:$A$501=Sheet8!A85)*(Deduction!$B$3:$B$501=Sheet8!B85)*(Deduction!$C$3:$C$501=Sheet8!D85),0),6)","v":0},{"$f":"INDEX(Deduction!$A$3:$K$501,MATCH(1,(Deduction!$A$3:$A$501=Sheet8!A85)*(Deduction!$B$3:$B$501=Sheet8!B85)*(Deduction!$C$3:$C$501=Sheet8!D85),0),7)","v":0},{"$f":"INDEX(Deduction!$A$3:$K$501,MATCH(1,(Deduction!$A$3:$A$501=Sheet8!A85)*(Deduction!$B$3:$B$501=Sheet8!B85)*(Deduction!$C$3:$C$501=Sheet8!D85),0),8)","v":0},{"$f":"INDEX(Deduction!$A$3:$K$501,MATCH(1,(Deduction!$A$3:$A$501=Sheet8!A85)*(Deduction!$B$3:$B$501=Sheet8!B85)*(Deduction!$C$3:$C$501=Sheet8!D85),0),9)","v":0},{"$f":"INDEX(Deduction!$A$3:$K$501,MATCH(1,(Deduction!$A$3:$A$501=Sheet8!A85)*(Deduction!$B$3:$B$501=Sheet8!B85)*(Deduction!$C$3:$C$501=Sheet8!D85),0),10)","v":0},{"$f":"INDEX(Deduction!$A$3:$K$501,MATCH(1,(Deduction!$A$3:$A$501=Sheet8!A85)*(Deduction!$B$3:$B$501=Sheet8!B85)*(Deduction!$C$3:$C$501=Sheet8!D85),0),11)","v":0},{"$error":"#DIV/0!"},{"$f":"VLOOKUP(D85,Emp_Master!$B$3:$H$501,7)","v":{"$error":"#N/A"}}]
[{"$f":"Salary_Entitlement!A87","v":0},{"$f":"Salary_Entitlement!B87","v":0},{"$f":"Salary_Entitlement!C87","v":0},{"$f":"Salary_Entitlement!D87","v":0},{"$f":"Salary_Entitlement!E87","v":{"$error":"#N/A"}},{"$f":"Salary_Entitlement!F87","v":0},{"$f":"Salary_Entitlement!G87","v":0},{"$f":"Salary_Entitlement!H87","v":0},{"$f":"Salary_Entitlement!I87","v":0},{"$f":"Salary_Entitlement!J87","v":0},{"$f":"Salary_Entitlement!K87","v":0},{"$f":"Salary_Entitlement!L87","v":0},{"$f":"Salary_Entitlement!M87","v":0},{"$f":"Salary_Entitlement!N87","v":0},{"$f":"Salary_Entitlement!O87","v":0},{"$f":"Salary_Entitlement!P87","v":0},{"$error":"#DIV/0!"},{"$error":"#DIV/0!"},{"$f":"INDEX(Deduction!$A$3:$K$501,MATCH(1,(Deduction!$A$3:$A$501=Sheet8!A86)*(Deduction!$B$3:$B$501=Sheet8!B86)*(Deduction!$C$3:$C$501=Sheet8!D86),0),5)","v":0},{"$f":"INDEX(Deduction!$A$3:$K$501,MATCH(1,(Deduction!$A$3:$A$501=Sheet8!A86)*(Deduction!$B$3:$B$501=Sheet8!B86)*(Deduction!$C$3:$C$501=Sheet8!D86),0),6)","v":0},{"$f":"INDEX(Deduction!$A$3:$K$501,MATCH(1,(Deduction!$A$3:$A$501=Sheet8!A86)*(Deduction!$B$3:$B$501=Sheet8!B86)*(Deduction!$C$3:$C$501=Sheet8!D86),0),7)","v":0},{"$f":"INDEX(Deduction!$A$3:$K$501,MATCH(1,(Deduction!$A$3:$A$501=Sheet8!A86)*(Deduction!$B$3:$B$501=Sheet8!B86)*(Deduction!$C$3:$C$501=Sheet8!D86),0),8)","v":0},{"$f":"INDEX(Deduction!$A$3:$K$501,MATCH(1,(Deduction!$A$3:$A$501=Sheet8!A86)*(Deduction!$B$3:$B$501=Sheet8!B86)*(Deduction!$C$3:$C$501=Sheet8!D86),0),9)","v":0},{"$f":"INDEX(Deduction!$A$3:$K$501,MATCH(1,(Deduction!$A$3:$A$501=Sheet8!A86)*(Deduction!$B$3:$B$501=Sheet8!B86)*(Deduction!$C$3:$C$501=Sheet8!D86),0),10)","v":0},{"$f":"INDEX(Deduction!$A$3:$K$501,MATCH(1,(Deduction!$A$3:$A$501=Sheet8!A86)*(Deduction!$B$3:$B$501=Sheet8!B86)*(Deduction!$C$3:$C$501=Sheet8!D86),0),11)","v":0},{"$error":"#DIV/0!"},{"$f":"VLOOKUP(D86,Emp_Master!$B$3:$H$501,7)","v":{"$error":"#N/A"}}]
[{"$f":"Salary_Entitlement!A88","v":0},{"$f":"Salary_Entitlement!B88","v":0},{"$f":"Salary_Entitlement!C88","v":0},{"$f":"Salary_Entitlement!D88","v":0},{"$f":"Salary_Entitlement!E88","v":{"$error":"#N/A"}},{"$f":"Salary_Entitlement!F88","v":0},{"$f":"Salary_Entitlement!G88","v":0},{"$f":"Salary_Entitlement!H88","v":0},{"$f":"Salary_Entitlement!I88","v":0},{"$f":"Salary_Entitlement!J88","v":0},{"$f":"Salary_Entitlement!K88","v":0},{"$f":"Salary_Entitlement!L88","v":0},{"$f":"Salary_Entitlement!M88","v":0},{"$f":"Salary_Entitlement!N88","v":0},{"$f":"Salary_Entitlement!O88","v":0},{"$f":"Salary_Entitlement!P88","v":0},{"$error":"#DIV/0!"},{"$error":"#DIV/0!"},{"$f":"INDEX(Deduction!$A$3:$K$501,MATCH(1,(Deduction!$A$3:$A$501=Sheet8!A87)*(Deduction!$B$3:$B$501=Sheet8!B87)*(Deduction!$C$3:$C$501=Sheet8!D87),0),5)","v":0},{"$f":"INDEX(Deduction!$A$3:$K$501,MATCH(1,(Deduction!$A$3:$A$501=Sheet8!A87)*(Deduction!$B$3:$B$501=Sheet8!B87)*(Deduction!$C$3:$C$501=Sheet8!D87),0),6)","v":0},{"$f":"INDEX(Deduction!$A$3:$K$501,MATCH(1,(Deduction!$A$3:$A$501=Sheet8!A87)*(Deduction!$B$3:$B$501=Sheet8!B87)*(Deduction!$C$3:$C$501=Sheet8!D87),0),7)","v":0},{"$f":"INDEX(Deduction!$A$3:$K$501,MATCH(1,(Deduction!$A$3:$A$501=Sheet8!A87)*(Deduction!$B$3:$B$501=Sheet8!B87)*(Deduction!$C$3:$C$501=Sheet8!D87),0),8)","v":0},{"$f":"INDEX(Deduction!$A$3:$K$501,MATCH(1,(Deduction!$A$3:$A$501=Sheet8!A87)*(Deduction!$B$3:$B$501=Sheet8!B87)*(Deduction!$C$3:$C$501=Sheet8!D87),0),9)","v":0},{"$f":"INDEX(Deduction!$A$3:$K$501,MATCH(1,(Deduction!$A$3:$A$501=Sheet8!A87)*(Deduction!$B$3:$B$501=Sheet8!B87)*(Deduction!$C$3:$C$501=Sheet8!D87),0),10)","v":0},{"$f":"INDEX(Deduction!$A$3:$K$501,MATCH(1,(Deduction!$A$3:$A$501=Sheet8!A87)*(Deduction!$B$3:$B$501=Sheet8!B87)*(Deduction!$C$3:$C$501=Sheet8!D87),0),11)","v":0},{"$error":"#DIV/0!"},{"$f":"VLOOKUP(D87,Emp_Master!$B$3:$H$501,7)","v":{"$error":"#N/A"}}]
[{"$f":"Salary_Entitlement!A89","v":0},{"$f":"Salary_Entitlement!B89","v":0},{"$f":"Salary_Entitlement!C89","v":0},{"$f":"Salary_Entitlement!D89","v":0},{"$f":"Salary_Entitlement!E89","v":{"$error":"#N/A"}},{"$f":"Salary_Entitlement!F89","v":0},{"$f":"Salary_Entitlement!G89","v":0},{"$f":"Salary_Entitlement!H89","v":0},{"$f":"Salary_Entitlement!I89","v":0},{"$f":"Salary_Entitlement!J89","v":0},{"$f":"Salary_Entitlement!K89","v":0},{"$f":"Salary_Entitlement!L89","v":0},{"$f":"Salary_Entitlement!M89","v":0},{"$f":"Salary_Entitlement!N89","v":0},{"$f":"Salary_Entitlement!O89","v":0},{"$f":"Salary_Entitlement!P89","v":0},{"$f":"F88/M88*(M88-N88)","v":{"$error":"#DIV/0!"}},{"$f":"SUM(F88:L88)-Q88","v":{"$error":"#DIV/0!"}},{"$f":"INDEX(Deduction!$A$3:$K$501,MATCH(1,(Deduction!$A$3:$A$501=Sheet8!A88)*(Deduction!$B$3:$B$501=Sheet8!B88)*(Deduction!$C$3:$C$501=Sheet8!D88),0),5)","v":0},{"$f":"INDEX(Deduction!$A$3:$K$501,MATCH(1,(Deduction!$A$3:$A$501=Sheet8!A88)*(Deduction!$B$3:$B$501=Sheet8!B88)*(Deduction!$C$3:$C$501=Sheet8!D88),0),6)","v":0},{"$f":"INDEX(Deduction!$A$3:$K$501,MATCH(1,(Deduction!$A$3:$A$501=Sheet8!A88)*(Deduction!$B$3:$B$501=Sheet8!B88)*(Deduction!$C$3:$C$501=Sheet8!D88),0),7)","v":0},{"$f":"INDEX(Deduction!$A$3:$K$501,MATCH(1,(Deduction!$A$3:$A$501=Sheet8!A88)*(Deduction!$B$3:$B$501=Sheet8!B88)*(Deduction!$C$3:$C$501=Sheet8!D88),0),8)","v":0},{"$f":"INDEX(Deduction!$A$3:$K$501,MATCH(1,(Deduction!$A$3:$A$501=Sheet8!A88)*(Deduction!$B$3:$B$501=Sheet8!B88)*(Deduction!$C$3:$C$501=Sheet8!D88),0),9)","v":0},{"$f":"INDEX(Deduction!$A$3:$K$501,MATCH(1,(Deduction!$A$3:$A$501=Sheet8!A88)*(Deduction!$B$3:$B$501=Sheet8!B88)*(Deduction!$C$3:$C$501=Sheet8!D88),0),10)","v":0},{"$f":"INDEX(Deduction!$A$3:$K$501,MATCH(1,(Deduction!$A$3:$A$501=Sheet8!A88)*(Deduction!$B$3:$B$501=Sheet8!B88)*(Deduction!$C$3:$C$501=Sheet8!D88),0),11)","v":0},{"$error":"#DIV/0!"},{"$f":"VLOOKUP(D88,Emp_Master!$B$3:$H$501,7)","v":{"$error":"#N/A"}}]
[{"$f":"Salary_Entitlement!A90","v":0},{"$f":"Salary_Entitlement!B90","v":0},{"$f":"Salary_Entitlement!C90","v":0},{"$f":"Salary_Entitlement!D90","v":0},{"$f":"Salary_Entitlement!E90","v":{"$error":"#N/A"}},{"$f":"Salary_Entitlement!F90","v":0},{"$f":"Salary_Entitlement!G90","v":0},{"$f":"Salary_Entitlement!H90","v":0},{"$f":"Salary_Entitlement!I90","v":0},{"$f":"Salary_Entitlement!J90","v":0},{"$f":"Salary_Entitlement!K90","v":0},{"$f":"Salary_Entitlement!L90","v":0},{"$f":"Salary_Entitlement!M90","v":0},{"$f":"Salary_Entitlement!N90","v":0},{"$f":"Salary_Entitlement!O90","v":0},{"$f":"Salary_Entitlement!P90","v":0},{"$error":"#DIV/0!"},{"$error":"#DIV/0!"},{"$f":"INDEX(Deduction!$A$3:$K$501,MATCH(1,(Deduction!$A$3:$A$501=Sheet8!A89)*(Deduction!$B$3:$B$501=Sheet8!B89)*(Deduction!$C$3:$C$501=Sheet8!D89),0),5)","v":0},{"$f":"INDEX(Deduction!$A$3:$K$501,MATCH(1,(Deduction!$A$3:$A$501=Sheet8!A89)*(Deduction!$B$3:$B$501=Sheet8!B89)*(Deduction!$C$3:$C$501=Sheet8!D89),0),6)","v":0},{"$f":"INDEX(Deduction!$A$3:$K$501,MATCH(1,(Deduction!$A$3:$A$501=Sheet8!A89)*(Deduction!$B$3:$B$501=Sheet8!B89)*(Deduction!$C$3:$C$501=Sheet8!D89),0),7)","v":0},{"$f":"INDEX(Deduction!$A$3:$K$501,MATCH(1,(Deduction!$A$3:$A$501=Sheet8!A89)*(Deduction!$B$3:$B$501=Sheet8!B89)*(Deduction!$C$3:$C$501=Sheet8!D89),0),8)","v":0},{"$f":"INDEX(Deduction!$A$3:$K$501,MATCH(1,(Deduction!$A$3:$A$501=Sheet8!A89)*(Deduction!$B$3:$B$501=Sheet8!B89)*(Deduction!$C$3:$C$501=Sheet8!D89),0),9)","v":0},{"$f":"INDEX(Deduction!$A$3:$K$501,MATCH(1,(Deduction!$A$3:$A$501=Sheet8!A89)*(Deduction!$B$3:$B$501=Sheet8!B89)*(Deduction!$C$3:$C$501=Sheet8!D89),0),10)","v":0},{"$f":"INDEX(Deduction!$A$3:$K$501,MATCH(1,(Deduction!$A$3:$A$501=Sheet8!A89)*(Deduction!$B$3:$B$501=Sheet8!B89)*(Deduction!$C$3:$C$501=Sheet8!D89),0),11)","v":0},{"$error":"#DIV/0!"},{"$f":"VLOOKUP(D89,Emp_Master!$B$3:$H$501,7)","v":{"$error":"#N/A"}}]
[{"$f":"Salary_Entitlement!A91","v":0},{"$f":"Salary_Entitlement!B91","v":0},{"$f":"Salary_Entitlement!C91","v":0},{"$f":"Salary_Entitlement!D91","v":0},{"$f":"Salary_Entitlement!E91","v":{"$error":"#N/A"}},{"$f":"Salary_Entitlement!F91","v":0},{"$f":"Salary_Entitlement!G91","v":0},{"$f":"Salary_Entitlement!H91","v":0},{"$f":"Salary_Entitlement!I91","v":0},{"$f":"Salary_Entitlement!J91","v":0},{"$f":"Salary_Entitlement!K91","v":0},{"$f":"Salary_Entitlement!L91","v":0},{"$f":"Salary_Entitlement!M91","v":0},{"$f":"Salary_Entitlement!N91","v":0},{"$f":"Salary_Entitlement!O91","v":0},{"$f":"Salary_Entitlement!P91","v":0},{"$error":"#DIV/0!"},{"$error":"#DIV/0!"},{"$f":"INDEX(Deduction!$A$3:$K$501,MATCH(1,(Deduction!$A$3:$A$501=Sheet8!A90)*(Deduction!$B$3:$B$501=Sheet8!B90)*(Deduction!$C$3:$C$501=Sheet8!D90),0),5)","v":0},{"$f":"INDEX(Deduction!$A$3:$K$501,MATCH(1,(Deduction!$A$3:$A$501=Sheet8!A90)*(Deduction!$B$3:$B$501=Sheet8!B90)*(Deduction!$C$3:$C$501=Sheet8!D90),0),6)","v":0},{"$f":"INDEX(Deduction!$A$3:$K$501,MATCH(1,(Deduction!$A$3:$A$501=Sheet8!A90)*(Deduction!$B$3:$B$501=Sheet8!B90)*(Deduction!$C$3:$C$501=Sheet8!D90),0),7)","v":0},{"$f":"INDEX(Deduction!$A$3:$K$501,MATCH(1,(Deduction!$A$3:$A$501=Sheet8!A90)*(Deduction!$B$3:$B$501=Sheet8!B90)*(Deduction!$C$3:$C$501=Sheet8!D90),0),8)","v":0},{"$f":"INDEX(Deduction!$A$3:$K$501,MATCH(1,(Deduction!$A$3:$A$501=Sheet8!A90)*(Deduction!$B$3:$B$501=Sheet8!B90)*(Deduction!$C$3:$C$501=Sheet8!D90),0),9)","v":0},{"$f":"INDEX(Deduction!$A$3:$K$501,MATCH(1,(Deduction!$A$3:$A$501=Sheet8!A90)*(Deduction!$B$3:$B$501=Sheet8!B90)*(Deduction!$C$3:$C$501=Sheet8!D90),0),10)","v":0},{"$f":"INDEX(Deduction!$A$3:$K$501,MATCH(1,(Deduction!$A$3:$A$501=Sheet8!A90)*(Deduction!$B$3:$B$501=Sheet8!B90)*(Deduction!$C$3:$C$501=Sheet8!D90),0),11)","v":0},{"$error":"#DIV/0!"},{"$f":"VLOOKUP(D90,Emp_Master!$B$3:$H$501,7)","v":{"$error":"#N/A"}}]
[{"$f":"Salary_Entitlement!A92","v":0},{"$f":"Salary_Entitlement!B92","v":0},{"$f":"Salary_Entitlement!C92","v":0},{"$f":"Salary_Entitlement!D92","v":0},{"$f":"Salary_Entitlement!E92","v":{"$error":"#N/A"}},{"$f":"Salary_Entitlement!F92","v":0},{"$f":"Salary_Entitlement!G92","v":0},{"$f":"Salary_Entitlement!H92","v":0},{"$f":"Salary_Entitlement!I92","v":0},{"$f":"Salary_Entitlement!J92","v":0},{"$f":"Salary_Entitlement!K92","v":0},{"$f":"Salary_Entitlement!L92","v":0},{"$f":"Salary_Entitlement!M92","v":0},{"$f":"Salary_Entitlement!N92","v":0},{"$f":"Salary_Entitlement!O92","v":0},{"$f":"Salary_Entitlement!P92","v":0},{"$error":"#DIV/0!"},{"$error":"#DIV/0!"},{"$f":"INDEX(Deduction!$A$3:$K$501,MATCH(1,(Deduction!$A$3:$A$501=Sheet8!A91)*(Deduction!$B$3:$B$501=Sheet8!B91)*(Deduction!$C$3:$C$501=Sheet8!D91),0),5)","v":0},{"$f":"INDEX(Deduction!$A$3:$K$501,MATCH(1,(Deduction!$A$3:$A$501=Sheet8!A91)*(Deduction!$B$3:$B$501=Sheet8!B91)*(Deduction!$C$3:$C$501=Sheet8!D91),0),6)","v":0},{"$f":"INDEX(Deduction!$A$3:$K$501,MATCH(1,(Deduction!$A$3:$A$501=Sheet8!A91)*(Deduction!$B$3:$B$501=Sheet8!B91)*(Deduction!$C$3:$C$501=Sheet8!D91),0),7)","v":0},{"$f":"INDEX(Deduction!$A$3:$K$501,MATCH(1,(Deduction!$A$3:$A$501=Sheet8!A91)*(Deduction!$B$3:$B$501=Sheet8!B91)*(Deduction!$C$3:$C$501=Sheet8!D91),0),8)","v":0},{"$f":"INDEX(Deduction!$A$3:$K$501,MATCH(1,(Deduction!$A$3:$A$501=Sheet8!A91)*(Deduction!$B$3:$B$501=Sheet8!B91)*(Deduction!$C$3:$C$501=Sheet8!D91),0),9)","v":0},{"$f":"INDEX(Deduction!$A$3:$K$501,MATCH(1,(Deduction!$A$3:$A$501=Sheet8!A91)*(Deduction!$B$3:$B$501=Sheet8!B91)*(Deduction!$C$3:$C$501=Sheet8!D91),0),10)","v":0},{"$f":"INDEX(Deduction!$A$3:$K$501,MATCH(1,(Deduction!$A$3:$A$501=Sheet8!A91)*(Deduction!$B$3:$B$501=Sheet8!B91)*(Deduction!$C$3:$C$501=Sheet8!D91),0),11)","v":0},{"$error":"#DIV/0!"},{"$f":"VLOOKUP(D91,Emp_Master!$B$3:$H$501,7)","v":{"$error":"#N/A"}}]
[{"$f":"Salary_Entitlement!A93","v":0},{"$f":"Salary_Entitlement!B93","v":0},{"$f":"Salary_Entitlement!C93","v":0},{"$f":"Salary_Entitlement!D93","v":0},{"$f":"Salary_Entitlement!E93","v":{"$error":"#N/A"}},{"$f":"Salary_Entitlement!F93","v":0},{"$f":"Salary_Entitlement!G93","v":0},{"$f":"Salary_Entitlement!H93","v":0},{"$f":"Salary_Entitlement!I93","v":0},{"$f":"Salary_Entitlement!J93","v":0},{"$f":"Salary_Entitlement!K93","v":0},{"$f":"Salary_Entitlement!L93","v":0},{"$f":"Salary_Entitlement!M93","v":0},{"$f":"Salary_Entitlement!N93","v":0},{"$f":"Salary_Entitlement!O93","v":0},{"$f":"Salary_Entitlement!P93","v":0},{"$error":"#DIV/0!"},{"$error":"#DIV/0!"},{"$f":"INDEX(Deduction!$A$3:$K$501,MATCH(1,(Deduction!$A$3:$A$501=Sheet8!A92)*(Deduction!$B$3:$B$501=Sheet8!B92)*(Deduction!$C$3:$C$501=Sheet8!D92),0),5)","v":0},{"$f":"INDEX(Deduction!$A$3:$K$501,MATCH(1,(Deduction!$A$3:$A$501=Sheet8!A92)*(Deduction!$B$3:$B$501=Sheet8!B92)*(Deduction!$C$3:$C$501=Sheet8!D92),0),6)","v":0},{"$f":"INDEX(Deduction!$A$3:$K$501,MATCH(1,(Deduction!$A$3:$A$501=Sheet8!A92)*(Deduction!$B$3:$B$501=Sheet8!B92)*(Deduction!$C$3:$C$501=Sheet8!D92),0),7)","v":0},{"$f":"INDEX(Deduction!$A$3:$K$501,MATCH(1,(Deduction!$A$3:$A$501=Sheet8!A92)*(Deduction!$B$3:$B$501=Sheet8!B92)*(Deduction!$C$3:$C$501=Sheet8!D92),0),8)","v":0},{"$f":"INDEX(Deduction!$A$3:$K$501,MATCH(1,(Deduction!$A$3:$A$501=Sheet8!A92)*(Deduction!$B$3:$B$501=Sheet8!B92)*(Deduction!$C$3:$C$501=Sheet8!D92),0),9)","v":0},{"$f":"INDEX(Deduction!$A$3:$K$501,MATCH(1,(Deduction!$A$3:$A$501=Sheet8!A92)*(Deduction!$B$3:$B$501=Sheet8!B92)*(Deduction!$C$3:$C$501=Sheet8!D92),0),10)","v":0},{"$f":"INDEX(Deduction!$A$3:$K$501,MATCH(1,(Deduction!$A$3:$A$501=Sheet8!A92)*(Deduction!$B$3:$B$501=Sheet8!B92)*(Deduction!$C$3:$C$501=Sheet8!D92),0),11)","v":0},{"$error":"#DIV/0!"},{"$f":"VLOOKUP(D92,Emp_Master!$B$3:$H$501,7)","v":{"$error":"#N/A"}}]
[{"$f":"Salary_Entitlement!A94","v":0},{"$f":"Salary_Entitlement!B94","v":0},{"$f":"Salary_Entitlement!C94","v":0},{"$f":"Salary_Entitlement!D94","v":0},{"$f":"Salary_Entitlement!E94","v":{"$error":"#N/A"}},{"$f":"Salary_Entitlement!F94","v":0},{"$f":"Salary_Entitlement!G94","v":0},{"$f":"Salary_Entitlement!H94","v":0},{"$f":"Salary_Entitlement!I94","v":0},{"$f":"Salary_Entitlement!J94","v":0},{"$f":"Salary_Entitlement!K94","v":0},{"$f":"Salary_Entitlement!L94","v":0},{"$f":"Salary_Entitlement!M94","v":0},{"$f":"Salary_Entitlement!N94","v":0},{"$f":"Salary_Entitlement!O94","v":0},{"$f":"Salary_Entitlement!P94","v":0},{"$error":"#DIV/0!"},{"$error":"#DIV/0!"},{"$f":"INDEX(Deduction!$A$3:$K$501,MATCH(1,(Deduction!$A$3:$A$501=Sheet8!A93)*(Deduction!$B$3:$B$501=Sheet8!B93)*(Deduction!$C$3:$C$501=Sheet8!D93),0),5)","v":0},{"$f":"INDEX(Deduction!$A$3:$K$501,MATCH(1,(Deduction!$A$3:$A$501=Sheet8!A93)*(Deduction!$B$3:$B$501=Sheet8!B93)*(Deduction!$C$3:$C$501=Sheet8!D93),0),6)","v":0},{"$f":"INDEX(Deduction!$A$3:$K$501,MATCH(1,(Deduction!$A$3:$A$501=Sheet8!A93)*(Deduction!$B$3:$B$501=Sheet8!B93)*(Deduction!$C$3:$C$501=Sheet8!D93),0),7)","v":0},{"$f":"INDEX(Deduction!$A$3:$K$501,MATCH(1,(Deduction!$A$3:$A$501=Sheet8!A93)*(Deduction!$B$3:$B$501=Sheet8!B93)*(Deduction!$C$3:$C$501=Sheet8!D93),0),8)","v":0},{"$f":"INDEX(Deduction!$A$3:$K$501,MATCH(1,(Deduction!$A$3:$A$501=Sheet8!A93)*(Deduction!$B$3:$B$501=Sheet8!B93)*(Deduction!$C$3:$C$501=Sheet8!D93),0),9)","v":0},{"$f":"INDEX(Deduction!$A$3:$K$501,MATCH(1,(Deduction!$A$3:$A$501=Sheet8!A93)*(Deduction!$B$3:$B$501=Sheet8!B93)*(Deduction!$C$3:$C$501=Sheet8!D93),0),10)","v":0},{"$f":"INDEX(Deduction!$A$3:$K$501,MATCH(1,(Deduction!$A$3:$A$501=Sheet8!A93)*(Deduction!$B$3:$B$501=Sheet8!B93)*(Deduction!$C$3:$C$501=Sheet8!D93),0),11)","v":0},{"$error":"#DIV/0!"},{"$f":"VLOOKUP(D93,Emp_Master!$B$3:$H$501,7)","v":{"$error":"#N/A"}}]
[{"$f":"Salary_Entitlement!A95","v":0},{"$f":"Salary_Entitlement!B95","v":0},{"$f":"Salary_Entitlement!C95","v":0},{"$f":"Salary_Entitlement!D95","v":0},{"$f":"Salary_Entitlement!E95","v":{"$error":"#N/A"}},{"$f":"Salary_Entitlement!F95","v":0},{"$f":"Salary_Entitlement!G95","v":0},{"$f":"Salary_Entitlement!H95","v":0},{"$f":"Salary_Entitlement!I95","v":0},{"$f":"Salary_Entitlement!J95","v":0},{"$f":"Salary_Entitlement!K95","v":0},{"$f":"Salary_Entitlement!L95","v":0},{"$f":"Salary_Entitlement!M95","v":0},{"$f":"Salary_Entitlement!N95","v":0},{"$f":"Salary_Entitlement!O95","v":0},{"$f":"Salary_Entitlement!P95","v":0},{"$error":"#DIV/0!"},{"$error":"#DIV/0!"},{"$f":"INDEX(Deduction!$A$3:$K$501,MATCH(1,(Deduction!$A$3:$A$501=Sheet8!A94)*(Deduction!$B$3:$B$501=Sheet8!B94)*(Deduction!$C$3:$C$501=Sheet8!D94),0),5)","v":0},{"$f":"INDEX(Deduction!$A$3:$K$501,MATCH(1,(Deduction!$A$3:$A$501=Sheet8!A94)*(Deduction!$B$3:$B$501=Sheet8!B94)*(Deduction!$C$3:$C$501=Sheet8!D94),0),6)","v":0},{"$f":"INDEX(Deduction!$A$3:$K$501,MATCH(1,(Deduction!$A$3:$A$501=Sheet8!A94)*(Deduction!$B$3:$B$501=Sheet8!B94)*(Deduction!$C$3:$C$501=Sheet8!D94),0),7)","v":0},{"$f":"INDEX(Deduction!$A$3:$K$501,MATCH(1,(Deduction!$A$3:$A$501=Sheet8!A94)*(Deduction!$B$3:$B$501=Sheet8!B94)*(Deduction!$C$3:$C$501=Sheet8!D94),0),8)","v":0},{"$f":"INDEX(Deduction!$A$3:$K$501,MATCH(1,(Deduction!$A$3:$A$501=Sheet8!A94)*(Deduction!$B$3:$B$501=Sheet8!B94)*(Deduction!$C$3:$C$501=Sheet8!D94),0),9)","v":0},{"$f":"INDEX(Deduction!$A$3:$K$501,MATCH(1,(Deduction!$A$3:$A$501=Sheet8!A94)*(Deduction!$B$3:$B$501=Sheet8!B94)*(Deduction!$C$3:$C$501=Sheet8!D94),0),10)","v":0},{"$f":"INDEX(Deduction!$A$3:$K$501,MATCH(1,(Deduction!$A$3:$A$501=Sheet8!A94)*(Deduction!$B$3:$B$501=Sheet8!B94)*(Deduction!$C$3:$C$501=Sheet8!D94),0),11)","v":0},{"$error":"#DIV/0!"},{"$f":"VLOOKUP(D94,Emp_Master!$B$3:$H$501,7)","v":{"$error":"#N/A"}}]
[{"$f":"Salary_Entitlement!A96","v":0},{"$f":"Salary_Entitlement!B96","v":0},{"$f":"Salary_Entitlement!C96","v":0},{"$f":"Salary_Entitlement!D96","v":0},{"$f":"Salary_Entitlement!E96","v":{"$error":"#N/A"}},{"$f":"Salary_Entitlement!F96","v":0},{"$f":"Salary_Entitlement!G96","v":0},{"$f":"Salary_Entitlement!H96","v":0},{"$f":"Salary_Entitlement!I96","v":0},{"$f":"Salary_Entitlement!J96","v":0},{"$f":"Salary_Entitlement!K96","v":0},{"$f":"Salary_Entitlement!L96","v":0},{"$f":"Salary_Entitlement!M96","v":0},{"$f":"Salary_Entitlement!N96","v":0},{"$f":"Salary_Entitlement!O96","v":0},{"$f":"Salary_Entitlement!P96","v":0},{"$error":"#DIV/0!"},{"$error":"#DIV/0!"},{"$f":"INDEX(Deduction!$A$3:$K$501,MATCH(1,(Deduction!$A$3:$A$501=Sheet8!A95)*(Deduction!$B$3:$B$501=Sheet8!B95)*(Deduction!$C$3:$C$501=Sheet8!D95),0),5)","v":0},{"$f":"INDEX(Deduction!$A$3:$K$501,MATCH(1,(Deduction!$A$3:$A$501=Sheet8!A95)*(Deduction!$B$3:$B$501=Sheet8!B95)*(Deduction!$C$3:$C$501=Sheet8!D95),0),6)","v":0},{"$f":"INDEX(Deduction!$A$3:$K$501,MATCH(1,(Deduction!$A$3:$A$501=Sheet8!A95)*(Deduction!$B$3:$B$501=Sheet8!B95)*(Deduction!$C$3:$C$501=Sheet8!D95),0),7)","v":0},{"$f":"INDEX(Deduction!$A$3:$K$501,MATCH(1,(Deduction!$A$3:$A$501=Sheet8!A95)*(Deduction!$B$3:$B$501=Sheet8!B95)*(Deduction!$C$3:$C$501=Sheet8!D95),0),8)","v":0},{"$f":"INDEX(Deduction!$A$3:$K$501,MATCH(1,(Deduction!$A$3:$A$501=Sheet8!A95)*(Deduction!$B$3:$B$501=Sheet8!B95)*(Deduction!$C$3:$C$501=Sheet8!D95),0),9)","v":0},{"$f":"INDEX(Deduction!$A$3:$K$501,MATCH(1,(Deduction!$A$3:$A$501=Sheet8!A95)*(Deduction!$B$3:$B$501=Sheet8!B95)*(Deduction!$C$3:$C$501=Sheet8!D95),0),10)","v":0},{"$f":"INDEX(Deduction!$A$3:$K$501,MATCH(1,(Deduction!$A$3:$A$501=Sheet8!A95)*(Deduction!$B$3:$B$501=Sheet8!B95)*(Deduction!$C$3:$C$501=Sheet8!D95),0),11)","v":0},{"$error":"#DIV/0!"},{"$f":"VLOOKUP(D95,Emp_Master!$B$3:$H$501,7)","v":{"$error":"#N/A"}}]
[{"$f":"Salary_Entitlement!A97","v":0},{"$f":"Salary_Entitlement!B97","v":0},{"$f":"Salary_Entitlement!C97","v":0},{"$f":"Salary_Entitlement!D97","v":0},{"$f":"Salary_Entitlement!E97","v":{"$error":"#N/A"}},{"$f":"Salary_Entitlement!F97","v":0},{"$f":"Salary_Entitlement!G97","v":0},{"$f":"Salary_Entitlement!H97","v":0},{"$f":"Salary_Entitlement!I97","v":0},{"$f":"Salary_Entitlement!J97","v":0},{"$f":"Salary_Entitlement!K97","v":0},{"$f":"Salary_Entitlement!L97","v":0},{"$f":"Salary_Entitlement!M97","v":0},{"$f":"Salary_Entitlement!N97","v":0},{"$f":"Salary_Entitlement!O97","v":0},{"$f":"Salary_Entitlement!P97","v":0},{"$error":"#DIV/0!"},{"$error":"#DIV/0!"},{"$f":"INDEX(Deduction!$A$3:$K$501,MATCH(1,(Deduction!$A$3:$A$501=Sheet8!A96)*(Deduction!$B$3:$B$501=Sheet8!B96)*(Deduction!$C$3:$C$501=Sheet8!D96),0),5)","v":0},{"$f":"INDEX(Deduction!$A$3:$K$501,MATCH(1,(Deduction!$A$3:$A$501=Sheet8!A96)*(Deduction!$B$3:$B$501=Sheet8!B96)*(Deduction!$C$3:$C$501=Sheet8!D96),0),6)","v":0},{"$f":"INDEX(Deduction!$A$3:$K$501,MATCH(1,(Deduction!$A$3:$A$501=Sheet8!A96)*(Deduction!$B$3:$B$501=Sheet8!B96)*(Deduction!$C$3:$C$501=Sheet8!D96),0),7)","v":0},{"$f":"INDEX(Deduction!$A$3:$K$501,MATCH(1,(Deduction!$A$3:$A$501=Sheet8!A96)*(Deduction!$B$3:$B$501=Sheet8!B96)*(Deduction!$C$3:$C$501=Sheet8!D96),0),8)","v":0},{"$f":"INDEX(Deduction!$A$3:$K$501,MATCH(1,(Deduction!$A$3:$A$501=Sheet8!A96)*(Deduction!$B$3:$B$501=Sheet8!B96)*(Deduction!$C$3:$C$501=Sheet8!D96),0),9)","v":0},{"$f":"INDEX(Deduction!$A$3:$K$501,MATCH(1,(Deduction!$A$3:$A$501=Sheet8!A96)*(Deduction!$B$3:$B$501=Sheet8!B96)*(Deduction!$C$3:$C$501=Sheet8!D96),0),10)","v":0},{"$f":"INDEX(Deduction!$A$3:$K$501,MATCH(1,(Deduction!$A$3:$A$501=Sheet8!A96)*(Deduction!$B$3:$B$501=Sheet8!B96)*(Deduction!$C$3:$C$501=Sheet8!D96),0),11)","v":0},{"$error":"#DIV/0!"},{"$f":"VLOOKUP(D96,Emp_Master!$B$3:$H$501,7)","v":{"$error":"#N/A"}}]
[{"$f":"Salary_Entitlement!A98","v":0},{"$f":"Salary_Entitlement!B98","v":0},{"$f":"Salary_Entitlement!C98","v":0},{"$f":"Salary_Entitlement!D98","v":0},{"$f":"Salary_Entitlement!E98","v":{"$error":"#N/A"}},{"$f":"Salary_Entitlement!F98","v":0},{"$f":"Salary_Entitlement!G98","v":0},{"$f":"Salary_Entitlement!H98","v":0},{"$f":"Salary_Entitlement!I98","v":0},{"$f":"Salary_Entitlement!J98","v":0},{"$f":"Salary_Entitlement!K98","v":0},{"$f":"Salary_Entitlement!L98","v":0},{"$f":"Salary_Entitlement!M98","v":0},{"$f":"Salary_Entitlement!N98","v":0},{"$f":"Salary_Entitlement!O98","v":0},{"$f":"Salary_Entitlement!P98","v":0},{"$error":"#DIV/0!"},{"$error":"#DIV/0!"},{"$f":"INDEX(Deduction!$A$3:$K$501,MATCH(1,(Deduction!$A$3:$A$501=Sheet8!A97)*(Deduction!$B$3:$B$501=Sheet8!B97)*(Deduction!$C$3:$C$501=Sheet8!D97),0),5)","v":0},{"$f":"INDEX(Deduction!$A$3:$K$501,MATCH(1,(Deduction!$A$3:$A$501=Sheet8!A97)*(Deduction!$B$3:$B$501=Sheet8!B97)*(Deduction!$C$3:$C$501=Sheet8!D97),0),6)","v":0},{"$f":"INDEX(Deduction!$A$3:$K$501,MATCH(1,(Deduction!$A$3:$A$501=Sheet8!A97)*(Deduction!$B$3:$B$501=Sheet8!B97)*(Deduction!$C$3:$C$501=Sheet8!D97),0),7)","v":0},{"$f":"INDEX(Deduction!$A$3:$K$501,MATCH(1,(Deduction!$A$3:$A$501=Sheet8!A97)*(Deduction!$B$3:$B$501=Sheet8!B97)*(Deduction!$C$3:$C$501=Sheet8!D97),0),8)","v":0},{"$f":"INDEX(Deduction!$A$3:$K$501,MATCH(1,(Deduction!$A$3:$A$501=Sheet8!A97)*(Deduction!$B$3:$B$501=Sheet8!B97)*(Deduction!$C$3:$C$501=Sheet8!D97),0),9)","v":0},{"$f":"INDEX(Deduction!$A$3:$K$501,MATCH(1,(Deduction!$A$3:$A$501=Sheet8!A97)*(Deduction!$B$3:$B$501=Sheet8!B97)*(Deduction!$C$3:$C$501=Sheet8!D97),0),10)","v":0},{"$f":"INDEX(Deduction!$A$3:$K$501,MATCH(1,(Deduction!$A$3:$A$501=Sheet8!A97)*(Deduction!$B$3:$B$501=Sheet8!B97)*(Deduction!$C$3:$C$501=Sheet8!D97),0),11)","v":0},{"$error":"#DIV/0!"},{"$f":"VLOOKUP(D97,Emp_Master!$B$3:$H$501,7)","v":{"$error":"#N/A"}}]
[{"$f":"Salary_Entitlement!A99","v":0},{"$f":"Salary_Entitlement!B99","v":0},{"$f":"Salary_Entitlement!C99","v":0},{"$f":"Salary_Entitlement!D99","v":0},{"$f":"Salary_Entitlement!E99","v":{"$error":"#N/A"}},{"$f":"Salary_Entitlement!F99","v":0},{"$f":"Salary_Entitlement!G99","v":0},{"$f":"Salary_Entitlement!H99","v":0},{"$f":"Salary_Entitlement!I99","v":0},{"$f":"Salary_Entitlement!J99","v":0},{"$f":"Salary_Entitlement!K99","v":0},{"$f":"Salary_Entitlement!L99","v":0},{"$f":"Salary_Entitlement!M99","v":0},{"$f":"Salary_Entitlement!N99","v":0},{"$f":"Salary_Entitlement!O99","v":0},{"$f":"Salary_Entitlement!P99","v":0},{"$error":"#DIV/0!"},{"$error":"#DIV/0!"},{"$f":"INDEX(Deduction!$A$3:$K$501,MATCH(1,(Deduction!$A$3:$A$501=Sheet8!A98)*(Deduction!$B$3:$B$501=Sheet8!B98)*(Deduction!$C$3:$C$501=Sheet8!D98),0),5)","v":0},{"$f":"INDEX(Deduction!$A$3:$K$501,MATCH(1,(Deduction!$A$3:$A$501=Sheet8!A98)*(Deduction!$B$3:$B$501=Sheet8!B98)*(Deduction!$C$3:$C$501=Sheet8!D98),0),6)","v":0},{"$f":"INDEX(Deduction!$A$3:$K$501,MATCH(1,(Deduction!$A$3:$A$501=Sheet8!A98)*(Deduction!$B$3:$B$501=Sheet8!B98)*(Deduction!$C$3:$C$501=Sheet8!D98),0),7)","v":0},{"$f":"INDEX(Deduction!$A$3:$K$501,MATCH(1,(Deduction!$A$3:$A$501=Sheet8!A98)*(Deduction!$B$3:$B$501=Sheet8!B98)*(Deduction!$C$3:$C$501=Sheet8!D98),0),8)","v":0},{"$f":"INDEX(Deduction!$A$3:$K$501,MATCH(1,(Deduction!$A$3:$A$501=Sheet8!A98)*(Deduction!$B$3:$B$501=Sheet8!B98)*(Deduction!$C$3:$C$501=Sheet8!D98),0),9)","v":0},{"$f":"INDEX(Deduction!$A$3:$K$501,MATCH(1,(Deduction!$A$3:$A$501=Sheet8!A98)*(Deduction!$B$3:$B$501=Sheet8!B98)*(Deduction!$C$3:$C$501=Sheet8!D98),0),10)","v":0},{"$f":"INDEX(Deduction!$A$3:$K$501,MATCH(1,(Deduction!$A$3:$A$501=Sheet8!A98)*(Deduction!$B$3:$B$501=Sheet8!B98)*(Deduction!$C$3:$C$501=Sheet8!D98),0),11)","v":0},{"$error":"#DIV/0!"},{"$f":"VLOOKUP(D98,Emp_Master!$B$3:$H$501,7)","v":{"$error":"#N/A"}}]
[{"$f":"Salary_Entitlement!A100","v":0},{"$f":"Salary_Entitlement!B100","v":0},{"$f":"Salary_Entitlement!C100","v":0},{"$f":"Salary_Entitlement!D100","v":0},{"$f":"Salary_Entitlement!E100","v":{"$error":"#N/A"}},{"$f":"Salary_Entitlement!F100","v":0},{"$f":"Salary_Entitlement!G100","v":0},{"$f":"Salary_Entitlement!H100","v":0},{"$f":"Salary_Entitlement!I100","v":0},{"$f":"Salary_Entitlement!J100","v":0},{"$f":"Salary_Entitlement!K100","v":0},{"$f":"Salary_Entitlement!L100","v":0},{"$f":"Salary_Entitlement!M100","v":0},{"$f":"Salary_Entitlement!N100","v":0},{"$f":"Salary_Entitlement!O100","v":0},{"$f":"Salary_Entitlement!P100","v":0},{"$error":"#DIV/0!"},{"$error":"#DIV/0!"},{"$f":"INDEX(Deduction!$A$3:$K$501,MATCH(1,(Deduction!$A$3:$A$501=Sheet8!A99)*(Deduction!$B$3:$B$501=Sheet8!B99)*(Deduction!$C$3:$C$501=Sheet8!D99),0),5)","v":0},{"$f":"INDEX(Deduction!$A$3:$K$501,MATCH(1,(Deduction!$A$3:$A$501=Sheet8!A99)*(Deduction!$B$3:$B$501=Sheet8!B99)*(Deduction!$C$3:$C$501=Sheet8!D99),0),6)","v":0},{"$f":"INDEX(Deduction!$A$3:$K$501,MATCH(1,(Deduction!$A$3:$A$501=Sheet8!A99)*(Deduction!$B$3:$B$501=Sheet8!B99)*(Deduction!$C$3:$C$501=Sheet8!D99),0),7)","v":0},{"$f":"INDEX(Deduction!$A$3:$K$501,MATCH(1,(Deduction!$A$3:$A$501=Sheet8!A99)*(Deduction!$B$3:$B$501=Sheet8!B99)*(Deduction!$C$3:$C$501=Sheet8!D99),0),8)","v":0},{"$f":"INDEX(Deduction!$A$3:$K$501,MATCH(1,(Deduction!$A$3:$A$501=Sheet8!A99)*(Deduction!$B$3:$B$501=Sheet8!B99)*(Deduction!$C$3:$C$501=Sheet8!D99),0),9)","v":0},{"$f":"INDEX(Deduction!$A$3:$K$501,MATCH(1,(Deduction!$A$3:$A$501=Sheet8!A99)*(Deduction!$B$3:$B$501=Sheet8!B99)*(Deduction!$C$3:$C$501=Sheet8!D99),0),10)","v":0},{"$f":"INDEX(Deduction!$A$3:$K$501,MATCH(1,(Deduction!$A$3:$A$501=Sheet8!A99)*(Deduction!$B$3:$B$501=Sheet8!B99)*(Deduction!$C$3:$C$501=Sheet8!D99),0),11)","v":0},{"$error":"#DIV/0!"},{"$f":"VLOOKUP(D99,Emp_Master!$B$3:$H$501,7)","v":{"$error":"#N/A"}}]
[{"$f":"Salary_Entitlement!A101","v":0},{"$f":"Salary_Entitlement!B101","v":0},{"$f":"Salary_Entitlement!C101","v":0},{"$f":"Salary_Entitlement!D101","v":0},{"$f":"Salary_Entitlement!E101","v":{"$error":"#N/A"}},{"$f":"Salary_Entitlement!F101","v":0},{"$f":"Salary_Entitlement!G101","v":0},{"$f":"Salary_Entitlement!H101","v":0},{"$f":"Salary_Entitlement!I101","v":0},{"$f":"Salary_Entitlement!J101","v":0},{"$f":"Salary_Entitlement!K101","v":0},{"$f":"Salary_Entitlement!L101","v":0},{"$f":"Salary_Entitlement!M101","v":0},{"$f":"Salary_Entitlement!N101","v":0},{"$f":"Salary_Entitlement!O101","v":0},{"$f":"Salary_Entitlement!P101","v":0},{"$error":"#DIV/0!"},{"$error":"#DIV/0!"},{"$f":"INDEX(Deduction!$A$3:$K$501,MATCH(1,(Deduction!$A$3:$A$501=Sheet8!A100)*(Deduction!$B$3:$B$501=Sheet8!B100)*(Deduction!$C$3:$C$501=Sheet8!D100),0),5)","v":0},{"$f":"INDEX(Deduction!$A$3:$K$501,MATCH(1,(Deduction!$A$3:$A$501=Sheet8!A100)*(Deduction!$B$3:$B$501=Sheet8!B100)*(Deduction!$C$3:$C$501=Sheet8!D100),0),6)","v":0},{"$f":"INDEX(Deduction!$A$3:$K$501,MATCH(1,(Deduction!$A$3:$A$501=Sheet8!A100)*(Deduction!$B$3:$B$501=Sheet8!B100)*(Deduction!$C$3:$C$501=Sheet8!D100),0),7)","v":0},{"$f":"INDEX(Deduction!$A$3:$K$501,MATCH(1,(Deduction!$A$3:$A$501=Sheet8!A100)*(Deduction!$B$3:$B$501=Sheet8!B100)*(Deduction!$C$3:$C$501=Sheet8!D100),0),8)","v":0},{"$f":"INDEX(Deduction!$A$3:$K$501,MATCH(1,(Deduction!$A$3:$A$501=Sheet8!A100)*(Deduction!$B$3:$B$501=Sheet8!B100)*(Deduction!$C$3:$C$501=Sheet8!D100),0),9)","v":0},{"$f":"INDEX(Deduction!$A$3:$K$501,MATCH(1,(Deduction!$A$3:$A$501=Sheet8!A100)*(Deduction!$B$3:$B$501=Sheet8!B100)*(Deduction!$C$3:$C$501=Sheet8!D100),0),10)","v":0},{"$f":"INDEX(Deduction!$A$3:$K$501,MATCH(1,(Deduction!$A$3:$A$501=Sheet8!A100)*(Deduction!$B$3:$B$501=Sheet8!B100)*(Deduction!$C$3:$C$501=Sheet8!D100),0),11)","v":0},{"$error":"#DIV/0!"},{"$f":"VLOOKUP(D100,Emp_Master!$B$3:$H$501,7)","v":{"$error":"#N/A"}}]
[{"$f":"Salary_Entitlement!A102","v":0},{"$f":"Salary_Entitlement!B102","v":0},{"$f":"Salary_Entitlement!C102","v":0},{"$f":"Salary_Entitlement!D102","v":0},{"$f":"Salary_Entitlement!E102","v":{"$error":"#N/A"}},{"$f":"Salary_Entitlement!F102","v":0},{"$f":"Salary_Entitlement!G102","v":0},{"$f":"Salary_Entitlement!H102","v":0},{"$f":"Salary_Entitlement!I102","v":0},{"$f":"Salary_Entitlement!J102","v":0},{"$f":"Salary_Entitlement!K102","v":0},{"$f":"Salary_Entitlement!L102","v":0},{"$f":"Salary_Entitlement!M102","v":0},{"$f":"Salary_Entitlement!N102","v":0},{"$f":"Salary_Entitlement!O102","v":0},{"$f":"Salary_Entitlement!P102","v":0},{"$error":"#DIV/0!"},{"$error":"#DIV/0!"},{"$f":"INDEX(Deduction!$A$3:$K$501,MATCH(1,(Deduction!$A$3:$A$501=Sheet8!A101)*(Deduction!$B$3:$B$501=Sheet8!B101)*(Deduction!$C$3:$C$501=Sheet8!D101),0),5)","v":0},{"$f":"INDEX(Deduction!$A$3:$K$501,MATCH(1,(Deduction!$A$3:$A$501=Sheet8!A101)*(Deduction!$B$3:$B$501=Sheet8!B101)*(Deduction!$C$3:$C$501=Sheet8!D101),0),6)","v":0},{"$f":"INDEX(Deduction!$A$3:$K$501,MATCH(1,(Deduction!$A$3:$A$501=Sheet8!A101)*(Deduction!$B$3:$B$501=Sheet8!B101)*(Deduction!$C$3:$C$501=Sheet8!D101),0),7)","v":0},{"$f":"INDEX(Deduction!$A$3:$K$501,MATCH(1,(Deduction!$A$3:$A$501=Sheet8!A101)*(Deduction!$B$3:$B$501=Sheet8!B101)*(Deduction!$C$3:$C$501=Sheet8!D101),0),8)","v":0},{"$f":"INDEX(Deduction!$A$3:$K$501,MATCH(1,(Deduction!$A$3:$A$501=Sheet8!A101)*(Deduction!$B$3:$B$501=Sheet8!B101)*(Deduction!$C$3:$C$501=Sheet8!D101),0),9)","v":0},{"$f":"INDEX(Deduction!$A$3:$K$501,MATCH(1,(Deduction!$A$3:$A$501=Sheet8!A101)*(Deduction!$B$3:$B$501=Sheet8!B101)*(Deduction!$C$3:$C$501=Sheet8!D101),0),10)","v":0},{"$f":"INDEX(Deduction!$A$3:$K$501,MATCH(1,(Deduction!$A$3:$A$501=Sheet8!A101)*(Deduction!$B$3:$B$501=Sheet8!B101)*(Deduction!$C$3:$C$501=Sheet8!D101),0),11)","v":0},{"$error":"#DIV/0!"},{"$f":"VLOOKUP(D101,Emp_Master!$B$3:$H$501,7)","v":{"$error":"#N/A"}}]
[{"$f":"Salary_Entitlement!A103","v":0},{"$f":"Salary_Entitlement!B103","v":0},{"$f":"Salary_Entitlement!C103","v":0},{"$f":"Salary_Entitlement!D103","v":0},{"$f":"Salary_Entitlement!E103","v":{"$error":"#N/A"}},{"$f":"Salary_Entitlement!F103","v":0},{"$f":"Salary_Entitlement!G103","v":0},{"$f":"Salary_Entitlement!H103","v":0},{"$f":"Salary_Entitlement!I103","v":0},{"$f":"Salary_Entitlement!J103","v":0},{"$f":"Salary_Entitlement!K103","v":0},{"$f":"Salary_Entitlement!L103","v":0},{"$f":"Salary_Entitlement!M103","v":0},{"$f":"Salary_Entitlement!N103","v":0},{"$f":"Salary_Entitlement!O103","v":0},{"$f":"Salary_Entitlement!P103","v":0},{"$error":"#DIV/0!"},{"$error":"#DIV/0!"},{"$f":"INDEX(Deduction!$A$3:$K$501,MATCH(1,(Deduction!$A$3:$A$501=Sheet8!A102)*(Deduction!$B$3:$B$501=Sheet8!B102)*(Deduction!$C$3:$C$501=Sheet8!D102),0),5)","v":0},{"$f":"INDEX(Deduction!$A$3:$K$501,MATCH(1,(Deduction!$A$3:$A$501=Sheet8!A102)*(Deduction!$B$3:$B$501=Sheet8!B102)*(Deduction!$C$3:$C$501=Sheet8!D102),0),6)","v":0},{"$f":"INDEX(Deduction!$A$3:$K$501,MATCH(1,(Deduction!$A$3:$A$501=Sheet8!A102)*(Deduction!$B$3:$B$501=Sheet8!B102)*(Deduction!$C$3:$C$501=Sheet8!D102),0),7)","v":0},{"$f":"INDEX(Deduction!$A$3:$K$501,MATCH(1,(Deduction!$A$3:$A$501=Sheet8!A102)*(Deduction!$B$3:$B$501=Sheet8!B102)*(Deduction!$C$3:$C$501=Sheet8!D102),0),8)","v":0},{"$f":"INDEX(Deduction!$A$3:$K$501,MATCH(1,(Deduction!$A$3:$A$501=Sheet8!A102)*(Deduction!$B$3:$B$501=Sheet8!B102)*(Deduction!$C$3:$C$501=Sheet8!D102),0),9)","v":0},{"$f":"INDEX(Deduction!$A$3:$K$501,MATCH(1,(Deduction!$A$3:$A$501=Sheet8!A102)*(Deduction!$B$3:$B$501=Sheet8!B102)*(Deduction!$C$3:$C$501=Sheet8!D102),0),10)","v":0},{"$f":"INDEX(Deduction!$A$3:$K$501,MATCH(1,(Deduction!$A$3:$A$501=Sheet8!A102)*(Deduction!$B$3:$B$501=Sheet8!B102)*(Deduction!$C$3:$C$501=Sheet8!D102),0),11)","v":0},{"$error":"#DIV/0!"},{"$f":"VLOOKUP(D102,Emp_Master!$B$3:$H$501,7)","v":{"$error":"#N/A"}}]
[{"$f":"Salary_Entitlement!A104","v":0},{"$f":"Salary_Entitlement!B104","v":0},{"$f":"Salary_Entitlement!C104","v":0},{"$f":"Salary_Entitlement!D104","v":0},{"$f":"Salary_Entitlement!E104","v":{"$error":"#N/A"}},{"$f":"Salary_Entitlement!F104","v":0},{"$f":"Salary_Entitlement!G104","v":0},{"$f":"Salary_Entitlement!H104","v":0},{"$f":"Salary_Entitlement!I104","v":0},{"$f":"Salary_Entitlement!J104","v":0},{"$f":"Salary_Entitlement!K104","v":0},{"$f":"Salary_Entitlement!L104","v":0},{"$f":"Salary_Entitlement!M104","v":0},{"$f":"Salary_Entitlement!N104","v":0},{"$f":"Salary_Entitlement!O104","v":0},{"$f":"Salary_Entitlement!P104","v":0},{"$error":"#DIV/0!"},{"$error":"#DIV/0!"},{"$f":"INDEX(Deduction!$A$3:$K$501,MATCH(1,(Deduction!$A$3:$A$501=Sheet8!A103)*(Deduction!$B$3:$B$501=Sheet8!B103)*(Deduction!$C$3:$C$501=Sheet8!D103),0),5)","v":0},{"$f":"INDEX(Deduction!$A$3:$K$501,MATCH(1,(Deduction!$A$3:$A$501=Sheet8!A103)*(Deduction!$B$3:$B$501=Sheet8!B103)*(Deduction!$C$3:$C$501=Sheet8!D103),0),6)","v":0},{"$f":"INDEX(Deduction!$A$3:$K$501,MATCH(1,(Deduction!$A$3:$A$501=Sheet8!A103)*(Deduction!$B$3:$B$501=Sheet8!B103)*(Deduction!$C$3:$C$501=Sheet8!D103),0),7)","v":0},{"$f":"INDEX(Deduction!$A$3:$K$501,MATCH(1,(Deduction!$A$3:$A$501=Sheet8!A103)*(Deduction!$B$3:$B$501=Sheet8!B103)*(Deduction!$C$3:$C$501=Sheet8!D103),0),8)","v":0},{"$f":"INDEX(Deduction!$A$3:$K$501,MATCH(1,(Deduction!$A$3:$A$501=Sheet8!A103)*(Deduction!$B$3:$B$501=Sheet8!B103)*(Deduction!$C$3:$C$501=Sheet8!D103),0),9)","v":0},{"$f":"INDEX(Deduction!$A$3:$K$501,MATCH(1,(Deduction!$A$3:$A$501=Sheet8!A103)*(Deduction!$B$3:$B$501=Sheet8!B103)*(Deduction!$C$3:$C$501=Sheet8!D103),0),10)","v":0},{"$f":"INDEX(Deduction!$A$3:$K$501,MATCH(1,(Deduction!$A$3:$A$501=Sheet8!A103)*(Deduction!$B$3:$B$501=Sheet8!B103)*(Deduction!$C$3:$C$501=Sheet8!D103),0),11)","v":0},{"$error":"#DIV/0!"},{"$f":"VLOOKUP(D103,Emp_Master!$B$3:$H$501,7)","v":{"$error":"#N/A"}}]
[{"$f":"Salary_Entitlement!A105","v":0},{"$f":"Salary_Entitlement!B105","v":0},{"$f":"Salary_Entitlement!C105","v":0},{"$f":"Salary_Entitlement!D105","v":0},{"$f":"Salary_Entitlement!E105","v":{"$error":"#N/A"}},{"$f":"Salary_Entitlement!F105","v":0},{"$f":"Salary_Entitlement!G105","v":0},{"$f":"Salary_Entitlement!H105","v":0},{"$f":"Salary_Entitlement!I105","v":0},{"$f":"Salary_Entitlement!J105","v":0},{"$f":"Salary_Entitlement!K105","v":0},{"$f":"Salary_Entitlement!L105","v":0},{"$f":"Salary_Entitlement!M105","v":0},{"$f":"Salary_Entitlement!N105","v":0},{"$f":"Salary_Entitlement!O105","v":0},{"$f":"Salary_Entitlement!P105","v":0},{"$error":"#DIV/0!"},{"$error":"#DIV/0!"},{"$f":"INDEX(Deduction!$A$3:$K$501,MATCH(1,(Deduction!$A$3:$A$501=Sheet8!A104)*(Deduction!$B$3:$B$501=Sheet8!B104)*(Deduction!$C$3:$C$501=Sheet8!D104),0),5)","v":0},{"$f":"INDEX(Deduction!$A$3:$K$501,MATCH(1,(Deduction!$A$3:$A$501=Sheet8!A104)*(Deduction!$B$3:$B$501=Sheet8!B104)*(Deduction!$C$3:$C$501=Sheet8!D104),0),6)","v":0},{"$f":"INDEX(Deduction!$A$3:$K$501,MATCH(1,(Deduction!$A$3:$A$501=Sheet8!A104)*(Deduction!$B$3:$B$501=Sheet8!B104)*(Deduction!$C$3:$C$501=Sheet8!D104),0),7)","v":0},{"$f":"INDEX(Deduction!$A$3:$K$501,MATCH(1,(Deduction!$A$3:$A$501=Sheet8!A104)*(Deduction!$B$3:$B$501=Sheet8!B104)*(Deduction!$C$3:$C$501=Sheet8!D104),0),8)","v":0},{"$f":"INDEX(Deduction!$A$3:$K$501,MATCH(1,(Deduction!$A$3:$A$501=Sheet8!A104)*(Deduction!$B$3:$B$501=Sheet8!B104)*(Deduction!$C$3:$C$501=Sheet8!D104),0),9)","v":0},{"$f":"INDEX(Deduction!$A$3:$K$501,MATCH(1,(Deduction!$A$3:$A$501=Sheet8!A104)*(Deduction!$B$3:$B$501=Sheet8!B104)*(Deduction!$C$3:$C$501=Sheet8!D104),0),10)","v":0},{"$f":"INDEX(Deduction!$A$3:$K$501,MATCH(1,(Deduction!$A$3:$A$501=Sheet8!A104)*(Deduction!$B$3:$B$501=Sheet8!B104)*(Deduction!$C$3:$C$501=Sheet8!D104),0),11)","v":0},{"$error":"#DIV/0!"},{"$f":"VLOOKUP(D104,Emp_Master!$B$3:$H$501,7)","v":{"$error":"#N/A"}}]
[{"$f":"Salary_Entitlement!A106","v":0},{"$f":"Salary_Entitlement!B106","v":0},{"$f":"Salary_Entitlement!C106","v":0},{"$f":"Salary_Entitlement!D106","v":0},{"$f":"Salary_Entitlement!E106","v":{"$error":"#N/A"}},{"$f":"Salary_Entitlement!F106","v":0},{"$f":"Salary_Entitlement!G106","v":0},{"$f":"Salary_Entitlement!H106","v":0},{"$f":"Salary_Entitlement!I106","v":0},{"$f":"Salary_Entitlement!J106","v":0},{"$f":"Salary_Entitlement!K106","v":0},{"$f":"Salary_Entitlement!L106","v":0},{"$f":"Salary_Entitlement!M106","v":0},{"$f":"Salary_Entitlement!N106","v":0},{"$f":"Salary_Entitlement!O106","v":0},{"$f":"Salary_Entitlement!P106","v":0},{"$error":"#DIV/0!"},{"$error":"#DIV/0!"},{"$f":"INDEX(Deduction!$A$3:$K$501,MATCH(1,(Deduction!$A$3:$A$501=Sheet8!A105)*(Deduction!$B$3:$B$501=Sheet8!B105)*(Deduction!$C$3:$C$501=Sheet8!D105),0),5)","v":0},{"$f":"INDEX(Deduction!$A$3:$K$501,MATCH(1,(Deduction!$A$3:$A$501=Sheet8!A105)*(Deduction!$B$3:$B$501=Sheet8!B105)*(Deduction!$C$3:$C$501=Sheet8!D105),0),6)","v":0},{"$f":"INDEX(Deduction!$A$3:$K$501,MATCH(1,(Deduction!$A$3:$A$501=Sheet8!A105)*(Deduction!$B$3:$B$501=Sheet8!B105)*(Deduction!$C$3:$C$501=Sheet8!D105),0),7)","v":0},{"$f":"INDEX(Deduction!$A$3:$K$501,MATCH(1,(Deduction!$A$3:$A$501=Sheet8!A105)*(Deduction!$B$3:$B$501=Sheet8!B105)*(Deduction!$C$3:$C$501=Sheet8!D105),0),8)","v":0},{"$f":"INDEX(Deduction!$A$3:$K$501,MATCH(1,(Deduction!$A$3:$A$501=Sheet8!A105)*(Deduction!$B$3:$B$501=Sheet8!B105)*(Deduction!$C$3:$C$501=Sheet8!D105),0),9)","v":0},{"$f":"INDEX(Deduction!$A$3:$K$501,MATCH(1,(Deduction!$A$3:$A$501=Sheet8!A105)*(Deduction!$B$3:$B$501=Sheet8!B105)*(Deduction!$C$3:$C$501=Sheet8!D105),0),10)","v":0},{"$f":"INDEX(Deduction!$A$3:$K$501,MATCH(1,(Deduction!$A$3:$A$501=Sheet8!A105)*(Deduction!$B$3:$B$501=Sheet8!B105)*(Deduction!$C$3:$C$501=Sheet8!D105),0),11)","v":0},{"$error":"#DIV/0!"},{"$f":"VLOOKUP(D105,Emp_Master!$B$3:$H$501,7)","v":{"$error":"#N/A"}}]
[{"$f":"Salary_Entitlement!A107","v":0},{"$f":"Salary_Entitlement!B107","v":0},{"$f":"Salary_Entitlement!C107","v":0},{"$f":"Salary_Entitlement!D107","v":0},{"$f":"Salary_Entitlement!E107","v":{"$error":"#N/A"}},{"$f":"Salary_Entitlement!F107","v":0},{"$f":"Salary_Entitlement!G107","v":0},{"$f":"Salary_Entitlement!H107","v":0},{"$f":"Salary_Entitlement!I107","v":0},{"$f":"Salary_Entitlement!J107","v":0},{"$f":"Salary_Entitlement!K107","v":0},{"$f":"Salary_Entitlement!L107","v":0},{"$f":"Salary_Entitlement!M107","v":0},{"$f":"Salary_Entitlement!N107","v":0},{"$f":"Salary_Entitlement!O107","v":0},{"$f":"Salary_Entitlement!P107","v":0},{"$error":"#DIV/0!"},{"$error":"#DIV/0!"},{"$f":"INDEX(Deduction!$A$3:$K$501,MATCH(1,(Deduction!$A$3:$A$501=Sheet8!A106)*(Deduction!$B$3:$B$501=Sheet8!B106)*(Deduction!$C$3:$C$501=Sheet8!D106),0),5)","v":0},{"$f":"INDEX(Deduction!$A$3:$K$501,MATCH(1,(Deduction!$A$3:$A$501=Sheet8!A106)*(Deduction!$B$3:$B$501=Sheet8!B106)*(Deduction!$C$3:$C$501=Sheet8!D106),0),6)","v":0},{"$f":"INDEX(Deduction!$A$3:$K$501,MATCH(1,(Deduction!$A$3:$A$501=Sheet8!A106)*(Deduction!$B$3:$B$501=Sheet8!B106)*(Deduction!$C$3:$C$501=Sheet8!D106),0),7)","v":0},{"$f":"INDEX(Deduction!$A$3:$K$501,MATCH(1,(Deduction!$A$3:$A$501=Sheet8!A106)*(Deduction!$B$3:$B$501=Sheet8!B106)*(Deduction!$C$3:$C$501=Sheet8!D106),0),8)","v":0},{"$f":"INDEX(Deduction!$A$3:$K$501,MATCH(1,(Deduction!$A$3:$A$501=Sheet8!A106)*(Deduction!$B$3:$B$501=Sheet8!B106)*(Deduction!$C$3:$C$501=Sheet8!D106),0),9)","v":0},{"$f":"INDEX(Deduction!$A$3:$K$501,MATCH(1,(Deduction!$A$3:$A$501=Sheet8!A106)*(Deduction!$B$3:$B$501=Sheet8!B106)*(Deduction!$C$3:$C$501=Sheet8!D106),0),10)","v":0},{"$f":"INDEX(Deduction!$A$3:$K$501,MATCH(1,(Deduction!$A$3:$A$501=Sheet8!A106)*(Deduction!$B$3:$B$501=Sheet8!B106)*(Deduction!$C$3:$C$501=Sheet8!D106),0),11)","v":0},{"$error":"#DIV/0!"},{"$f":"VLOOKUP(D106,Emp_Master!$B$3:$H$501,7)","v":{"$error":"#N/A"}}]
[{"$f":"Salary_Entitlement!A108","v":0},{"$f":"Salary_Entitlement!B108","v":0},{"$f":"Salary_Entitlement!C108","v":0},{"$f":"Salary_Entitlement!D108","v":0},{"$f":"Salary_Entitlement!E108","v":{"$error":"#N/A"}},{"$f":"Salary_Entitlement!F108","v":0},{"$f":"Salary_Entitlement!G108","v":0},{"$f":"Salary_Entitlement!H108","v":0},{"$f":"Salary_Entitlement!I108","v":0},{"$f":"Salary_Entitlement!J108","v":0},{"$f":"Salary_Entitlement!K108","v":0},{"$f":"Salary_Entitlement!L108","v":0},{"$f":"Salary_Entitlement!M108","v":0},{"$f":"Salary_Entitlement!N108","v":0},{"$f":"Salary_Entitlement!O108","v":0},{"$f":"Salary_Entitlement!P108","v":0},{"$error":"#DIV/0!"},{"$error":"#DIV/0!"},{"$f":"INDEX(Deduction!$A$3:$K$501,MATCH(1,(Deduction!$A$3:$A$501=Sheet8!A107)*(Deduction!$B$3:$B$501=Sheet8!B107)*(Deduction!$C$3:$C$501=Sheet8!D107),0),5)","v":0},{"$f":"INDEX(Deduction!$A$3:$K$501,MATCH(1,(Deduction!$A$3:$A$501=Sheet8!A107)*(Deduction!$B$3:$B$501=Sheet8!B107)*(Deduction!$C$3:$C$501=Sheet8!D107),0),6)","v":0},{"$f":"INDEX(Deduction!$A$3:$K$501,MATCH(1,(Deduction!$A$3:$A$501=Sheet8!A107)*(Deduction!$B$3:$B$501=Sheet8!B107)*(Deduction!$C$3:$C$501=Sheet8!D107),0),7)","v":0},{"$f":"INDEX(Deduction!$A$3:$K$501,MATCH(1,(Deduction!$A$3:$A$501=Sheet8!A107)*(Deduction!$B$3:$B$501=Sheet8!B107)*(Deduction!$C$3:$C$501=Sheet8!D107),0),8)","v":0},{"$f":"INDEX(Deduction!$A$3:$K$501,MATCH(1,(Deduction!$A$3:$A$501=Sheet8!A107)*(Deduction!$B$3:$B$501=Sheet8!B107)*(Deduction!$C$3:$C$501=Sheet8!D107),0),9)","v":0},{"$f":"INDEX(Deduction!$A$3:$K$501,MATCH(1,(Deduction!$A$3:$A$501=Sheet8!A107)*(Deduction!$B$3:$B$501=Sheet8!B107)*(Deduction!$C$3:$C$501=Sheet8!D107),0),10)","v":0},{"$f":"INDEX(Deduction!$A$3:$K$501,MATCH(1,(Deduction!$A$3:$A$501=Sheet8!A107)*(Deduction!$B$3:$B$501=Sheet8!B107)*(Deduction!$C$3:$C$501=Sheet8!D107),0),11)","v":0},{"$error":"#DIV/0!"},{"$f":"VLOOKUP(D107,Emp_Master!$B$3:$H$501,7)","v":{"$error":"#N/A"}}]
[{"$f":"Salary_Entitlement!A109","v":0},{"$f":"Salary_Entitlement!B109","v":0},{"$f":"Salary_Entitlement!C109","v":0},{"$f":"Salary_Entitlement!D109","v":0},{"$f":"Salary_Entitlement!E109","v":{"$error":"#N/A"}},{"$f":"Salary_Entitlement!F109","v":0},{"$f":"Salary_Entitlement!G109","v":0},{"$f":"Salary_Entitlement!H109","v":0},{"$f":"Salary_Entitlement!I109","v":0},{"$f":"Salary_Entitlement!J109","v":0},{"$f":"Salary_Entitlement!K109","v":0},{"$f":"Salary_Entitlement!L109","v":0},{"$f":"Salary_Entitlement!M109","v":0},{"$f":"Salary_Entitlement!N109","v":0},{"$f":"Salary_Entitlement!O109","v":0},{"$f":"Salary_Entitlement!P109","v":0},{"$error":"#DIV/0!"},{"$error":"#DIV/0!"},{"$f":"INDEX(Deduction!$A$3:$K$501,MATCH(1,(Deduction!$A$3:$A$501=Sheet8!A108)*(Deduction!$B$3:$B$501=Sheet8!B108)*(Deduction!$C$3:$C$501=Sheet8!D108),0),5)","v":0},{"$f":"INDEX(Deduction!$A$3:$K$501,MATCH(1,(Deduction!$A$3:$A$501=Sheet8!A108)*(Deduction!$B$3:$B$501=Sheet8!B108)*(Deduction!$C$3:$C$501=Sheet8!D108),0),6)","v":0},{"$f":"INDEX(Deduction!$A$3:$K$501,MATCH(1,(Deduction!$A$3:$A$501=Sheet8!A108)*(Deduction!$B$3:$B$501=Sheet8!B108)*(Deduction!$C$3:$C$501=Sheet8!D108),0),7)","v":0},{"$f":"INDEX(Deduction!$A$3:$K$501,MATCH(1,(Deduction!$A$3:$A$501=Sheet8!A108)*(Deduction!$B$3:$B$501=Sheet8!B108)*(Deduction!$C$3:$C$501=Sheet8!D108),0),8)","v":0},{"$f":"INDEX(Deduction!$A$3:$K$501,MATCH(1,(Deduction!$A$3:$A$501=Sheet8!A108)*(Deduction!$B$3:$B$501=Sheet8!B108)*(Deduction!$C$3:$C$501=Sheet8!D108),0),9)","v":0},{"$f":"INDEX(Deduction!$A$3:$K$501,MATCH(1,(Deduction!$A$3:$A$501=Sheet8!A108)*(Deduction!$B$3:$B$501=Sheet8!B108)*(Deduction!$C$3:$C$501=Sheet8!D108),0),10)","v":0},{"$f":"INDEX(Deduction!$A$3:$K$501,MATCH(1,(Deduction!$A$3:$A$501=Sheet8!A108)*(Deduction!$B$3:$B$501=Sheet8!B108)*(Deduction!$C$3:$C$501=Sheet8!D108),0),11)","v":0},{"$error":"#DIV/0!"},{"$f":"VLOOKUP(D108,Emp_Master!$B$3:$H$501,7)","v":{"$error":"#N/A"}}]
[{"$f":"Salary_Entitlement!A110","v":0},{"$f":"Salary_Entitlement!B110","v":0},{"$f":"Salary_Entitlement!C110","v":0},{"$f":"Salary_Entitlement!D110","v":0},{"$f":"Salary_Entitlement!E110","v":{"$error":"#N/A"}},{"$f":"Salary_Entitlement!F110","v":0},{"$f":"Salary_Entitlement!G110","v":0},{"$f":"Salary_Entitlement!H110","v":0},{"$f":"Salary_Entitlement!I110","v":0},{"$f":"Salary_Entitlement!J110","v":0},{"$f":"Salary_Entitlement!K110","v":0},{"$f":"Salary_Entitlement!L110","v":0},{"$f":"Salary_Entitlement!M110","v":0},{"$f":"Salary_Entitlement!N110","v":0},{"$f":"Salary_Entitlement!O110","v":0},{"$f":"Salary_Entitlement!P110","v":0},{"$error":"#DIV/0!"},{"$error":"#DIV/0!"},{"$f":"INDEX(Deduction!$A$3:$K$501,MATCH(1,(Deduction!$A$3:$A$501=Sheet8!A109)*(Deduction!$B$3:$B$501=Sheet8!B109)*(Deduction!$C$3:$C$501=Sheet8!D109),0),5)","v":0},{"$f":"INDEX(Deduction!$A$3:$K$501,MATCH(1,(Deduction!$A$3:$A$501=Sheet8!A109)*(Deduction!$B$3:$B$501=Sheet8!B109)*(Deduction!$C$3:$C$501=Sheet8!D109),0),6)","v":0},{"$f":"INDEX(Deduction!$A$3:$K$501,MATCH(1,(Deduction!$A$3:$A$501=Sheet8!A109)*(Deduction!$B$3:$B$501=Sheet8!B109)*(Deduction!$C$3:$C$501=Sheet8!D109),0),7)","v":0},{"$f":"INDEX(Deduction!$A$3:$K$501,MATCH(1,(Deduction!$A$3:$A$501=Sheet8!A109)*(Deduction!$B$3:$B$501=Sheet8!B109)*(Deduction!$C$3:$C$501=Sheet8!D109),0),8)","v":0},{"$f":"INDEX(Deduction!$A$3:$K$501,MATCH(1,(Deduction!$A$3:$A$501=Sheet8!A109)*(Deduction!$B$3:$B$501=Sheet8!B109)*(Deduction!$C$3:$C$501=Sheet8!D109),0),9)","v":0},{"$f":"INDEX(Deduction!$A$3:$K$501,MATCH(1,(Deduction!$A$3:$A$501=Sheet8!A109)*(Deduction!$B$3:$B$501=Sheet8!B109)*(Deduction!$C$3:$C$501=Sheet8!D109),0),10)","v":0},{"$f":"INDEX(Deduction!$A$3:$K$501,MATCH(1,(Deduction!$A$3:$A$501=Sheet8!A109)*(Deduction!$B$3:$B$501=Sheet8!B109)*(Deduction!$C$3:$C$501=Sheet8!D109),0),11)","v":0},{"$error":"#DIV/0!"},{"$f":"VLOOKUP(D109,Emp_Master!$B$3:$H$501,7)","v":{"$error":"#N/A"}}]
[{"$f":"Salary_Entitlement!A111","v":0},{"$f":"Salary_Entitlement!B111","v":0},{"$f":"Salary_Entitlement!C111","v":0},{"$f":"Salary_Entitlement!D111","v":0},{"$f":"Salary_Entitlement!E111","v":{"$error":"#N/A"}},{"$f":"Salary_Entitlement!F111","v":0},{"$f":"Salary_Entitlement!G111","v":0},{"$f":"Salary_Entitlement!H111","v":0},{"$f":"Salary_Entitlement!I111","v":0},{"$f":"Salary_Entitlement!J111","v":0},{"$f":"Salary_Entitlement!K111","v":0},{"$f":"Salary_Entitlement!L111","v":0},{"$f":"Salary_Entitlement!M111","v":0},{"$f":"Salary_Entitlement!N111","v":0},{"$f":"Salary_Entitlement!O111","v":0},{"$f":"Salary_Entitlement!P111","v":0},{"$error":"#DIV/0!"},{"$error":"#DIV/0!"},{"$f":"INDEX(Deduction!$A$3:$K$501,MATCH(1,(Deduction!$A$3:$A$501=Sheet8!A110)*(Deduction!$B$3:$B$501=Sheet8!B110)*(Deduction!$C$3:$C$501=Sheet8!D110),0),5)","v":0},{"$f":"INDEX(Deduction!$A$3:$K$501,MATCH(1,(Deduction!$A$3:$A$501=Sheet8!A110)*(Deduction!$B$3:$B$501=Sheet8!B110)*(Deduction!$C$3:$C$501=Sheet8!D110),0),6)","v":0},{"$f":"INDEX(Deduction!$A$3:$K$501,MATCH(1,(Deduction!$A$3:$A$501=Sheet8!A110)*(Deduction!$B$3:$B$501=Sheet8!B110)*(Deduction!$C$3:$C$501=Sheet8!D110),0),7)","v":0},{"$f":"INDEX(Deduction!$A$3:$K$501,MATCH(1,(Deduction!$A$3:$A$501=Sheet8!A110)*(Deduction!$B$3:$B$501=Sheet8!B110)*(Deduction!$C$3:$C$501=Sheet8!D110),0),8)","v":0},{"$f":"INDEX(Deduction!$A$3:$K$501,MATCH(1,(Deduction!$A$3:$A$501=Sheet8!A110)*(Deduction!$B$3:$B$501=Sheet8!B110)*(Deduction!$C$3:$C$501=Sheet8!D110),0),9)","v":0},{"$f":"INDEX(Deduction!$A$3:$K$501,MATCH(1,(Deduction!$A$3:$A$501=Sheet8!A110)*(Deduction!$B$3:$B$501=Sheet8!B110)*(Deduction!$C$3:$C$501=Sheet8!D110),0),10)","v":0},{"$f":"INDEX(Deduction!$A$3:$K$501,MATCH(1,(Deduction!$A$3:$A$501=Sheet8!A110)*(Deduction!$B$3:$B$501=Sheet8!B110)*(Deduction!$C$3:$C$501=Sheet8!D110),0),11)","v":0},{"$error":"#DIV/0!"},{"$f":"VLOOKUP(D110,Emp_Master!$B$3:$H$501,7)","v":{"$error":"#N/A"}}]
[{"$f":"Salary_Entitlement!A112","v":0},{"$f":"Salary_Entitlement!B112","v":0},{"$f":"Salary_Entitlement!C112","v":0},{"$f":"Salary_Entitlement!D112","v":0},{"$f":"Salary_Entitlement!E112","v":{"$error":"#N/A"}},{"$f":"Salary_Entitlement!F112","v":0},{"$f":"Salary_Entitlement!G112","v":0},{"$f":"Salary_Entitlement!H112","v":0},{"$f":"Salary_Entitlement!I112","v":0},{"$f":"Salary_Entitlement!J112","v":0},{"$f":"Salary_Entitlement!K112","v":0},{"$f":"Salary_Entitlement!L112","v":0},{"$f":"Salary_Entitlement!M112","v":0},{"$f":"Salary_Entitlement!N112","v":0},{"$f":"Salary_Entitlement!O112","v":0},{"$f":"Salary_Entitlement!P112","v":0},{"$error":"#DIV/0!"},{"$error":"#DIV/0!"},{"$f":"INDEX(Deduction!$A$3:$K$501,MATCH(1,(Deduction!$A$3:$A$501=Sheet8!A111)*(Deduction!$B$3:$B$501=Sheet8!B111)*(Deduction!$C$3:$C$501=Sheet8!D111),0),5)","v":0},{"$f":"INDEX(Deduction!$A$3:$K$501,MATCH(1,(Deduction!$A$3:$A$501=Sheet8!A111)*(Deduction!$B$3:$B$501=Sheet8!B111)*(Deduction!$C$3:$C$501=Sheet8!D111),0),6)","v":0},{"$f":"INDEX(Deduction!$A$3:$K$501,MATCH(1,(Deduction!$A$3:$A$501=Sheet8!A111)*(Deduction!$B$3:$B$501=Sheet8!B111)*(Deduction!$C$3:$C$501=Sheet8!D111),0),7)","v":0},{"$f":"INDEX(Deduction!$A$3:$K$501,MATCH(1,(Deduction!$A$3:$A$501=Sheet8!A111)*(Deduction!$B$3:$B$501=Sheet8!B111)*(Deduction!$C$3:$C$501=Sheet8!D111),0),8)","v":0},{"$f":"INDEX(Deduction!$A$3:$K$501,MATCH(1,(Deduction!$A$3:$A$501=Sheet8!A111)*(Deduction!$B$3:$B$501=Sheet8!B111)*(Deduction!$C$3:$C$501=Sheet8!D111),0),9)","v":0},{"$f":"INDEX(Deduction!$A$3:$K$501,MATCH(1,(Deduction!$A$3:$A$501=Sheet8!A111)*(Deduction!$B$3:$B$501=Sheet8!B111)*(Deduction!$C$3:$C$501=Sheet8!D111),0),10)","v":0},{"$f":"INDEX(Deduction!$A$3:$K$501,MATCH(1,(Deduction!$A$3:$A$501=Sheet8!A111)*(Deduction!$B$3:$B$501=Sheet8!B111)*(Deduction!$C$3:$C$501=Sheet8!D111),0),11)","v":0},{"$error":"#DIV/0!"},{"$f":"VLOOKUP(D111,Emp_Master!$B$3:$H$501,7)","v":{"$error":"#N/A"}}]
[{"$f":"Salary_Entitlement!A113","v":0},{"$f":"Salary_Entitlement!B113","v":0},{"$f":"Salary_Entitlement!C113","v":0},{"$f":"Salary_Entitlement!D113","v":0},{"$f":"Salary_Entitlement!E113","v":{"$error":"#N/A"}},{"$f":"Salary_Entitlement!F113","v":0},{"$f":"Salary_Entitlement!G113","v":0},{"$f":"Salary_Entitlement!H113","v":0},{"$f":"Salary_Entitlement!I113","v":0},{"$f":"Salary_Entitlement!J113","v":0},{"$f":"Salary_Entitlement!K113","v":0},{"$f":"Salary_Entitlement!L113","v":0},{"$f":"Salary_Entitlement!M113","v":0},{"$f":"Salary_Entitlement!N113","v":0},{"$f":"Salary_Entitlement!O113","v":0},{"$f":"Salary_Entitlement!P113","v":0},{"$error":"#DIV/0!"},{"$error":"#DIV/0!"},{"$f":"INDEX(Deduction!$A$3:$K$501,MATCH(1,(Deduction!$A$3:$A$501=Sheet8!A112)*(Deduction!$B$3:$B$501=Sheet8!B112)*(Deduction!$C$3:$C$501=Sheet8!D112),0),5)","v":0},{"$f":"INDEX(Deduction!$A$3:$K$501,MATCH(1,(Deduction!$A$3:$A$501=Sheet8!A112)*(Deduction!$B$3:$B$501=Sheet8!B112)*(Deduction!$C$3:$C$501=Sheet8!D112),0),6)","v":0},{"$f":"INDEX(Deduction!$A$3:$K$501,MATCH(1,(Deduction!$A$3:$A$501=Sheet8!A112)*(Deduction!$B$3:$B$501=Sheet8!B112)*(Deduction!$C$3:$C$501=Sheet8!D112),0),7)","v":0},{"$f":"INDEX(Deduction!$A$3:$K$501,MATCH(1,(Deduction!$A$3:$A$501=Sheet8!A112)*(Deduction!$B$3:$B$501=Sheet8!B112)*(Deduction!$C$3:$C$501=Sheet8!D112),0),8)","v":0},{"$f":"INDEX(Deduction!$A$3:$K$501,MATCH(1,(Deduction!$A$3:$A$501=Sheet8!A112)*(Deduction!$B$3:$B$501=Sheet8!B112)*(Deduction!$C$3:$C$501=Sheet8!D112),0),9)","v":0},{"$f":"INDEX(Deduction!$A$3:$K$501,MATCH(1,(Deduction!$A$3:$A$501=Sheet8!A112)*(Deduction!$B$3:$B$501=Sheet8!B112)*(Deduction!$C$3:$C$501=Sheet8!D112),0),10)","v":0},{"$f":"INDEX(Deduction!$A$3:$K$501,MATCH(1,(Deduction!$A$3:$A$501=Sheet8!A112)*(Deduction!$B$3:$B$501=Sheet8!B112)*(Deduction!$C$3:$C$501=Sheet8!D112),0),11)","v":0},{"$error":"#DIV/0!"},{"$f":"VLOOKUP(D112,Emp_Master!$B$3:$H$501,7)","v":{"$error":"#N/A"}}]
[{"$f":"Salary_Entitlement!A114","v":0},{"$f":"Salary_Entitlement!B114","v":0},{"$f":"Salary_Entitlement!C114","v":0},{"$f":"Salary_Entitlement!D114","v":0},{"$f":"Salary_Entitlement!E114","v":{"$error":"#N/A"}},{"$f":"Salary_Entitlement!F114","v":0},{"$f":"Salary_Entitlement!G114","v":0},{"$f":"Salary_Entitlement!H114","v":0},{"$f":"Salary_Entitlement!I114","v":0},{"$f":"Salary_Entitlement!J114","v":0},{"$f":"Salary_Entitlement!K114","v":0},{"$f":"Salary_Entitlement!L114","v":0},{"$f":"Salary_Entitlement!M114","v":0},{"$f":"Salary_Entitlement!N114","v":0},{"$f":"Salary_Entitlement!O114","v":0},{"$f":"Salary_Entitlement!P114","v":0},{"$error":"#DIV/0!"},{"$error":"#DIV/0!"},{"$f":"INDEX(Deduction!$A$3:$K$501,MATCH(1,(Deduction!$A$3:$A$501=Sheet8!A113)*(Deduction!$B$3:$B$501=Sheet8!B113)*(Deduction!$C$3:$C$501=Sheet8!D113),0),5)","v":0},{"$f":"INDEX(Deduction!$A$3:$K$501,MATCH(1,(Deduction!$A$3:$A$501=Sheet8!A113)*(Deduction!$B$3:$B$501=Sheet8!B113)*(Deduction!$C$3:$C$501=Sheet8!D113),0),6)","v":0},{"$f":"INDEX(Deduction!$A$3:$K$501,MATCH(1,(Deduction!$A$3:$A$501=Sheet8!A113)*(Deduction!$B$3:$B$501=Sheet8!B113)*(Deduction!$C$3:$C$501=Sheet8!D113),0),7)","v":0},{"$f":"INDEX(Deduction!$A$3:$K$501,MATCH(1,(Deduction!$A$3:$A$501=Sheet8!A113)*(Deduction!$B$3:$B$501=Sheet8!B113)*(Deduction!$C$3:$C$501=Sheet8!D113),0),8)","v":0},{"$f":"INDEX(Deduction!$A$3:$K$501,MATCH(1,(Deduction!$A$3:$A$501=Sheet8!A113)*(Deduction!$B$3:$B$501=Sheet8!B113)*(Deduction!$C$3:$C$501=Sheet8!D113),0),9)","v":0},{"$f":"INDEX(Deduction!$A$3:$K$501,MATCH(1,(Deduction!$A$3:$A$501=Sheet8!A113)*(Deduction!$B$3:$B$501=Sheet8!B113)*(Deduction!$C$3:$C$501=Sheet8!D113),0),10)","v":0},{"$f":"INDEX(Deduction!$A$3:$K$501,MATCH(1,(Deduction!$A$3:$A$501=Sheet8!A113)*(Deduction!$B$3:$B$501=Sheet8!B113)*(Deduction!$C$3:$C$501=Sheet8!D113),0),11)","v":0},{"$error":"#DIV/0!"},{"$f":"VLOOKUP(D113,Emp_Master!$B$3:$H$501,7)","v":{"$error":"#N/A"}}]
[{"$f":"Salary_Entitlement!A115","v":0},{"$f":"Salary_Entitlement!B115","v":0},{"$f":"Salary_Entitlement!C115","v":0},{"$f":"Salary_Entitlement!D115","v":0},{"$f":"Salary_Entitlement!E115","v":{"$error":"#N/A"}},{"$f":"Salary_Entitlement!F115","v":0},{"$f":"Salary_Entitlement!G115","v":0},{"$f":"Salary_Entitlement!H115","v":0},{"$f":"Salary_Entitlement!I115","v":0},{"$f":"Salary_Entitlement!J115","v":0},{"$f":"Salary_Entitlement!K115","v":0},{"$f":"Salary_Entitlement!L115","v":0},{"$f":"Salary_Entitlement!M115","v":0},{"$f":"Salary_Entitlement!N115","v":0},{"$f":"Salary_Entitlement!O115","v":0},{"$f":"Salary_Entitlement!P115","v":0},{"$error":"#DIV/0!"},{"$error":"#DIV/0!"},{"$f":"INDEX(Deduction!$A$3:$K$501,MATCH(1,(Deduction!$A$3:$A$501=Sheet8!A114)*(Deduction!$B$3:$B$501=Sheet8!B114)*(Deduction!$C$3:$C$501=Sheet8!D114),0),5)","v":0},{"$f":"INDEX(Deduction!$A$3:$K$501,MATCH(1,(Deduction!$A$3:$A$501=Sheet8!A114)*(Deduction!$B$3:$B$501=Sheet8!B114)*(Deduction!$C$3:$C$501=Sheet8!D114),0),6)","v":0},{"$f":"INDEX(Deduction!$A$3:$K$501,MATCH(1,(Deduction!$A$3:$A$501=Sheet8!A114)*(Deduction!$B$3:$B$501=Sheet8!B114)*(Deduction!$C$3:$C$501=Sheet8!D114),0),7)","v":0},{"$f":"INDEX(Deduction!$A$3:$K$501,MATCH(1,(Deduction!$A$3:$A$501=Sheet8!A114)*(Deduction!$B$3:$B$501=Sheet8!B114)*(Deduction!$C$3:$C$501=Sheet8!D114),0),8)","v":0},{"$f":"INDEX(Deduction!$A$3:$K$501,MATCH(1,(Deduction!$A$3:$A$501=Sheet8!A114)*(Deduction!$B$3:$B$501=Sheet8!B114)*(Deduction!$C$3:$C$501=Sheet8!D114),0),9)","v":0},{"$f":"INDEX(Deduction!$A$3:$K$501,MATCH(1,(Deduction!$A$3:$A$501=Sheet8!A114)*(Deduction!$B$3:$B$501=Sheet8!B114)*(Deduction!$C$3:$C$501=Sheet8!D114),0),10)","v":0},{"$f":"INDEX(Deduction!$A$3:$K$501,MATCH(1,(Deduction!$A$3:$A$501=Sheet8!A114)*(Deduction!$B$3:$B$501=Sheet8!B114)*(Deduction!$C$3:$C$501=Sheet8!D114),0),11)","v":0},{"$error":"#DIV/0!"},{"$f":"VLOOKUP(D114,Emp_Master!$B$3:$H$501,7)","v":{"$error":"#N/A"}}]
[{"$f":"Salary_Entitlement!A116","v":0},{"$f":"Salary_Entitlement!B116","v":0},{"$f":"Salary_Entitlement!C116","v":0},{"$f":"Salary_Entitlement!D116","v":0},{"$f":"Salary_Entitlement!E116","v":{"$error":"#N/A"}},{"$f":"Salary_Entitlement!F116","v":0},{"$f":"Salary_Entitlement!G116","v":0},{"$f":"Salary_Entitlement!H116","v":0},{"$f":"Salary_Entitlement!I116","v":0},{"$f":"Salary_Entitlement!J116","v":0},{"$f":"Salary_Entitlement!K116","v":0},{"$f":"Salary_Entitlement!L116","v":0},{"$f":"Salary_Entitlement!M116","v":0},{"$f":"Salary_Entitlement!N116","v":0},{"$f":"Salary_Entitlement!O116","v":0},{"$f":"Salary_Entitlement!P116","v":0},{"$error":"#DIV/0!"},{"$error":"#DIV/0!"},{"$f":"INDEX(Deduction!$A$3:$K$501,MATCH(1,(Deduction!$A$3:$A$501=Sheet8!A115)*(Deduction!$B$3:$B$501=Sheet8!B115)*(Deduction!$C$3:$C$501=Sheet8!D115),0),5)","v":0},{"$f":"INDEX(Deduction!$A$3:$K$501,MATCH(1,(Deduction!$A$3:$A$501=Sheet8!A115)*(Deduction!$B$3:$B$501=Sheet8!B115)*(Deduction!$C$3:$C$501=Sheet8!D115),0),6)","v":0},{"$f":"INDEX(Deduction!$A$3:$K$501,MATCH(1,(Deduction!$A$3:$A$501=Sheet8!A115)*(Deduction!$B$3:$B$501=Sheet8!B115)*(Deduction!$C$3:$C$501=Sheet8!D115),0),7)","v":0},{"$f":"INDEX(Deduction!$A$3:$K$501,MATCH(1,(Deduction!$A$3:$A$501=Sheet8!A115)*(Deduction!$B$3:$B$501=Sheet8!B115)*(Deduction!$C$3:$C$501=Sheet8!D115),0),8)","v":0},{"$f":"INDEX(Deduction!$A$3:$K$501,MATCH(1,(Deduction!$A$3:$A$501=Sheet8!A115)*(Deduction!$B$3:$B$501=Sheet8!B115)*(Deduction!$C$3:$C$501=Sheet8!D115),0),9)","v":0},{"$f":"INDEX(Deduction!$A$3:$K$501,MATCH(1,(Deduction!$A$3:$A$501=Sheet8!A115)*(Deduction!$B$3:$B$501=Sheet8!B115)*(Deduction!$C$3:$C$501=Sheet8!D115),0),10)","v":0},{"$f":"INDEX(Deduction!$A$3:$K$501,MATCH(1,(Deduction!$A$3:$A$501=Sheet8!A115)*(Deduction!$B$3:$B$501=Sheet8!B115)*(Deduction!$C$3:$C$501=Sheet8!D115),0),11)","v":0},{"$error":"#DIV/0!"},{"$f":"VLOOKUP(D115,Emp_Master!$B$3:$H$501,7)","v":{"$error":"#N/A"}}]
[{"$f":"Salary_Entitlement!A117","v":0},{"$f":"Salary_Entitlement!B117","v":0},{"$f":"Salary_Entitlement!C117","v":0},{"$f":"Salary_Entitlement!D117","v":0},{"$f":"Salary_Entitlement!E117","v":{"$error":"#N/A"}},{"$f":"Salary_Entitlement!F117","v":0},{"$f":"Salary_Entitlement!G117","v":0},{"$f":"Salary_Entitlement!H117","v":0},{"$f":"Salary_Entitlement!I117","v":0},{"$f":"Salary_Entitlement!J117","v":0},{"$f":"Salary_Entitlement!K117","v":0},{"$f":"Salary_Entitlement!L117","v":0},{"$f":"Salary_Entitlement!M117","v":0},{"$f":"Salary_Entitlement!N117","v":0},{"$f":"Salary_Entitlement!O117","v":0},{"$f":"Salary_Entitlement!P117","v":0},{"$error":"#DIV/0!"},{"$error":"#DIV/0!"},{"$f":"INDEX(Deduction!$A$3:$K$501,MATCH(1,(Deduction!$A$3:$A$501=Sheet8!A116)*(Deduction!$B$3:$B$501=Sheet8!B116)*(Deduction!$C$3:$C$501=Sheet8!D116),0),5)","v":0},{"$f":"INDEX(Deduction!$A$3:$K$501,MATCH(1,(Deduction!$A$3:$A$501=Sheet8!A116)*(Deduction!$B$3:$B$501=Sheet8!B116)*(Deduction!$C$3:$C$501=Sheet8!D116),0),6)","v":0},{"$f":"INDEX(Deduction!$A$3:$K$501,MATCH(1,(Deduction!$A$3:$A$501=Sheet8!A116)*(Deduction!$B$3:$B$501=Sheet8!B116)*(Deduction!$C$3:$C$501=Sheet8!D116),0),7)","v":0},{"$f":"INDEX(Deduction!$A$3:$K$501,MATCH(1,(Deduction!$A$3:$A$501=Sheet8!A116)*(Deduction!$B$3:$B$501=Sheet8!B116)*(Deduction!$C$3:$C$501=Sheet8!D116),0),8)","v":0},{"$f":"INDEX(Deduction!$A$3:$K$501,MATCH(1,(Deduction!$A$3:$A$501=Sheet8!A116)*(Deduction!$B$3:$B$501=Sheet8!B116)*(Deduction!$C$3:$C$501=Sheet8!D116),0),9)","v":0},{"$f":"INDEX(Deduction!$A$3:$K$501,MATCH(1,(Deduction!$A$3:$A$501=Sheet8!A116)*(Deduction!$B$3:$B$501=Sheet8!B116)*(Deduction!$C$3:$C$501=Sheet8!D116),0),10)","v":0},{"$f":"INDEX(Deduction!$A$3:$K$501,MATCH(1,(Deduction!$A$3:$A$501=Sheet8!A116)*(Deduction!$B$3:$B$501=Sheet8!B116)*(Deduction!$C$3:$C$501=Sheet8!D116),0),11)","v":0},{"$error":"#DIV/0!"},{"$f":"VLOOKUP(D116,Emp_Master!$B$3:$H$501,7)","v":{"$error":"#N/A"}}]
[{"$f":"Salary_Entitlement!A118","v":0},{"$f":"Salary_Entitlement!B118","v":0},{"$f":"Salary_Entitlement!C118","v":0},{"$f":"Salary_Entitlement!D118","v":0},{"$f":"Salary_Entitlement!E118","v":{"$error":"#N/A"}},{"$f":"Salary_Entitlement!F118","v":0},{"$f":"Salary_Entitlement!G118","v":0},{"$f":"Salary_Entitlement!H118","v":0},{"$f":"Salary_Entitlement!I118","v":0},{"$f":"Salary_Entitlement!J118","v":0},{"$f":"Salary_Entitlement!K118","v":0},{"$f":"Salary_Entitlement!L118","v":0},{"$f":"Salary_Entitlement!M118","v":0},{"$f":"Salary_Entitlement!N118","v":0},{"$f":"Salary_Entitlement!O118","v":0},{"$f":"Salary_Entitlement!P118","v":0},{"$error":"#DIV/0!"},{"$error":"#DIV/0!"},{"$f":"INDEX(Deduction!$A$3:$K$501,MATCH(1,(Deduction!$A$3:$A$501=Sheet8!A117)*(Deduction!$B$3:$B$501=Sheet8!B117)*(Deduction!$C$3:$C$501=Sheet8!D117),0),5)","v":0},{"$f":"INDEX(Deduction!$A$3:$K$501,MATCH(1,(Deduction!$A$3:$A$501=Sheet8!A117)*(Deduction!$B$3:$B$501=Sheet8!B117)*(Deduction!$C$3:$C$501=Sheet8!D117),0),6)","v":0},{"$f":"INDEX(Deduction!$A$3:$K$501,MATCH(1,(Deduction!$A$3:$A$501=Sheet8!A117)*(Deduction!$B$3:$B$501=Sheet8!B117)*(Deduction!$C$3:$C$501=Sheet8!D117),0),7)","v":0},{"$f":"INDEX(Deduction!$A$3:$K$501,MATCH(1,(Deduction!$A$3:$A$501=Sheet8!A117)*(Deduction!$B$3:$B$501=Sheet8!B117)*(Deduction!$C$3:$C$501=Sheet8!D117),0),8)","v":0},{"$f":"INDEX(Deduction!$A$3:$K$501,MATCH(1,(Deduction!$A$3:$A$501=Sheet8!A117)*(Deduction!$B$3:$B$501=Sheet8!B117)*(Deduction!$C$3:$C$501=Sheet8!D117),0),9)","v":0},{"$f":"INDEX(Deduction!$A$3:$K$501,MATCH(1,(Deduction!$A$3:$A$501=Sheet8!A117)*(Deduction!$B$3:$B$501=Sheet8!B117)*(Deduction!$C$3:$C$501=Sheet8!D117),0),10)","v":0},{"$f":"INDEX(Deduction!$A$3:$K$501,MATCH(1,(Deduction!$A$3:$A$501=Sheet8!A117)*(Deduction!$B$3:$B$501=Sheet8!B117)*(Deduction!$C$3:$C$501=Sheet8!D117),0),11)","v":0},{"$error":"#DIV/0!"},{"$f":"VLOOKUP(D117,Emp_Master!$B$3:$H$501,7)","v":{"$error":"#N/A"}}]
[{"$f":"Salary_Entitlement!A119","v":0},{"$f":"Salary_Entitlement!B119","v":0},{"$f":"Salary_Entitlement!C119","v":0},{"$f":"Salary_Entitlement!D119","v":0},{"$f":"Salary_Entitlement!E119","v":{"$error":"#N/A"}},{"$f":"Salary_Entitlement!F119","v":0},{"$f":"Salary_Entitlement!G119","v":0},{"$f":"Salary_Entitlement!H119","v":0},{"$f":"Salary_Entitlement!I119","v":0},{"$f":"Salary_Entitlement!J119","v":0},{"$f":"Salary_Entitlement!K119","v":0},{"$f":"Salary_Entitlement!L119","v":0},{"$f":"Salary_Entitlement!M119","v":0},{"$f":"Salary_Entitlement!N119","v":0},{"$f":"Salary_Entitlement!O119","v":0},{"$f":"Salary_Entitlement!P119","v":0},{"$error":"#DIV/0!"},{"$error":"#DIV/0!"},{"$f":"INDEX(Deduction!$A$3:$K$501,MATCH(1,(Deduction!$A$3:$A$501=Sheet8!A118)*(Deduction!$B$3:$B$501=Sheet8!B118)*(Deduction!$C$3:$C$501=Sheet8!D118),0),5)","v":0},{"$f":"INDEX(Deduction!$A$3:$K$501,MATCH(1,(Deduction!$A$3:$A$501=Sheet8!A118)*(Deduction!$B$3:$B$501=Sheet8!B118)*(Deduction!$C$3:$C$501=Sheet8!D118),0),6)","v":0},{"$f":"INDEX(Deduction!$A$3:$K$501,MATCH(1,(Deduction!$A$3:$A$501=Sheet8!A118)*(Deduction!$B$3:$B$501=Sheet8!B118)*(Deduction!$C$3:$C$501=Sheet8!D118),0),7)","v":0},{"$f":"INDEX(Deduction!$A$3:$K$501,MATCH(1,(Deduction!$A$3:$A$501=Sheet8!A118)*(Deduction!$B$3:$B$501=Sheet8!B118)*(Deduction!$C$3:$C$501=Sheet8!D118),0),8)","v":0},{"$f":"INDEX(Deduction!$A$3:$K$501,MATCH(1,(Deduction!$A$3:$A$501=Sheet8!A118)*(Deduction!$B$3:$B$501=Sheet8!B118)*(Deduction!$C$3:$C$501=Sheet8!D118),0),9)","v":0},{"$f":"INDEX(Deduction!$A$3:$K$501,MATCH(1,(Deduction!$A$3:$A$501=Sheet8!A118)*(Deduction!$B$3:$B$501=Sheet8!B118)*(Deduction!$C$3:$C$501=Sheet8!D118),0),10)","v":0},{"$f":"INDEX(Deduction!$A$3:$K$501,MATCH(1,(Deduction!$A$3:$A$501=Sheet8!A118)*(Deduction!$B$3:$B$501=Sheet8!B118)*(Deduction!$C$3:$C$501=Sheet8!D118),0),11)","v":0},{"$error":"#DIV/0!"},{"$f":"VLOOKUP(D118,Emp_Master!$B$3:$H$501,7)","v":{"$error":"#N/A"}}]
[{"$f":"Salary_Entitlement!A120","v":0},{"$f":"Salary_Entitlement!B120","v":0},{"$f":"Salary_Entitlement!C120","v":0},{"$f":"Salary_Entitlement!D120","v":0},{"$f":"Salary_Entitlement!E120","v":{"$error":"#N/A"}},{"$f":"Salary_Entitlement!F120","v":0},{"$f":"Salary_Entitlement!G120","v":0},{"$f":"Salary_Entitlement!H120","v":0},{"$f":"Salary_Entitlement!I120","v":0},{"$f":"Salary_Entitlement!J120","v":0},{"$f":"Salary_Entitlement!K120","v":0},{"$f":"Salary_Entitlement!L120","v":0},{"$f":"Salary_Entitlement!M120","v":0},{"$f":"Salary_Entitlement!N120","v":0},{"$f":"Salary_Entitlement!O120","v":0},{"$f":"Salary_Entitlement!P120","v":0},{"$error":"#DIV/0!"},{"$error":"#DIV/0!"},{"$f":"INDEX(Deduction!$A$3:$K$501,MATCH(1,(Deduction!$A$3:$A$501=Sheet8!A119)*(Deduction!$B$3:$B$501=Sheet8!B119)*(Deduction!$C$3:$C$501=Sheet8!D119),0),5)","v":0},{"$f":"INDEX(Deduction!$A$3:$K$501,MATCH(1,(Deduction!$A$3:$A$501=Sheet8!A119)*(Deduction!$B$3:$B$501=Sheet8!B119)*(Deduction!$C$3:$C$501=Sheet8!D119),0),6)","v":0},{"$f":"INDEX(Deduction!$A$3:$K$501,MATCH(1,(Deduction!$A$3:$A$501=Sheet8!A119)*(Deduction!$B$3:$B$501=Sheet8!B119)*(Deduction!$C$3:$C$501=Sheet8!D119),0),7)","v":0},{"$f":"INDEX(Deduction!$A$3:$K$501,MATCH(1,(Deduction!$A$3:$A$501=Sheet8!A119)*(Deduction!$B$3:$B$501=Sheet8!B119)*(Deduction!$C$3:$C$501=Sheet8!D119),0),8)","v":0},{"$f":"INDEX(Deduction!$A$3:$K$501,MATCH(1,(Deduction!$A$3:$A$501=Sheet8!A119)*(Deduction!$B$3:$B$501=Sheet8!B119)*(Deduction!$C$3:$C$501=Sheet8!D119),0),9)","v":0},{"$f":"INDEX(Deduction!$A$3:$K$501,MATCH(1,(Deduction!$A$3:$A$501=Sheet8!A119)*(Deduction!$B$3:$B$501=Sheet8!B119)*(Deduction!$C$3:$C$501=Sheet8!D119),0),10)","v":0},{"$f":"INDEX(Deduction!$A$3:$K$501,MATCH(1,(Deduction!$A$3:$A$501=Sheet8!A119)*(Deduction!$B$3:$B$501=Sheet8!B119)*(Deduction!$C$3:$C$501=Sheet8!D119),0),11)","v":0},{"$error":"#DIV/0!"},{"$f":"VLOOKUP(D119,Emp_Master!$B$3:$H$501,7)","v":{"$error":"#N/A"}}]
[{"$f":"Salary_Entitlement!A121","v":0},{"$f":"Salary_Entitlement!B121","v":0},{"$f":"Salary_Entitlement!C121","v":0},{"$f":"Salary_Entitlement!D121","v":0},{"$f":"Salary_Entitlement!E121","v":{"$error":"#N/A"}},{"$f":"Salary_Entitlement!F121","v":0},{"$f":"Salary_Entitlement!G121","v":0},{"$f":"Salary_Entitlement!H121","v":0},{"$f":"Salary_Entitlement!I121","v":0},{"$f":"Salary_Entitlement!J121","v":0},{"$f":"Salary_Entitlement!K121","v":0},{"$f":"Salary_Entitlement!L121","v":0},{"$f":"Salary_Entitlement!M121","v":0},{"$f":"Salary_Entitlement!N121","v":0},{"$f":"Salary_Entitlement!O121","v":0},{"$f":"Salary_Entitlement!P121","v":0},{"$error":"#DIV/0!"},{"$error":"#DIV/0!"},{"$f":"INDEX(Deduction!$A$3:$K$501,MATCH(1,(Deduction!$A$3:$A$501=Sheet8!A120)*(Deduction!$B$3:$B$501=Sheet8!B120)*(Deduction!$C$3:$C$501=Sheet8!D120),0),5)","v":0},{"$f":"INDEX(Deduction!$A$3:$K$501,MATCH(1,(Deduction!$A$3:$A$501=Sheet8!A120)*(Deduction!$B$3:$B$501=Sheet8!B120)*(Deduction!$C$3:$C$501=Sheet8!D120),0),6)","v":0},{"$f":"INDEX(Deduction!$A$3:$K$501,MATCH(1,(Deduction!$A$3:$A$501=Sheet8!A120)*(Deduction!$B$3:$B$501=Sheet8!B120)*(Deduction!$C$3:$C$501=Sheet8!D120),0),7)","v":0},{"$f":"INDEX(Deduction!$A$3:$K$501,MATCH(1,(Deduction!$A$3:$A$501=Sheet8!A120)*(Deduction!$B$3:$B$501=Sheet8!B120)*(Deduction!$C$3:$C$501=Sheet8!D120),0),8)","v":0},{"$f":"INDEX(Deduction!$A$3:$K$501,MATCH(1,(Deduction!$A$3:$A$501=Sheet8!A120)*(Deduction!$B$3:$B$501=Sheet8!B120)*(Deduction!$C$3:$C$501=Sheet8!D120),0),9)","v":0},{"$f":"INDEX(Deduction!$A$3:$K$501,MATCH(1,(Deduction!$A$3:$A$501=Sheet8!A120)*(Deduction!$B$3:$B$501=Sheet8!B120)*(Deduction!$C$3:$C$501=Sheet8!D120),0),10)","v":0},{"$f":"INDEX(Deduction!$A$3:$K$501,MATCH(1,(Deduction!$A$3:$A$501=Sheet8!A120)*(Deduction!$B$3:$B$501=Sheet8!B120)*(Deduction!$C$3:$C$501=Sheet8!D120),0),11)","v":0},{"$error":"#DIV/0!"},{"$f":"VLOOKUP(D120,Emp_Master!$B$3:$H$501,7)","v":{"$error":"#N/A"}}]
[{"$f":"Salary_Entitlement!A122","v":0},{"$f":"Salary_Entitlement!B122","v":0},{"$f":"Salary_Entitlement!C122","v":0},{"$f":"Salary_Entitlement!D122","v":0},{"$f":"Salary_Entitlement!E122","v":{"$error":"#N/A"}},{"$f":"Salary_Entitlement!F122","v":0},{"$f":"Salary_Entitlement!G122","v":0},{"$f":"Salary_Entitlement!H122","v":0},{"$f":"Salary_Entitlement!I122","v":0},{"$f":"Salary_Entitlement!J122","v":0},{"$f":"Salary_Entitlement!K122","v":0},{"$f":"Salary_Entitlement!L122","v":0},{"$f":"Salary_Entitlement!M122","v":0},{"$f":"Salary_Entitlement!N122","v":0},{"$f":"Salary_Entitlement!O122","v":0},{"$f":"Salary_Entitlement!P122","v":0},{"$error":"#DIV/0!"},{"$error":"#DIV/0!"},{"$f":"INDEX(Deduction!$A$3:$K$501,MATCH(1,(Deduction!$A$3:$A$501=Sheet8!A121)*(Deduction!$B$3:$B$501=Sheet8!B121)*(Deduction!$C$3:$C$501=Sheet8!D121),0),5)","v":0},{"$f":"INDEX(Deduction!$A$3:$K$501,MATCH(1,(Deduction!$A$3:$A$501=Sheet8!A121)*(Deduction!$B$3:$B$501=Sheet8!B121)*(Deduction!$C$3:$C$501=Sheet8!D121),0),6)","v":0},{"$f":"INDEX(Deduction!$A$3:$K$501,MATCH(1,(Deduction!$A$3:$A$501=Sheet8!A121)*(Deduction!$B$3:$B$501=Sheet8!B121)*(Deduction!$C$3:$C$501=Sheet8!D121),0),7)","v":0},{"$f":"INDEX(Deduction!$A$3:$K$501,MATCH(1,(Deduction!$A$3:$A$501=Sheet8!A121)*(Deduction!$B$3:$B$501=Sheet8!B121)*(Deduction!$C$3:$C$501=Sheet8!D121),0),8)","v":0},{"$f":"INDEX(Deduction!$A$3:$K$501,MATCH(1,(Deduction!$A$3:$A$501=Sheet8!A121)*(Deduction!$B$3:$B$501=Sheet8!B121)*(Deduction!$C$3:$C$501=Sheet8!D121),0),9)","v":0},{"$f":"INDEX(Deduction!$A$3:$K$501,MATCH(1,(Deduction!$A$3:$A$501=Sheet8!A121)*(Deduction!$B$3:$B$501=Sheet8!B121)*(Deduction!$C$3:$C$501=Sheet8!D121),0),10)","v":0},{"$f":"INDEX(Deduction!$A$3:$K$501,MATCH(1,(Deduction!$A$3:$A$501=Sheet8!A121)*(Deduction!$B$3:$B$501=Sheet8!B121)*(Deduction!$C$3:$C$501=Sheet8!D121),0),11)","v":0},{"$error":"#DIV/0!"},{"$f":"VLOOKUP(D121,Emp_Master!$B$3:$H$501,7)","v":{"$error":"#N/A"}}]
[{"$f":"Salary_Entitlement!A123","v":0},{"$f":"Salary_Entitlement!B123","v":0},{"$f":"Salary_Entitlement!C123","v":0},{"$f":"Salary_Entitlement!D123","v":0},{"$f":"Salary_Entitlement!E123","v":{"$error":"#N/A"}},{"$f":"Salary_Entitlement!F123","v":0},{"$f":"Salary_Entitlement!G123","v":0},{"$f":"Salary_Entitlement!H123","v":0},{"$f":"Salary_Entitlement!I123","v":0},{"$f":"Salary_Entitlement!J123","v":0},{"$f":"Salary_Entitlement!K123","v":0},{"$f":"Salary_Entitlement!L123","v":0},{"$f":"Salary_Entitlement!M123","v":0},{"$f":"Salary_Entitlement!N123","v":0},{"$f":"Salary_Entitlement!O123","v":0},{"$f":"Salary_Entitlement!P123","v":0},{"$error":"#DIV/0!"},{"$error":"#DIV/0!"},{"$f":"INDEX(Deduction!$A$3:$K$501,MATCH(1,(Deduction!$A$3:$A$501=Sheet8!A122)*(Deduction!$B$3:$B$501=Sheet8!B122)*(Deduction!$C$3:$C$501=Sheet8!D122),0),5)","v":0},{"$f":"INDEX(Deduction!$A$3:$K$501,MATCH(1,(Deduction!$A$3:$A$501=Sheet8!A122)*(Deduction!$B$3:$B$501=Sheet8!B122)*(Deduction!$C$3:$C$501=Sheet8!D122),0),6)","v":0},{"$f":"INDEX(Deduction!$A$3:$K$501,MATCH(1,(Deduction!$A$3:$A$501=Sheet8!A122)*(Deduction!$B$3:$B$501=Sheet8!B122)*(Deduction!$C$3:$C$501=Sheet8!D122),0),7)","v":0},{"$f":"INDEX(Deduction!$A$3:$K$501,MATCH(1,(Deduction!$A$3:$A$501=Sheet8!A122)*(Deduction!$B$3:$B$501=Sheet8!B122)*(Deduction!$C$3:$C$501=Sheet8!D122),0),8)","v":0},{"$f":"INDEX(Deduction!$A$3:$K$501,MATCH(1,(Deduction!$A$3:$A$501=Sheet8!A122)*(Deduction!$B$3:$B$501=Sheet8!B122)*(Deduction!$C$3:$C$501=Sheet8!D122),0),9)","v":0},{"$f":"INDEX(Deduction!$A$3:$K$501,MATCH(1,(Deduction!$A$3:$A$501=Sheet8!A122)*(Deduction!$B$3:$B$501=Sheet8!B122)*(Deduction!$C$3:$C$501=Sheet8!D122),0),10)","v":0},{"$f":"INDEX(Deduction!$A$3:$K$501,MATCH(1,(Deduction!$A$3:$A$501=Sheet8!A122)*(Deduction!$B$3:$B$501=Sheet8!B122)*(Deduction!$C$3:$C$501=Sheet8!D122),0),11)","v":0},{"$error":"#DIV/0!"},{"$f":"VLOOKUP(D122,Emp_Master!$B$3:$H$501,7)","v":{"$error":"#N/A"}}]
[{"$f":"Salary_Entitlement!A124","v":0},{"$f":"Salary_Entitlement!B124","v":0},{"$f":"Salary_Entitlement!C124","v":0},{"$f":"Salary_Entitlement!D124","v":0},{"$f":"Salary_Entitlement!E124","v":{"$error":"#N/A"}},{"$f":"Salary_Entitlement!F124","v":0},{"$f":"Salary_Entitlement!G124","v":0},{"$f":"Salary_Entitlement!H124","v":0},{"$f":"Salary_Entitlement!I124","v":0},{"$f":"Salary_Entitlement!J124","v":0},{"$f":"Salary_Entitlement!K124","v":0},{"$f":"Salary_Entitlement!L124","v":0},{"$f":"Salary_Entitlement!M124","v":0},{"$f":"Salary_Entitlement!N124","v":0},{"$f":"Salary_Entitlement!O124","v":0},{"$f":"Salary_Entitlement!P124","v":0},{"$error":"#DIV/0!"},{"$error":"#DIV/0!"},{"$f":"INDEX(Deduction!$A$3:$K$501,MATCH(1,(Deduction!$A$3:$A$501=Sheet8!A123)*(Deduction!$B$3:$B$501=Sheet8!B123)*(Deduction!$C$3:$C$501=Sheet8!D123),0),5)","v":0},{"$f":"INDEX(Deduction!$A$3:$K$501,MATCH(1,(Deduction!$A$3:$A$501=Sheet8!A123)*(Deduction!$B$3:$B$501=Sheet8!B123)*(Deduction!$C$3:$C$501=Sheet8!D123),0),6)","v":0},{"$f":"INDEX(Deduction!$A$3:$K$501,MATCH(1,(Deduction!$A$3:$A$501=Sheet8!A123)*(Deduction!$B$3:$B$501=Sheet8!B123)*(Deduction!$C$3:$C$501=Sheet8!D123),0),7)","v":0},{"$f":"INDEX(Deduction!$A$3:$K$501,MATCH(1,(Deduction!$A$3:$A$501=Sheet8!A123)*(Deduction!$B$3:$B$501=Sheet8!B123)*(Deduction!$C$3:$C$501=Sheet8!D123),0),8)","v":0},{"$f":"INDEX(Deduction!$A$3:$K$501,MATCH(1,(Deduction!$A$3:$A$501=Sheet8!A123)*(Deduction!$B$3:$B$501=Sheet8!B123)*(Deduction!$C$3:$C$501=Sheet8!D123),0),9)","v":0},{"$f":"INDEX(Deduction!$A$3:$K$501,MATCH(1,(Deduction!$A$3:$A$501=Sheet8!A123)*(Deduction!$B$3:$B$501=Sheet8!B123)*(Deduction!$C$3:$C$501=Sheet8!D123),0),10)","v":0},{"$f":"INDEX(Deduction!$A$3:$K$501,MATCH(1,(Deduction!$A$3:$A$501=Sheet8!A123)*(Deduction!$B$3:$B$501=Sheet8!B123)*(Deduction!$C$3:$C$501=Sheet8!D123),0),11)","v":0},{"$error":"#DIV/0!"},{"$f":"VLOOKUP(D123,Emp_Master!$B$3:$H$501,7)","v":{"$error":"#N/A"}}]
[{"$f":"Salary_Entitlement!A125","v":0},{"$f":"Salary_Entitlement!B125","v":0},{"$f":"Salary_Entitlement!C125","v":0},{"$f":"Salary_Entitlement!D125","v":0},{"$f":"Salary_Entitlement!E125","v":{"$error":"#N/A"}},{"$f":"Salary_Entitlement!F125","v":0},{"$f":"Salary_Entitlement!G125","v":0},{"$f":"Salary_Entitlement!H125","v":0},{"$f":"Salary_Entitlement!I125","v":0},{"$f":"Salary_Entitlement!J125","v":0},{"$f":"Salary_Entitlement!K125","v":0},{"$f":"Salary_Entitlement!L125","v":0},{"$f":"Salary_Entitlement!M125","v":0},{"$f":"Salary_Entitlement!N125","v":0},{"$f":"Salary_Entitlement!O125","v":0},{"$f":"Salary_Entitlement!P125","v":0},{"$error":"#DIV/0!"},{"$error":"#DIV/0!"},{"$f":"INDEX(Deduction!$A$3:$K$501,MATCH(1,(Deduction!$A$3:$A$501=Sheet8!A124)*(Deduction!$B$3:$B$501=Sheet8!B124)*(Deduction!$C$3:$C$501=Sheet8!D124),0),5)","v":0},{"$f":"INDEX(Deduction!$A$3:$K$501,MATCH(1,(Deduction!$A$3:$A$501=Sheet8!A124)*(Deduction!$B$3:$B$501=Sheet8!B124)*(Deduction!$C$3:$C$501=Sheet8!D124),0),6)","v":0},{"$f":"INDEX(Deduction!$A$3:$K$501,MATCH(1,(Deduction!$A$3:$A$501=Sheet8!A124)*(Deduction!$B$3:$B$501=Sheet8!B124)*(Deduction!$C$3:$C$501=Sheet8!D124),0),7)","v":0},{"$f":"INDEX(Deduction!$A$3:$K$501,MATCH(1,(Deduction!$A$3:$A$501=Sheet8!A124)*(Deduction!$B$3:$B$501=Sheet8!B124)*(Deduction!$C$3:$C$501=Sheet8!D124),0),8)","v":0},{"$f":"INDEX(Deduction!$A$3:$K$501,MATCH(1,(Deduction!$A$3:$A$501=Sheet8!A124)*(Deduction!$B$3:$B$501=Sheet8!B124)*(Deduction!$C$3:$C$501=Sheet8!D124),0),9)","v":0},{"$f":"INDEX(Deduction!$A$3:$K$501,MATCH(1,(Deduction!$A$3:$A$501=Sheet8!A124)*(Deduction!$B$3:$B$501=Sheet8!B124)*(Deduction!$C$3:$C$501=Sheet8!D124),0),10)","v":0},{"$f":"INDEX(Deduction!$A$3:$K$501,MATCH(1,(Deduction!$A$3:$A$501=Sheet8!A124)*(Deduction!$B$3:$B$501=Sheet8!B124)*(Deduction!$C$3:$C$501=Sheet8!D124),0),11)","v":0},{"$error":"#DIV/0!"},{"$f":"VLOOKUP(D124,Emp_Master!$B$3:$H$501,7)","v":{"$error":"#N/A"}}]
[{"$f":"Salary_Entitlement!A126","v":0},{"$f":"Salary_Entitlement!B126","v":0},{"$f":"Salary_Entitlement!C126","v":0},{"$f":"Salary_Entitlement!D126","v":0},{"$f":"Salary_Entitlement!E126","v":{"$error":"#N/A"}},{"$f":"Salary_Entitlement!F126","v":0},{"$f":"Salary_Entitlement!G126","v":0},{"$f":"Salary_Entitlement!H126","v":0},{"$f":"Salary_Entitlement!I126","v":0},{"$f":"Salary_Entitlement!J126","v":0},{"$f":"Salary_Entitlement!K126","v":0},{"$f":"Salary_Entitlement!L126","v":0},{"$f":"Salary_Entitlement!M126","v":0},{"$f":"Salary_Entitlement!N126","v":0},{"$f":"Salary_Entitlement!O126","v":0},{"$f":"Salary_Entitlement!P126","v":0},{"$error":"#DIV/0!"},{"$error":"#DIV/0!"},{"$f":"INDEX(Deduction!$A$3:$K$501,MATCH(1,(Deduction!$A$3:$A$501=Sheet8!A125)*(Deduction!$B$3:$B$501=Sheet8!B125)*(Deduction!$C$3:$C$501=Sheet8!D125),0),5)","v":0},{"$f":"INDEX(Deduction!$A$3:$K$501,MATCH(1,(Deduction!$A$3:$A$501=Sheet8!A125)*(Deduction!$B$3:$B$501=Sheet8!B125)*(Deduction!$C$3:$C$501=Sheet8!D125),0),6)","v":0},{"$f":"INDEX(Deduction!$A$3:$K$501,MATCH(1,(Deduction!$A$3:$A$501=Sheet8!A125)*(Deduction!$B$3:$B$501=Sheet8!B125)*(Deduction!$C$3:$C$501=Sheet8!D125),0),7)","v":0},{"$f":"INDEX(Deduction!$A$3:$K$501,MATCH(1,(Deduction!$A$3:$A$501=Sheet8!A125)*(Deduction!$B$3:$B$501=Sheet8!B125)*(Deduction!$C$3:$C$501=Sheet8!D125),0),8)","v":0},{"$f":"INDEX(Deduction!$A$3:$K$501,MATCH(1,(Deduction!$A$3:$A$501=Sheet8!A125)*(Deduction!$B$3:$B$501=Sheet8!B125)*(Deduction!$C$3:$C$501=Sheet8!D125),0),9)","v":0},{"$f":"INDEX(Deduction!$A$3:$K$501,MATCH(1,(Deduction!$A$3:$A$501=Sheet8!A125)*(Deduction!$B$3:$B$501=Sheet8!B125)*(Deduction!$C$3:$C$501=Sheet8!D125),0),10)","v":0},{"$f":"INDEX(Deduction!$A$3:$K$501,MATCH(1,(Deduction!$A$3:$A$501=Sheet8!A125)*(Deduction!$B$3:$B$501=Sheet8!B125)*(Deduction!$C$3:$C$501=Sheet8!D125),0),11)","v":0},{"$error":"#DIV/0!"},{"$f":"VLOOKUP(D125,Emp_Master!$B$3:$H$501,7)","v":{"$error":"#N/A"}}]
[{"$f":"Salary_Entitlement!A127","v":0},{"$f":"Salary_Entitlement!B127","v":0},{"$f":"Salary_Entitlement!C127","v":0},{"$f":"Salary_Entitlement!D127","v":0},{"$f":"Salary_Entitlement!E127","v":{"$error":"#N/A"}},{"$f":"Salary_Entitlement!F127","v":0},{"$f":"Salary_Entitlement!G127","v":0},{"$f":"Salary_Entitlement!H127","v":0},{"$f":"Salary_Entitlement!I127","v":0},{"$f":"Salary_Entitlement!J127","v":0},{"$f":"Salary_Entitlement!K127","v":0},{"$f":"Salary_Entitlement!L127","v":0},{"$f":"Salary_Entitlement!M127","v":0},{"$f":"Salary_Entitlement!N127","v":0},{"$f":"Salary_Entitlement!O127","v":0},{"$f":"Salary_Entitlement!P127","v":0},{"$error":"#DIV/0!"},{"$error":"#DIV/0!"},{"$f":"INDEX(Deduction!$A$3:$K$501,MATCH(1,(Deduction!$A$3:$A$501=Sheet8!A126)*(Deduction!$B$3:$B$501=Sheet8!B126)*(Deduction!$C$3:$C$501=Sheet8!D126),0),5)","v":0},{"$f":"INDEX(Deduction!$A$3:$K$501,MATCH(1,(Deduction!$A$3:$A$501=Sheet8!A126)*(Deduction!$B$3:$B$501=Sheet8!B126)*(Deduction!$C$3:$C$501=Sheet8!D126),0),6)","v":0},{"$f":"INDEX(Deduction!$A$3:$K$501,MATCH(1,(Deduction!$A$3:$A$501=Sheet8!A126)*(Deduction!$B$3:$B$501=Sheet8!B126)*(Deduction!$C$3:$C$501=Sheet8!D126),0),7)","v":0},{"$f":"INDEX(Deduction!$A$3:$K$501,MATCH(1,(Deduction!$A$3:$A$501=Sheet8!A126)*(Deduction!$B$3:$B$501=Sheet8!B126)*(Deduction!$C$3:$C$501=Sheet8!D126),0),8)","v":0},{"$f":"INDEX(Deduction!$A$3:$K$501,MATCH(1,(Deduction!$A$3:$A$501=Sheet8!A126)*(Deduction!$B$3:$B$501=Sheet8!B126)*(Deduction!$C$3:$C$501=Sheet8!D126),0),9)","v":0},{"$f":"INDEX(Deduction!$A$3:$K$501,MATCH(1,(Deduction!$A$3:$A$501=Sheet8!A126)*(Deduction!$B$3:$B$501=Sheet8!B126)*(Deduction!$C$3:$C$501=Sheet8!D126),0),10)","v":0},{"$f":"INDEX(Deduction!$A$3:$K$501,MATCH(1,(Deduction!$A$3:$A$501=Sheet8!A126)*(Deduction!$B$3:$B$501=Sheet8!B126)*(Deduction!$C$3:$C$501=Sheet8!D126),0),11)","v":0},{"$error":"#DIV/0!"},{"$f":"VLOOKUP(D126,Emp_Master!$B$3:$H$501,7)","v":{"$error":"#N/A"}}]
[{"$f":"Salary_Entitlement!A128","v":0},{"$f":"Salary_Entitlement!B128","v":0},{"$f":"Salary_Entitlement!C128","v":0},{"$f":"Salary_Entitlement!D128","v":0},{"$f":"Salary_Entitlement!E128","v":{"$error":"#N/A"}},{"$f":"Salary_Entitlement!F128","v":0},{"$f":"Salary_Entitlement!G128","v":0},{"$f":"Salary_Entitlement!H128","v":0},{"$f":"Salary_Entitlement!I128","v":0},{"$f":"Salary_Entitlement!J128","v":0},{"$f":"Salary_Entitlement!K128","v":0},{"$f":"Salary_Entitlement!L128","v":0},{"$f":"Salary_Entitlement!M128","v":0},{"$f":"Salary_Entitlement!N128","v":0},{"$f":"Salary_Entitlement!O128","v":0},{"$f":"Salary_Entitlement!P128","v":0},{"$error":"#DIV/0!"},{"$error":"#DIV/0!"},{"$f":"INDEX(Deduction!$A$3:$K$501,MATCH(1,(Deduction!$A$3:$A$501=Sheet8!A127)*(Deduction!$B$3:$B$501=Sheet8!B127)*(Deduction!$C$3:$C$501=Sheet8!D127),0),5)","v":0},{"$f":"INDEX(Deduction!$A$3:$K$501,MATCH(1,(Deduction!$A$3:$A$501=Sheet8!A127)*(Deduction!$B$3:$B$501=Sheet8!B127)*(Deduction!$C$3:$C$501=Sheet8!D127),0),6)","v":0},{"$f":"INDEX(Deduction!$A$3:$K$501,MATCH(1,(Deduction!$A$3:$A$501=Sheet8!A127)*(Deduction!$B$3:$B$501=Sheet8!B127)*(Deduction!$C$3:$C$501=Sheet8!D127),0),7)","v":0},{"$f":"INDEX(Deduction!$A$3:$K$501,MATCH(1,(Deduction!$A$3:$A$501=Sheet8!A127)*(Deduction!$B$3:$B$501=Sheet8!B127)*(Deduction!$C$3:$C$501=Sheet8!D127),0),8)","v":0},{"$f":"INDEX(Deduction!$A$3:$K$501,MATCH(1,(Deduction!$A$3:$A$501=Sheet8!A127)*(Deduction!$B$3:$B$501=Sheet8!B127)*(Deduction!$C$3:$C$501=Sheet8!D127),0),9)","v":0},{"$f":"INDEX(Deduction!$A$3:$K$501,MATCH(1,(Deduction!$A$3:$A$501=Sheet8!A127)*(Deduction!$B$3:$B$501=Sheet8!B127)*(Deduction!$C$3:$C$501=Sheet8!D127),0),10)","v":0},{"$f":"INDEX(Deduction!$A$3:$K$501,MATCH(1,(Deduction!$A$3:$A$501=Sheet8!A127)*(Deduction!$B$3:$B$501=Sheet8!B127)*(Deduction!$C$3:$C$501=Sheet8!D127),0),11)","v":0},{"$error":"#DIV/0!"},{"$f":"VLOOKUP(D127,Emp_Master!$B$3:$H$501,7)","v":{"$error":"#N/A"}}]
[{"$f":"Salary_Entitlement!A129","v":0},{"$f":"Salary_Entitlement!B129","v":0},{"$f":"Salary_Entitlement!C129","v":0},{"$f":"Salary_Entitlement!D129","v":0},{"$f":"Salary_Entitlement!E129","v":{"$error":"#N/A"}},{"$f":"Salary_Entitlement!F129","v":0},{"$f":"Salary_Entitlement!G129","v":0},{"$f":"Salary_Entitlement!H129","v":0},{"$f":"Salary_Entitlement!I129","v":0},{"$f":"Salary_Entitlement!J129","v":0},{"$f":"Salary_Entitlement!K129","v":0},{"$f":"Salary_Entitlement!L129","v":0},{"$f":"Salary_Entitlement!M129","v":0},{"$f":"Salary_Entitlement!N129","v":0},{"$f":"Salary_Entitlement!O129","v":0},{"$f":"Salary_Entitlement!P129","v":0},{"$error":"#DIV/0!"},{"$error":"#DIV/0!"},{"$f":"INDEX(Deduction!$A$3:$K$501,MATCH(1,(Deduction!$A$3:$A$501=Sheet8!A128)*(Deduction!$B$3:$B$501=Sheet8!B128)*(Deduction!$C$3:$C$501=Sheet8!D128),0),5)","v":0},{"$f":"INDEX(Deduction!$A$3:$K$501,MATCH(1,(Deduction!$A$3:$A$501=Sheet8!A128)*(Deduction!$B$3:$B$501=Sheet8!B128)*(Deduction!$C$3:$C$501=Sheet8!D128),0),6)","v":0},{"$f":"INDEX(Deduction!$A$3:$K$501,MATCH(1,(Deduction!$A$3:$A$501=Sheet8!A128)*(Deduction!$B$3:$B$501=Sheet8!B128)*(Deduction!$C$3:$C$501=Sheet8!D128),0),7)","v":0},{"$f":"INDEX(Deduction!$A$3:$K$501,MATCH(1,(Deduction!$A$3:$A$501=Sheet8!A128)*(Deduction!$B$3:$B$501=Sheet8!B128)*(Deduction!$C$3:$C$501=Sheet8!D128),0),8)","v":0},{"$f":"INDEX(Deduction!$A$3:$K$501,MATCH(1,(Deduction!$A$3:$A$501=Sheet8!A128)*(Deduction!$B$3:$B$501=Sheet8!B128)*(Deduction!$C$3:$C$501=Sheet8!D128),0),9)","v":0},{"$f":"INDEX(Deduction!$A$3:$K$501,MATCH(1,(Deduction!$A$3:$A$501=Sheet8!A128)*(Deduction!$B$3:$B$501=Sheet8!B128)*(Deduction!$C$3:$C$501=Sheet8!D128),0),10)","v":0},{"$f":"INDEX(Deduction!$A$3:$K$501,MATCH(1,(Deduction!$A$3:$A$501=Sheet8!A128)*(Deduction!$B$3:$B$501=Sheet8!B128)*(Deduction!$C$3:$C$501=Sheet8!D128),0),11)","v":0},{"$error":"#DIV/0!"},{"$f":"VLOOKUP(D128,Emp_Master!$B$3:$H$501,7)","v":{"$error":"#N/A"}}]
[{"$f":"Salary_Entitlement!A130","v":0},{"$f":"Salary_Entitlement!B130","v":0},{"$f":"Salary_Entitlement!C130","v":0},{"$f":"Salary_Entitlement!D130","v":0},{"$f":"Salary_Entitlement!E130","v":{"$error":"#N/A"}},{"$f":"Salary_Entitlement!F130","v":0},{"$f":"Salary_Entitlement!G130","v":0},{"$f":"Salary_Entitlement!H130","v":0},{"$f":"Salary_Entitlement!I130","v":0},{"$f":"Salary_Entitlement!J130","v":0},{"$f":"Salary_Entitlement!K130","v":0},{"$f":"Salary_Entitlement!L130","v":0},{"$f":"Salary_Entitlement!M130","v":0},{"$f":"Salary_Entitlement!N130","v":0},{"$f":"Salary_Entitlement!O130","v":0},{"$f":"Salary_Entitlement!P130","v":0},{"$error":"#DIV/0!"},{"$error":"#DIV/0!"},{"$f":"INDEX(Deduction!$A$3:$K$501,MATCH(1,(Deduction!$A$3:$A$501=Sheet8!A129)*(Deduction!$B$3:$B$501=Sheet8!B129)*(Deduction!$C$3:$C$501=Sheet8!D129),0),5)","v":0},{"$f":"INDEX(Deduction!$A$3:$K$501,MATCH(1,(Deduction!$A$3:$A$501=Sheet8!A129)*(Deduction!$B$3:$B$501=Sheet8!B129)*(Deduction!$C$3:$C$501=Sheet8!D129),0),6)","v":0},{"$f":"INDEX(Deduction!$A$3:$K$501,MATCH(1,(Deduction!$A$3:$A$501=Sheet8!A129)*(Deduction!$B$3:$B$501=Sheet8!B129)*(Deduction!$C$3:$C$501=Sheet8!D129),0),7)","v":0},{"$f":"INDEX(Deduction!$A$3:$K$501,MATCH(1,(Deduction!$A$3:$A$501=Sheet8!A129)*(Deduction!$B$3:$B$501=Sheet8!B129)*(Deduction!$C$3:$C$501=Sheet8!D129),0),8)","v":0},{"$f":"INDEX(Deduction!$A$3:$K$501,MATCH(1,(Deduction!$A$3:$A$501=Sheet8!A129)*(Deduction!$B$3:$B$501=Sheet8!B129)*(Deduction!$C$3:$C$501=Sheet8!D129),0),9)","v":0},{"$f":"INDEX(Deduction!$A$3:$K$501,MATCH(1,(Deduction!$A$3:$A$501=Sheet8!A129)*(Deduction!$B$3:$B$501=Sheet8!B129)*(Deduction!$C$3:$C$501=Sheet8!D129),0),10)","v":0},{"$f":"INDEX(Deduction!$A$3:$K$501,MATCH(1,(Deduction!$A$3:$A$501=Sheet8!A129)*(Deduction!$B$3:$B$501=Sheet8!B129)*(Deduction!$C$3:$C$501=Sheet8!D129),0),11)","v":0},{"$error":"#DIV/0!"},{"$f":"VLOOKUP(D129,Emp_Master!$B$3:$H$501,7)","v":{"$error":"#N/A"}}]
[{"$f":"Salary_Entitlement!A131","v":0},{"$f":"Salary_Entitlement!B131","v":0},{"$f":"Salary_Entitlement!C131","v":0},{"$f":"Salary_Entitlement!D131","v":0},{"$f":"Salary_Entitlement!E131","v":{"$error":"#N/A"}},{"$f":"Salary_Entitlement!F131","v":0},{"$f":"Salary_Entitlement!G131","v":0},{"$f":"Salary_Entitlement!H131","v":0},{"$f":"Salary_Entitlement!I131","v":0},{"$f":"Salary_Entitlement!J131","v":0},{"$f":"Salary_Entitlement!K131","v":0},{"$f":"Salary_Entitlement!L131","v":0},{"$f":"Salary_Entitlement!M131","v":0},{"$f":"Salary_Entitlement!N131","v":0},{"$f":"Salary_Entitlement!O131","v":0},{"$f":"Salary_Entitlement!P131","v":0},{"$error":"#DIV/0!"},{"$error":"#DIV/0!"},{"$f":"INDEX(Deduction!$A$3:$K$501,MATCH(1,(Deduction!$A$3:$A$501=Sheet8!A130)*(Deduction!$B$3:$B$501=Sheet8!B130)*(Deduction!$C$3:$C$501=Sheet8!D130),0),5)","v":0},{"$f":"INDEX(Deduction!$A$3:$K$501,MATCH(1,(Deduction!$A$3:$A$501=Sheet8!A130)*(Deduction!$B$3:$B$501=Sheet8!B130)*(Deduction!$C$3:$C$501=Sheet8!D130),0),6)","v":0},{"$f":"INDEX(Deduction!$A$3:$K$501,MATCH(1,(Deduction!$A$3:$A$501=Sheet8!A130)*(Deduction!$B$3:$B$501=Sheet8!B130)*(Deduction!$C$3:$C$501=Sheet8!D130),0),7)","v":0},{"$f":"INDEX(Deduction!$A$3:$K$501,MATCH(1,(Deduction!$A$3:$A$501=Sheet8!A130)*(Deduction!$B$3:$B$501=Sheet8!B130)*(Deduction!$C$3:$C$501=Sheet8!D130),0),8)","v":0},{"$f":"INDEX(Deduction!$A$3:$K$501,MATCH(1,(Deduction!$A$3:$A$501=Sheet8!A130)*(Deduction!$B$3:$B$501=Sheet8!B130)*(Deduction!$C$3:$C$501=Sheet8!D130),0),9)","v":0},{"$f":"INDEX(Deduction!$A$3:$K$501,MATCH(1,(Deduction!$A$3:$A$501=Sheet8!A130)*(Deduction!$B$3:$B$501=Sheet8!B130)*(Deduction!$C$3:$C$501=Sheet8!D130),0),10)","v":0},{"$f":"INDEX(Deduction!$A$3:$K$501,MATCH(1,(Deduction!$A$3:$A$501=Sheet8!A130)*(Deduction!$B$3:$B$501=Sheet8!B130)*(Deduction!$C$3:$C$501=Sheet8!D130),0),11)","v":0},{"$error":"#DIV/0!"},{"$f":"VLOOKUP(D130,Emp_Master!$B$3:$H$501,7)","v":{"$error":"#N/A"}}]
[{"$f":"Salary_Entitlement!A132","v":0},{"$f":"Salary_Entitlement!B132","v":0},{"$f":"Salary_Entitlement!C132","v":0},{"$f":"Salary_Entitlement!D132","v":0},{"$f":"Salary_Entitlement!E132","v":{"$error":"#N/A"}},{"$f":"Salary_Entitlement!F132","v":0},{"$f":"Salary_Entitlement!G132","v":0},{"$f":"Salary_Entitlement!H132","v":0},{"$f":"Salary_Entitlement!I132","v":0},{"$f":"Salary_Entitlement!J132","v":0},{"$f":"Salary_Entitlement!K132","v":0},{"$f":"Salary_Entitlement!L132","v":0},{"$f":"Salary_Entitlement!M132","v":0},{"$f":"Salary_Entitlement!N132","v":0},{"$f":"Salary_Entitlement!O132","v":0},{"$f":"Salary_Entitlement!P132","v":0},{"$error":"#DIV/0!"},{"$error":"#DIV/0!"},{"$f":"INDEX(Deduction!$A$3:$K$501,MATCH(1,(Deduction!$A$3:$A$501=Sheet8!A131)*(Deduction!$B$3:$B$501=Sheet8!B131)*(Deduction!$C$3:$C$501=Sheet8!D131),0),5)","v":0},{"$f":"INDEX(Deduction!$A$3:$K$501,MATCH(1,(Deduction!$A$3:$A$501=Sheet8!A131)*(Deduction!$B$3:$B$501=Sheet8!B131)*(Deduction!$C$3:$C$501=Sheet8!D131),0),6)","v":0},{"$f":"INDEX(Deduction!$A$3:$K$501,MATCH(1,(Deduction!$A$3:$A$501=Sheet8!A131)*(Deduction!$B$3:$B$501=Sheet8!B131)*(Deduction!$C$3:$C$501=Sheet8!D131),0),7)","v":0},{"$f":"INDEX(Deduction!$A$3:$K$501,MATCH(1,(Deduction!$A$3:$A$501=Sheet8!A131)*(Deduction!$B$3:$B$501=Sheet8!B131)*(Deduction!$C$3:$C$501=Sheet8!D131),0),8)","v":0},{"$f":"INDEX(Deduction!$A$3:$K$501,MATCH(1,(Deduction!$A$3:$A$501=Sheet8!A131)*(Deduction!$B$3:$B$501=Sheet8!B131)*(Deduction!$C$3:$C$501=Sheet8!D131),0),9)","v":0},{"$f":"INDEX(Deduction!$A$3:$K$501,MATCH(1,(Deduction!$A$3:$A$501=Sheet8!A131)*(Deduction!$B$3:$B$501=Sheet8!B131)*(Deduction!$C$3:$C$501=Sheet8!D131),0),10)","v":0},{"$f":"INDEX(Deduction!$A$3:$K$501,MATCH(1,(Deduction!$A$3:$A$501=Sheet8!A131)*(Deduction!$B$3:$B$501=Sheet8!B131)*(Deduction!$C$3:$C$501=Sheet8!D131),0),11)","v":0},{"$error":"#DIV/0!"},{"$f":"VLOOKUP(D131,Emp_Master!$B$3:$H$501,7)","v":{"$error":"#N/A"}}]
[{"$f":"Salary_Entitlement!A133","v":0},{"$f":"Salary_Entitlement!B133","v":0},{"$f":"Salary_Entitlement!C133","v":0},{"$f":"Salary_Entitlement!D133","v":0},{"$f":"Salary_Entitlement!E133","v":{"$error":"#N/A"}},{"$f":"Salary_Entitlement!F133","v":0},{"$f":"Salary_Entitlement!G133","v":0},{"$f":"Salary_Entitlement!H133","v":0},{"$f":"Salary_Entitlement!I133","v":0},{"$f":"Salary_Entitlement!J133","v":0},{"$f":"Salary_Entitlement!K133","v":0},{"$f":"Salary_Entitlement!L133","v":0},{"$f":"Salary_Entitlement!M133","v":0},{"$f":"Salary_Entitlement!N133","v":0},{"$f":"Salary_Entitlement!O133","v":0},{"$f":"Salary_Entitlement!P133","v":0},{"$error":"#DIV/0!"},{"$error":"#DIV/0!"},{"$f":"INDEX(Deduction!$A$3:$K$501,MATCH(1,(Deduction!$A$3:$A$501=Sheet8!A132)*(Deduction!$B$3:$B$501=Sheet8!B132)*(Deduction!$C$3:$C$501=Sheet8!D132),0),5)","v":0},{"$f":"INDEX(Deduction!$A$3:$K$501,MATCH(1,(Deduction!$A$3:$A$501=Sheet8!A132)*(Deduction!$B$3:$B$501=Sheet8!B132)*(Deduction!$C$3:$C$501=Sheet8!D132),0),6)","v":0},{"$f":"INDEX(Deduction!$A$3:$K$501,MATCH(1,(Deduction!$A$3:$A$501=Sheet8!A132)*(Deduction!$B$3:$B$501=Sheet8!B132)*(Deduction!$C$3:$C$501=Sheet8!D132),0),7)","v":0},{"$f":"INDEX(Deduction!$A$3:$K$501,MATCH(1,(Deduction!$A$3:$A$501=Sheet8!A132)*(Deduction!$B$3:$B$501=Sheet8!B132)*(Deduction!$C$3:$C$501=Sheet8!D132),0),8)","v":0},{"$f":"INDEX(Deduction!$A$3:$K$501,MATCH(1,(Deduction!$A$3:$A$501=Sheet8!A132)*(Deduction!$B$3:$B$501=Sheet8!B132)*(Deduction!$C$3:$C$501=Sheet8!D132),0),9)","v":0},{"$f":"INDEX(Deduction!$A$3:$K$501,MATCH(1,(Deduction!$A$3:$A$501=Sheet8!A132)*(Deduction!$B$3:$B$501=Sheet8!B132)*(Deduction!$C$3:$C$501=Sheet8!D132),0),10)","v":0},{"$f":"INDEX(Deduction!$A$3:$K$501,MATCH(1,(Deduction!$A$3:$A$501=Sheet8!A132)*(Deduction!$B$3:$B$501=Sheet8!B132)*(Deduction!$C$3:$C$501=Sheet8!D132),0),11)","v":0},{"$f":"+R132-SUM(S132:Y132)","v":{"$error":"#DIV/0!"}},{"$f":"VLOOKUP(D132,Emp_Master!$B$3:$H$501,7)","v":{"$error":"#N/A"}}]
[{"$f":"Salary_Entitlement!A134","v":0},{"$f":"Salary_Entitlement!B134","v":0},{"$f":"Salary_Entitlement!C134","v":0},{"$f":"Salary_Entitlement!D134","v":0},{"$f":"Salary_Entitlement!E134","v":{"$error":"#N/A"}},{"$f":"Salary_Entitlement!F134","v":0},{"$f":"Salary_Entitlement!G134","v":0},{"$f":"Salary_Entitlement!H134","v":0},{"$f":"Salary_Entitlement!I134","v":0},{"$f":"Salary_Entitlement!J134","v":0},{"$f":"Salary_Entitlement!K134","v":0},{"$f":"Salary_Entitlement!L134","v":0},{"$f":"Salary_Entitlement!M134","v":0},{"$f":"Salary_Entitlement!N134","v":0},{"$f":"Salary_Entitlement!O134","v":0},{"$f":"Salary_Entitlement!P134","v":0},{"$error":"#DIV/0!"},{"$error":"#DIV/0!"},{"$f":"INDEX(Deduction!$A$3:$K$501,MATCH(1,(Deduction!$A$3:$A$501=Sheet8!A133)*(Deduction!$B$3:$B$501=Sheet8!B133)*(Deduction!$C$3:$C$501=Sheet8!D133),0),5)","v":0},{"$f":"INDEX(Deduction!$A$3:$K$501,MATCH(1,(Deduction!$A$3:$A$501=Sheet8!A133)*(Deduction!$B$3:$B$501=Sheet8!B133)*(Deduction!$C$3:$C$501=Sheet8!D133),0),6)","v":0},{"$f":"INDEX(Deduction!$A$3:$K$501,MATCH(1,(Deduction!$A$3:$A$501=Sheet8!A133)*(Deduction!$B$3:$B$501=Sheet8!B133)*(Deduction!$C$3:$C$501=Sheet8!D133),0),7)","v":0},{"$f":"INDEX(Deduction!$A$3:$K$501,MATCH(1,(Deduction!$A$3:$A$501=Sheet8!A133)*(Deduction!$B$3:$B$501=Sheet8!B133)*(Deduction!$C$3:$C$501=Sheet8!D133),0),8)","v":0},{"$f":"INDEX(Deduction!$A$3:$K$501,MATCH(1,(Deduction!$A$3:$A$501=Sheet8!A133)*(Deduction!$B$3:$B$501=Sheet8!B133)*(Deduction!$C$3:$C$501=Sheet8!D133),0),9)","v":0},{"$f":"INDEX(Deduction!$A$3:$K$501,MATCH(1,(Deduction!$A$3:$A$501=Sheet8!A133)*(Deduction!$B$3:$B$501=Sheet8!B133)*(Deduction!$C$3:$C$501=Sheet8!D133),0),10)","v":0},{"$f":"INDEX(Deduction!$A$3:$K$501,MATCH(1,(Deduction!$A$3:$A$501=Sheet8!A133)*(Deduction!$B$3:$B$501=Sheet8!B133)*(Deduction!$C$3:$C$501=Sheet8!D133),0),11)","v":0},{"$error":"#DIV/0!"},{"$f":"VLOOKUP(D133,Emp_Master!$B$3:$H$501,7)","v":{"$error":"#N/A"}}]
[{"$f":"Salary_Entitlement!A135","v":0},{"$f":"Salary_Entitlement!B135","v":0},{"$f":"Salary_Entitlement!C135","v":0},{"$f":"Salary_Entitlement!D135","v":0},{"$f":"Salary_Entitlement!E135","v":{"$error":"#N/A"}},{"$f":"Salary_Entitlement!F135","v":0},{"$f":"Salary_Entitlement!G135","v":0},{"$f":"Salary_Entitlement!H135","v":0},{"$f":"Salary_Entitlement!I135","v":0},{"$f":"Salary_Entitlement!J135","v":0},{"$f":"Salary_Entitlement!K135","v":0},{"$f":"Salary_Entitlement!L135","v":0},{"$f":"Salary_Entitlement!M135","v":0},{"$f":"Salary_Entitlement!N135","v":0},{"$f":"Salary_Entitlement!O135","v":0},{"$f":"Salary_Entitlement!P135","v":0},{"$error":"#DIV/0!"},{"$error":"#DIV/0!"},{"$f":"INDEX(Deduction!$A$3:$K$501,MATCH(1,(Deduction!$A$3:$A$501=Sheet8!A134)*(Deduction!$B$3:$B$501=Sheet8!B134)*(Deduction!$C$3:$C$501=Sheet8!D134),0),5)","v":0},{"$f":"INDEX(Deduction!$A$3:$K$501,MATCH(1,(Deduction!$A$3:$A$501=Sheet8!A134)*(Deduction!$B$3:$B$501=Sheet8!B134)*(Deduction!$C$3:$C$501=Sheet8!D134),0),6)","v":0},{"$f":"INDEX(Deduction!$A$3:$K$501,MATCH(1,(Deduction!$A$3:$A$501=Sheet8!A134)*(Deduction!$B$3:$B$501=Sheet8!B134)*(Deduction!$C$3:$C$501=Sheet8!D134),0),7)","v":0},{"$f":"INDEX(Deduction!$A$3:$K$501,MATCH(1,(Deduction!$A$3:$A$501=Sheet8!A134)*(Deduction!$B$3:$B$501=Sheet8!B134)*(Deduction!$C$3:$C$501=Sheet8!D134),0),8)","v":0},{"$f":"INDEX(Deduction!$A$3:$K$501,MATCH(1,(Deduction!$A$3:$A$501=Sheet8!A134)*(Deduction!$B$3:$B$501=Sheet8!B134)*(Deduction!$C$3:$C$501=Sheet8!D134),0),9)","v":0},{"$f":"INDEX(Deduction!$A$3:$K$501,MATCH(1,(Deduction!$A$3:$A$501=Sheet8!A134)*(Deduction!$B$3:$B$501=Sheet8!B134)*(Deduction!$C$3:$C$501=Sheet8!D134),0),10)","v":0},{"$f":"INDEX(Deduction!$A$3:$K$501,MATCH(1,(Deduction!$A$3:$A$501=Sheet8!A134)*(Deduction!$B$3:$B$501=Sheet8!B134)*(Deduction!$C$3:$C$501=Sheet8!D134),0),11)","v":0},{"$error":"#DIV/0!"},{"$f":"VLOOKUP(D134,Emp_Master!$B$3:$H$501,7)","v":{"$error":"#N/A"}}]
[{"$f":"Salary_Entitlement!A136","v":0},{"$f":"Salary_Entitlement!B136","v":0},{"$f":"Salary_Entitlement!C136","v":0},{"$f":"Salary_Entitlement!D136","v":0},{"$f":"Salary_Entitlement!E136","v":{"$error":"#N/A"}},{"$f":"Salary_Entitlement!F136","v":0},{"$f":"Salary_Entitlement!G136","v":0},{"$f":"Salary_Entitlement!H136","v":0},{"$f":"Salary_Entitlement!I136","v":0},{"$f":"Salary_Entitlement!J136","v":0},{"$f":"Salary_Entitlement!K136","v":0},{"$f":"Salary_Entitlement!L136","v":0},{"$f":"Salary_Entitlement!M136","v":0},{"$f":"Salary_Entitlement!N136","v":0},{"$f":"Salary_Entitlement!O136","v":0},{"$f":"Salary_Entitlement!P136","v":0},{"$error":"#DIV/0!"},{"$error":"#DIV/0!"},{"$f":"INDEX(Deduction!$A$3:$K$501,MATCH(1,(Deduction!$A$3:$A$501=Sheet8!A135)*(Deduction!$B$3:$B$501=Sheet8!B135)*(Deduction!$C$3:$C$501=Sheet8!D135),0),5)","v":0},{"$f":"INDEX(Deduction!$A$3:$K$501,MATCH(1,(Deduction!$A$3:$A$501=Sheet8!A135)*(Deduction!$B$3:$B$501=Sheet8!B135)*(Deduction!$C$3:$C$501=Sheet8!D135),0),6)","v":0},{"$f":"INDEX(Deduction!$A$3:$K$501,MATCH(1,(Deduction!$A$3:$A$501=Sheet8!A135)*(Deduction!$B$3:$B$501=Sheet8!B135)*(Deduction!$C$3:$C$501=Sheet8!D135),0),7)","v":0},{"$f":"INDEX(Deduction!$A$3:$K$501,MATCH(1,(Deduction!$A$3:$A$501=Sheet8!A135)*(Deduction!$B$3:$B$501=Sheet8!B135)*(Deduction!$C$3:$C$501=Sheet8!D135),0),8)","v":0},{"$f":"INDEX(Deduction!$A$3:$K$501,MATCH(1,(Deduction!$A$3:$A$501=Sheet8!A135)*(Deduction!$B$3:$B$501=Sheet8!B135)*(Deduction!$C$3:$C$501=Sheet8!D135),0),9)","v":0},{"$f":"INDEX(Deduction!$A$3:$K$501,MATCH(1,(Deduction!$A$3:$A$501=Sheet8!A135)*(Deduction!$B$3:$B$501=Sheet8!B135)*(Deduction!$C$3:$C$501=Sheet8!D135),0),10)","v":0},{"$f":"INDEX(Deduction!$A$3:$K$501,MATCH(1,(Deduction!$A$3:$A$501=Sheet8!A135)*(Deduction!$B$3:$B$501=Sheet8!B135)*(Deduction!$C$3:$C$501=Sheet8!D135),0),11)","v":0},{"$error":"#DIV/0!"},{"$f":"VLOOKUP(D135,Emp_Master!$B$3:$H$501,7)","v":{"$error":"#N/A"}}]
[{"$f":"Salary_Entitlement!A137","v":0},{"$f":"Salary_Entitlement!B137","v":0},{"$f":"Salary_Entitlement!C137","v":0},{"$f":"Salary_Entitlement!D137","v":0},{"$f":"Salary_Entitlement!E137","v":{"$error":"#N/A"}},{"$f":"Salary_Entitlement!F137","v":0},{"$f":"Salary_Entitlement!G137","v":0},{"$f":"Salary_Entitlement!H137","v":0},{"$f":"Salary_Entitlement!I137","v":0},{"$f":"Salary_Entitlement!J137","v":0},{"$f":"Salary_Entitlement!K137","v":0},{"$f":"Salary_Entitlement!L137","v":0},{"$f":"Salary_Entitlement!M137","v":0},{"$f":"Salary_Entitlement!N137","v":0},{"$f":"Salary_Entitlement!O137","v":0},{"$f":"Salary_Entitlement!P137","v":0},{"$error":"#DIV/0!"},{"$error":"#DIV/0!"},{"$f":"INDEX(Deduction!$A$3:$K$501,MATCH(1,(Deduction!$A$3:$A$501=Sheet8!A136)*(Deduction!$B$3:$B$501=Sheet8!B136)*(Deduction!$C$3:$C$501=Sheet8!D136),0),5)","v":0},{"$f":"INDEX(Deduction!$A$3:$K$501,MATCH(1,(Deduction!$A$3:$A$501=Sheet8!A136)*(Deduction!$B$3:$B$501=Sheet8!B136)*(Deduction!$C$3:$C$501=Sheet8!D136),0),6)","v":0},{"$f":"INDEX(Deduction!$A$3:$K$501,MATCH(1,(Deduction!$A$3:$A$501=Sheet8!A136)*(Deduction!$B$3:$B$501=Sheet8!B136)*(Deduction!$C$3:$C$501=Sheet8!D136),0),7)","v":0},{"$f":"INDEX(Deduction!$A$3:$K$501,MATCH(1,(Deduction!$A$3:$A$501=Sheet8!A136)*(Deduction!$B$3:$B$501=Sheet8!B136)*(Deduction!$C$3:$C$501=Sheet8!D136),0),8)","v":0},{"$f":"INDEX(Deduction!$A$3:$K$501,MATCH(1,(Deduction!$A$3:$A$501=Sheet8!A136)*(Deduction!$B$3:$B$501=Sheet8!B136)*(Deduction!$C$3:$C$501=Sheet8!D136),0),9)","v":0},{"$f":"INDEX(Deduction!$A$3:$K$501,MATCH(1,(Deduction!$A$3:$A$501=Sheet8!A136)*(Deduction!$B$3:$B$501=Sheet8!B136)*(Deduction!$C$3:$C$501=Sheet8!D136),0),10)","v":0},{"$f":"INDEX(Deduction!$A$3:$K$501,MATCH(1,(Deduction!$A$3:$A$501=Sheet8!A136)*(Deduction!$B$3:$B$501=Sheet8!B136)*(Deduction!$C$3:$C$501=Sheet8!D136),0),11)","v":0},{"$error":"#DIV/0!"},{"$f":"VLOOKUP(D136,Emp_Master!$B$3:$H$501,7)","v":{"$error":"#N/A"}}]
[{"$f":"Salary_Entitlement!A138","v":0},{"$f":"Salary_Entitlement!B138","v":0},{"$f":"Salary_Entitlement!C138","v":0},{"$f":"Salary_Entitlement!D138","v":0},{"$f":"Salary_Entitlement!E138","v":{"$error":"#N/A"}},{"$f":"Salary_Entitlement!F138","v":0},{"$f":"Salary_Entitlement!G138","v":0},{"$f":"Salary_Entitlement!H138","v":0},{"$f":"Salary_Entitlement!I138","v":0},{"$f":"Salary_Entitlement!J138","v":0},{"$f":"Salary_Entitlement!K138","v":0},{"$f":"Salary_Entitlement!L138","v":0},{"$f":"Salary_Entitlement!M138","v":0},{"$f":"Salary_Entitlement!N138","v":0},{"$f":"Salary_Entitlement!O138","v":0},{"$f":"Salary_Entitlement!P138","v":0},{"$error":"#DIV/0!"},{"$error":"#DIV/0!"},{"$f":"INDEX(Deduction!$A$3:$K$501,MATCH(1,(Deduction!$A$3:$A$501=Sheet8!A137)*(Deduction!$B$3:$B$501=Sheet8!B137)*(Deduction!$C$3:$C$501=Sheet8!D137),0),5)","v":0},{"$f":"INDEX(Deduction!$A$3:$K$501,MATCH(1,(Deduction!$A$3:$A$501=Sheet8!A137)*(Deduction!$B$3:$B$501=Sheet8!B137)*(Deduction!$C$3:$C$501=Sheet8!D137),0),6)","v":0},{"$f":"INDEX(Deduction!$A$3:$K$501,MATCH(1,(Deduction!$A$3:$A$501=Sheet8!A137)*(Deduction!$B$3:$B$501=Sheet8!B137)*(Deduction!$C$3:$C$501=Sheet8!D137),0),7)","v":0},{"$f":"INDEX(Deduction!$A$3:$K$501,MATCH(1,(Deduction!$A$3:$A$501=Sheet8!A137)*(Deduction!$B$3:$B$501=Sheet8!B137)*(Deduction!$C$3:$C$501=Sheet8!D137),0),8)","v":0},{"$f":"INDEX(Deduction!$A$3:$K$501,MATCH(1,(Deduction!$A$3:$A$501=Sheet8!A137)*(Deduction!$B$3:$B$501=Sheet8!B137)*(Deduction!$C$3:$C$501=Sheet8!D137),0),9)","v":0},{"$f":"INDEX(Deduction!$A$3:$K$501,MATCH(1,(Deduction!$A$3:$A$501=Sheet8!A137)*(Deduction!$B$3:$B$501=Sheet8!B137)*(Deduction!$C$3:$C$501=Sheet8!D137),0),10)","v":0},{"$f":"INDEX(Deduction!$A$3:$K$501,MATCH(1,(Deduction!$A$3:$A$501=Sheet8!A137)*(Deduction!$B$3:$B$501=Sheet8!B137)*(Deduction!$C$3:$C$501=Sheet8!D137),0),11)","v":0},{"$error":"#DIV/0!"},{"$f":"VLOOKUP(D137,Emp_Master!$B$3:$H$501,7)","v":{"$error":"#N/A"}}]
[{"$f":"Salary_Entitlement!A139","v":0},{"$f":"Salary_Entitlement!B139","v":0},{"$f":"Salary_Entitlement!C139","v":0},{"$f":"Salary_Entitlement!D139","v":0},{"$f":"Salary_Entitlement!E139","v":{"$error":"#N/A"}},{"$f":"Salary_Entitlement!F139","v":0},{"$f":"Salary_Entitlement!G139","v":0},{"$f":"Salary_Entitlement!H139","v":0},{"$f":"Salary_Entitlement!I139","v":0},{"$f":"Salary_Entitlement!J139","v":0},{"$f":"Salary_Entitlement!K139","v":0},{"$f":"Salary_Entitlement!L139","v":0},{"$f":"Salary_Entitlement!M139","v":0},{"$f":"Salary_Entitlement!N139","v":0},{"$f":"Salary_Entitlement!O139","v":0},{"$f":"Salary_Entitlement!P139","v":0},{"$error":"#DIV/0!"},{"$error":"#DIV/0!"},{"$f":"INDEX(Deduction!$A$3:$K$501,MATCH(1,(Deduction!$A$3:$A$501=Sheet8!A138)*(Deduction!$B$3:$B$501=Sheet8!B138)*(Deduction!$C$3:$C$501=Sheet8!D138),0),5)","v":0},{"$f":"INDEX(Deduction!$A$3:$K$501,MATCH(1,(Deduction!$A$3:$A$501=Sheet8!A138)*(Deduction!$B$3:$B$501=Sheet8!B138)*(Deduction!$C$3:$C$501=Sheet8!D138),0),6)","v":0},{"$f":"INDEX(Deduction!$A$3:$K$501,MATCH(1,(Deduction!$A$3:$A$501=Sheet8!A138)*(Deduction!$B$3:$B$501=Sheet8!B138)*(Deduction!$C$3:$C$501=Sheet8!D138),0),7)","v":0},{"$f":"INDEX(Deduction!$A$3:$K$501,MATCH(1,(Deduction!$A$3:$A$501=Sheet8!A138)*(Deduction!$B$3:$B$501=Sheet8!B138)*(Deduction!$C$3:$C$501=Sheet8!D138),0),8)","v":0},{"$f":"INDEX(Deduction!$A$3:$K$501,MATCH(1,(Deduction!$A$3:$A$501=Sheet8!A138)*(Deduction!$B$3:$B$501=Sheet8!B138)*(Deduction!$C$3:$C$501=Sheet8!D138),0),9)","v":0},{"$f":"INDEX(Deduction!$A$3:$K$501,MATCH(1,(Deduction!$A$3:$A$501=Sheet8!A138)*(Deduction!$B$3:$B$501=Sheet8!B138)*(Deduction!$C$3:$C$501=Sheet8!D138),0),10)","v":0},{"$f":"INDEX(Deduction!$A$3:$K$501,MATCH(1,(Deduction!$A$3:$A$501=Sheet8!A138)*(Deduction!$B$3:$B$501=Sheet8!B138)*(Deduction!$C$3:$C$501=Sheet8!D138),0),11)","v":0},{"$error":"#DIV/0!"},{"$f":"VLOOKUP(D138,Emp_Master!$B$3:$H$501,7)","v":{"$error":"#N/A"}}]
[{"$f":"Salary_Entitlement!A140","v":0},{"$f":"Salary_Entitlement!B140","v":0},{"$f":"Salary_Entitlement!C140","v":0},{"$f":"Salary_Entitlement!D140","v":0},{"$f":"Salary_Entitlement!E140","v":{"$error":"#N/A"}},{"$f":"Salary_Entitlement!F140","v":0},{"$f":"Salary_Entitlement!G140","v":0},{"$f":"Salary_Entitlement!H140","v":0},{"$f":"Salary_Entitlement!I140","v":0},{"$f":"Salary_Entitlement!J140","v":0},{"$f":"Salary_Entitlement!K140","v":0},{"$f":"Salary_Entitlement!L140","v":0},{"$f":"Salary_Entitlement!M140","v":0},{"$f":"Salary_Entitlement!N140","v":0},{"$f":"Salary_Entitlement!O140","v":0},{"$f":"Salary_Entitlement!P140","v":0},{"$error":"#DIV/0!"},{"$error":"#DIV/0!"},{"$f":"INDEX(Deduction!$A$3:$K$501,MATCH(1,(Deduction!$A$3:$A$501=Sheet8!A139)*(Deduction!$B$3:$B$501=Sheet8!B139)*(Deduction!$C$3:$C$501=Sheet8!D139),0),5)","v":0},{"$f":"INDEX(Deduction!$A$3:$K$501,MATCH(1,(Deduction!$A$3:$A$501=Sheet8!A139)*(Deduction!$B$3:$B$501=Sheet8!B139)*(Deduction!$C$3:$C$501=Sheet8!D139),0),6)","v":0},{"$f":"INDEX(Deduction!$A$3:$K$501,MATCH(1,(Deduction!$A$3:$A$501=Sheet8!A139)*(Deduction!$B$3:$B$501=Sheet8!B139)*(Deduction!$C$3:$C$501=Sheet8!D139),0),7)","v":0},{"$f":"INDEX(Deduction!$A$3:$K$501,MATCH(1,(Deduction!$A$3:$A$501=Sheet8!A139)*(Deduction!$B$3:$B$501=Sheet8!B139)*(Deduction!$C$3:$C$501=Sheet8!D139),0),8)","v":0},{"$f":"INDEX(Deduction!$A$3:$K$501,MATCH(1,(Deduction!$A$3:$A$501=Sheet8!A139)*(Deduction!$B$3:$B$501=Sheet8!B139)*(Deduction!$C$3:$C$501=Sheet8!D139),0),9)","v":0},{"$f":"INDEX(Deduction!$A$3:$K$501,MATCH(1,(Deduction!$A$3:$A$501=Sheet8!A139)*(Deduction!$B$3:$B$501=Sheet8!B139)*(Deduction!$C$3:$C$501=Sheet8!D139),0),10)","v":0},{"$f":"INDEX(Deduction!$A$3:$K$501,MATCH(1,(Deduction!$A$3:$A$501=Sheet8!A139)*(Deduction!$B$3:$B$501=Sheet8!B139)*(Deduction!$C$3:$C$501=Sheet8!D139),0),11)","v":0},{"$error":"#DIV/0!"},{"$f":"VLOOKUP(D139,Emp_Master!$B$3:$H$501,7)","v":{"$error":"#N/A"}}]
[{"$f":"Salary_Entitlement!A141","v":0},{"$f":"Salary_Entitlement!B141","v":0},{"$f":"Salary_Entitlement!C141","v":0},{"$f":"Salary_Entitlement!D141","v":0},{"$f":"Salary_Entitlement!E141","v":{"$error":"#N/A"}},{"$f":"Salary_Entitlement!F141","v":0},{"$f":"Salary_Entitlement!G141","v":0},{"$f":"Salary_Entitlement!H141","v":0},{"$f":"Salary_Entitlement!I141","v":0},{"$f":"Salary_Entitlement!J141","v":0},{"$f":"Salary_Entitlement!K141","v":0},{"$f":"Salary_Entitlement!L141","v":0},{"$f":"Salary_Entitlement!M141","v":0},{"$f":"Salary_Entitlement!N141","v":0},{"$f":"Salary_Entitlement!O141","v":0},{"$f":"Salary_Entitlement!P141","v":0},{"$error":"#DIV/0!"},{"$error":"#DIV/0!"},{"$f":"INDEX(Deduction!$A$3:$K$501,MATCH(1,(Deduction!$A$3:$A$501=Sheet8!A140)*(Deduction!$B$3:$B$501=Sheet8!B140)*(Deduction!$C$3:$C$501=Sheet8!D140),0),5)","v":0},{"$f":"INDEX(Deduction!$A$3:$K$501,MATCH(1,(Deduction!$A$3:$A$501=Sheet8!A140)*(Deduction!$B$3:$B$501=Sheet8!B140)*(Deduction!$C$3:$C$501=Sheet8!D140),0),6)","v":0},{"$f":"INDEX(Deduction!$A$3:$K$501,MATCH(1,(Deduction!$A$3:$A$501=Sheet8!A140)*(Deduction!$B$3:$B$501=Sheet8!B140)*(Deduction!$C$3:$C$501=Sheet8!D140),0),7)","v":0},{"$f":"INDEX(Deduction!$A$3:$K$501,MATCH(1,(Deduction!$A$3:$A$501=Sheet8!A140)*(Deduction!$B$3:$B$501=Sheet8!B140)*(Deduction!$C$3:$C$501=Sheet8!D140),0),8)","v":0},{"$f":"INDEX(Deduction!$A$3:$K$501,MATCH(1,(Deduction!$A$3:$A$501=Sheet8!A140)*(Deduction!$B$3:$B$501=Sheet8!B140)*(Deduction!$C$3:$C$501=Sheet8!D140),0),9)","v":0},{"$f":"INDEX(Deduction!$A$3:$K$501,MATCH(1,(Deduction!$A$3:$A$501=Sheet8!A140)*(Deduction!$B$3:$B$501=Sheet8!B140)*(Deduction!$C$3:$C$501=Sheet8!D140),0),10)","v":0},{"$f":"INDEX(Deduction!$A$3:$K$501,MATCH(1,(Deduction!$A$3:$A$501=Sheet8!A140)*(Deduction!$B$3:$B$501=Sheet8!B140)*(Deduction!$C$3:$C$501=Sheet8!D140),0),11)","v":0},{"$error":"#DIV/0!"},{"$f":"VLOOKUP(D140,Emp_Master!$B$3:$H$501,7)","v":{"$error":"#N/A"}}]
[{"$f":"Salary_Entitlement!A142","v":0},{"$f":"Salary_Entitlement!B142","v":0},{"$f":"Salary_Entitlement!C142","v":0},{"$f":"Salary_Entitlement!D142","v":0},{"$f":"Salary_Entitlement!E142","v":{"$error":"#N/A"}},{"$f":"Salary_Entitlement!F142","v":0},{"$f":"Salary_Entitlement!G142","v":0},{"$f":"Salary_Entitlement!H142","v":0},{"$f":"Salary_Entitlement!I142","v":0},{"$f":"Salary_Entitlement!J142","v":0},{"$f":"Salary_Entitlement!K142","v":0},{"$f":"Salary_Entitlement!L142","v":0},{"$f":"Salary_Entitlement!M142","v":0},{"$f":"Salary_Entitlement!N142","v":0},{"$f":"Salary_Entitlement!O142","v":0},{"$f":"Salary_Entitlement!P142","v":0},{"$error":"#DIV/0!"},{"$error":"#DIV/0!"},{"$f":"INDEX(Deduction!$A$3:$K$501,MATCH(1,(Deduction!$A$3:$A$501=Sheet8!A141)*(Deduction!$B$3:$B$501=Sheet8!B141)*(Deduction!$C$3:$C$501=Sheet8!D141),0),5)","v":0},{"$f":"INDEX(Deduction!$A$3:$K$501,MATCH(1,(Deduction!$A$3:$A$501=Sheet8!A141)*(Deduction!$B$3:$B$501=Sheet8!B141)*(Deduction!$C$3:$C$501=Sheet8!D141),0),6)","v":0},{"$f":"INDEX(Deduction!$A$3:$K$501,MATCH(1,(Deduction!$A$3:$A$501=Sheet8!A141)*(Deduction!$B$3:$B$501=Sheet8!B141)*(Deduction!$C$3:$C$501=Sheet8!D141),0),7)","v":0},{"$f":"INDEX(Deduction!$A$3:$K$501,MATCH(1,(Deduction!$A$3:$A$501=Sheet8!A141)*(Deduction!$B$3:$B$501=Sheet8!B141)*(Deduction!$C$3:$C$501=Sheet8!D141),0),8)","v":0},{"$f":"INDEX(Deduction!$A$3:$K$501,MATCH(1,(Deduction!$A$3:$A$501=Sheet8!A141)*(Deduction!$B$3:$B$501=Sheet8!B141)*(Deduction!$C$3:$C$501=Sheet8!D141),0),9)","v":0},{"$f":"INDEX(Deduction!$A$3:$K$501,MATCH(1,(Deduction!$A$3:$A$501=Sheet8!A141)*(Deduction!$B$3:$B$501=Sheet8!B141)*(Deduction!$C$3:$C$501=Sheet8!D141),0),10)","v":0},{"$f":"INDEX(Deduction!$A$3:$K$501,MATCH(1,(Deduction!$A$3:$A$501=Sheet8!A141)*(Deduction!$B$3:$B$501=Sheet8!B141)*(Deduction!$C$3:$C$501=Sheet8!D141),0),11)","v":0},{"$error":"#DIV/0!"},{"$f":"VLOOKUP(D141,Emp_Master!$B$3:$H$501,7)","v":{"$error":"#N/A"}}]
[{"$f":"Salary_Entitlement!A143","v":0},{"$f":"Salary_Entitlement!B143","v":0},{"$f":"Salary_Entitlement!C143","v":0},{"$f":"Salary_Entitlement!D143","v":0},{"$f":"Salary_Entitlement!E143","v":{"$error":"#N/A"}},{"$f":"Salary_Entitlement!F143","v":0},{"$f":"Salary_Entitlement!G143","v":0},{"$f":"Salary_Entitlement!H143","v":0},{"$f":"Salary_Entitlement!I143","v":0},{"$f":"Salary_Entitlement!J143","v":0},{"$f":"Salary_Entitlement!K143","v":0},{"$f":"Salary_Entitlement!L143","v":0},{"$f":"Salary_Entitlement!M143","v":0},{"$f":"Salary_Entitlement!N143","v":0},{"$f":"Salary_Entitlement!O143","v":0},{"$f":"Salary_Entitlement!P143","v":0},{"$error":"#DIV/0!"},{"$error":"#DIV/0!"},{"$f":"INDEX(Deduction!$A$3:$K$501,MATCH(1,(Deduction!$A$3:$A$501=Sheet8!A142)*(Deduction!$B$3:$B$501=Sheet8!B142)*(Deduction!$C$3:$C$501=Sheet8!D142),0),5)","v":0},{"$f":"INDEX(Deduction!$A$3:$K$501,MATCH(1,(Deduction!$A$3:$A$501=Sheet8!A142)*(Deduction!$B$3:$B$501=Sheet8!B142)*(Deduction!$C$3:$C$501=Sheet8!D142),0),6)","v":0},{"$f":"INDEX(Deduction!$A$3:$K$501,MATCH(1,(Deduction!$A$3:$A$501=Sheet8!A142)*(Deduction!$B$3:$B$501=Sheet8!B142)*(Deduction!$C$3:$C$501=Sheet8!D142),0),7)","v":0},{"$f":"INDEX(Deduction!$A$3:$K$501,MATCH(1,(Deduction!$A$3:$A$501=Sheet8!A142)*(Deduction!$B$3:$B$501=Sheet8!B142)*(Deduction!$C$3:$C$501=Sheet8!D142),0),8)","v":0},{"$f":"INDEX(Deduction!$A$3:$K$501,MATCH(1,(Deduction!$A$3:$A$501=Sheet8!A142)*(Deduction!$B$3:$B$501=Sheet8!B142)*(Deduction!$C$3:$C$501=Sheet8!D142),0),9)","v":0},{"$f":"INDEX(Deduction!$A$3:$K$501,MATCH(1,(Deduction!$A$3:$A$501=Sheet8!A142)*(Deduction!$B$3:$B$501=Sheet8!B142)*(Deduction!$C$3:$C$501=Sheet8!D142),0),10)","v":0},{"$f":"INDEX(Deduction!$A$3:$K$501,MATCH(1,(Deduction!$A$3:$A$501=Sheet8!A142)*(Deduction!$B$3:$B$501=Sheet8!B142)*(Deduction!$C$3:$C$501=Sheet8!D142),0),11)","v":0},{"$error":"#DIV/0!"},{"$f":"VLOOKUP(D142,Emp_Master!$B$3:$H$501,7)","v":{"$error":"#N/A"}}]
[{"$f":"Salary_Entitlement!A144","v":0},{"$f":"Salary_Entitlement!B144","v":0},{"$f":"Salary_Entitlement!C144","v":0},{"$f":"Salary_Entitlement!D144","v":0},{"$f":"Salary_Entitlement!E144","v":{"$error":"#N/A"}},{"$f":"Salary_Entitlement!F144","v":0},{"$f":"Salary_Entitlement!G144","v":0},{"$f":"Salary_Entitlement!H144","v":0},{"$f":"Salary_Entitlement!I144","v":0},{"$f":"Salary_Entitlement!J144","v":0},{"$f":"Salary_Entitlement!K144","v":0},{"$f":"Salary_Entitlement!L144","v":0},{"$f":"Salary_Entitlement!M144","v":0},{"$f":"Salary_Entitlement!N144","v":0},{"$f":"Salary_Entitlement!O144","v":0},{"$f":"Salary_Entitlement!P144","v":0},{"$error":"#DIV/0!"},{"$error":"#DIV/0!"},{"$f":"INDEX(Deduction!$A$3:$K$501,MATCH(1,(Deduction!$A$3:$A$501=Sheet8!A143)*(Deduction!$B$3:$B$501=Sheet8!B143)*(Deduction!$C$3:$C$501=Sheet8!D143),0),5)","v":0},{"$f":"INDEX(Deduction!$A$3:$K$501,MATCH(1,(Deduction!$A$3:$A$501=Sheet8!A143)*(Deduction!$B$3:$B$501=Sheet8!B143)*(Deduction!$C$3:$C$501=Sheet8!D143),0),6)","v":0},{"$f":"INDEX(Deduction!$A$3:$K$501,MATCH(1,(Deduction!$A$3:$A$501=Sheet8!A143)*(Deduction!$B$3:$B$501=Sheet8!B143)*(Deduction!$C$3:$C$501=Sheet8!D143),0),7)","v":0},{"$f":"INDEX(Deduction!$A$3:$K$501,MATCH(1,(Deduction!$A$3:$A$501=Sheet8!A143)*(Deduction!$B$3:$B$501=Sheet8!B143)*(Deduction!$C$3:$C$501=Sheet8!D143),0),8)","v":0},{"$f":"INDEX(Deduction!$A$3:$K$501,MATCH(1,(Deduction!$A$3:$A$501=Sheet8!A143)*(Deduction!$B$3:$B$501=Sheet8!B143)*(Deduction!$C$3:$C$501=Sheet8!D143),0),9)","v":0},{"$f":"INDEX(Deduction!$A$3:$K$501,MATCH(1,(Deduction!$A$3:$A$501=Sheet8!A143)*(Deduction!$B$3:$B$501=Sheet8!B143)*(Deduction!$C$3:$C$501=Sheet8!D143),0),10)","v":0},{"$f":"INDEX(Deduction!$A$3:$K$501,MATCH(1,(Deduction!$A$3:$A$501=Sheet8!A143)*(Deduction!$B$3:$B$501=Sheet8!B143)*(Deduction!$C$3:$C$501=Sheet8!D143),0),11)","v":0},{"$error":"#DIV/0!"},{"$f":"VLOOKUP(D143,Emp_Master!$B$3:$H$501,7)","v":{"$error":"#N/A"}}]
[{"$f":"Salary_Entitlement!A145","v":0},{"$f":"Salary_Entitlement!B145","v":0},{"$f":"Salary_Entitlement!C145","v":0},{"$f":"Salary_Entitlement!D145","v":0},{"$f":"Salary_Entitlement!E145","v":{"$error":"#N/A"}},{"$f":"Salary_Entitlement!F145","v":0},{"$f":"Salary_Entitlement!G145","v":0},{"$f":"Salary_Entitlement!H145","v":0},{"$f":"Salary_Entitlement!I145","v":0},{"$f":"Salary_Entitlement!J145","v":0},{"$f":"Salary_Entitlement!K145","v":0},{"$f":"Salary_Entitlement!L145","v":0},{"$f":"Salary_Entitlement!M145","v":0},{"$f":"Salary_Entitlement!N145","v":0},{"$f":"Salary_Entitlement!O145","v":0},{"$f":"Salary_Entitlement!P145","v":0},{"$error":"#DIV/0!"},{"$error":"#DIV/0!"},{"$f":"INDEX(Deduction!$A$3:$K$501,MATCH(1,(Deduction!$A$3:$A$501=Sheet8!A144)*(Deduction!$B$3:$B$501=Sheet8!B144)*(Deduction!$C$3:$C$501=Sheet8!D144),0),5)","v":0},{"$f":"INDEX(Deduction!$A$3:$K$501,MATCH(1,(Deduction!$A$3:$A$501=Sheet8!A144)*(Deduction!$B$3:$B$501=Sheet8!B144)*(Deduction!$C$3:$C$501=Sheet8!D144),0),6)","v":0},{"$f":"INDEX(Deduction!$A$3:$K$501,MATCH(1,(Deduction!$A$3:$A$501=Sheet8!A144)*(Deduction!$B$3:$B$501=Sheet8!B144)*(Deduction!$C$3:$C$501=Sheet8!D144),0),7)","v":0},{"$f":"INDEX(Deduction!$A$3:$K$501,MATCH(1,(Deduction!$A$3:$A$501=Sheet8!A144)*(Deduction!$B$3:$B$501=Sheet8!B144)*(Deduction!$C$3:$C$501=Sheet8!D144),0),8)","v":0},{"$f":"INDEX(Deduction!$A$3:$K$501,MATCH(1,(Deduction!$A$3:$A$501=Sheet8!A144)*(Deduction!$B$3:$B$501=Sheet8!B144)*(Deduction!$C$3:$C$501=Sheet8!D144),0),9)","v":0},{"$f":"INDEX(Deduction!$A$3:$K$501,MATCH(1,(Deduction!$A$3:$A$501=Sheet8!A144)*(Deduction!$B$3:$B$501=Sheet8!B144)*(Deduction!$C$3:$C$501=Sheet8!D144),0),10)","v":0},{"$f":"INDEX(Deduction!$A$3:$K$501,MATCH(1,(Deduction!$A$3:$A$501=Sheet8!A144)*(Deduction!$B$3:$B$501=Sheet8!B144)*(Deduction!$C$3:$C$501=Sheet8!D144),0),11)","v":0},{"$error":"#DIV/0!"},{"$f":"VLOOKUP(D144,Emp_Master!$B$3:$H$501,7)","v":{"$error":"#N/A"}}]
[{"$f":"Salary_Entitlement!A146","v":0},{"$f":"Salary_Entitlement!B146","v":0},{"$f":"Salary_Entitlement!C146","v":0},{"$f":"Salary_Entitlement!D146","v":0},{"$f":"Salary_Entitlement!E146","v":{"$error":"#N/A"}},{"$f":"Salary_Entitlement!F146","v":0},{"$f":"Salary_Entitlement!G146","v":0},{"$f":"Salary_Entitlement!H146","v":0},{"$f":"Salary_Entitlement!I146","v":0},{"$f":"Salary_Entitlement!J146","v":0},{"$f":"Salary_Entitlement!K146","v":0},{"$f":"Salary_Entitlement!L146","v":0},{"$f":"Salary_Entitlement!M146","v":0},{"$f":"Salary_Entitlement!N146","v":0},{"$f":"Salary_Entitlement!O146","v":0},{"$f":"Salary_Entitlement!P146","v":0},{"$error":"#DIV/0!"},{"$error":"#DIV/0!"},{"$f":"INDEX(Deduction!$A$3:$K$501,MATCH(1,(Deduction!$A$3:$A$501=Sheet8!A145)*(Deduction!$B$3:$B$501=Sheet8!B145)*(Deduction!$C$3:$C$501=Sheet8!D145),0),5)","v":0},{"$f":"INDEX(Deduction!$A$3:$K$501,MATCH(1,(Deduction!$A$3:$A$501=Sheet8!A145)*(Deduction!$B$3:$B$501=Sheet8!B145)*(Deduction!$C$3:$C$501=Sheet8!D145),0),6)","v":0},{"$f":"INDEX(Deduction!$A$3:$K$501,MATCH(1,(Deduction!$A$3:$A$501=Sheet8!A145)*(Deduction!$B$3:$B$501=Sheet8!B145)*(Deduction!$C$3:$C$501=Sheet8!D145),0),7)","v":0},{"$f":"INDEX(Deduction!$A$3:$K$501,MATCH(1,(Deduction!$A$3:$A$501=Sheet8!A145)*(Deduction!$B$3:$B$501=Sheet8!B145)*(Deduction!$C$3:$C$501=Sheet8!D145),0),8)","v":0},{"$f":"INDEX(Deduction!$A$3:$K$501,MATCH(1,(Deduction!$A$3:$A$501=Sheet8!A145)*(Deduction!$B$3:$B$501=Sheet8!B145)*(Deduction!$C$3:$C$501=Sheet8!D145),0),9)","v":0},{"$f":"INDEX(Deduction!$A$3:$K$501,MATCH(1,(Deduction!$A$3:$A$501=Sheet8!A145)*(Deduction!$B$3:$B$501=Sheet8!B145)*(Deduction!$C$3:$C$501=Sheet8!D145),0),10)","v":0},{"$f":"INDEX(Deduction!$A$3:$K$501,MATCH(1,(Deduction!$A$3:$A$501=Sheet8!A145)*(Deduction!$B$3:$B$501=Sheet8!B145)*(Deduction!$C$3:$C$501=Sheet8!D145),0),11)","v":0},{"$error":"#DIV/0!"},{"$f":"VLOOKUP(D145,Emp_Master!$B$3:$H$501,7)","v":{"$error":"#N/A"}}]
[{"$f":"Salary_Entitlement!A147","v":0},{"$f":"Salary_Entitlement!B147","v":0},{"$f":"Salary_Entitlement!C147","v":0},{"$f":"Salary_Entitlement!D147","v":0},{"$f":"Salary_Entitlement!E147","v":{"$error":"#N/A"}},{"$f":"Salary_Entitlement!F147","v":0},{"$f":"Salary_Entitlement!G147","v":0},{"$f":"Salary_Entitlement!H147","v":0},{"$f":"Salary_Entitlement!I147","v":0},{"$f":"Salary_Entitlement!J147","v":0},{"$f":"Salary_Entitlement!K147","v":0},{"$f":"Salary_Entitlement!L147","v":0},{"$f":"Salary_Entitlement!M147","v":0},{"$f":"Salary_Entitlement!N147","v":0},{"$f":"Salary_Entitlement!O147","v":0},{"$f":"Salary_Entitlement!P147","v":0},{"$error":"#DIV/0!"},{"$error":"#DIV/0!"},{"$f":"INDEX(Deduction!$A$3:$K$501,MATCH(1,(Deduction!$A$3:$A$501=Sheet8!A146)*(Deduction!$B$3:$B$501=Sheet8!B146)*(Deduction!$C$3:$C$501=Sheet8!D146),0),5)","v":0},{"$f":"INDEX(Deduction!$A$3:$K$501,MATCH(1,(Deduction!$A$3:$A$501=Sheet8!A146)*(Deduction!$B$3:$B$501=Sheet8!B146)*(Deduction!$C$3:$C$501=Sheet8!D146),0),6)","v":0},{"$f":"INDEX(Deduction!$A$3:$K$501,MATCH(1,(Deduction!$A$3:$A$501=Sheet8!A146)*(Deduction!$B$3:$B$501=Sheet8!B146)*(Deduction!$C$3:$C$501=Sheet8!D146),0),7)","v":0},{"$f":"INDEX(Deduction!$A$3:$K$501,MATCH(1,(Deduction!$A$3:$A$501=Sheet8!A146)*(Deduction!$B$3:$B$501=Sheet8!B146)*(Deduction!$C$3:$C$501=Sheet8!D146),0),8)","v":0},{"$f":"INDEX(Deduction!$A$3:$K$501,MATCH(1,(Deduction!$A$3:$A$501=Sheet8!A146)*(Deduction!$B$3:$B$501=Sheet8!B146)*(Deduction!$C$3:$C$501=Sheet8!D146),0),9)","v":0},{"$f":"INDEX(Deduction!$A$3:$K$501,MATCH(1,(Deduction!$A$3:$A$501=Sheet8!A146)*(Deduction!$B$3:$B$501=Sheet8!B146)*(Deduction!$C$3:$C$501=Sheet8!D146),0),10)","v":0},{"$f":"INDEX(Deduction!$A$3:$K$501,MATCH(1,(Deduction!$A$3:$A$501=Sheet8!A146)*(Deduction!$B$3:$B$501=Sheet8!B146)*(Deduction!$C$3:$C$501=Sheet8!D146),0),11)","v":0},{"$error":"#DIV/0!"},{"$f":"VLOOKUP(D146,Emp_Master!$B$3:$H$501,7)","v":{"$error":"#N/A"}}]
[{"$f":"Salary_Entitlement!A148","v":0},{"$f":"Salary_Entitlement!B148","v":0},{"$f":"Salary_Entitlement!C148","v":0},{"$f":"Salary_Entitlement!D148","v":0},{"$f":"Salary_Entitlement!E148","v":{"$error":"#N/A"}},{"$f":"Salary_Entitlement!F148","v":0},{"$f":"Salary_Entitlement!G148","v":0},{"$f":"Salary_Entitlement!H148","v":0},{"$f":"Salary_Entitlement!I148","v":0},{"$f":"Salary_Entitlement!J148","v":0},{"$f":"Salary_Entitlement!K148","v":0},{"$f":"Salary_Entitlement!L148","v":0},{"$f":"Salary_Entitlement!M148","v":0},{"$f":"Salary_Entitlement!N148","v":0},{"$f":"Salary_Entitlement!O148","v":0},{"$f":"Salary_Entitlement!P148","v":0},{"$error":"#DIV/0!"},{"$error":"#DIV/0!"},{"$f":"INDEX(Deduction!$A$3:$K$501,MATCH(1,(Deduction!$A$3:$A$501=Sheet8!A147)*(Deduction!$B$3:$B$501=Sheet8!B147)*(Deduction!$C$3:$C$501=Sheet8!D147),0),5)","v":0},{"$f":"INDEX(Deduction!$A$3:$K$501,MATCH(1,(Deduction!$A$3:$A$501=Sheet8!A147)*(Deduction!$B$3:$B$501=Sheet8!B147)*(Deduction!$C$3:$C$501=Sheet8!D147),0),6)","v":0},{"$f":"INDEX(Deduction!$A$3:$K$501,MATCH(1,(Deduction!$A$3:$A$501=Sheet8!A147)*(Deduction!$B$3:$B$501=Sheet8!B147)*(Deduction!$C$3:$C$501=Sheet8!D147),0),7)","v":0},{"$f":"INDEX(Deduction!$A$3:$K$501,MATCH(1,(Deduction!$A$3:$A$501=Sheet8!A147)*(Deduction!$B$3:$B$501=Sheet8!B147)*(Deduction!$C$3:$C$501=Sheet8!D147),0),8)","v":0},{"$f":"INDEX(Deduction!$A$3:$K$501,MATCH(1,(Deduction!$A$3:$A$501=Sheet8!A147)*(Deduction!$B$3:$B$501=Sheet8!B147)*(Deduction!$C$3:$C$501=Sheet8!D147),0),9)","v":0},{"$f":"INDEX(Deduction!$A$3:$K$501,MATCH(1,(Deduction!$A$3:$A$501=Sheet8!A147)*(Deduction!$B$3:$B$501=Sheet8!B147)*(Deduction!$C$3:$C$501=Sheet8!D147),0),10)","v":0},{"$f":"INDEX(Deduction!$A$3:$K$501,MATCH(1,(Deduction!$A$3:$A$501=Sheet8!A147)*(Deduction!$B$3:$B$501=Sheet8!B147)*(Deduction!$C$3:$C$501=Sheet8!D147),0),11)","v":0},{"$error":"#DIV/0!"},{"$f":"VLOOKUP(D147,Emp_Master!$B$3:$H$501,7)","v":{"$error":"#N/A"}}]
[{"$f":"Salary_Entitlement!A149","v":0},{"$f":"Salary_Entitlement!B149","v":0},{"$f":"Salary_Entitlement!C149","v":0},{"$f":"Salary_Entitlement!D149","v":0},{"$f":"Salary_Entitlement!E149","v":{"$error":"#N/A"}},{"$f":"Salary_Entitlement!F149","v":0},{"$f":"Salary_Entitlement!G149","v":0},{"$f":"Salary_Entitlement!H149","v":0},{"$f":"Salary_Entitlement!I149","v":0},{"$f":"Salary_Entitlement!J149","v":0},{"$f":"Salary_Entitlement!K149","v":0},{"$f":"Salary_Entitlement!L149","v":0},{"$f":"Salary_Entitlement!M149","v":0},{"$f":"Salary_Entitlement!N149","v":0},{"$f":"Salary_Entitlement!O149","v":0},{"$f":"Salary_Entitlement!P149","v":0},{"$error":"#DIV/0!"},{"$error":"#DIV/0!"},{"$f":"INDEX(Deduction!$A$3:$K$501,MATCH(1,(Deduction!$A$3:$A$501=Sheet8!A148)*(Deduction!$B$3:$B$501=Sheet8!B148)*(Deduction!$C$3:$C$501=Sheet8!D148),0),5)","v":0},{"$f":"INDEX(Deduction!$A$3:$K$501,MATCH(1,(Deduction!$A$3:$A$501=Sheet8!A148)*(Deduction!$B$3:$B$501=Sheet8!B148)*(Deduction!$C$3:$C$501=Sheet8!D148),0),6)","v":0},{"$f":"INDEX(Deduction!$A$3:$K$501,MATCH(1,(Deduction!$A$3:$A$501=Sheet8!A148)*(Deduction!$B$3:$B$501=Sheet8!B148)*(Deduction!$C$3:$C$501=Sheet8!D148),0),7)","v":0},{"$f":"INDEX(Deduction!$A$3:$K$501,MATCH(1,(Deduction!$A$3:$A$501=Sheet8!A148)*(Deduction!$B$3:$B$501=Sheet8!B148)*(Deduction!$C$3:$C$501=Sheet8!D148),0),8)","v":0},{"$f":"INDEX(Deduction!$A$3:$K$501,MATCH(1,(Deduction!$A$3:$A$501=Sheet8!A148)*(Deduction!$B$3:$B$501=Sheet8!B148)*(Deduction!$C$3:$C$501=Sheet8!D148),0),9)","v":0},{"$f":"INDEX(Deduction!$A$3:$K$501,MATCH(1,(Deduction!$A$3:$A$501=Sheet8!A148)*(Deduction!$B$3:$B$501=Sheet8!B148)*(Deduction!$C$3:$C$501=Sheet8!D148),0),10)","v":0},{"$f":"INDEX(Deduction!$A$3:$K$501,MATCH(1,(Deduction!$A$3:$A$501=Sheet8!A148)*(Deduction!$B$3:$B$501=Sheet8!B148)*(Deduction!$C$3:$C$501=Sheet8!D148),0),11)","v":0},{"$error":"#DIV/0!"},{"$f":"VLOOKUP(D148,Emp_Master!$B$3:$H$501,7)","v":{"$error":"#N/A"}}]
[{"$f":"Salary_Entitlement!A150","v":0},{"$f":"Salary_Entitlement!B150","v":0},{"$f":"Salary_Entitlement!C150","v":0},{"$f":"Salary_Entitlement!D150","v":0},{"$f":"Salary_Entitlement!E150","v":{"$error":"#N/A"}},{"$f":"Salary_Entitlement!F150","v":0},{"$f":"Salary_Entitlement!G150","v":0},{"$f":"Salary_Entitlement!H150","v":0},{"$f":"Salary_Entitlement!I150","v":0},{"$f":"Salary_Entitlement!J150","v":0},{"$f":"Salary_Entitlement!K150","v":0},{"$f":"Salary_Entitlement!L150","v":0},{"$f":"Salary_Entitlement!M150","v":0},{"$f":"Salary_Entitlement!N150","v":0},{"$f":"Salary_Entitlement!O150","v":0},{"$f":"Salary_Entitlement!P150","v":0},{"$error":"#DIV/0!"},{"$error":"#DIV/0!"},{"$f":"INDEX(Deduction!$A$3:$K$501,MATCH(1,(Deduction!$A$3:$A$501=Sheet8!A149)*(Deduction!$B$3:$B$501=Sheet8!B149)*(Deduction!$C$3:$C$501=Sheet8!D149),0),5)","v":0},{"$f":"INDEX(Deduction!$A$3:$K$501,MATCH(1,(Deduction!$A$3:$A$501=Sheet8!A149)*(Deduction!$B$3:$B$501=Sheet8!B149)*(Deduction!$C$3:$C$501=Sheet8!D149),0),6)","v":0},{"$f":"INDEX(Deduction!$A$3:$K$501,MATCH(1,(Deduction!$A$3:$A$501=Sheet8!A149)*(Deduction!$B$3:$B$501=Sheet8!B149)*(Deduction!$C$3:$C$501=Sheet8!D149),0),7)","v":0},{"$f":"INDEX(Deduction!$A$3:$K$501,MATCH(1,(Deduction!$A$3:$A$501=Sheet8!A149)*(Deduction!$B$3:$B$501=Sheet8!B149)*(Deduction!$C$3:$C$501=Sheet8!D149),0),8)","v":0},{"$f":"INDEX(Deduction!$A$3:$K$501,MATCH(1,(Deduction!$A$3:$A$501=Sheet8!A149)*(Deduction!$B$3:$B$501=Sheet8!B149)*(Deduction!$C$3:$C$501=Sheet8!D149),0),9)","v":0},{"$f":"INDEX(Deduction!$A$3:$K$501,MATCH(1,(Deduction!$A$3:$A$501=Sheet8!A149)*(Deduction!$B$3:$B$501=Sheet8!B149)*(Deduction!$C$3:$C$501=Sheet8!D149),0),10)","v":0},{"$f":"INDEX(Deduction!$A$3:$K$501,MATCH(1,(Deduction!$A$3:$A$501=Sheet8!A149)*(Deduction!$B$3:$B$501=Sheet8!B149)*(Deduction!$C$3:$C$501=Sheet8!D149),0),11)","v":0},{"$error":"#DIV/0!"},{"$f":"VLOOKUP(D149,Emp_Master!$B$3:$H$501,7)","v":{"$error":"#N/A"}}]
[{"$f":"Salary_Entitlement!A151","v":0},{"$f":"Salary_Entitlement!B151","v":0},{"$f":"Salary_Entitlement!C151","v":0},{"$f":"Salary_Entitlement!D151","v":0},{"$f":"Salary_Entitlement!E151","v":{"$error":"#N/A"}},{"$f":"Salary_Entitlement!F151","v":0},{"$f":"Salary_Entitlement!G151","v":0},{"$f":"Salary_Entitlement!H151","v":0},{"$f":"Salary_Entitlement!I151","v":0},{"$f":"Salary_Entitlement!J151","v":0},{"$f":"Salary_Entitlement!K151","v":0},{"$f":"Salary_Entitlement!L151","v":0},{"$f":"Salary_Entitlement!M151","v":0},{"$f":"Salary_Entitlement!N151","v":0},{"$f":"Salary_Entitlement!O151","v":0},{"$f":"Salary_Entitlement!P151","v":0},{"$error":"#DIV/0!"},{"$error":"#DIV/0!"},{"$f":"INDEX(Deduction!$A$3:$K$501,MATCH(1,(Deduction!$A$3:$A$501=Sheet8!A150)*(Deduction!$B$3:$B$501=Sheet8!B150)*(Deduction!$C$3:$C$501=Sheet8!D150),0),5)","v":0},{"$f":"INDEX(Deduction!$A$3:$K$501,MATCH(1,(Deduction!$A$3:$A$501=Sheet8!A150)*(Deduction!$B$3:$B$501=Sheet8!B150)*(Deduction!$C$3:$C$501=Sheet8!D150),0),6)","v":0},{"$f":"INDEX(Deduction!$A$3:$K$501,MATCH(1,(Deduction!$A$3:$A$501=Sheet8!A150)*(Deduction!$B$3:$B$501=Sheet8!B150)*(Deduction!$C$3:$C$501=Sheet8!D150),0),7)","v":0},{"$f":"INDEX(Deduction!$A$3:$K$501,MATCH(1,(Deduction!$A$3:$A$501=Sheet8!A150)*(Deduction!$B$3:$B$501=Sheet8!B150)*(Deduction!$C$3:$C$501=Sheet8!D150),0),8)","v":0},{"$f":"INDEX(Deduction!$A$3:$K$501,MATCH(1,(Deduction!$A$3:$A$501=Sheet8!A150)*(Deduction!$B$3:$B$501=Sheet8!B150)*(Deduction!$C$3:$C$501=Sheet8!D150),0),9)","v":0},{"$f":"INDEX(Deduction!$A$3:$K$501,MATCH(1,(Deduction!$A$3:$A$501=Sheet8!A150)*(Deduction!$B$3:$B$501=Sheet8!B150)*(Deduction!$C$3:$C$501=Sheet8!D150),0),10)","v":0},{"$f":"INDEX(Deduction!$A$3:$K$501,MATCH(1,(Deduction!$A$3:$A$501=Sheet8!A150)*(Deduction!$B$3:$B$501=Sheet8!B150)*(Deduction!$C$3:$C$501=Sheet8!D150),0),11)","v":0},{"$error":"#DIV/0!"},{"$f":"VLOOKUP(D150,Emp_Master!$B$3:$H$501,7)","v":{"$error":"#N/A"}}]
[{"$f":"Salary_Entitlement!A152","v":0},{"$f":"Salary_Entitlement!B152","v":0},{"$f":"Salary_Entitlement!C152","v":0},{"$f":"Salary_Entitlement!D152","v":0},{"$f":"Salary_Entitlement!E152","v":{"$error":"#N/A"}},{"$f":"Salary_Entitlement!F152","v":0},{"$f":"Salary_Entitlement!G152","v":0},{"$f":"Salary_Entitlement!H152","v":0},{"$f":"Salary_Entitlement!I152","v":0},{"$f":"Salary_Entitlement!J152","v":0},{"$f":"Salary_Entitlement!K152","v":0},{"$f":"Salary_Entitlement!L152","v":0},{"$f":"Salary_Entitlement!M152","v":0},{"$f":"Salary_Entitlement!N152","v":0},{"$f":"Salary_Entitlement!O152","v":0},{"$f":"Salary_Entitlement!P152","v":0},{"$error":"#DIV/0!"},{"$error":"#DIV/0!"},{"$f":"INDEX(Deduction!$A$3:$K$501,MATCH(1,(Deduction!$A$3:$A$501=Sheet8!A151)*(Deduction!$B$3:$B$501=Sheet8!B151)*(Deduction!$C$3:$C$501=Sheet8!D151),0),5)","v":0},{"$f":"INDEX(Deduction!$A$3:$K$501,MATCH(1,(Deduction!$A$3:$A$501=Sheet8!A151)*(Deduction!$B$3:$B$501=Sheet8!B151)*(Deduction!$C$3:$C$501=Sheet8!D151),0),6)","v":0},{"$f":"INDEX(Deduction!$A$3:$K$501,MATCH(1,(Deduction!$A$3:$A$501=Sheet8!A151)*(Deduction!$B$3:$B$501=Sheet8!B151)*(Deduction!$C$3:$C$501=Sheet8!D151),0),7)","v":0},{"$f":"INDEX(Deduction!$A$3:$K$501,MATCH(1,(Deduction!$A$3:$A$501=Sheet8!A151)*(Deduction!$B$3:$B$501=Sheet8!B151)*(Deduction!$C$3:$C$501=Sheet8!D151),0),8)","v":0},{"$f":"INDEX(Deduction!$A$3:$K$501,MATCH(1,(Deduction!$A$3:$A$501=Sheet8!A151)*(Deduction!$B$3:$B$501=Sheet8!B151)*(Deduction!$C$3:$C$501=Sheet8!D151),0),9)","v":0},{"$f":"INDEX(Deduction!$A$3:$K$501,MATCH(1,(Deduction!$A$3:$A$501=Sheet8!A151)*(Deduction!$B$3:$B$501=Sheet8!B151)*(Deduction!$C$3:$C$501=Sheet8!D151),0),10)","v":0},{"$f":"INDEX(Deduction!$A$3:$K$501,MATCH(1,(Deduction!$A$3:$A$501=Sheet8!A151)*(Deduction!$B$3:$B$501=Sheet8!B151)*(Deduction!$C$3:$C$501=Sheet8!D151),0),11)","v":0},{"$error":"#DIV/0!"},{"$f":"VLOOKUP(D151,Emp_Master!$B$3:$H$501,7)","v":{"$error":"#N/A"}}]
[{"$f":"Salary_Entitlement!A153","v":0},{"$f":"Salary_Entitlement!B153","v":0},{"$f":"Salary_Entitlement!C153","v":0},{"$f":"Salary_Entitlement!D153","v":0},{"$f":"Salary_Entitlement!E153","v":{"$error":"#N/A"}},{"$f":"Salary_Entitlement!F153","v":0},{"$f":"Salary_Entitlement!G153","v":0},{"$f":"Salary_Entitlement!H153","v":0},{"$f":"Salary_Entitlement!I153","v":0},{"$f":"Salary_Entitlement!J153","v":0},{"$f":"Salary_Entitlement!K153","v":0},{"$f":"Salary_Entitlement!L153","v":0},{"$f":"Salary_Entitlement!M153","v":0},{"$f":"Salary_Entitlement!N153","v":0},{"$f":"Salary_Entitlement!O153","v":0},{"$f":"Salary_Entitlement!P153","v":0},{"$f":"F152/M152*(M152-N152)","v":{"$error":"#DIV/0!"}},{"$f":"SUM(F152:L152)-Q152","v":{"$error":"#DIV/0!"}},{"$f":"INDEX(Deduction!$A$3:$K$501,MATCH(1,(Deduction!$A$3:$A$501=Sheet8!A152)*(Deduction!$B$3:$B$501=Sheet8!B152)*(Deduction!$C$3:$C$501=Sheet8!D152),0),5)","v":0},{"$f":"INDEX(Deduction!$A$3:$K$501,MATCH(1,(Deduction!$A$3:$A$501=Sheet8!A152)*(Deduction!$B$3:$B$501=Sheet8!B152)*(Deduction!$C$3:$C$501=Sheet8!D152),0),6)","v":0},{"$f":"INDEX(Deduction!$A$3:$K$501,MATCH(1,(Deduction!$A$3:$A$501=Sheet8!A152)*(Deduction!$B$3:$B$501=Sheet8!B152)*(Deduction!$C$3:$C$501=Sheet8!D152),0),7)","v":0},{"$f":"INDEX(Deduction!$A$3:$K$501,MATCH(1,(Deduction!$A$3:$A$501=Sheet8!A152)*(Deduction!$B$3:$B$501=Sheet8!B152)*(Deduction!$C$3:$C$501=Sheet8!D152),0),8)","v":0},{"$f":"INDEX(Deduction!$A$3:$K$501,MATCH(1,(Deduction!$A$3:$A$501=Sheet8!A152)*(Deduction!$B$3:$B$501=Sheet8!B152)*(Deduction!$C$3:$C$501=Sheet8!D152),0),9)","v":0},{"$f":"INDEX(Deduction!$A$3:$K$501,MATCH(1,(Deduction!$A$3:$A$501=Sheet8!A152)*(Deduction!$B$3:$B$501=Sheet8!B152)*(Deduction!$C$3:$C$501=Sheet8!D152),0),10)","v":0},{"$f":"INDEX(Deduction!$A$3:$K$501,MATCH(1,(Deduction!$A$3:$A$501=Sheet8!A152)*(Deduction!$B$3:$B$501=Sheet8!B152)*(Deduction!$C$3:$C$501=Sheet8!D152),0),11)","v":0},{"$error":"#DIV/0!"},{"$f":"VLOOKUP(D152,Emp_Master!$B$3:$H$501,7)","v":{"$error":"#N/A"}}]
[{"$f":"Salary_Entitlement!A154","v":0},{"$f":"Salary_Entitlement!B154","v":0},{"$f":"Salary_Entitlement!C154","v":0},{"$f":"Salary_Entitlement!D154","v":0},{"$f":"Salary_Entitlement!E154","v":{"$error":"#N/A"}},{"$f":"Salary_Entitlement!F154","v":0},{"$f":"Salary_Entitlement!G154","v":0},{"$f":"Salary_Entitlement!H154","v":0},{"$f":"Salary_Entitlement!I154","v":0},{"$f":"Salary_Entitlement!J154","v":0},{"$f":"Salary_Entitlement!K154","v":0},{"$f":"Salary_Entitlement!L154","v":0},{"$f":"Salary_Entitlement!M154","v":0},{"$f":"Salary_Entitlement!N154","v":0},{"$f":"Salary_Entitlement!O154","v":0},{"$f":"Salary_Entitlement!P154","v":0},{"$error":"#DIV/0!"},{"$error":"#DIV/0!"},{"$f":"INDEX(Deduction!$A$3:$K$501,MATCH(1,(Deduction!$A$3:$A$501=Sheet8!A153)*(Deduction!$B$3:$B$501=Sheet8!B153)*(Deduction!$C$3:$C$501=Sheet8!D153),0),5)","v":0},{"$f":"INDEX(Deduction!$A$3:$K$501,MATCH(1,(Deduction!$A$3:$A$501=Sheet8!A153)*(Deduction!$B$3:$B$501=Sheet8!B153)*(Deduction!$C$3:$C$501=Sheet8!D153),0),6)","v":0},{"$f":"INDEX(Deduction!$A$3:$K$501,MATCH(1,(Deduction!$A$3:$A$501=Sheet8!A153)*(Deduction!$B$3:$B$501=Sheet8!B153)*(Deduction!$C$3:$C$501=Sheet8!D153),0),7)","v":0},{"$f":"INDEX(Deduction!$A$3:$K$501,MATCH(1,(Deduction!$A$3:$A$501=Sheet8!A153)*(Deduction!$B$3:$B$501=Sheet8!B153)*(Deduction!$C$3:$C$501=Sheet8!D153),0),8)","v":0},{"$f":"INDEX(Deduction!$A$3:$K$501,MATCH(1,(Deduction!$A$3:$A$501=Sheet8!A153)*(Deduction!$B$3:$B$501=Sheet8!B153)*(Deduction!$C$3:$C$501=Sheet8!D153),0),9)","v":0},{"$f":"INDEX(Deduction!$A$3:$K$501,MATCH(1,(Deduction!$A$3:$A$501=Sheet8!A153)*(Deduction!$B$3:$B$501=Sheet8!B153)*(Deduction!$C$3:$C$501=Sheet8!D153),0),10)","v":0},{"$f":"INDEX(Deduction!$A$3:$K$501,MATCH(1,(Deduction!$A$3:$A$501=Sheet8!A153)*(Deduction!$B$3:$B$501=Sheet8!B153)*(Deduction!$C$3:$C$501=Sheet8!D153),0),11)","v":0},{"$error":"#DIV/0!"},{"$f":"VLOOKUP(D153,Emp_Master!$B$3:$H$501,7)","v":{"$error":"#N/A"}}]
[{"$f":"Salary_Entitlement!A155","v":0},{"$f":"Salary_Entitlement!B155","v":0},{"$f":"Salary_Entitlement!C155","v":0},{"$f":"Salary_Entitlement!D155","v":0},{"$f":"Salary_Entitlement!E155","v":{"$error":"#N/A"}},{"$f":"Salary_Entitlement!F155","v":0},{"$f":"Salary_Entitlement!G155","v":0},{"$f":"Salary_Entitlement!H155","v":0},{"$f":"Salary_Entitlement!I155","v":0},{"$f":"Salary_Entitlement!J155","v":0},{"$f":"Salary_Entitlement!K155","v":0},{"$f":"Salary_Entitlement!L155","v":0},{"$f":"Salary_Entitlement!M155","v":0},{"$f":"Salary_Entitlement!N155","v":0},{"$f":"Salary_Entitlement!O155","v":0},{"$f":"Salary_Entitlement!P155","v":0},{"$error":"#DIV/0!"},{"$error":"#DIV/0!"},{"$f":"INDEX(Deduction!$A$3:$K$501,MATCH(1,(Deduction!$A$3:$A$501=Sheet8!A154)*(Deduction!$B$3:$B$501=Sheet8!B154)*(Deduction!$C$3:$C$501=Sheet8!D154),0),5)","v":0},{"$f":"INDEX(Deduction!$A$3:$K$501,MATCH(1,(Deduction!$A$3:$A$501=Sheet8!A154)*(Deduction!$B$3:$B$501=Sheet8!B154)*(Deduction!$C$3:$C$501=Sheet8!D154),0),6)","v":0},{"$f":"INDEX(Deduction!$A$3:$K$501,MATCH(1,(Deduction!$A$3:$A$501=Sheet8!A154)*(Deduction!$B$3:$B$501=Sheet8!B154)*(Deduction!$C$3:$C$501=Sheet8!D154),0),7)","v":0},{"$f":"INDEX(Deduction!$A$3:$K$501,MATCH(1,(Deduction!$A$3:$A$501=Sheet8!A154)*(Deduction!$B$3:$B$501=Sheet8!B154)*(Deduction!$C$3:$C$501=Sheet8!D154),0),8)","v":0},{"$f":"INDEX(Deduction!$A$3:$K$501,MATCH(1,(Deduction!$A$3:$A$501=Sheet8!A154)*(Deduction!$B$3:$B$501=Sheet8!B154)*(Deduction!$C$3:$C$501=Sheet8!D154),0),9)","v":0},{"$f":"INDEX(Deduction!$A$3:$K$501,MATCH(1,(Deduction!$A$3:$A$501=Sheet8!A154)*(Deduction!$B$3:$B$501=Sheet8!B154)*(Deduction!$C$3:$C$501=Sheet8!D154),0),10)","v":0},{"$f":"INDEX(Deduction!$A$3:$K$501,MATCH(1,(Deduction!$A$3:$A$501=Sheet8!A154)*(Deduction!$B$3:$B$501=Sheet8!B154)*(Deduction!$C$3:$C$501=Sheet8!D154),0),11)","v":0},{"$error":"#DIV/0!"},{"$f":"VLOOKUP(D154,Emp_Master!$B$3:$H$501,7)","v":{"$error":"#N/A"}}]
[{"$f":"Salary_Entitlement!A156","v":0},{"$f":"Salary_Entitlement!B156","v":0},{"$f":"Salary_Entitlement!C156","v":0},{"$f":"Salary_Entitlement!D156","v":0},{"$f":"Salary_Entitlement!E156","v":{"$error":"#N/A"}},{"$f":"Salary_Entitlement!F156","v":0},{"$f":"Salary_Entitlement!G156","v":0},{"$f":"Salary_Entitlement!H156","v":0},{"$f":"Salary_Entitlement!I156","v":0},{"$f":"Salary_Entitlement!J156","v":0},{"$f":"Salary_Entitlement!K156","v":0},{"$f":"Salary_Entitlement!L156","v":0},{"$f":"Salary_Entitlement!M156","v":0},{"$f":"Salary_Entitlement!N156","v":0},{"$f":"Salary_Entitlement!O156","v":0},{"$f":"Salary_Entitlement!P156","v":0},{"$error":"#DIV/0!"},{"$error":"#DIV/0!"},{"$f":"INDEX(Deduction!$A$3:$K$501,MATCH(1,(Deduction!$A$3:$A$501=Sheet8!A155)*(Deduction!$B$3:$B$501=Sheet8!B155)*(Deduction!$C$3:$C$501=Sheet8!D155),0),5)","v":0},{"$f":"INDEX(Deduction!$A$3:$K$501,MATCH(1,(Deduction!$A$3:$A$501=Sheet8!A155)*(Deduction!$B$3:$B$501=Sheet8!B155)*(Deduction!$C$3:$C$501=Sheet8!D155),0),6)","v":0},{"$f":"INDEX(Deduction!$A$3:$K$501,MATCH(1,(Deduction!$A$3:$A$501=Sheet8!A155)*(Deduction!$B$3:$B$501=Sheet8!B155)*(Deduction!$C$3:$C$501=Sheet8!D155),0),7)","v":0},{"$f":"INDEX(Deduction!$A$3:$K$501,MATCH(1,(Deduction!$A$3:$A$501=Sheet8!A155)*(Deduction!$B$3:$B$501=Sheet8!B155)*(Deduction!$C$3:$C$501=Sheet8!D155),0),8)","v":0},{"$f":"INDEX(Deduction!$A$3:$K$501,MATCH(1,(Deduction!$A$3:$A$501=Sheet8!A155)*(Deduction!$B$3:$B$501=Sheet8!B155)*(Deduction!$C$3:$C$501=Sheet8!D155),0),9)","v":0},{"$f":"INDEX(Deduction!$A$3:$K$501,MATCH(1,(Deduction!$A$3:$A$501=Sheet8!A155)*(Deduction!$B$3:$B$501=Sheet8!B155)*(Deduction!$C$3:$C$501=Sheet8!D155),0),10)","v":0},{"$f":"INDEX(Deduction!$A$3:$K$501,MATCH(1,(Deduction!$A$3:$A$501=Sheet8!A155)*(Deduction!$B$3:$B$501=Sheet8!B155)*(Deduction!$C$3:$C$501=Sheet8!D155),0),11)","v":0},{"$error":"#DIV/0!"},{"$f":"VLOOKUP(D155,Emp_Master!$B$3:$H$501,7)","v":{"$error":"#N/A"}}]
[{"$f":"Salary_Entitlement!A157","v":0},{"$f":"Salary_Entitlement!B157","v":0},{"$f":"Salary_Entitlement!C157","v":0},{"$f":"Salary_Entitlement!D157","v":0},{"$f":"Salary_Entitlement!E157","v":{"$error":"#N/A"}},{"$f":"Salary_Entitlement!F157","v":0},{"$f":"Salary_Entitlement!G157","v":0},{"$f":"Salary_Entitlement!H157","v":0},{"$f":"Salary_Entitlement!I157","v":0},{"$f":"Salary_Entitlement!J157","v":0},{"$f":"Salary_Entitlement!K157","v":0},{"$f":"Salary_Entitlement!L157","v":0},{"$f":"Salary_Entitlement!M157","v":0},{"$f":"Salary_Entitlement!N157","v":0},{"$f":"Salary_Entitlement!O157","v":0},{"$f":"Salary_Entitlement!P157","v":0},{"$error":"#DIV/0!"},{"$error":"#DIV/0!"},{"$f":"INDEX(Deduction!$A$3:$K$501,MATCH(1,(Deduction!$A$3:$A$501=Sheet8!A156)*(Deduction!$B$3:$B$501=Sheet8!B156)*(Deduction!$C$3:$C$501=Sheet8!D156),0),5)","v":0},{"$f":"INDEX(Deduction!$A$3:$K$501,MATCH(1,(Deduction!$A$3:$A$501=Sheet8!A156)*(Deduction!$B$3:$B$501=Sheet8!B156)*(Deduction!$C$3:$C$501=Sheet8!D156),0),6)","v":0},{"$f":"INDEX(Deduction!$A$3:$K$501,MATCH(1,(Deduction!$A$3:$A$501=Sheet8!A156)*(Deduction!$B$3:$B$501=Sheet8!B156)*(Deduction!$C$3:$C$501=Sheet8!D156),0),7)","v":0},{"$f":"INDEX(Deduction!$A$3:$K$501,MATCH(1,(Deduction!$A$3:$A$501=Sheet8!A156)*(Deduction!$B$3:$B$501=Sheet8!B156)*(Deduction!$C$3:$C$501=Sheet8!D156),0),8)","v":0},{"$f":"INDEX(Deduction!$A$3:$K$501,MATCH(1,(Deduction!$A$3:$A$501=Sheet8!A156)*(Deduction!$B$3:$B$501=Sheet8!B156)*(Deduction!$C$3:$C$501=Sheet8!D156),0),9)","v":0},{"$f":"INDEX(Deduction!$A$3:$K$501,MATCH(1,(Deduction!$A$3:$A$501=Sheet8!A156)*(Deduction!$B$3:$B$501=Sheet8!B156)*(Deduction!$C$3:$C$501=Sheet8!D156),0),10)","v":0},{"$f":"INDEX(Deduction!$A$3:$K$501,MATCH(1,(Deduction!$A$3:$A$501=Sheet8!A156)*(Deduction!$B$3:$B$501=Sheet8!B156)*(Deduction!$C$3:$C$501=Sheet8!D156),0),11)","v":0},{"$error":"#DIV/0!"},{"$f":"VLOOKUP(D156,Emp_Master!$B$3:$H$501,7)","v":{"$error":"#N/A"}}]
[{"$f":"Salary_Entitlement!A158","v":0},{"$f":"Salary_Entitlement!B158","v":0},{"$f":"Salary_Entitlement!C158","v":0},{"$f":"Salary_Entitlement!D158","v":0},{"$f":"Salary_Entitlement!E158","v":{"$error":"#N/A"}},{"$f":"Salary_Entitlement!F158","v":0},{"$f":"Salary_Entitlement!G158","v":0},{"$f":"Salary_Entitlement!H158","v":0},{"$f":"Salary_Entitlement!I158","v":0},{"$f":"Salary_Entitlement!J158","v":0},{"$f":"Salary_Entitlement!K158","v":0},{"$f":"Salary_Entitlement!L158","v":0},{"$f":"Salary_Entitlement!M158","v":0},{"$f":"Salary_Entitlement!N158","v":0},{"$f":"Salary_Entitlement!O158","v":0},{"$f":"Salary_Entitlement!P158","v":0},{"$error":"#DIV/0!"},{"$error":"#DIV/0!"},{"$f":"INDEX(Deduction!$A$3:$K$501,MATCH(1,(Deduction!$A$3:$A$501=Sheet8!A157)*(Deduction!$B$3:$B$501=Sheet8!B157)*(Deduction!$C$3:$C$501=Sheet8!D157),0),5)","v":0},{"$f":"INDEX(Deduction!$A$3:$K$501,MATCH(1,(Deduction!$A$3:$A$501=Sheet8!A157)*(Deduction!$B$3:$B$501=Sheet8!B157)*(Deduction!$C$3:$C$501=Sheet8!D157),0),6)","v":0},{"$f":"INDEX(Deduction!$A$3:$K$501,MATCH(1,(Deduction!$A$3:$A$501=Sheet8!A157)*(Deduction!$B$3:$B$501=Sheet8!B157)*(Deduction!$C$3:$C$501=Sheet8!D157),0),7)","v":0},{"$f":"INDEX(Deduction!$A$3:$K$501,MATCH(1,(Deduction!$A$3:$A$501=Sheet8!A157)*(Deduction!$B$3:$B$501=Sheet8!B157)*(Deduction!$C$3:$C$501=Sheet8!D157),0),8)","v":0},{"$f":"INDEX(Deduction!$A$3:$K$501,MATCH(1,(Deduction!$A$3:$A$501=Sheet8!A157)*(Deduction!$B$3:$B$501=Sheet8!B157)*(Deduction!$C$3:$C$501=Sheet8!D157),0),9)","v":0},{"$f":"INDEX(Deduction!$A$3:$K$501,MATCH(1,(Deduction!$A$3:$A$501=Sheet8!A157)*(Deduction!$B$3:$B$501=Sheet8!B157)*(Deduction!$C$3:$C$501=Sheet8!D157),0),10)","v":0},{"$f":"INDEX(Deduction!$A$3:$K$501,MATCH(1,(Deduction!$A$3:$A$501=Sheet8!A157)*(Deduction!$B$3:$B$501=Sheet8!B157)*(Deduction!$C$3:$C$501=Sheet8!D157),0),11)","v":0},{"$error":"#DIV/0!"},{"$f":"VLOOKUP(D157,Emp_Master!$B$3:$H$501,7)","v":{"$error":"#N/A"}}]
[{"$f":"Salary_Entitlement!A159","v":0},{"$f":"Salary_Entitlement!B159","v":0},{"$f":"Salary_Entitlement!C159","v":0},{"$f":"Salary_Entitlement!D159","v":0},{"$f":"Salary_Entitlement!E159","v":{"$error":"#N/A"}},{"$f":"Salary_Entitlement!F159","v":0},{"$f":"Salary_Entitlement!G159","v":0},{"$f":"Salary_Entitlement!H159","v":0},{"$f":"Salary_Entitlement!I159","v":0},{"$f":"Salary_Entitlement!J159","v":0},{"$f":"Salary_Entitlement!K159","v":0},{"$f":"Salary_Entitlement!L159","v":0},{"$f":"Salary_Entitlement!M159","v":0},{"$f":"Salary_Entitlement!N159","v":0},{"$f":"Salary_Entitlement!O159","v":0},{"$f":"Salary_Entitlement!P159","v":0},{"$error":"#DIV/0!"},{"$error":"#DIV/0!"},{"$f":"INDEX(Deduction!$A$3:$K$501,MATCH(1,(Deduction!$A$3:$A$501=Sheet8!A158)*(Deduction!$B$3:$B$501=Sheet8!B158)*(Deduction!$C$3:$C$501=Sheet8!D158),0),5)","v":0},{"$f":"INDEX(Deduction!$A$3:$K$501,MATCH(1,(Deduction!$A$3:$A$501=Sheet8!A158)*(Deduction!$B$3:$B$501=Sheet8!B158)*(Deduction!$C$3:$C$501=Sheet8!D158),0),6)","v":0},{"$f":"INDEX(Deduction!$A$3:$K$501,MATCH(1,(Deduction!$A$3:$A$501=Sheet8!A158)*(Deduction!$B$3:$B$501=Sheet8!B158)*(Deduction!$C$3:$C$501=Sheet8!D158),0),7)","v":0},{"$f":"INDEX(Deduction!$A$3:$K$501,MATCH(1,(Deduction!$A$3:$A$501=Sheet8!A158)*(Deduction!$B$3:$B$501=Sheet8!B158)*(Deduction!$C$3:$C$501=Sheet8!D158),0),8)","v":0},{"$f":"INDEX(Deduction!$A$3:$K$501,MATCH(1,(Deduction!$A$3:$A$501=Sheet8!A158)*(Deduction!$B$3:$B$501=Sheet8!B158)*(Deduction!$C$3:$C$501=Sheet8!D158),0),9)","v":0},{"$f":"INDEX(Deduction!$A$3:$K$501,MATCH(1,(Deduction!$A$3:$A$501=Sheet8!A158)*(Deduction!$B$3:$B$501=Sheet8!B158)*(Deduction!$C$3:$C$501=Sheet8!D158),0),10)","v":0},{"$f":"INDEX(Deduction!$A$3:$K$501,MATCH(1,(Deduction!$A$3:$A$501=Sheet8!A158)*(Deduction!$B$3:$B$501=Sheet8!B158)*(Deduction!$C$3:$C$501=Sheet8!D158),0),11)","v":0},{"$error":"#DIV/0!"},{"$f":"VLOOKUP(D158,Emp_Master!$B$3:$H$501,7)","v":{"$error":"#N/A"}}]
[{"$f":"Salary_Entitlement!A160","v":0},{"$f":"Salary_Entitlement!B160","v":0},{"$f":"Salary_Entitlement!C160","v":0},{"$f":"Salary_Entitlement!D160","v":0},{"$f":"Salary_Entitlement!E160","v":{"$error":"#N/A"}},{"$f":"Salary_Entitlement!F160","v":0},{"$f":"Salary_Entitlement!G160","v":0},{"$f":"Salary_Entitlement!H160","v":0},{"$f":"Salary_Entitlement!I160","v":0},{"$f":"Salary_Entitlement!J160","v":0},{"$f":"Salary_Entitlement!K160","v":0},{"$f":"Salary_Entitlement!L160","v":0},{"$f":"Salary_Entitlement!M160","v":0},{"$f":"Salary_Entitlement!N160","v":0},{"$f":"Salary_Entitlement!O160","v":0},{"$f":"Salary_Entitlement!P160","v":0},{"$error":"#DIV/0!"},{"$error":"#DIV/0!"},{"$f":"INDEX(Deduction!$A$3:$K$501,MATCH(1,(Deduction!$A$3:$A$501=Sheet8!A159)*(Deduction!$B$3:$B$501=Sheet8!B159)*(Deduction!$C$3:$C$501=Sheet8!D159),0),5)","v":0},{"$f":"INDEX(Deduction!$A$3:$K$501,MATCH(1,(Deduction!$A$3:$A$501=Sheet8!A159)*(Deduction!$B$3:$B$501=Sheet8!B159)*(Deduction!$C$3:$C$501=Sheet8!D159),0),6)","v":0},{"$f":"INDEX(Deduction!$A$3:$K$501,MATCH(1,(Deduction!$A$3:$A$501=Sheet8!A159)*(Deduction!$B$3:$B$501=Sheet8!B159)*(Deduction!$C$3:$C$501=Sheet8!D159),0),7)","v":0},{"$f":"INDEX(Deduction!$A$3:$K$501,MATCH(1,(Deduction!$A$3:$A$501=Sheet8!A159)*(Deduction!$B$3:$B$501=Sheet8!B159)*(Deduction!$C$3:$C$501=Sheet8!D159),0),8)","v":0},{"$f":"INDEX(Deduction!$A$3:$K$501,MATCH(1,(Deduction!$A$3:$A$501=Sheet8!A159)*(Deduction!$B$3:$B$501=Sheet8!B159)*(Deduction!$C$3:$C$501=Sheet8!D159),0),9)","v":0},{"$f":"INDEX(Deduction!$A$3:$K$501,MATCH(1,(Deduction!$A$3:$A$501=Sheet8!A159)*(Deduction!$B$3:$B$501=Sheet8!B159)*(Deduction!$C$3:$C$501=Sheet8!D159),0),10)","v":0},{"$f":"INDEX(Deduction!$A$3:$K$501,MATCH(1,(Deduction!$A$3:$A$501=Sheet8!A159)*(Deduction!$B$3:$B$501=Sheet8!B159)*(Deduction!$C$3:$C$501=Sheet8!D159),0),11)","v":0},{"$error":"#DIV/0!"},{"$f":"VLOOKUP(D159,Emp_Master!$B$3:$H$501,7)","v":{"$error":"#N/A"}}]
[{"$f":"Salary_Entitlement!A161","v":0},{"$f":"Salary_Entitlement!B161","v":0},{"$f":"Salary_Entitlement!C161","v":0},{"$f":"Salary_Entitlement!D161","v":0},{"$f":"Salary_Entitlement!E161","v":{"$error":"#N/A"}},{"$f":"Salary_Entitlement!F161","v":0},{"$f":"Salary_Entitlement!G161","v":0},{"$f":"Salary_Entitlement!H161","v":0},{"$f":"Salary_Entitlement!I161","v":0},{"$f":"Salary_Entitlement!J161","v":0},{"$f":"Salary_Entitlement!K161","v":0},{"$f":"Salary_Entitlement!L161","v":0},{"$f":"Salary_Entitlement!M161","v":0},{"$f":"Salary_Entitlement!N161","v":0},{"$f":"Salary_Entitlement!O161","v":0},{"$f":"Salary_Entitlement!P161","v":0},{"$error":"#DIV/0!"},{"$error":"#DIV/0!"},{"$f":"INDEX(Deduction!$A$3:$K$501,MATCH(1,(Deduction!$A$3:$A$501=Sheet8!A160)*(Deduction!$B$3:$B$501=Sheet8!B160)*(Deduction!$C$3:$C$501=Sheet8!D160),0),5)","v":0},{"$f":"INDEX(Deduction!$A$3:$K$501,MATCH(1,(Deduction!$A$3:$A$501=Sheet8!A160)*(Deduction!$B$3:$B$501=Sheet8!B160)*(Deduction!$C$3:$C$501=Sheet8!D160),0),6)","v":0},{"$f":"INDEX(Deduction!$A$3:$K$501,MATCH(1,(Deduction!$A$3:$A$501=Sheet8!A160)*(Deduction!$B$3:$B$501=Sheet8!B160)*(Deduction!$C$3:$C$501=Sheet8!D160),0),7)","v":0},{"$f":"INDEX(Deduction!$A$3:$K$501,MATCH(1,(Deduction!$A$3:$A$501=Sheet8!A160)*(Deduction!$B$3:$B$501=Sheet8!B160)*(Deduction!$C$3:$C$501=Sheet8!D160),0),8)","v":0},{"$f":"INDEX(Deduction!$A$3:$K$501,MATCH(1,(Deduction!$A$3:$A$501=Sheet8!A160)*(Deduction!$B$3:$B$501=Sheet8!B160)*(Deduction!$C$3:$C$501=Sheet8!D160),0),9)","v":0},{"$f":"INDEX(Deduction!$A$3:$K$501,MATCH(1,(Deduction!$A$3:$A$501=Sheet8!A160)*(Deduction!$B$3:$B$501=Sheet8!B160)*(Deduction!$C$3:$C$501=Sheet8!D160),0),10)","v":0},{"$f":"INDEX(Deduction!$A$3:$K$501,MATCH(1,(Deduction!$A$3:$A$501=Sheet8!A160)*(Deduction!$B$3:$B$501=Sheet8!B160)*(Deduction!$C$3:$C$501=Sheet8!D160),0),11)","v":0},{"$error":"#DIV/0!"},{"$f":"VLOOKUP(D160,Emp_Master!$B$3:$H$501,7)","v":{"$error":"#N/A"}}]
[{"$f":"Salary_Entitlement!A162","v":0},{"$f":"Salary_Entitlement!B162","v":0},{"$f":"Salary_Entitlement!C162","v":0},{"$f":"Salary_Entitlement!D162","v":0},{"$f":"Salary_Entitlement!E162","v":{"$error":"#N/A"}},{"$f":"Salary_Entitlement!F162","v":0},{"$f":"Salary_Entitlement!G162","v":0},{"$f":"Salary_Entitlement!H162","v":0},{"$f":"Salary_Entitlement!I162","v":0},{"$f":"Salary_Entitlement!J162","v":0},{"$f":"Salary_Entitlement!K162","v":0},{"$f":"Salary_Entitlement!L162","v":0},{"$f":"Salary_Entitlement!M162","v":0},{"$f":"Salary_Entitlement!N162","v":0},{"$f":"Salary_Entitlement!O162","v":0},{"$f":"Salary_Entitlement!P162","v":0},{"$error":"#DIV/0!"},{"$error":"#DIV/0!"},{"$f":"INDEX(Deduction!$A$3:$K$501,MATCH(1,(Deduction!$A$3:$A$501=Sheet8!A161)*(Deduction!$B$3:$B$501=Sheet8!B161)*(Deduction!$C$3:$C$501=Sheet8!D161),0),5)","v":0},{"$f":"INDEX(Deduction!$A$3:$K$501,MATCH(1,(Deduction!$A$3:$A$501=Sheet8!A161)*(Deduction!$B$3:$B$501=Sheet8!B161)*(Deduction!$C$3:$C$501=Sheet8!D161),0),6)","v":0},{"$f":"INDEX(Deduction!$A$3:$K$501,MATCH(1,(Deduction!$A$3:$A$501=Sheet8!A161)*(Deduction!$B$3:$B$501=Sheet8!B161)*(Deduction!$C$3:$C$501=Sheet8!D161),0),7)","v":0},{"$f":"INDEX(Deduction!$A$3:$K$501,MATCH(1,(Deduction!$A$3:$A$501=Sheet8!A161)*(Deduction!$B$3:$B$501=Sheet8!B161)*(Deduction!$C$3:$C$501=Sheet8!D161),0),8)","v":0},{"$f":"INDEX(Deduction!$A$3:$K$501,MATCH(1,(Deduction!$A$3:$A$501=Sheet8!A161)*(Deduction!$B$3:$B$501=Sheet8!B161)*(Deduction!$C$3:$C$501=Sheet8!D161),0),9)","v":0},{"$f":"INDEX(Deduction!$A$3:$K$501,MATCH(1,(Deduction!$A$3:$A$501=Sheet8!A161)*(Deduction!$B$3:$B$501=Sheet8!B161)*(Deduction!$C$3:$C$501=Sheet8!D161),0),10)","v":0},{"$f":"INDEX(Deduction!$A$3:$K$501,MATCH(1,(Deduction!$A$3:$A$501=Sheet8!A161)*(Deduction!$B$3:$B$501=Sheet8!B161)*(Deduction!$C$3:$C$501=Sheet8!D161),0),11)","v":0},{"$error":"#DIV/0!"},{"$f":"VLOOKUP(D161,Emp_Master!$B$3:$H$501,7)","v":{"$error":"#N/A"}}]
[{"$f":"Salary_Entitlement!A163","v":0},{"$f":"Salary_Entitlement!B163","v":0},{"$f":"Salary_Entitlement!C163","v":0},{"$f":"Salary_Entitlement!D163","v":0},{"$f":"Salary_Entitlement!E163","v":{"$error":"#N/A"}},{"$f":"Salary_Entitlement!F163","v":0},{"$f":"Salary_Entitlement!G163","v":0},{"$f":"Salary_Entitlement!H163","v":0},{"$f":"Salary_Entitlement!I163","v":0},{"$f":"Salary_Entitlement!J163","v":0},{"$f":"Salary_Entitlement!K163","v":0},{"$f":"Salary_Entitlement!L163","v":0},{"$f":"Salary_Entitlement!M163","v":0},{"$f":"Salary_Entitlement!N163","v":0},{"$f":"Salary_Entitlement!O163","v":0},{"$f":"Salary_Entitlement!P163","v":0},{"$error":"#DIV/0!"},{"$error":"#DIV/0!"},{"$f":"INDEX(Deduction!$A$3:$K$501,MATCH(1,(Deduction!$A$3:$A$501=Sheet8!A162)*(Deduction!$B$3:$B$501=Sheet8!B162)*(Deduction!$C$3:$C$501=Sheet8!D162),0),5)","v":0},{"$f":"INDEX(Deduction!$A$3:$K$501,MATCH(1,(Deduction!$A$3:$A$501=Sheet8!A162)*(Deduction!$B$3:$B$501=Sheet8!B162)*(Deduction!$C$3:$C$501=Sheet8!D162),0),6)","v":0},{"$f":"INDEX(Deduction!$A$3:$K$501,MATCH(1,(Deduction!$A$3:$A$501=Sheet8!A162)*(Deduction!$B$3:$B$501=Sheet8!B162)*(Deduction!$C$3:$C$501=Sheet8!D162),0),7)","v":0},{"$f":"INDEX(Deduction!$A$3:$K$501,MATCH(1,(Deduction!$A$3:$A$501=Sheet8!A162)*(Deduction!$B$3:$B$501=Sheet8!B162)*(Deduction!$C$3:$C$501=Sheet8!D162),0),8)","v":0},{"$f":"INDEX(Deduction!$A$3:$K$501,MATCH(1,(Deduction!$A$3:$A$501=Sheet8!A162)*(Deduction!$B$3:$B$501=Sheet8!B162)*(Deduction!$C$3:$C$501=Sheet8!D162),0),9)","v":0},{"$f":"INDEX(Deduction!$A$3:$K$501,MATCH(1,(Deduction!$A$3:$A$501=Sheet8!A162)*(Deduction!$B$3:$B$501=Sheet8!B162)*(Deduction!$C$3:$C$501=Sheet8!D162),0),10)","v":0},{"$f":"INDEX(Deduction!$A$3:$K$501,MATCH(1,(Deduction!$A$3:$A$501=Sheet8!A162)*(Deduction!$B$3:$B$501=Sheet8!B162)*(Deduction!$C$3:$C$501=Sheet8!D162),0),11)","v":0},{"$error":"#DIV/0!"},{"$f":"VLOOKUP(D162,Emp_Master!$B$3:$H$501,7)","v":{"$error":"#N/A"}}]
[{"$f":"Salary_Entitlement!A164","v":0},{"$f":"Salary_Entitlement!B164","v":0},{"$f":"Salary_Entitlement!C164","v":0},{"$f":"Salary_Entitlement!D164","v":0},{"$f":"Salary_Entitlement!E164","v":{"$error":"#N/A"}},{"$f":"Salary_Entitlement!F164","v":0},{"$f":"Salary_Entitlement!G164","v":0},{"$f":"Salary_Entitlement!H164","v":0},{"$f":"Salary_Entitlement!I164","v":0},{"$f":"Salary_Entitlement!J164","v":0},{"$f":"Salary_Entitlement!K164","v":0},{"$f":"Salary_Entitlement!L164","v":0},{"$f":"Salary_Entitlement!M164","v":0},{"$f":"Salary_Entitlement!N164","v":0},{"$f":"Salary_Entitlement!O164","v":0},{"$f":"Salary_Entitlement!P164","v":0},{"$error":"#DIV/0!"},{"$error":"#DIV/0!"},{"$f":"INDEX(Deduction!$A$3:$K$501,MATCH(1,(Deduction!$A$3:$A$501=Sheet8!A163)*(Deduction!$B$3:$B$501=Sheet8!B163)*(Deduction!$C$3:$C$501=Sheet8!D163),0),5)","v":0},{"$f":"INDEX(Deduction!$A$3:$K$501,MATCH(1,(Deduction!$A$3:$A$501=Sheet8!A163)*(Deduction!$B$3:$B$501=Sheet8!B163)*(Deduction!$C$3:$C$501=Sheet8!D163),0),6)","v":0},{"$f":"INDEX(Deduction!$A$3:$K$501,MATCH(1,(Deduction!$A$3:$A$501=Sheet8!A163)*(Deduction!$B$3:$B$501=Sheet8!B163)*(Deduction!$C$3:$C$501=Sheet8!D163),0),7)","v":0},{"$f":"INDEX(Deduction!$A$3:$K$501,MATCH(1,(Deduction!$A$3:$A$501=Sheet8!A163)*(Deduction!$B$3:$B$501=Sheet8!B163)*(Deduction!$C$3:$C$501=Sheet8!D163),0),8)","v":0},{"$f":"INDEX(Deduction!$A$3:$K$501,MATCH(1,(Deduction!$A$3:$A$501=Sheet8!A163)*(Deduction!$B$3:$B$501=Sheet8!B163)*(Deduction!$C$3:$C$501=Sheet8!D163),0),9)","v":0},{"$f":"INDEX(Deduction!$A$3:$K$501,MATCH(1,(Deduction!$A$3:$A$501=Sheet8!A163)*(Deduction!$B$3:$B$501=Sheet8!B163)*(Deduction!$C$3:$C$501=Sheet8!D163),0),10)","v":0},{"$f":"INDEX(Deduction!$A$3:$K$501,MATCH(1,(Deduction!$A$3:$A$501=Sheet8!A163)*(Deduction!$B$3:$B$501=Sheet8!B163)*(Deduction!$C$3:$C$501=Sheet8!D163),0),11)","v":0},{"$error":"#DIV/0!"},{"$f":"VLOOKUP(D163,Emp_Master!$B$3:$H$501,7)","v":{"$error":"#N/A"}}]
[{"$f":"Salary_Entitlement!A165","v":0},{"$f":"Salary_Entitlement!B165","v":0},{"$f":"Salary_Entitlement!C165","v":0},{"$f":"Salary_Entitlement!D165","v":0},{"$f":"Salary_Entitlement!E165","v":{"$error":"#N/A"}},{"$f":"Salary_Entitlement!F165","v":0},{"$f":"Salary_Entitlement!G165","v":0},{"$f":"Salary_Entitlement!H165","v":0},{"$f":"Salary_Entitlement!I165","v":0},{"$f":"Salary_Entitlement!J165","v":0},{"$f":"Salary_Entitlement!K165","v":0},{"$f":"Salary_Entitlement!L165","v":0},{"$f":"Salary_Entitlement!M165","v":0},{"$f":"Salary_Entitlement!N165","v":0},{"$f":"Salary_Entitlement!O165","v":0},{"$f":"Salary_Entitlement!P165","v":0},{"$error":"#DIV/0!"},{"$error":"#DIV/0!"},{"$f":"INDEX(Deduction!$A$3:$K$501,MATCH(1,(Deduction!$A$3:$A$501=Sheet8!A164)*(Deduction!$B$3:$B$501=Sheet8!B164)*(Deduction!$C$3:$C$501=Sheet8!D164),0),5)","v":0},{"$f":"INDEX(Deduction!$A$3:$K$501,MATCH(1,(Deduction!$A$3:$A$501=Sheet8!A164)*(Deduction!$B$3:$B$501=Sheet8!B164)*(Deduction!$C$3:$C$501=Sheet8!D164),0),6)","v":0},{"$f":"INDEX(Deduction!$A$3:$K$501,MATCH(1,(Deduction!$A$3:$A$501=Sheet8!A164)*(Deduction!$B$3:$B$501=Sheet8!B164)*(Deduction!$C$3:$C$501=Sheet8!D164),0),7)","v":0},{"$f":"INDEX(Deduction!$A$3:$K$501,MATCH(1,(Deduction!$A$3:$A$501=Sheet8!A164)*(Deduction!$B$3:$B$501=Sheet8!B164)*(Deduction!$C$3:$C$501=Sheet8!D164),0),8)","v":0},{"$f":"INDEX(Deduction!$A$3:$K$501,MATCH(1,(Deduction!$A$3:$A$501=Sheet8!A164)*(Deduction!$B$3:$B$501=Sheet8!B164)*(Deduction!$C$3:$C$501=Sheet8!D164),0),9)","v":0},{"$f":"INDEX(Deduction!$A$3:$K$501,MATCH(1,(Deduction!$A$3:$A$501=Sheet8!A164)*(Deduction!$B$3:$B$501=Sheet8!B164)*(Deduction!$C$3:$C$501=Sheet8!D164),0),10)","v":0},{"$f":"INDEX(Deduction!$A$3:$K$501,MATCH(1,(Deduction!$A$3:$A$501=Sheet8!A164)*(Deduction!$B$3:$B$501=Sheet8!B164)*(Deduction!$C$3:$C$501=Sheet8!D164),0),11)","v":0},{"$error":"#DIV/0!"},{"$f":"VLOOKUP(D164,Emp_Master!$B$3:$H$501,7)","v":{"$error":"#N/A"}}]
[{"$f":"Salary_Entitlement!A166","v":0},{"$f":"Salary_Entitlement!B166","v":0},{"$f":"Salary_Entitlement!C166","v":0},{"$f":"Salary_Entitlement!D166","v":0},{"$f":"Salary_Entitlement!E166","v":{"$error":"#N/A"}},{"$f":"Salary_Entitlement!F166","v":0},{"$f":"Salary_Entitlement!G166","v":0},{"$f":"Salary_Entitlement!H166","v":0},{"$f":"Salary_Entitlement!I166","v":0},{"$f":"Salary_Entitlement!J166","v":0},{"$f":"Salary_Entitlement!K166","v":0},{"$f":"Salary_Entitlement!L166","v":0},{"$f":"Salary_Entitlement!M166","v":0},{"$f":"Salary_Entitlement!N166","v":0},{"$f":"Salary_Entitlement!O166","v":0},{"$f":"Salary_Entitlement!P166","v":0},{"$error":"#DIV/0!"},{"$error":"#DIV/0!"},{"$f":"INDEX(Deduction!$A$3:$K$501,MATCH(1,(Deduction!$A$3:$A$501=Sheet8!A165)*(Deduction!$B$3:$B$501=Sheet8!B165)*(Deduction!$C$3:$C$501=Sheet8!D165),0),5)","v":0},{"$f":"INDEX(Deduction!$A$3:$K$501,MATCH(1,(Deduction!$A$3:$A$501=Sheet8!A165)*(Deduction!$B$3:$B$501=Sheet8!B165)*(Deduction!$C$3:$C$501=Sheet8!D165),0),6)","v":0},{"$f":"INDEX(Deduction!$A$3:$K$501,MATCH(1,(Deduction!$A$3:$A$501=Sheet8!A165)*(Deduction!$B$3:$B$501=Sheet8!B165)*(Deduction!$C$3:$C$501=Sheet8!D165),0),7)","v":0},{"$f":"INDEX(Deduction!$A$3:$K$501,MATCH(1,(Deduction!$A$3:$A$501=Sheet8!A165)*(Deduction!$B$3:$B$501=Sheet8!B165)*(Deduction!$C$3:$C$501=Sheet8!D165),0),8)","v":0},{"$f":"INDEX(Deduction!$A$3:$K$501,MATCH(1,(Deduction!$A$3:$A$501=Sheet8!A165)*(Deduction!$B$3:$B$501=Sheet8!B165)*(Deduction!$C$3:$C$501=Sheet8!D165),0),9)","v":0},{"$f":"INDEX(Deduction!$A$3:$K$501,MATCH(1,(Deduction!$A$3:$A$501=Sheet8!A165)*(Deduction!$B$3:$B$501=Sheet8!B165)*(Deduction!$C$3:$C$501=Sheet8!D165),0),10)","v":0},{"$f":"INDEX(Deduction!$A$3:$K$501,MATCH(1,(Deduction!$A$3:$A$501=Sheet8!A165)*(Deduction!$B$3:$B$501=Sheet8!B165)*(Deduction!$C$3:$C$501=Sheet8!D165),0),11)","v":0},{"$error":"#DIV/0!"},{"$f":"VLOOKUP(D165,Emp_Master!$B$3:$H$501,7)","v":{"$error":"#N/A"}}]
[{"$f":"Salary_Entitlement!A167","v":0},{"$f":"Salary_Entitlement!B167","v":0},{"$f":"Salary_Entitlement!C167","v":0},{"$f":"Salary_Entitlement!D167","v":0},{"$f":"Salary_Entitlement!E167","v":{"$error":"#N/A"}},{"$f":"Salary_Entitlement!F167","v":0},{"$f":"Salary_Entitlement!G167","v":0},{"$f":"Salary_Entitlement!H167","v":0},{"$f":"Salary_Entitlement!I167","v":0},{"$f":"Salary_Entitlement!J167","v":0},{"$f":"Salary_Entitlement!K167","v":0},{"$f":"Salary_Entitlement!L167","v":0},{"$f":"Salary_Entitlement!M167","v":0},{"$f":"Salary_Entitlement!N167","v":0},{"$f":"Salary_Entitlement!O167","v":0},{"$f":"Salary_Entitlement!P167","v":0},{"$error":"#DIV/0!"},{"$error":"#DIV/0!"},{"$f":"INDEX(Deduction!$A$3:$K$501,MATCH(1,(Deduction!$A$3:$A$501=Sheet8!A166)*(Deduction!$B$3:$B$501=Sheet8!B166)*(Deduction!$C$3:$C$501=Sheet8!D166),0),5)","v":0},{"$f":"INDEX(Deduction!$A$3:$K$501,MATCH(1,(Deduction!$A$3:$A$501=Sheet8!A166)*(Deduction!$B$3:$B$501=Sheet8!B166)*(Deduction!$C$3:$C$501=Sheet8!D166),0),6)","v":0},{"$f":"INDEX(Deduction!$A$3:$K$501,MATCH(1,(Deduction!$A$3:$A$501=Sheet8!A166)*(Deduction!$B$3:$B$501=Sheet8!B166)*(Deduction!$C$3:$C$501=Sheet8!D166),0),7)","v":0},{"$f":"INDEX(Deduction!$A$3:$K$501,MATCH(1,(Deduction!$A$3:$A$501=Sheet8!A166)*(Deduction!$B$3:$B$501=Sheet8!B166)*(Deduction!$C$3:$C$501=Sheet8!D166),0),8)","v":0},{"$f":"INDEX(Deduction!$A$3:$K$501,MATCH(1,(Deduction!$A$3:$A$501=Sheet8!A166)*(Deduction!$B$3:$B$501=Sheet8!B166)*(Deduction!$C$3:$C$501=Sheet8!D166),0),9)","v":0},{"$f":"INDEX(Deduction!$A$3:$K$501,MATCH(1,(Deduction!$A$3:$A$501=Sheet8!A166)*(Deduction!$B$3:$B$501=Sheet8!B166)*(Deduction!$C$3:$C$501=Sheet8!D166),0),10)","v":0},{"$f":"INDEX(Deduction!$A$3:$K$501,MATCH(1,(Deduction!$A$3:$A$501=Sheet8!A166)*(Deduction!$B$3:$B$501=Sheet8!B166)*(Deduction!$C$3:$C$501=Sheet8!D166),0),11)","v":0},{"$error":"#DIV/0!"},{"$f":"VLOOKUP(D166,Emp_Master!$B$3:$H$501,7)","v":{"$error":"#N/A"}}]
[{"$f":"Salary_Entitlement!A168","v":0},{"$f":"Salary_Entitlement!B168","v":0},{"$f":"Salary_Entitlement!C168","v":0},{"$f":"Salary_Entitlement!D168","v":0},{"$f":"Salary_Entitlement!E168","v":{"$error":"#N/A"}},{"$f":"Salary_Entitlement!F168","v":0},{"$f":"Salary_Entitlement!G168","v":0},{"$f":"Salary_Entitlement!H168","v":0},{"$f":"Salary_Entitlement!I168","v":0},{"$f":"Salary_Entitlement!J168","v":0},{"$f":"Salary_Entitlement!K168","v":0},{"$f":"Salary_Entitlement!L168","v":0},{"$f":"Salary_Entitlement!M168","v":0},{"$f":"Salary_Entitlement!N168","v":0},{"$f":"Salary_Entitlement!O168","v":0},{"$f":"Salary_Entitlement!P168","v":0},{"$error":"#DIV/0!"},{"$error":"#DIV/0!"},{"$f":"INDEX(Deduction!$A$3:$K$501,MATCH(1,(Deduction!$A$3:$A$501=Sheet8!A167)*(Deduction!$B$3:$B$501=Sheet8!B167)*(Deduction!$C$3:$C$501=Sheet8!D167),0),5)","v":0},{"$f":"INDEX(Deduction!$A$3:$K$501,MATCH(1,(Deduction!$A$3:$A$501=Sheet8!A167)*(Deduction!$B$3:$B$501=Sheet8!B167)*(Deduction!$C$3:$C$501=Sheet8!D167),0),6)","v":0},{"$f":"INDEX(Deduction!$A$3:$K$501,MATCH(1,(Deduction!$A$3:$A$501=Sheet8!A167)*(Deduction!$B$3:$B$501=Sheet8!B167)*(Deduction!$C$3:$C$501=Sheet8!D167),0),7)","v":0},{"$f":"INDEX(Deduction!$A$3:$K$501,MATCH(1,(Deduction!$A$3:$A$501=Sheet8!A167)*(Deduction!$B$3:$B$501=Sheet8!B167)*(Deduction!$C$3:$C$501=Sheet8!D167),0),8)","v":0},{"$f":"INDEX(Deduction!$A$3:$K$501,MATCH(1,(Deduction!$A$3:$A$501=Sheet8!A167)*(Deduction!$B$3:$B$501=Sheet8!B167)*(Deduction!$C$3:$C$501=Sheet8!D167),0),9)","v":0},{"$f":"INDEX(Deduction!$A$3:$K$501,MATCH(1,(Deduction!$A$3:$A$501=Sheet8!A167)*(Deduction!$B$3:$B$501=Sheet8!B167)*(Deduction!$C$3:$C$501=Sheet8!D167),0),10)","v":0},{"$f":"INDEX(Deduction!$A$3:$K$501,MATCH(1,(Deduction!$A$3:$A$501=Sheet8!A167)*(Deduction!$B$3:$B$501=Sheet8!B167)*(Deduction!$C$3:$C$501=Sheet8!D167),0),11)","v":0},{"$error":"#DIV/0!"},{"$f":"VLOOKUP(D167,Emp_Master!$B$3:$H$501,7)","v":{"$error":"#N/A"}}]
[{"$f":"Salary_Entitlement!A169","v":0},{"$f":"Salary_Entitlement!B169","v":0},{"$f":"Salary_Entitlement!C169","v":0},{"$f":"Salary_Entitlement!D169","v":0},{"$f":"Salary_Entitlement!E169","v":{"$error":"#N/A"}},{"$f":"Salary_Entitlement!F169","v":0},{"$f":"Salary_Entitlement!G169","v":0},{"$f":"Salary_Entitlement!H169","v":0},{"$f":"Salary_Entitlement!I169","v":0},{"$f":"Salary_Entitlement!J169","v":0},{"$f":"Salary_Entitlement!K169","v":0},{"$f":"Salary_Entitlement!L169","v":0},{"$f":"Salary_Entitlement!M169","v":0},{"$f":"Salary_Entitlement!N169","v":0},{"$f":"Salary_Entitlement!O169","v":0},{"$f":"Salary_Entitlement!P169","v":0},{"$error":"#DIV/0!"},{"$error":"#DIV/0!"},{"$f":"INDEX(Deduction!$A$3:$K$501,MATCH(1,(Deduction!$A$3:$A$501=Sheet8!A168)*(Deduction!$B$3:$B$501=Sheet8!B168)*(Deduction!$C$3:$C$501=Sheet8!D168),0),5)","v":0},{"$f":"INDEX(Deduction!$A$3:$K$501,MATCH(1,(Deduction!$A$3:$A$501=Sheet8!A168)*(Deduction!$B$3:$B$501=Sheet8!B168)*(Deduction!$C$3:$C$501=Sheet8!D168),0),6)","v":0},{"$f":"INDEX(Deduction!$A$3:$K$501,MATCH(1,(Deduction!$A$3:$A$501=Sheet8!A168)*(Deduction!$B$3:$B$501=Sheet8!B168)*(Deduction!$C$3:$C$501=Sheet8!D168),0),7)","v":0},{"$f":"INDEX(Deduction!$A$3:$K$501,MATCH(1,(Deduction!$A$3:$A$501=Sheet8!A168)*(Deduction!$B$3:$B$501=Sheet8!B168)*(Deduction!$C$3:$C$501=Sheet8!D168),0),8)","v":0},{"$f":"INDEX(Deduction!$A$3:$K$501,MATCH(1,(Deduction!$A$3:$A$501=Sheet8!A168)*(Deduction!$B$3:$B$501=Sheet8!B168)*(Deduction!$C$3:$C$501=Sheet8!D168),0),9)","v":0},{"$f":"INDEX(Deduction!$A$3:$K$501,MATCH(1,(Deduction!$A$3:$A$501=Sheet8!A168)*(Deduction!$B$3:$B$501=Sheet8!B168)*(Deduction!$C$3:$C$501=Sheet8!D168),0),10)","v":0},{"$f":"INDEX(Deduction!$A$3:$K$501,MATCH(1,(Deduction!$A$3:$A$501=Sheet8!A168)*(Deduction!$B$3:$B$501=Sheet8!B168)*(Deduction!$C$3:$C$501=Sheet8!D168),0),11)","v":0},{"$error":"#DIV/0!"},{"$f":"VLOOKUP(D168,Emp_Master!$B$3:$H$501,7)","v":{"$error":"#N/A"}}]
[{"$f":"Salary_Entitlement!A170","v":0},{"$f":"Salary_Entitlement!B170","v":0},{"$f":"Salary_Entitlement!C170","v":0},{"$f":"Salary_Entitlement!D170","v":0},{"$f":"Salary_Entitlement!E170","v":{"$error":"#N/A"}},{"$f":"Salary_Entitlement!F170","v":0},{"$f":"Salary_Entitlement!G170","v":0},{"$f":"Salary_Entitlement!H170","v":0},{"$f":"Salary_Entitlement!I170","v":0},{"$f":"Salary_Entitlement!J170","v":0},{"$f":"Salary_Entitlement!K170","v":0},{"$f":"Salary_Entitlement!L170","v":0},{"$f":"Salary_Entitlement!M170","v":0},{"$f":"Salary_Entitlement!N170","v":0},{"$f":"Salary_Entitlement!O170","v":0},{"$f":"Salary_Entitlement!P170","v":0},{"$error":"#DIV/0!"},{"$error":"#DIV/0!"},{"$f":"INDEX(Deduction!$A$3:$K$501,MATCH(1,(Deduction!$A$3:$A$501=Sheet8!A169)*(Deduction!$B$3:$B$501=Sheet8!B169)*(Deduction!$C$3:$C$501=Sheet8!D169),0),5)","v":0},{"$f":"INDEX(Deduction!$A$3:$K$501,MATCH(1,(Deduction!$A$3:$A$501=Sheet8!A169)*(Deduction!$B$3:$B$501=Sheet8!B169)*(Deduction!$C$3:$C$501=Sheet8!D169),0),6)","v":0},{"$f":"INDEX(Deduction!$A$3:$K$501,MATCH(1,(Deduction!$A$3:$A$501=Sheet8!A169)*(Deduction!$B$3:$B$501=Sheet8!B169)*(Deduction!$C$3:$C$501=Sheet8!D169),0),7)","v":0},{"$f":"INDEX(Deduction!$A$3:$K$501,MATCH(1,(Deduction!$A$3:$A$501=Sheet8!A169)*(Deduction!$B$3:$B$501=Sheet8!B169)*(Deduction!$C$3:$C$501=Sheet8!D169),0),8)","v":0},{"$f":"INDEX(Deduction!$A$3:$K$501,MATCH(1,(Deduction!$A$3:$A$501=Sheet8!A169)*(Deduction!$B$3:$B$501=Sheet8!B169)*(Deduction!$C$3:$C$501=Sheet8!D169),0),9)","v":0},{"$f":"INDEX(Deduction!$A$3:$K$501,MATCH(1,(Deduction!$A$3:$A$501=Sheet8!A169)*(Deduction!$B$3:$B$501=Sheet8!B169)*(Deduction!$C$3:$C$501=Sheet8!D169),0),10)","v":0},{"$f":"INDEX(Deduction!$A$3:$K$501,MATCH(1,(Deduction!$A$3:$A$501=Sheet8!A169)*(Deduction!$B$3:$B$501=Sheet8!B169)*(Deduction!$C$3:$C$501=Sheet8!D169),0),11)","v":0},{"$error":"#DIV/0!"},{"$f":"VLOOKUP(D169,Emp_Master!$B$3:$H$501,7)","v":{"$error":"#N/A"}}]
[{"$f":"Salary_Entitlement!A171","v":0},{"$f":"Salary_Entitlement!B171","v":0},{"$f":"Salary_Entitlement!C171","v":0},{"$f":"Salary_Entitlement!D171","v":0},{"$f":"Salary_Entitlement!E171","v":{"$error":"#N/A"}},{"$f":"Salary_Entitlement!F171","v":0},{"$f":"Salary_Entitlement!G171","v":0},{"$f":"Salary_Entitlement!H171","v":0},{"$f":"Salary_Entitlement!I171","v":0},{"$f":"Salary_Entitlement!J171","v":0},{"$f":"Salary_Entitlement!K171","v":0},{"$f":"Salary_Entitlement!L171","v":0},{"$f":"Salary_Entitlement!M171","v":0},{"$f":"Salary_Entitlement!N171","v":0},{"$f":"Salary_Entitlement!O171","v":0},{"$f":"Salary_Entitlement!P171","v":0},{"$error":"#DIV/0!"},{"$error":"#DIV/0!"},{"$f":"INDEX(Deduction!$A$3:$K$501,MATCH(1,(Deduction!$A$3:$A$501=Sheet8!A170)*(Deduction!$B$3:$B$501=Sheet8!B170)*(Deduction!$C$3:$C$501=Sheet8!D170),0),5)","v":0},{"$f":"INDEX(Deduction!$A$3:$K$501,MATCH(1,(Deduction!$A$3:$A$501=Sheet8!A170)*(Deduction!$B$3:$B$501=Sheet8!B170)*(Deduction!$C$3:$C$501=Sheet8!D170),0),6)","v":0},{"$f":"INDEX(Deduction!$A$3:$K$501,MATCH(1,(Deduction!$A$3:$A$501=Sheet8!A170)*(Deduction!$B$3:$B$501=Sheet8!B170)*(Deduction!$C$3:$C$501=Sheet8!D170),0),7)","v":0},{"$f":"INDEX(Deduction!$A$3:$K$501,MATCH(1,(Deduction!$A$3:$A$501=Sheet8!A170)*(Deduction!$B$3:$B$501=Sheet8!B170)*(Deduction!$C$3:$C$501=Sheet8!D170),0),8)","v":0},{"$f":"INDEX(Deduction!$A$3:$K$501,MATCH(1,(Deduction!$A$3:$A$501=Sheet8!A170)*(Deduction!$B$3:$B$501=Sheet8!B170)*(Deduction!$C$3:$C$501=Sheet8!D170),0),9)","v":0},{"$f":"INDEX(Deduction!$A$3:$K$501,MATCH(1,(Deduction!$A$3:$A$501=Sheet8!A170)*(Deduction!$B$3:$B$501=Sheet8!B170)*(Deduction!$C$3:$C$501=Sheet8!D170),0),10)","v":0},{"$f":"INDEX(Deduction!$A$3:$K$501,MATCH(1,(Deduction!$A$3:$A$501=Sheet8!A170)*(Deduction!$B$3:$B$501=Sheet8!B170)*(Deduction!$C$3:$C$501=Sheet8!D170),0),11)","v":0},{"$error":"#DIV/0!"},{"$f":"VLOOKUP(D170,Emp_Master!$B$3:$H$501,7)","v":{"$error":"#N/A"}}]
[{"$f":"Salary_Entitlement!A172","v":0},{"$f":"Salary_Entitlement!B172","v":0},{"$f":"Salary_Entitlement!C172","v":0},{"$f":"Salary_Entitlement!D172","v":0},{"$f":"Salary_Entitlement!E172","v":{"$error":"#N/A"}},{"$f":"Salary_Entitlement!F172","v":0},{"$f":"Salary_Entitlement!G172","v":0},{"$f":"Salary_Entitlement!H172","v":0},{"$f":"Salary_Entitlement!I172","v":0},{"$f":"Salary_Entitlement!J172","v":0},{"$f":"Salary_Entitlement!K172","v":0},{"$f":"Salary_Entitlement!L172","v":0},{"$f":"Salary_Entitlement!M172","v":0},{"$f":"Salary_Entitlement!N172","v":0},{"$f":"Salary_Entitlement!O172","v":0},{"$f":"Salary_Entitlement!P172","v":0},{"$error":"#DIV/0!"},{"$error":"#DIV/0!"},{"$f":"INDEX(Deduction!$A$3:$K$501,MATCH(1,(Deduction!$A$3:$A$501=Sheet8!A171)*(Deduction!$B$3:$B$501=Sheet8!B171)*(Deduction!$C$3:$C$501=Sheet8!D171),0),5)","v":0},{"$f":"INDEX(Deduction!$A$3:$K$501,MATCH(1,(Deduction!$A$3:$A$501=Sheet8!A171)*(Deduction!$B$3:$B$501=Sheet8!B171)*(Deduction!$C$3:$C$501=Sheet8!D171),0),6)","v":0},{"$f":"INDEX(Deduction!$A$3:$K$501,MATCH(1,(Deduction!$A$3:$A$501=Sheet8!A171)*(Deduction!$B$3:$B$501=Sheet8!B171)*(Deduction!$C$3:$C$501=Sheet8!D171),0),7)","v":0},{"$f":"INDEX(Deduction!$A$3:$K$501,MATCH(1,(Deduction!$A$3:$A$501=Sheet8!A171)*(Deduction!$B$3:$B$501=Sheet8!B171)*(Deduction!$C$3:$C$501=Sheet8!D171),0),8)","v":0},{"$f":"INDEX(Deduction!$A$3:$K$501,MATCH(1,(Deduction!$A$3:$A$501=Sheet8!A171)*(Deduction!$B$3:$B$501=Sheet8!B171)*(Deduction!$C$3:$C$501=Sheet8!D171),0),9)","v":0},{"$f":"INDEX(Deduction!$A$3:$K$501,MATCH(1,(Deduction!$A$3:$A$501=Sheet8!A171)*(Deduction!$B$3:$B$501=Sheet8!B171)*(Deduction!$C$3:$C$501=Sheet8!D171),0),10)","v":0},{"$f":"INDEX(Deduction!$A$3:$K$501,MATCH(1,(Deduction!$A$3:$A$501=Sheet8!A171)*(Deduction!$B$3:$B$501=Sheet8!B171)*(Deduction!$C$3:$C$501=Sheet8!D171),0),11)","v":0},{"$error":"#DIV/0!"},{"$f":"VLOOKUP(D171,Emp_Master!$B$3:$H$501,7)","v":{"$error":"#N/A"}}]
[{"$f":"Salary_Entitlement!A173","v":0},{"$f":"Salary_Entitlement!B173","v":0},{"$f":"Salary_Entitlement!C173","v":0},{"$f":"Salary_Entitlement!D173","v":0},{"$f":"Salary_Entitlement!E173","v":{"$error":"#N/A"}},{"$f":"Salary_Entitlement!F173","v":0},{"$f":"Salary_Entitlement!G173","v":0},{"$f":"Salary_Entitlement!H173","v":0},{"$f":"Salary_Entitlement!I173","v":0},{"$f":"Salary_Entitlement!J173","v":0},{"$f":"Salary_Entitlement!K173","v":0},{"$f":"Salary_Entitlement!L173","v":0},{"$f":"Salary_Entitlement!M173","v":0},{"$f":"Salary_Entitlement!N173","v":0},{"$f":"Salary_Entitlement!O173","v":0},{"$f":"Salary_Entitlement!P173","v":0},{"$error":"#DIV/0!"},{"$error":"#DIV/0!"},{"$f":"INDEX(Deduction!$A$3:$K$501,MATCH(1,(Deduction!$A$3:$A$501=Sheet8!A172)*(Deduction!$B$3:$B$501=Sheet8!B172)*(Deduction!$C$3:$C$501=Sheet8!D172),0),5)","v":0},{"$f":"INDEX(Deduction!$A$3:$K$501,MATCH(1,(Deduction!$A$3:$A$501=Sheet8!A172)*(Deduction!$B$3:$B$501=Sheet8!B172)*(Deduction!$C$3:$C$501=Sheet8!D172),0),6)","v":0},{"$f":"INDEX(Deduction!$A$3:$K$501,MATCH(1,(Deduction!$A$3:$A$501=Sheet8!A172)*(Deduction!$B$3:$B$501=Sheet8!B172)*(Deduction!$C$3:$C$501=Sheet8!D172),0),7)","v":0},{"$f":"INDEX(Deduction!$A$3:$K$501,MATCH(1,(Deduction!$A$3:$A$501=Sheet8!A172)*(Deduction!$B$3:$B$501=Sheet8!B172)*(Deduction!$C$3:$C$501=Sheet8!D172),0),8)","v":0},{"$f":"INDEX(Deduction!$A$3:$K$501,MATCH(1,(Deduction!$A$3:$A$501=Sheet8!A172)*(Deduction!$B$3:$B$501=Sheet8!B172)*(Deduction!$C$3:$C$501=Sheet8!D172),0),9)","v":0},{"$f":"INDEX(Deduction!$A$3:$K$501,MATCH(1,(Deduction!$A$3:$A$501=Sheet8!A172)*(Deduction!$B$3:$B$501=Sheet8!B172)*(Deduction!$C$3:$C$501=Sheet8!D172),0),10)","v":0},{"$f":"INDEX(Deduction!$A$3:$K$501,MATCH(1,(Deduction!$A$3:$A$501=Sheet8!A172)*(Deduction!$B$3:$B$501=Sheet8!B172)*(Deduction!$C$3:$C$501=Sheet8!D172),0),11)","v":0},{"$error":"#DIV/0!"},{"$f":"VLOOKUP(D172,Emp_Master!$B$3:$H$501,7)","v":{"$error":"#N/A"}}]
[{"$f":"Salary_Entitlement!A174","v":0},{"$f":"Salary_Entitlement!B174","v":0},{"$f":"Salary_Entitlement!C174","v":0},{"$f":"Salary_Entitlement!D174","v":0},{"$f":"Salary_Entitlement!E174","v":{"$error":"#N/A"}},{"$f":"Salary_Entitlement!F174","v":0},{"$f":"Salary_Entitlement!G174","v":0},{"$f":"Salary_Entitlement!H174","v":0},{"$f":"Salary_Entitlement!I174","v":0},{"$f":"Salary_Entitlement!J174","v":0},{"$f":"Salary_Entitlement!K174","v":0},{"$f":"Salary_Entitlement!L174","v":0},{"$f":"Salary_Entitlement!M174","v":0},{"$f":"Salary_Entitlement!N174","v":0},{"$f":"Salary_Entitlement!O174","v":0},{"$f":"Salary_Entitlement!P174","v":0},{"$error":"#DIV/0!"},{"$error":"#DIV/0!"},{"$f":"INDEX(Deduction!$A$3:$K$501,MATCH(1,(Deduction!$A$3:$A$501=Sheet8!A173)*(Deduction!$B$3:$B$501=Sheet8!B173)*(Deduction!$C$3:$C$501=Sheet8!D173),0),5)","v":0},{"$f":"INDEX(Deduction!$A$3:$K$501,MATCH(1,(Deduction!$A$3:$A$501=Sheet8!A173)*(Deduction!$B$3:$B$501=Sheet8!B173)*(Deduction!$C$3:$C$501=Sheet8!D173),0),6)","v":0},{"$f":"INDEX(Deduction!$A$3:$K$501,MATCH(1,(Deduction!$A$3:$A$501=Sheet8!A173)*(Deduction!$B$3:$B$501=Sheet8!B173)*(Deduction!$C$3:$C$501=Sheet8!D173),0),7)","v":0},{"$f":"INDEX(Deduction!$A$3:$K$501,MATCH(1,(Deduction!$A$3:$A$501=Sheet8!A173)*(Deduction!$B$3:$B$501=Sheet8!B173)*(Deduction!$C$3:$C$501=Sheet8!D173),0),8)","v":0},{"$f":"INDEX(Deduction!$A$3:$K$501,MATCH(1,(Deduction!$A$3:$A$501=Sheet8!A173)*(Deduction!$B$3:$B$501=Sheet8!B173)*(Deduction!$C$3:$C$501=Sheet8!D173),0),9)","v":0},{"$f":"INDEX(Deduction!$A$3:$K$501,MATCH(1,(Deduction!$A$3:$A$501=Sheet8!A173)*(Deduction!$B$3:$B$501=Sheet8!B173)*(Deduction!$C$3:$C$501=Sheet8!D173),0),10)","v":0},{"$f":"INDEX(Deduction!$A$3:$K$501,MATCH(1,(Deduction!$A$3:$A$501=Sheet8!A173)*(Deduction!$B$3:$B$501=Sheet8!B173)*(Deduction!$C$3:$C$501=Sheet8!D173),0),11)","v":0},{"$error":"#DIV/0!"},{"$f":"VLOOKUP(D173,Emp_Master!$B$3:$H$501,7)","v":{"$error":"#N/A"}}]
[{"$f":"Salary_Entitlement!A175","v":0},{"$f":"Salary_Entitlement!B175","v":0},{"$f":"Salary_Entitlement!C175","v":0},{"$f":"Salary_Entitlement!D175","v":0},{"$f":"Salary_Entitlement!E175","v":{"$error":"#N/A"}},{"$f":"Salary_Entitlement!F175","v":0},{"$f":"Salary_Entitlement!G175","v":0},{"$f":"Salary_Entitlement!H175","v":0},{"$f":"Salary_Entitlement!I175","v":0},{"$f":"Salary_Entitlement!J175","v":0},{"$f":"Salary_Entitlement!K175","v":0},{"$f":"Salary_Entitlement!L175","v":0},{"$f":"Salary_Entitlement!M175","v":0},{"$f":"Salary_Entitlement!N175","v":0},{"$f":"Salary_Entitlement!O175","v":0},{"$f":"Salary_Entitlement!P175","v":0},{"$error":"#DIV/0!"},{"$error":"#DIV/0!"},{"$f":"INDEX(Deduction!$A$3:$K$501,MATCH(1,(Deduction!$A$3:$A$501=Sheet8!A174)*(Deduction!$B$3:$B$501=Sheet8!B174)*(Deduction!$C$3:$C$501=Sheet8!D174),0),5)","v":0},{"$f":"INDEX(Deduction!$A$3:$K$501,MATCH(1,(Deduction!$A$3:$A$501=Sheet8!A174)*(Deduction!$B$3:$B$501=Sheet8!B174)*(Deduction!$C$3:$C$501=Sheet8!D174),0),6)","v":0},{"$f":"INDEX(Deduction!$A$3:$K$501,MATCH(1,(Deduction!$A$3:$A$501=Sheet8!A174)*(Deduction!$B$3:$B$501=Sheet8!B174)*(Deduction!$C$3:$C$501=Sheet8!D174),0),7)","v":0},{"$f":"INDEX(Deduction!$A$3:$K$501,MATCH(1,(Deduction!$A$3:$A$501=Sheet8!A174)*(Deduction!$B$3:$B$501=Sheet8!B174)*(Deduction!$C$3:$C$501=Sheet8!D174),0),8)","v":0},{"$f":"INDEX(Deduction!$A$3:$K$501,MATCH(1,(Deduction!$A$3:$A$501=Sheet8!A174)*(Deduction!$B$3:$B$501=Sheet8!B174)*(Deduction!$C$3:$C$501=Sheet8!D174),0),9)","v":0},{"$f":"INDEX(Deduction!$A$3:$K$501,MATCH(1,(Deduction!$A$3:$A$501=Sheet8!A174)*(Deduction!$B$3:$B$501=Sheet8!B174)*(Deduction!$C$3:$C$501=Sheet8!D174),0),10)","v":0},{"$f":"INDEX(Deduction!$A$3:$K$501,MATCH(1,(Deduction!$A$3:$A$501=Sheet8!A174)*(Deduction!$B$3:$B$501=Sheet8!B174)*(Deduction!$C$3:$C$501=Sheet8!D174),0),11)","v":0},{"$error":"#DIV/0!"},{"$f":"VLOOKUP(D174,Emp_Master!$B$3:$H$501,7)","v":{"$error":"#N/A"}}]
[{"$f":"Salary_Entitlement!A176","v":0},{"$f":"Salary_Entitlement!B176","v":0},{"$f":"Salary_Entitlement!C176","v":0},{"$f":"Salary_Entitlement!D176","v":0},{"$f":"Salary_Entitlement!E176","v":{"$error":"#N/A"}},{"$f":"Salary_Entitlement!F176","v":0},{"$f":"Salary_Entitlement!G176","v":0},{"$f":"Salary_Entitlement!H176","v":0},{"$f":"Salary_Entitlement!I176","v":0},{"$f":"Salary_Entitlement!J176","v":0},{"$f":"Salary_Entitlement!K176","v":0},{"$f":"Salary_Entitlement!L176","v":0},{"$f":"Salary_Entitlement!M176","v":0},{"$f":"Salary_Entitlement!N176","v":0},{"$f":"Salary_Entitlement!O176","v":0},{"$f":"Salary_Entitlement!P176","v":0},{"$error":"#DIV/0!"},{"$error":"#DIV/0!"},{"$f":"INDEX(Deduction!$A$3:$K$501,MATCH(1,(Deduction!$A$3:$A$501=Sheet8!A175)*(Deduction!$B$3:$B$501=Sheet8!B175)*(Deduction!$C$3:$C$501=Sheet8!D175),0),5)","v":0},{"$f":"INDEX(Deduction!$A$3:$K$501,MATCH(1,(Deduction!$A$3:$A$501=Sheet8!A175)*(Deduction!$B$3:$B$501=Sheet8!B175)*(Deduction!$C$3:$C$501=Sheet8!D175),0),6)","v":0},{"$f":"INDEX(Deduction!$A$3:$K$501,MATCH(1,(Deduction!$A$3:$A$501=Sheet8!A175)*(Deduction!$B$3:$B$501=Sheet8!B175)*(Deduction!$C$3:$C$501=Sheet8!D175),0),7)","v":0},{"$f":"INDEX(Deduction!$A$3:$K$501,MATCH(1,(Deduction!$A$3:$A$501=Sheet8!A175)*(Deduction!$B$3:$B$501=Sheet8!B175)*(Deduction!$C$3:$C$501=Sheet8!D175),0),8)","v":0},{"$f":"INDEX(Deduction!$A$3:$K$501,MATCH(1,(Deduction!$A$3:$A$501=Sheet8!A175)*(Deduction!$B$3:$B$501=Sheet8!B175)*(Deduction!$C$3:$C$501=Sheet8!D175),0),9)","v":0},{"$f":"INDEX(Deduction!$A$3:$K$501,MATCH(1,(Deduction!$A$3:$A$501=Sheet8!A175)*(Deduction!$B$3:$B$501=Sheet8!B175)*(Deduction!$C$3:$C$501=Sheet8!D175),0),10)","v":0},{"$f":"INDEX(Deduction!$A$3:$K$501,MATCH(1,(Deduction!$A$3:$A$501=Sheet8!A175)*(Deduction!$B$3:$B$501=Sheet8!B175)*(Deduction!$C$3:$C$501=Sheet8!D175),0),11)","v":0},{"$error":"#DIV/0!"},{"$f":"VLOOKUP(D175,Emp_Master!$B$3:$H$501,7)","v":{"$error":"#N/A"}}]
[{"$f":"Salary_Entitlement!A177","v":0},{"$f":"Salary_Entitlement!B177","v":0},{"$f":"Salary_Entitlement!C177","v":0},{"$f":"Salary_Entitlement!D177","v":0},{"$f":"Salary_Entitlement!E177","v":{"$error":"#N/A"}},{"$f":"Salary_Entitlement!F177","v":0},{"$f":"Salary_Entitlement!G177","v":0},{"$f":"Salary_Entitlement!H177","v":0},{"$f":"Salary_Entitlement!I177","v":0},{"$f":"Salary_Entitlement!J177","v":0},{"$f":"Salary_Entitlement!K177","v":0},{"$f":"Salary_Entitlement!L177","v":0},{"$f":"Salary_Entitlement!M177","v":0},{"$f":"Salary_Entitlement!N177","v":0},{"$f":"Salary_Entitlement!O177","v":0},{"$f":"Salary_Entitlement!P177","v":0},{"$error":"#DIV/0!"},{"$error":"#DIV/0!"},{"$f":"INDEX(Deduction!$A$3:$K$501,MATCH(1,(Deduction!$A$3:$A$501=Sheet8!A176)*(Deduction!$B$3:$B$501=Sheet8!B176)*(Deduction!$C$3:$C$501=Sheet8!D176),0),5)","v":0},{"$f":"INDEX(Deduction!$A$3:$K$501,MATCH(1,(Deduction!$A$3:$A$501=Sheet8!A176)*(Deduction!$B$3:$B$501=Sheet8!B176)*(Deduction!$C$3:$C$501=Sheet8!D176),0),6)","v":0},{"$f":"INDEX(Deduction!$A$3:$K$501,MATCH(1,(Deduction!$A$3:$A$501=Sheet8!A176)*(Deduction!$B$3:$B$501=Sheet8!B176)*(Deduction!$C$3:$C$501=Sheet8!D176),0),7)","v":0},{"$f":"INDEX(Deduction!$A$3:$K$501,MATCH(1,(Deduction!$A$3:$A$501=Sheet8!A176)*(Deduction!$B$3:$B$501=Sheet8!B176)*(Deduction!$C$3:$C$501=Sheet8!D176),0),8)","v":0},{"$f":"INDEX(Deduction!$A$3:$K$501,MATCH(1,(Deduction!$A$3:$A$501=Sheet8!A176)*(Deduction!$B$3:$B$501=Sheet8!B176)*(Deduction!$C$3:$C$501=Sheet8!D176),0),9)","v":0},{"$f":"INDEX(Deduction!$A$3:$K$501,MATCH(1,(Deduction!$A$3:$A$501=Sheet8!A176)*(Deduction!$B$3:$B$501=Sheet8!B176)*(Deduction!$C$3:$C$501=Sheet8!D176),0),10)","v":0},{"$f":"INDEX(Deduction!$A$3:$K$501,MATCH(1,(Deduction!$A$3:$A$501=Sheet8!A176)*(Deduction!$B$3:$B$501=Sheet8!B176)*(Deduction!$C$3:$C$501=Sheet8!D176),0),11)","v":0},{"$error":"#DIV/0!"},{"$f":"VLOOKUP(D176,Emp_Master!$B$3:$H$501,7)","v":{"$error":"#N/A"}}]
[{"$f":"Salary_Entitlement!A178","v":0},{"$f":"Salary_Entitlement!B178","v":0},{"$f":"Salary_Entitlement!C178","v":0},{"$f":"Salary_Entitlement!D178","v":0},{"$f":"Salary_Entitlement!E178","v":{"$error":"#N/A"}},{"$f":"Salary_Entitlement!F178","v":0},{"$f":"Salary_Entitlement!G178","v":0},{"$f":"Salary_Entitlement!H178","v":0},{"$f":"Salary_Entitlement!I178","v":0},{"$f":"Salary_Entitlement!J178","v":0},{"$f":"Salary_Entitlement!K178","v":0},{"$f":"Salary_Entitlement!L178","v":0},{"$f":"Salary_Entitlement!M178","v":0},{"$f":"Salary_Entitlement!N178","v":0},{"$f":"Salary_Entitlement!O178","v":0},{"$f":"Salary_Entitlement!P178","v":0},{"$error":"#DIV/0!"},{"$error":"#DIV/0!"},{"$f":"INDEX(Deduction!$A$3:$K$501,MATCH(1,(Deduction!$A$3:$A$501=Sheet8!A177)*(Deduction!$B$3:$B$501=Sheet8!B177)*(Deduction!$C$3:$C$501=Sheet8!D177),0),5)","v":0},{"$f":"INDEX(Deduction!$A$3:$K$501,MATCH(1,(Deduction!$A$3:$A$501=Sheet8!A177)*(Deduction!$B$3:$B$501=Sheet8!B177)*(Deduction!$C$3:$C$501=Sheet8!D177),0),6)","v":0},{"$f":"INDEX(Deduction!$A$3:$K$501,MATCH(1,(Deduction!$A$3:$A$501=Sheet8!A177)*(Deduction!$B$3:$B$501=Sheet8!B177)*(Deduction!$C$3:$C$501=Sheet8!D177),0),7)","v":0},{"$f":"INDEX(Deduction!$A$3:$K$501,MATCH(1,(Deduction!$A$3:$A$501=Sheet8!A177)*(Deduction!$B$3:$B$501=Sheet8!B177)*(Deduction!$C$3:$C$501=Sheet8!D177),0),8)","v":0},{"$f":"INDEX(Deduction!$A$3:$K$501,MATCH(1,(Deduction!$A$3:$A$501=Sheet8!A177)*(Deduction!$B$3:$B$501=Sheet8!B177)*(Deduction!$C$3:$C$501=Sheet8!D177),0),9)","v":0},{"$f":"INDEX(Deduction!$A$3:$K$501,MATCH(1,(Deduction!$A$3:$A$501=Sheet8!A177)*(Deduction!$B$3:$B$501=Sheet8!B177)*(Deduction!$C$3:$C$501=Sheet8!D177),0),10)","v":0},{"$f":"INDEX(Deduction!$A$3:$K$501,MATCH(1,(Deduction!$A$3:$A$501=Sheet8!A177)*(Deduction!$B$3:$B$501=Sheet8!B177)*(Deduction!$C$3:$C$501=Sheet8!D177),0),11)","v":0},{"$error":"#DIV/0!"},{"$f":"VLOOKUP(D177,Emp_Master!$B$3:$H$501,7)","v":{"$error":"#N/A"}}]
[{"$f":"Salary_Entitlement!A179","v":0},{"$f":"Salary_Entitlement!B179","v":0},{"$f":"Salary_Entitlement!C179","v":0},{"$f":"Salary_Entitlement!D179","v":0},{"$f":"Salary_Entitlement!E179","v":{"$error":"#N/A"}},{"$f":"Salary_Entitlement!F179","v":0},{"$f":"Salary_Entitlement!G179","v":0},{"$f":"Salary_Entitlement!H179","v":0},{"$f":"Salary_Entitlement!I179","v":0},{"$f":"Salary_Entitlement!J179","v":0},{"$f":"Salary_Entitlement!K179","v":0},{"$f":"Salary_Entitlement!L179","v":0},{"$f":"Salary_Entitlement!M179","v":0},{"$f":"Salary_Entitlement!N179","v":0},{"$f":"Salary_Entitlement!O179","v":0},{"$f":"Salary_Entitlement!P179","v":0},{"$error":"#DIV/0!"},{"$error":"#DIV/0!"},{"$f":"INDEX(Deduction!$A$3:$K$501,MATCH(1,(Deduction!$A$3:$A$501=Sheet8!A178)*(Deduction!$B$3:$B$501=Sheet8!B178)*(Deduction!$C$3:$C$501=Sheet8!D178),0),5)","v":0},{"$f":"INDEX(Deduction!$A$3:$K$501,MATCH(1,(Deduction!$A$3:$A$501=Sheet8!A178)*(Deduction!$B$3:$B$501=Sheet8!B178)*(Deduction!$C$3:$C$501=Sheet8!D178),0),6)","v":0},{"$f":"INDEX(Deduction!$A$3:$K$501,MATCH(1,(Deduction!$A$3:$A$501=Sheet8!A178)*(Deduction!$B$3:$B$501=Sheet8!B178)*(Deduction!$C$3:$C$501=Sheet8!D178),0),7)","v":0},{"$f":"INDEX(Deduction!$A$3:$K$501,MATCH(1,(Deduction!$A$3:$A$501=Sheet8!A178)*(Deduction!$B$3:$B$501=Sheet8!B178)*(Deduction!$C$3:$C$501=Sheet8!D178),0),8)","v":0},{"$f":"INDEX(Deduction!$A$3:$K$501,MATCH(1,(Deduction!$A$3:$A$501=Sheet8!A178)*(Deduction!$B$3:$B$501=Sheet8!B178)*(Deduction!$C$3:$C$501=Sheet8!D178),0),9)","v":0},{"$f":"INDEX(Deduction!$A$3:$K$501,MATCH(1,(Deduction!$A$3:$A$501=Sheet8!A178)*(Deduction!$B$3:$B$501=Sheet8!B178)*(Deduction!$C$3:$C$501=Sheet8!D178),0),10)","v":0},{"$f":"INDEX(Deduction!$A$3:$K$501,MATCH(1,(Deduction!$A$3:$A$501=Sheet8!A178)*(Deduction!$B$3:$B$501=Sheet8!B178)*(Deduction!$C$3:$C$501=Sheet8!D178),0),11)","v":0},{"$error":"#DIV/0!"},{"$f":"VLOOKUP(D178,Emp_Master!$B$3:$H$501,7)","v":{"$error":"#N/A"}}]
[{"$f":"Salary_Entitlement!A180","v":0},{"$f":"Salary_Entitlement!B180","v":0},{"$f":"Salary_Entitlement!C180","v":0},{"$f":"Salary_Entitlement!D180","v":0},{"$f":"Salary_Entitlement!E180","v":{"$error":"#N/A"}},{"$f":"Salary_Entitlement!F180","v":0},{"$f":"Salary_Entitlement!G180","v":0},{"$f":"Salary_Entitlement!H180","v":0},{"$f":"Salary_Entitlement!I180","v":0},{"$f":"Salary_Entitlement!J180","v":0},{"$f":"Salary_Entitlement!K180","v":0},{"$f":"Salary_Entitlement!L180","v":0},{"$f":"Salary_Entitlement!M180","v":0},{"$f":"Salary_Entitlement!N180","v":0},{"$f":"Salary_Entitlement!O180","v":0},{"$f":"Salary_Entitlement!P180","v":0},{"$error":"#DIV/0!"},{"$error":"#DIV/0!"},{"$f":"INDEX(Deduction!$A$3:$K$501,MATCH(1,(Deduction!$A$3:$A$501=Sheet8!A179)*(Deduction!$B$3:$B$501=Sheet8!B179)*(Deduction!$C$3:$C$501=Sheet8!D179),0),5)","v":0},{"$f":"INDEX(Deduction!$A$3:$K$501,MATCH(1,(Deduction!$A$3:$A$501=Sheet8!A179)*(Deduction!$B$3:$B$501=Sheet8!B179)*(Deduction!$C$3:$C$501=Sheet8!D179),0),6)","v":0},{"$f":"INDEX(Deduction!$A$3:$K$501,MATCH(1,(Deduction!$A$3:$A$501=Sheet8!A179)*(Deduction!$B$3:$B$501=Sheet8!B179)*(Deduction!$C$3:$C$501=Sheet8!D179),0),7)","v":0},{"$f":"INDEX(Deduction!$A$3:$K$501,MATCH(1,(Deduction!$A$3:$A$501=Sheet8!A179)*(Deduction!$B$3:$B$501=Sheet8!B179)*(Deduction!$C$3:$C$501=Sheet8!D179),0),8)","v":0},{"$f":"INDEX(Deduction!$A$3:$K$501,MATCH(1,(Deduction!$A$3:$A$501=Sheet8!A179)*(Deduction!$B$3:$B$501=Sheet8!B179)*(Deduction!$C$3:$C$501=Sheet8!D179),0),9)","v":0},{"$f":"INDEX(Deduction!$A$3:$K$501,MATCH(1,(Deduction!$A$3:$A$501=Sheet8!A179)*(Deduction!$B$3:$B$501=Sheet8!B179)*(Deduction!$C$3:$C$501=Sheet8!D179),0),10)","v":0},{"$f":"INDEX(Deduction!$A$3:$K$501,MATCH(1,(Deduction!$A$3:$A$501=Sheet8!A179)*(Deduction!$B$3:$B$501=Sheet8!B179)*(Deduction!$C$3:$C$501=Sheet8!D179),0),11)","v":0},{"$error":"#DIV/0!"},{"$f":"VLOOKUP(D179,Emp_Master!$B$3:$H$501,7)","v":{"$error":"#N/A"}}]
[{"$f":"Salary_Entitlement!A181","v":0},{"$f":"Salary_Entitlement!B181","v":0},{"$f":"Salary_Entitlement!C181","v":0},{"$f":"Salary_Entitlement!D181","v":0},{"$f":"Salary_Entitlement!E181","v":{"$error":"#N/A"}},{"$f":"Salary_Entitlement!F181","v":0},{"$f":"Salary_Entitlement!G181","v":0},{"$f":"Salary_Entitlement!H181","v":0},{"$f":"Salary_Entitlement!I181","v":0},{"$f":"Salary_Entitlement!J181","v":0},{"$f":"Salary_Entitlement!K181","v":0},{"$f":"Salary_Entitlement!L181","v":0},{"$f":"Salary_Entitlement!M181","v":0},{"$f":"Salary_Entitlement!N181","v":0},{"$f":"Salary_Entitlement!O181","v":0},{"$f":"Salary_Entitlement!P181","v":0},{"$error":"#DIV/0!"},{"$error":"#DIV/0!"},{"$f":"INDEX(Deduction!$A$3:$K$501,MATCH(1,(Deduction!$A$3:$A$501=Sheet8!A180)*(Deduction!$B$3:$B$501=Sheet8!B180)*(Deduction!$C$3:$C$501=Sheet8!D180),0),5)","v":0},{"$f":"INDEX(Deduction!$A$3:$K$501,MATCH(1,(Deduction!$A$3:$A$501=Sheet8!A180)*(Deduction!$B$3:$B$501=Sheet8!B180)*(Deduction!$C$3:$C$501=Sheet8!D180),0),6)","v":0},{"$f":"INDEX(Deduction!$A$3:$K$501,MATCH(1,(Deduction!$A$3:$A$501=Sheet8!A180)*(Deduction!$B$3:$B$501=Sheet8!B180)*(Deduction!$C$3:$C$501=Sheet8!D180),0),7)","v":0},{"$f":"INDEX(Deduction!$A$3:$K$501,MATCH(1,(Deduction!$A$3:$A$501=Sheet8!A180)*(Deduction!$B$3:$B$501=Sheet8!B180)*(Deduction!$C$3:$C$501=Sheet8!D180),0),8)","v":0},{"$f":"INDEX(Deduction!$A$3:$K$501,MATCH(1,(Deduction!$A$3:$A$501=Sheet8!A180)*(Deduction!$B$3:$B$501=Sheet8!B180)*(Deduction!$C$3:$C$501=Sheet8!D180),0),9)","v":0},{"$f":"INDEX(Deduction!$A$3:$K$501,MATCH(1,(Deduction!$A$3:$A$501=Sheet8!A180)*(Deduction!$B$3:$B$501=Sheet8!B180)*(Deduction!$C$3:$C$501=Sheet8!D180),0),10)","v":0},{"$f":"INDEX(Deduction!$A$3:$K$501,MATCH(1,(Deduction!$A$3:$A$501=Sheet8!A180)*(Deduction!$B$3:$B$501=Sheet8!B180)*(Deduction!$C$3:$C$501=Sheet8!D180),0),11)","v":0},{"$error":"#DIV/0!"},{"$f":"VLOOKUP(D180,Emp_Master!$B$3:$H$501,7)","v":{"$error":"#N/A"}}]
[{"$f":"Salary_Entitlement!A182","v":0},{"$f":"Salary_Entitlement!B182","v":0},{"$f":"Salary_Entitlement!C182","v":0},{"$f":"Salary_Entitlement!D182","v":0},{"$f":"Salary_Entitlement!E182","v":{"$error":"#N/A"}},{"$f":"Salary_Entitlement!F182","v":0},{"$f":"Salary_Entitlement!G182","v":0},{"$f":"Salary_Entitlement!H182","v":0},{"$f":"Salary_Entitlement!I182","v":0},{"$f":"Salary_Entitlement!J182","v":0},{"$f":"Salary_Entitlement!K182","v":0},{"$f":"Salary_Entitlement!L182","v":0},{"$f":"Salary_Entitlement!M182","v":0},{"$f":"Salary_Entitlement!N182","v":0},{"$f":"Salary_Entitlement!O182","v":0},{"$f":"Salary_Entitlement!P182","v":0},{"$error":"#DIV/0!"},{"$error":"#DIV/0!"},{"$f":"INDEX(Deduction!$A$3:$K$501,MATCH(1,(Deduction!$A$3:$A$501=Sheet8!A181)*(Deduction!$B$3:$B$501=Sheet8!B181)*(Deduction!$C$3:$C$501=Sheet8!D181),0),5)","v":0},{"$f":"INDEX(Deduction!$A$3:$K$501,MATCH(1,(Deduction!$A$3:$A$501=Sheet8!A181)*(Deduction!$B$3:$B$501=Sheet8!B181)*(Deduction!$C$3:$C$501=Sheet8!D181),0),6)","v":0},{"$f":"INDEX(Deduction!$A$3:$K$501,MATCH(1,(Deduction!$A$3:$A$501=Sheet8!A181)*(Deduction!$B$3:$B$501=Sheet8!B181)*(Deduction!$C$3:$C$501=Sheet8!D181),0),7)","v":0},{"$f":"INDEX(Deduction!$A$3:$K$501,MATCH(1,(Deduction!$A$3:$A$501=Sheet8!A181)*(Deduction!$B$3:$B$501=Sheet8!B181)*(Deduction!$C$3:$C$501=Sheet8!D181),0),8)","v":0},{"$f":"INDEX(Deduction!$A$3:$K$501,MATCH(1,(Deduction!$A$3:$A$501=Sheet8!A181)*(Deduction!$B$3:$B$501=Sheet8!B181)*(Deduction!$C$3:$C$501=Sheet8!D181),0),9)","v":0},{"$f":"INDEX(Deduction!$A$3:$K$501,MATCH(1,(Deduction!$A$3:$A$501=Sheet8!A181)*(Deduction!$B$3:$B$501=Sheet8!B181)*(Deduction!$C$3:$C$501=Sheet8!D181),0),10)","v":0},{"$f":"INDEX(Deduction!$A$3:$K$501,MATCH(1,(Deduction!$A$3:$A$501=Sheet8!A181)*(Deduction!$B$3:$B$501=Sheet8!B181)*(Deduction!$C$3:$C$501=Sheet8!D181),0),11)","v":0},{"$error":"#DIV/0!"},{"$f":"VLOOKUP(D181,Emp_Master!$B$3:$H$501,7)","v":{"$error":"#N/A"}}]
[{"$f":"Salary_Entitlement!A183","v":0},{"$f":"Salary_Entitlement!B183","v":0},{"$f":"Salary_Entitlement!C183","v":0},{"$f":"Salary_Entitlement!D183","v":0},{"$f":"Salary_Entitlement!E183","v":{"$error":"#N/A"}},{"$f":"Salary_Entitlement!F183","v":0},{"$f":"Salary_Entitlement!G183","v":0},{"$f":"Salary_Entitlement!H183","v":0},{"$f":"Salary_Entitlement!I183","v":0},{"$f":"Salary_Entitlement!J183","v":0},{"$f":"Salary_Entitlement!K183","v":0},{"$f":"Salary_Entitlement!L183","v":0},{"$f":"Salary_Entitlement!M183","v":0},{"$f":"Salary_Entitlement!N183","v":0},{"$f":"Salary_Entitlement!O183","v":0},{"$f":"Salary_Entitlement!P183","v":0},{"$error":"#DIV/0!"},{"$error":"#DIV/0!"},{"$f":"INDEX(Deduction!$A$3:$K$501,MATCH(1,(Deduction!$A$3:$A$501=Sheet8!A182)*(Deduction!$B$3:$B$501=Sheet8!B182)*(Deduction!$C$3:$C$501=Sheet8!D182),0),5)","v":0},{"$f":"INDEX(Deduction!$A$3:$K$501,MATCH(1,(Deduction!$A$3:$A$501=Sheet8!A182)*(Deduction!$B$3:$B$501=Sheet8!B182)*(Deduction!$C$3:$C$501=Sheet8!D182),0),6)","v":0},{"$f":"INDEX(Deduction!$A$3:$K$501,MATCH(1,(Deduction!$A$3:$A$501=Sheet8!A182)*(Deduction!$B$3:$B$501=Sheet8!B182)*(Deduction!$C$3:$C$501=Sheet8!D182),0),7)","v":0},{"$f":"INDEX(Deduction!$A$3:$K$501,MATCH(1,(Deduction!$A$3:$A$501=Sheet8!A182)*(Deduction!$B$3:$B$501=Sheet8!B182)*(Deduction!$C$3:$C$501=Sheet8!D182),0),8)","v":0},{"$f":"INDEX(Deduction!$A$3:$K$501,MATCH(1,(Deduction!$A$3:$A$501=Sheet8!A182)*(Deduction!$B$3:$B$501=Sheet8!B182)*(Deduction!$C$3:$C$501=Sheet8!D182),0),9)","v":0},{"$f":"INDEX(Deduction!$A$3:$K$501,MATCH(1,(Deduction!$A$3:$A$501=Sheet8!A182)*(Deduction!$B$3:$B$501=Sheet8!B182)*(Deduction!$C$3:$C$501=Sheet8!D182),0),10)","v":0},{"$f":"INDEX(Deduction!$A$3:$K$501,MATCH(1,(Deduction!$A$3:$A$501=Sheet8!A182)*(Deduction!$B$3:$B$501=Sheet8!B182)*(Deduction!$C$3:$C$501=Sheet8!D182),0),11)","v":0},{"$error":"#DIV/0!"},{"$f":"VLOOKUP(D182,Emp_Master!$B$3:$H$501,7)","v":{"$error":"#N/A"}}]
[{"$f":"Salary_Entitlement!A184","v":0},{"$f":"Salary_Entitlement!B184","v":0},{"$f":"Salary_Entitlement!C184","v":0},{"$f":"Salary_Entitlement!D184","v":0},{"$f":"Salary_Entitlement!E184","v":{"$error":"#N/A"}},{"$f":"Salary_Entitlement!F184","v":0},{"$f":"Salary_Entitlement!G184","v":0},{"$f":"Salary_Entitlement!H184","v":0},{"$f":"Salary_Entitlement!I184","v":0},{"$f":"Salary_Entitlement!J184","v":0},{"$f":"Salary_Entitlement!K184","v":0},{"$f":"Salary_Entitlement!L184","v":0},{"$f":"Salary_Entitlement!M184","v":0},{"$f":"Salary_Entitlement!N184","v":0},{"$f":"Salary_Entitlement!O184","v":0},{"$f":"Salary_Entitlement!P184","v":0},{"$error":"#DIV/0!"},{"$error":"#DIV/0!"},{"$f":"INDEX(Deduction!$A$3:$K$501,MATCH(1,(Deduction!$A$3:$A$501=Sheet8!A183)*(Deduction!$B$3:$B$501=Sheet8!B183)*(Deduction!$C$3:$C$501=Sheet8!D183),0),5)","v":0},{"$f":"INDEX(Deduction!$A$3:$K$501,MATCH(1,(Deduction!$A$3:$A$501=Sheet8!A183)*(Deduction!$B$3:$B$501=Sheet8!B183)*(Deduction!$C$3:$C$501=Sheet8!D183),0),6)","v":0},{"$f":"INDEX(Deduction!$A$3:$K$501,MATCH(1,(Deduction!$A$3:$A$501=Sheet8!A183)*(Deduction!$B$3:$B$501=Sheet8!B183)*(Deduction!$C$3:$C$501=Sheet8!D183),0),7)","v":0},{"$f":"INDEX(Deduction!$A$3:$K$501,MATCH(1,(Deduction!$A$3:$A$501=Sheet8!A183)*(Deduction!$B$3:$B$501=Sheet8!B183)*(Deduction!$C$3:$C$501=Sheet8!D183),0),8)","v":0},{"$f":"INDEX(Deduction!$A$3:$K$501,MATCH(1,(Deduction!$A$3:$A$501=Sheet8!A183)*(Deduction!$B$3:$B$501=Sheet8!B183)*(Deduction!$C$3:$C$501=Sheet8!D183),0),9)","v":0},{"$f":"INDEX(Deduction!$A$3:$K$501,MATCH(1,(Deduction!$A$3:$A$501=Sheet8!A183)*(Deduction!$B$3:$B$501=Sheet8!B183)*(Deduction!$C$3:$C$501=Sheet8!D183),0),10)","v":0},{"$f":"INDEX(Deduction!$A$3:$K$501,MATCH(1,(Deduction!$A$3:$A$501=Sheet8!A183)*(Deduction!$B$3:$B$501=Sheet8!B183)*(Deduction!$C$3:$C$501=Sheet8!D183),0),11)","v":0},{"$error":"#DIV/0!"},{"$f":"VLOOKUP(D183,Emp_Master!$B$3:$H$501,7)","v":{"$error":"#N/A"}}]
[{"$f":"Salary_Entitlement!A185","v":0},{"$f":"Salary_Entitlement!B185","v":0},{"$f":"Salary_Entitlement!C185","v":0},{"$f":"Salary_Entitlement!D185","v":0},{"$f":"Salary_Entitlement!E185","v":{"$error":"#N/A"}},{"$f":"Salary_Entitlement!F185","v":0},{"$f":"Salary_Entitlement!G185","v":0},{"$f":"Salary_Entitlement!H185","v":0},{"$f":"Salary_Entitlement!I185","v":0},{"$f":"Salary_Entitlement!J185","v":0},{"$f":"Salary_Entitlement!K185","v":0},{"$f":"Salary_Entitlement!L185","v":0},{"$f":"Salary_Entitlement!M185","v":0},{"$f":"Salary_Entitlement!N185","v":0},{"$f":"Salary_Entitlement!O185","v":0},{"$f":"Salary_Entitlement!P185","v":0},{"$error":"#DIV/0!"},{"$error":"#DIV/0!"},{"$f":"INDEX(Deduction!$A$3:$K$501,MATCH(1,(Deduction!$A$3:$A$501=Sheet8!A184)*(Deduction!$B$3:$B$501=Sheet8!B184)*(Deduction!$C$3:$C$501=Sheet8!D184),0),5)","v":0},{"$f":"INDEX(Deduction!$A$3:$K$501,MATCH(1,(Deduction!$A$3:$A$501=Sheet8!A184)*(Deduction!$B$3:$B$501=Sheet8!B184)*(Deduction!$C$3:$C$501=Sheet8!D184),0),6)","v":0},{"$f":"INDEX(Deduction!$A$3:$K$501,MATCH(1,(Deduction!$A$3:$A$501=Sheet8!A184)*(Deduction!$B$3:$B$501=Sheet8!B184)*(Deduction!$C$3:$C$501=Sheet8!D184),0),7)","v":0},{"$f":"INDEX(Deduction!$A$3:$K$501,MATCH(1,(Deduction!$A$3:$A$501=Sheet8!A184)*(Deduction!$B$3:$B$501=Sheet8!B184)*(Deduction!$C$3:$C$501=Sheet8!D184),0),8)","v":0},{"$f":"INDEX(Deduction!$A$3:$K$501,MATCH(1,(Deduction!$A$3:$A$501=Sheet8!A184)*(Deduction!$B$3:$B$501=Sheet8!B184)*(Deduction!$C$3:$C$501=Sheet8!D184),0),9)","v":0},{"$f":"INDEX(Deduction!$A$3:$K$501,MATCH(1,(Deduction!$A$3:$A$501=Sheet8!A184)*(Deduction!$B$3:$B$501=Sheet8!B184)*(Deduction!$C$3:$C$501=Sheet8!D184),0),10)","v":0},{"$f":"INDEX(Deduction!$A$3:$K$501,MATCH(1,(Deduction!$A$3:$A$501=Sheet8!A184)*(Deduction!$B$3:$B$501=Sheet8!B184)*(Deduction!$C$3:$C$501=Sheet8!D184),0),11)","v":0},{"$error":"#DIV/0!"},{"$f":"VLOOKUP(D184,Emp_Master!$B$3:$H$501,7)","v":{"$error":"#N/A"}}]
[{"$f":"Salary_Entitlement!A186","v":0},{"$f":"Salary_Entitlement!B186","v":0},{"$f":"Salary_Entitlement!C186","v":0},{"$f":"Salary_Entitlement!D186","v":0},{"$f":"Salary_Entitlement!E186","v":{"$error":"#N/A"}},{"$f":"Salary_Entitlement!F186","v":0},{"$f":"Salary_Entitlement!G186","v":0},{"$f":"Salary_Entitlement!H186","v":0},{"$f":"Salary_Entitlement!I186","v":0},{"$f":"Salary_Entitlement!J186","v":0},{"$f":"Salary_Entitlement!K186","v":0},{"$f":"Salary_Entitlement!L186","v":0},{"$f":"Salary_Entitlement!M186","v":0},{"$f":"Salary_Entitlement!N186","v":0},{"$f":"Salary_Entitlement!O186","v":0},{"$f":"Salary_Entitlement!P186","v":0},{"$error":"#DIV/0!"},{"$error":"#DIV/0!"},{"$f":"INDEX(Deduction!$A$3:$K$501,MATCH(1,(Deduction!$A$3:$A$501=Sheet8!A185)*(Deduction!$B$3:$B$501=Sheet8!B185)*(Deduction!$C$3:$C$501=Sheet8!D185),0),5)","v":0},{"$f":"INDEX(Deduction!$A$3:$K$501,MATCH(1,(Deduction!$A$3:$A$501=Sheet8!A185)*(Deduction!$B$3:$B$501=Sheet8!B185)*(Deduction!$C$3:$C$501=Sheet8!D185),0),6)","v":0},{"$f":"INDEX(Deduction!$A$3:$K$501,MATCH(1,(Deduction!$A$3:$A$501=Sheet8!A185)*(Deduction!$B$3:$B$501=Sheet8!B185)*(Deduction!$C$3:$C$501=Sheet8!D185),0),7)","v":0},{"$f":"INDEX(Deduction!$A$3:$K$501,MATCH(1,(Deduction!$A$3:$A$501=Sheet8!A185)*(Deduction!$B$3:$B$501=Sheet8!B185)*(Deduction!$C$3:$C$501=Sheet8!D185),0),8)","v":0},{"$f":"INDEX(Deduction!$A$3:$K$501,MATCH(1,(Deduction!$A$3:$A$501=Sheet8!A185)*(Deduction!$B$3:$B$501=Sheet8!B185)*(Deduction!$C$3:$C$501=Sheet8!D185),0),9)","v":0},{"$f":"INDEX(Deduction!$A$3:$K$501,MATCH(1,(Deduction!$A$3:$A$501=Sheet8!A185)*(Deduction!$B$3:$B$501=Sheet8!B185)*(Deduction!$C$3:$C$501=Sheet8!D185),0),10)","v":0},{"$f":"INDEX(Deduction!$A$3:$K$501,MATCH(1,(Deduction!$A$3:$A$501=Sheet8!A185)*(Deduction!$B$3:$B$501=Sheet8!B185)*(Deduction!$C$3:$C$501=Sheet8!D185),0),11)","v":0},{"$error":"#DIV/0!"},{"$f":"VLOOKUP(D185,Emp_Master!$B$3:$H$501,7)","v":{"$error":"#N/A"}}]
[{"$f":"Salary_Entitlement!A187","v":0},{"$f":"Salary_Entitlement!B187","v":0},{"$f":"Salary_Entitlement!C187","v":0},{"$f":"Salary_Entitlement!D187","v":0},{"$f":"Salary_Entitlement!E187","v":{"$error":"#N/A"}},{"$f":"Salary_Entitlement!F187","v":0},{"$f":"Salary_Entitlement!G187","v":0},{"$f":"Salary_Entitlement!H187","v":0},{"$f":"Salary_Entitlement!I187","v":0},{"$f":"Salary_Entitlement!J187","v":0},{"$f":"Salary_Entitlement!K187","v":0},{"$f":"Salary_Entitlement!L187","v":0},{"$f":"Salary_Entitlement!M187","v":0},{"$f":"Salary_Entitlement!N187","v":0},{"$f":"Salary_Entitlement!O187","v":0},{"$f":"Salary_Entitlement!P187","v":0},{"$error":"#DIV/0!"},{"$error":"#DIV/0!"},{"$f":"INDEX(Deduction!$A$3:$K$501,MATCH(1,(Deduction!$A$3:$A$501=Sheet8!A186)*(Deduction!$B$3:$B$501=Sheet8!B186)*(Deduction!$C$3:$C$501=Sheet8!D186),0),5)","v":0},{"$f":"INDEX(Deduction!$A$3:$K$501,MATCH(1,(Deduction!$A$3:$A$501=Sheet8!A186)*(Deduction!$B$3:$B$501=Sheet8!B186)*(Deduction!$C$3:$C$501=Sheet8!D186),0),6)","v":0},{"$f":"INDEX(Deduction!$A$3:$K$501,MATCH(1,(Deduction!$A$3:$A$501=Sheet8!A186)*(Deduction!$B$3:$B$501=Sheet8!B186)*(Deduction!$C$3:$C$501=Sheet8!D186),0),7)","v":0},{"$f":"INDEX(Deduction!$A$3:$K$501,MATCH(1,(Deduction!$A$3:$A$501=Sheet8!A186)*(Deduction!$B$3:$B$501=Sheet8!B186)*(Deduction!$C$3:$C$501=Sheet8!D186),0),8)","v":0},{"$f":"INDEX(Deduction!$A$3:$K$501,MATCH(1,(Deduction!$A$3:$A$501=Sheet8!A186)*(Deduction!$B$3:$B$501=Sheet8!B186)*(Deduction!$C$3:$C$501=Sheet8!D186),0),9)","v":0},{"$f":"INDEX(Deduction!$A$3:$K$501,MATCH(1,(Deduction!$A$3:$A$501=Sheet8!A186)*(Deduction!$B$3:$B$501=Sheet8!B186)*(Deduction!$C$3:$C$501=Sheet8!D186),0),10)","v":0},{"$f":"INDEX(Deduction!$A$3:$K$501,MATCH(1,(Deduction!$A$3:$A$501=Sheet8!A186)*(Deduction!$B$3:$B$501=Sheet8!B186)*(Deduction!$C$3:$C$501=Sheet8!D186),0),11)","v":0},{"$error":"#DIV/0!"},{"$f":"VLOOKUP(D186,Emp_Master!$B$3:$H$501,7)","v":{"$error":"#N/A"}}]
[{"$f":"Salary_Entitlement!A188","v":0},{"$f":"Salary_Entitlement!B188","v":0},{"$f":"Salary_Entitlement!C188","v":0},{"$f":"Salary_Entitlement!D188","v":0},{"$f":"Salary_Entitlement!E188","v":{"$error":"#N/A"}},{"$f":"Salary_Entitlement!F188","v":0},{"$f":"Salary_Entitlement!G188","v":0},{"$f":"Salary_Entitlement!H188","v":0},{"$f":"Salary_Entitlement!I188","v":0},{"$f":"Salary_Entitlement!J188","v":0},{"$f":"Salary_Entitlement!K188","v":0},{"$f":"Salary_Entitlement!L188","v":0},{"$f":"Salary_Entitlement!M188","v":0},{"$f":"Salary_Entitlement!N188","v":0},{"$f":"Salary_Entitlement!O188","v":0},{"$f":"Salary_Entitlement!P188","v":0},{"$error":"#DIV/0!"},{"$error":"#DIV/0!"},{"$f":"INDEX(Deduction!$A$3:$K$501,MATCH(1,(Deduction!$A$3:$A$501=Sheet8!A187)*(Deduction!$B$3:$B$501=Sheet8!B187)*(Deduction!$C$3:$C$501=Sheet8!D187),0),5)","v":0},{"$f":"INDEX(Deduction!$A$3:$K$501,MATCH(1,(Deduction!$A$3:$A$501=Sheet8!A187)*(Deduction!$B$3:$B$501=Sheet8!B187)*(Deduction!$C$3:$C$501=Sheet8!D187),0),6)","v":0},{"$f":"INDEX(Deduction!$A$3:$K$501,MATCH(1,(Deduction!$A$3:$A$501=Sheet8!A187)*(Deduction!$B$3:$B$501=Sheet8!B187)*(Deduction!$C$3:$C$501=Sheet8!D187),0),7)","v":0},{"$f":"INDEX(Deduction!$A$3:$K$501,MATCH(1,(Deduction!$A$3:$A$501=Sheet8!A187)*(Deduction!$B$3:$B$501=Sheet8!B187)*(Deduction!$C$3:$C$501=Sheet8!D187),0),8)","v":0},{"$f":"INDEX(Deduction!$A$3:$K$501,MATCH(1,(Deduction!$A$3:$A$501=Sheet8!A187)*(Deduction!$B$3:$B$501=Sheet8!B187)*(Deduction!$C$3:$C$501=Sheet8!D187),0),9)","v":0},{"$f":"INDEX(Deduction!$A$3:$K$501,MATCH(1,(Deduction!$A$3:$A$501=Sheet8!A187)*(Deduction!$B$3:$B$501=Sheet8!B187)*(Deduction!$C$3:$C$501=Sheet8!D187),0),10)","v":0},{"$f":"INDEX(Deduction!$A$3:$K$501,MATCH(1,(Deduction!$A$3:$A$501=Sheet8!A187)*(Deduction!$B$3:$B$501=Sheet8!B187)*(Deduction!$C$3:$C$501=Sheet8!D187),0),11)","v":0},{"$error":"#DIV/0!"},{"$f":"VLOOKUP(D187,Emp_Master!$B$3:$H$501,7)","v":{"$error":"#N/A"}}]
[{"$f":"Salary_Entitlement!A189","v":0},{"$f":"Salary_Entitlement!B189","v":0},{"$f":"Salary_Entitlement!C189","v":0},{"$f":"Salary_Entitlement!D189","v":0},{"$f":"Salary_Entitlement!E189","v":{"$error":"#N/A"}},{"$f":"Salary_Entitlement!F189","v":0},{"$f":"Salary_Entitlement!G189","v":0},{"$f":"Salary_Entitlement!H189","v":0},{"$f":"Salary_Entitlement!I189","v":0},{"$f":"Salary_Entitlement!J189","v":0},{"$f":"Salary_Entitlement!K189","v":0},{"$f":"Salary_Entitlement!L189","v":0},{"$f":"Salary_Entitlement!M189","v":0},{"$f":"Salary_Entitlement!N189","v":0},{"$f":"Salary_Entitlement!O189","v":0},{"$f":"Salary_Entitlement!P189","v":0},{"$error":"#DIV/0!"},{"$error":"#DIV/0!"},{"$f":"INDEX(Deduction!$A$3:$K$501,MATCH(1,(Deduction!$A$3:$A$501=Sheet8!A188)*(Deduction!$B$3:$B$501=Sheet8!B188)*(Deduction!$C$3:$C$501=Sheet8!D188),0),5)","v":0},{"$f":"INDEX(Deduction!$A$3:$K$501,MATCH(1,(Deduction!$A$3:$A$501=Sheet8!A188)*(Deduction!$B$3:$B$501=Sheet8!B188)*(Deduction!$C$3:$C$501=Sheet8!D188),0),6)","v":0},{"$f":"INDEX(Deduction!$A$3:$K$501,MATCH(1,(Deduction!$A$3:$A$501=Sheet8!A188)*(Deduction!$B$3:$B$501=Sheet8!B188)*(Deduction!$C$3:$C$501=Sheet8!D188),0),7)","v":0},{"$f":"INDEX(Deduction!$A$3:$K$501,MATCH(1,(Deduction!$A$3:$A$501=Sheet8!A188)*(Deduction!$B$3:$B$501=Sheet8!B188)*(Deduction!$C$3:$C$501=Sheet8!D188),0),8)","v":0},{"$f":"INDEX(Deduction!$A$3:$K$501,MATCH(1,(Deduction!$A$3:$A$501=Sheet8!A188)*(Deduction!$B$3:$B$501=Sheet8!B188)*(Deduction!$C$3:$C$501=Sheet8!D188),0),9)","v":0},{"$f":"INDEX(Deduction!$A$3:$K$501,MATCH(1,(Deduction!$A$3:$A$501=Sheet8!A188)*(Deduction!$B$3:$B$501=Sheet8!B188)*(Deduction!$C$3:$C$501=Sheet8!D188),0),10)","v":0},{"$f":"INDEX(Deduction!$A$3:$K$501,MATCH(1,(Deduction!$A$3:$A$501=Sheet8!A188)*(Deduction!$B$3:$B$501=Sheet8!B188)*(Deduction!$C$3:$C$501=Sheet8!D188),0),11)","v":0},{"$error":"#DIV/0!"},{"$f":"VLOOKUP(D188,Emp_Master!$B$3:$H$501,7)","v":{"$error":"#N/A"}}]
[{"$f":"Salary_Entitlement!A190","v":0},{"$f":"Salary_Entitlement!B190","v":0},{"$f":"Salary_Entitlement!C190","v":0},{"$f":"Salary_Entitlement!D190","v":0},{"$f":"Salary_Entitlement!E190","v":{"$error":"#N/A"}},{"$f":"Salary_Entitlement!F190","v":0},{"$f":"Salary_Entitlement!G190","v":0},{"$f":"Salary_Entitlement!H190","v":0},{"$f":"Salary_Entitlement!I190","v":0},{"$f":"Salary_Entitlement!J190","v":0},{"$f":"Salary_Entitlement!K190","v":0},{"$f":"Salary_Entitlement!L190","v":0},{"$f":"Salary_Entitlement!M190","v":0},{"$f":"Salary_Entitlement!N190","v":0},{"$f":"Salary_Entitlement!O190","v":0},{"$f":"Salary_Entitlement!P190","v":0},{"$error":"#DIV/0!"},{"$error":"#DIV/0!"},{"$f":"INDEX(Deduction!$A$3:$K$501,MATCH(1,(Deduction!$A$3:$A$501=Sheet8!A189)*(Deduction!$B$3:$B$501=Sheet8!B189)*(Deduction!$C$3:$C$501=Sheet8!D189),0),5)","v":0},{"$f":"INDEX(Deduction!$A$3:$K$501,MATCH(1,(Deduction!$A$3:$A$501=Sheet8!A189)*(Deduction!$B$3:$B$501=Sheet8!B189)*(Deduction!$C$3:$C$501=Sheet8!D189),0),6)","v":0},{"$f":"INDEX(Deduction!$A$3:$K$501,MATCH(1,(Deduction!$A$3:$A$501=Sheet8!A189)*(Deduction!$B$3:$B$501=Sheet8!B189)*(Deduction!$C$3:$C$501=Sheet8!D189),0),7)","v":0},{"$f":"INDEX(Deduction!$A$3:$K$501,MATCH(1,(Deduction!$A$3:$A$501=Sheet8!A189)*(Deduction!$B$3:$B$501=Sheet8!B189)*(Deduction!$C$3:$C$501=Sheet8!D189),0),8)","v":0},{"$f":"INDEX(Deduction!$A$3:$K$501,MATCH(1,(Deduction!$A$3:$A$501=Sheet8!A189)*(Deduction!$B$3:$B$501=Sheet8!B189)*(Deduction!$C$3:$C$501=Sheet8!D189),0),9)","v":0},{"$f":"INDEX(Deduction!$A$3:$K$501,MATCH(1,(Deduction!$A$3:$A$501=Sheet8!A189)*(Deduction!$B$3:$B$501=Sheet8!B189)*(Deduction!$C$3:$C$501=Sheet8!D189),0),10)","v":0},{"$f":"INDEX(Deduction!$A$3:$K$501,MATCH(1,(Deduction!$A$3:$A$501=Sheet8!A189)*(Deduction!$B$3:$B$501=Sheet8!B189)*(Deduction!$C$3:$C$501=Sheet8!D189),0),11)","v":0},{"$error":"#DIV/0!"},{"$f":"VLOOKUP(D189,Emp_Master!$B$3:$H$501,7)","v":{"$error":"#N/A"}}]
[{"$f":"Salary_Entitlement!A191","v":0},{"$f":"Salary_Entitlement!B191","v":0},{"$f":"Salary_Entitlement!C191","v":0},{"$f":"Salary_Entitlement!D191","v":0},{"$f":"Salary_Entitlement!E191","v":{"$error":"#N/A"}},{"$f":"Salary_Entitlement!F191","v":0},{"$f":"Salary_Entitlement!G191","v":0},{"$f":"Salary_Entitlement!H191","v":0},{"$f":"Salary_Entitlement!I191","v":0},{"$f":"Salary_Entitlement!J191","v":0},{"$f":"Salary_Entitlement!K191","v":0},{"$f":"Salary_Entitlement!L191","v":0},{"$f":"Salary_Entitlement!M191","v":0},{"$f":"Salary_Entitlement!N191","v":0},{"$f":"Salary_Entitlement!O191","v":0},{"$f":"Salary_Entitlement!P191","v":0},{"$error":"#DIV/0!"},{"$error":"#DIV/0!"},{"$f":"INDEX(Deduction!$A$3:$K$501,MATCH(1,(Deduction!$A$3:$A$501=Sheet8!A190)*(Deduction!$B$3:$B$501=Sheet8!B190)*(Deduction!$C$3:$C$501=Sheet8!D190),0),5)","v":0},{"$f":"INDEX(Deduction!$A$3:$K$501,MATCH(1,(Deduction!$A$3:$A$501=Sheet8!A190)*(Deduction!$B$3:$B$501=Sheet8!B190)*(Deduction!$C$3:$C$501=Sheet8!D190),0),6)","v":0},{"$f":"INDEX(Deduction!$A$3:$K$501,MATCH(1,(Deduction!$A$3:$A$501=Sheet8!A190)*(Deduction!$B$3:$B$501=Sheet8!B190)*(Deduction!$C$3:$C$501=Sheet8!D190),0),7)","v":0},{"$f":"INDEX(Deduction!$A$3:$K$501,MATCH(1,(Deduction!$A$3:$A$501=Sheet8!A190)*(Deduction!$B$3:$B$501=Sheet8!B190)*(Deduction!$C$3:$C$501=Sheet8!D190),0),8)","v":0},{"$f":"INDEX(Deduction!$A$3:$K$501,MATCH(1,(Deduction!$A$3:$A$501=Sheet8!A190)*(Deduction!$B$3:$B$501=Sheet8!B190)*(Deduction!$C$3:$C$501=Sheet8!D190),0),9)","v":0},{"$f":"INDEX(Deduction!$A$3:$K$501,MATCH(1,(Deduction!$A$3:$A$501=Sheet8!A190)*(Deduction!$B$3:$B$501=Sheet8!B190)*(Deduction!$C$3:$C$501=Sheet8!D190),0),10)","v":0},{"$f":"INDEX(Deduction!$A$3:$K$501,MATCH(1,(Deduction!$A$3:$A$501=Sheet8!A190)*(Deduction!$B$3:$B$501=Sheet8!B190)*(Deduction!$C$3:$C$501=Sheet8!D190),0),11)","v":0},{"$error":"#DIV/0!"},{"$f":"VLOOKUP(D190,Emp_Master!$B$3:$H$501,7)","v":{"$error":"#N/A"}}]
[{"$f":"Salary_Entitlement!A192","v":0},{"$f":"Salary_Entitlement!B192","v":0},{"$f":"Salary_Entitlement!C192","v":0},{"$f":"Salary_Entitlement!D192","v":0},{"$f":"Salary_Entitlement!E192","v":{"$error":"#N/A"}},{"$f":"Salary_Entitlement!F192","v":0},{"$f":"Salary_Entitlement!G192","v":0},{"$f":"Salary_Entitlement!H192","v":0},{"$f":"Salary_Entitlement!I192","v":0},{"$f":"Salary_Entitlement!J192","v":0},{"$f":"Salary_Entitlement!K192","v":0},{"$f":"Salary_Entitlement!L192","v":0},{"$f":"Salary_Entitlement!M192","v":0},{"$f":"Salary_Entitlement!N192","v":0},{"$f":"Salary_Entitlement!O192","v":0},{"$f":"Salary_Entitlement!P192","v":0},{"$error":"#DIV/0!"},{"$error":"#DIV/0!"},{"$f":"INDEX(Deduction!$A$3:$K$501,MATCH(1,(Deduction!$A$3:$A$501=Sheet8!A191)*(Deduction!$B$3:$B$501=Sheet8!B191)*(Deduction!$C$3:$C$501=Sheet8!D191),0),5)","v":0},{"$f":"INDEX(Deduction!$A$3:$K$501,MATCH(1,(Deduction!$A$3:$A$501=Sheet8!A191)*(Deduction!$B$3:$B$501=Sheet8!B191)*(Deduction!$C$3:$C$501=Sheet8!D191),0),6)","v":0},{"$f":"INDEX(Deduction!$A$3:$K$501,MATCH(1,(Deduction!$A$3:$A$501=Sheet8!A191)*(Deduction!$B$3:$B$501=Sheet8!B191)*(Deduction!$C$3:$C$501=Sheet8!D191),0),7)","v":0},{"$f":"INDEX(Deduction!$A$3:$K$501,MATCH(1,(Deduction!$A$3:$A$501=Sheet8!A191)*(Deduction!$B$3:$B$501=Sheet8!B191)*(Deduction!$C$3:$C$501=Sheet8!D191),0),8)","v":0},{"$f":"INDEX(Deduction!$A$3:$K$501,MATCH(1,(Deduction!$A$3:$A$501=Sheet8!A191)*(Deduction!$B$3:$B$501=Sheet8!B191)*(Deduction!$C$3:$C$501=Sheet8!D191),0),9)","v":0},{"$f":"INDEX(Deduction!$A$3:$K$501,MATCH(1,(Deduction!$A$3:$A$501=Sheet8!A191)*(Deduction!$B$3:$B$501=Sheet8!B191)*(Deduction!$C$3:$C$501=Sheet8!D191),0),10)","v":0},{"$f":"INDEX(Deduction!$A$3:$K$501,MATCH(1,(Deduction!$A$3:$A$501=Sheet8!A191)*(Deduction!$B$3:$B$501=Sheet8!B191)*(Deduction!$C$3:$C$501=Sheet8!D191),0),11)","v":0},{"$error":"#DIV/0!"},{"$f":"VLOOKUP(D191,Emp_Master!$B$3:$H$501,7)","v":{"$error":"#N/A"}}]
[{"$f":"Salary_Entitlement!A193","v":0},{"$f":"Salary_Entitlement!B193","v":0},{"$f":"Salary_Entitlement!C193","v":0},{"$f":"Salary_Entitlement!D193","v":0},{"$f":"Salary_Entitlement!E193","v":{"$error":"#N/A"}},{"$f":"Salary_Entitlement!F193","v":0},{"$f":"Salary_Entitlement!G193","v":0},{"$f":"Salary_Entitlement!H193","v":0},{"$f":"Salary_Entitlement!I193","v":0},{"$f":"Salary_Entitlement!J193","v":0},{"$f":"Salary_Entitlement!K193","v":0},{"$f":"Salary_Entitlement!L193","v":0},{"$f":"Salary_Entitlement!M193","v":0},{"$f":"Salary_Entitlement!N193","v":0},{"$f":"Salary_Entitlement!O193","v":0},{"$f":"Salary_Entitlement!P193","v":0},{"$error":"#DIV/0!"},{"$error":"#DIV/0!"},{"$f":"INDEX(Deduction!$A$3:$K$501,MATCH(1,(Deduction!$A$3:$A$501=Sheet8!A192)*(Deduction!$B$3:$B$501=Sheet8!B192)*(Deduction!$C$3:$C$501=Sheet8!D192),0),5)","v":0},{"$f":"INDEX(Deduction!$A$3:$K$501,MATCH(1,(Deduction!$A$3:$A$501=Sheet8!A192)*(Deduction!$B$3:$B$501=Sheet8!B192)*(Deduction!$C$3:$C$501=Sheet8!D192),0),6)","v":0},{"$f":"INDEX(Deduction!$A$3:$K$501,MATCH(1,(Deduction!$A$3:$A$501=Sheet8!A192)*(Deduction!$B$3:$B$501=Sheet8!B192)*(Deduction!$C$3:$C$501=Sheet8!D192),0),7)","v":0},{"$f":"INDEX(Deduction!$A$3:$K$501,MATCH(1,(Deduction!$A$3:$A$501=Sheet8!A192)*(Deduction!$B$3:$B$501=Sheet8!B192)*(Deduction!$C$3:$C$501=Sheet8!D192),0),8)","v":0},{"$f":"INDEX(Deduction!$A$3:$K$501,MATCH(1,(Deduction!$A$3:$A$501=Sheet8!A192)*(Deduction!$B$3:$B$501=Sheet8!B192)*(Deduction!$C$3:$C$501=Sheet8!D192),0),9)","v":0},{"$f":"INDEX(Deduction!$A$3:$K$501,MATCH(1,(Deduction!$A$3:$A$501=Sheet8!A192)*(Deduction!$B$3:$B$501=Sheet8!B192)*(Deduction!$C$3:$C$501=Sheet8!D192),0),10)","v":0},{"$f":"INDEX(Deduction!$A$3:$K$501,MATCH(1,(Deduction!$A$3:$A$501=Sheet8!A192)*(Deduction!$B$3:$B$501=Sheet8!B192)*(Deduction!$C$3:$C$501=Sheet8!D192),0),11)","v":0},{"$error":"#DIV/0!"},{"$f":"VLOOKUP(D192,Emp_Master!$B$3:$H$501,7)","v":{"$error":"#N/A"}}]
[{"$f":"Salary_Entitlement!A194","v":0},{"$f":"Salary_Entitlement!B194","v":0},{"$f":"Salary_Entitlement!C194","v":0},{"$f":"Salary_Entitlement!D194","v":0},{"$f":"Salary_Entitlement!E194","v":{"$error":"#N/A"}},{"$f":"Salary_Entitlement!F194","v":0},{"$f":"Salary_Entitlement!G194","v":0},{"$f":"Salary_Entitlement!H194","v":0},{"$f":"Salary_Entitlement!I194","v":0},{"$f":"Salary_Entitlement!J194","v":0},{"$f":"Salary_Entitlement!K194","v":0},{"$f":"Salary_Entitlement!L194","v":0},{"$f":"Salary_Entitlement!M194","v":0},{"$f":"Salary_Entitlement!N194","v":0},{"$f":"Salary_Entitlement!O194","v":0},{"$f":"Salary_Entitlement!P194","v":0},{"$error":"#DIV/0!"},{"$error":"#DIV/0!"},{"$f":"INDEX(Deduction!$A$3:$K$501,MATCH(1,(Deduction!$A$3:$A$501=Sheet8!A193)*(Deduction!$B$3:$B$501=Sheet8!B193)*(Deduction!$C$3:$C$501=Sheet8!D193),0),5)","v":0},{"$f":"INDEX(Deduction!$A$3:$K$501,MATCH(1,(Deduction!$A$3:$A$501=Sheet8!A193)*(Deduction!$B$3:$B$501=Sheet8!B193)*(Deduction!$C$3:$C$501=Sheet8!D193),0),6)","v":0},{"$f":"INDEX(Deduction!$A$3:$K$501,MATCH(1,(Deduction!$A$3:$A$501=Sheet8!A193)*(Deduction!$B$3:$B$501=Sheet8!B193)*(Deduction!$C$3:$C$501=Sheet8!D193),0),7)","v":0},{"$f":"INDEX(Deduction!$A$3:$K$501,MATCH(1,(Deduction!$A$3:$A$501=Sheet8!A193)*(Deduction!$B$3:$B$501=Sheet8!B193)*(Deduction!$C$3:$C$501=Sheet8!D193),0),8)","v":0},{"$f":"INDEX(Deduction!$A$3:$K$501,MATCH(1,(Deduction!$A$3:$A$501=Sheet8!A193)*(Deduction!$B$3:$B$501=Sheet8!B193)*(Deduction!$C$3:$C$501=Sheet8!D193),0),9)","v":0},{"$f":"INDEX(Deduction!$A$3:$K$501,MATCH(1,(Deduction!$A$3:$A$501=Sheet8!A193)*(Deduction!$B$3:$B$501=Sheet8!B193)*(Deduction!$C$3:$C$501=Sheet8!D193),0),10)","v":0},{"$f":"INDEX(Deduction!$A$3:$K$501,MATCH(1,(Deduction!$A$3:$A$501=Sheet8!A193)*(Deduction!$B$3:$B$501=Sheet8!B193)*(Deduction!$C$3:$C$501=Sheet8!D193),0),11)","v":0},{"$error":"#DIV/0!"},{"$f":"VLOOKUP(D193,Emp_Master!$B$3:$H$501,7)","v":{"$error":"#N/A"}}]
[{"$f":"Salary_Entitlement!A195","v":0},{"$f":"Salary_Entitlement!B195","v":0},{"$f":"Salary_Entitlement!C195","v":0},{"$f":"Salary_Entitlement!D195","v":0},{"$f":"Salary_Entitlement!E195","v":{"$error":"#N/A"}},{"$f":"Salary_Entitlement!F195","v":0},{"$f":"Salary_Entitlement!G195","v":0},{"$f":"Salary_Entitlement!H195","v":0},{"$f":"Salary_Entitlement!I195","v":0},{"$f":"Salary_Entitlement!J195","v":0},{"$f":"Salary_Entitlement!K195","v":0},{"$f":"Salary_Entitlement!L195","v":0},{"$f":"Salary_Entitlement!M195","v":0},{"$f":"Salary_Entitlement!N195","v":0},{"$f":"Salary_Entitlement!O195","v":0},{"$f":"Salary_Entitlement!P195","v":0},{"$error":"#DIV/0!"},{"$error":"#DIV/0!"},{"$f":"INDEX(Deduction!$A$3:$K$501,MATCH(1,(Deduction!$A$3:$A$501=Sheet8!A194)*(Deduction!$B$3:$B$501=Sheet8!B194)*(Deduction!$C$3:$C$501=Sheet8!D194),0),5)","v":0},{"$f":"INDEX(Deduction!$A$3:$K$501,MATCH(1,(Deduction!$A$3:$A$501=Sheet8!A194)*(Deduction!$B$3:$B$501=Sheet8!B194)*(Deduction!$C$3:$C$501=Sheet8!D194),0),6)","v":0},{"$f":"INDEX(Deduction!$A$3:$K$501,MATCH(1,(Deduction!$A$3:$A$501=Sheet8!A194)*(Deduction!$B$3:$B$501=Sheet8!B194)*(Deduction!$C$3:$C$501=Sheet8!D194),0),7)","v":0},{"$f":"INDEX(Deduction!$A$3:$K$501,MATCH(1,(Deduction!$A$3:$A$501=Sheet8!A194)*(Deduction!$B$3:$B$501=Sheet8!B194)*(Deduction!$C$3:$C$501=Sheet8!D194),0),8)","v":0},{"$f":"INDEX(Deduction!$A$3:$K$501,MATCH(1,(Deduction!$A$3:$A$501=Sheet8!A194)*(Deduction!$B$3:$B$501=Sheet8!B194)*(Deduction!$C$3:$C$501=Sheet8!D194),0),9)","v":0},{"$f":"INDEX(Deduction!$A$3:$K$501,MATCH(1,(Deduction!$A$3:$A$501=Sheet8!A194)*(Deduction!$B$3:$B$501=Sheet8!B194)*(Deduction!$C$3:$C$501=Sheet8!D194),0),10)","v":0},{"$f":"INDEX(Deduction!$A$3:$K$501,MATCH(1,(Deduction!$A$3:$A$501=Sheet8!A194)*(Deduction!$B$3:$B$501=Sheet8!B194)*(Deduction!$C$3:$C$501=Sheet8!D194),0),11)","v":0},{"$error":"#DIV/0!"},{"$f":"VLOOKUP(D194,Emp_Master!$B$3:$H$501,7)","v":{"$error":"#N/A"}}]
[{"$f":"Salary_Entitlement!A196","v":0},{"$f":"Salary_Entitlement!B196","v":0},{"$f":"Salary_Entitlement!C196","v":0},{"$f":"Salary_Entitlement!D196","v":0},{"$f":"Salary_Entitlement!E196","v":{"$error":"#N/A"}},{"$f":"Salary_Entitlement!F196","v":0},{"$f":"Salary_Entitlement!G196","v":0},{"$f":"Salary_Entitlement!H196","v":0},{"$f":"Salary_Entitlement!I196","v":0},{"$f":"Salary_Entitlement!J196","v":0},{"$f":"Salary_Entitlement!K196","v":0},{"$f":"Salary_Entitlement!L196","v":0},{"$f":"Salary_Entitlement!M196","v":0},{"$f":"Salary_Entitlement!N196","v":0},{"$f":"Salary_Entitlement!O196","v":0},{"$f":"Salary_Entitlement!P196","v":0},{"$error":"#DIV/0!"},{"$error":"#DIV/0!"},{"$f":"INDEX(Deduction!$A$3:$K$501,MATCH(1,(Deduction!$A$3:$A$501=Sheet8!A195)*(Deduction!$B$3:$B$501=Sheet8!B195)*(Deduction!$C$3:$C$501=Sheet8!D195),0),5)","v":0},{"$f":"INDEX(Deduction!$A$3:$K$501,MATCH(1,(Deduction!$A$3:$A$501=Sheet8!A195)*(Deduction!$B$3:$B$501=Sheet8!B195)*(Deduction!$C$3:$C$501=Sheet8!D195),0),6)","v":0},{"$f":"INDEX(Deduction!$A$3:$K$501,MATCH(1,(Deduction!$A$3:$A$501=Sheet8!A195)*(Deduction!$B$3:$B$501=Sheet8!B195)*(Deduction!$C$3:$C$501=Sheet8!D195),0),7)","v":0},{"$f":"INDEX(Deduction!$A$3:$K$501,MATCH(1,(Deduction!$A$3:$A$501=Sheet8!A195)*(Deduction!$B$3:$B$501=Sheet8!B195)*(Deduction!$C$3:$C$501=Sheet8!D195),0),8)","v":0},{"$f":"INDEX(Deduction!$A$3:$K$501,MATCH(1,(Deduction!$A$3:$A$501=Sheet8!A195)*(Deduction!$B$3:$B$501=Sheet8!B195)*(Deduction!$C$3:$C$501=Sheet8!D195),0),9)","v":0},{"$f":"INDEX(Deduction!$A$3:$K$501,MATCH(1,(Deduction!$A$3:$A$501=Sheet8!A195)*(Deduction!$B$3:$B$501=Sheet8!B195)*(Deduction!$C$3:$C$501=Sheet8!D195),0),10)","v":0},{"$f":"INDEX(Deduction!$A$3:$K$501,MATCH(1,(Deduction!$A$3:$A$501=Sheet8!A195)*(Deduction!$B$3:$B$501=Sheet8!B195)*(Deduction!$C$3:$C$501=Sheet8!D195),0),11)","v":0},{"$error":"#DIV/0!"},{"$f":"VLOOKUP(D195,Emp_Master!$B$3:$H$501,7)","v":{"$error":"#N/A"}}]
[{"$f":"Salary_Entitlement!A197","v":0},{"$f":"Salary_Entitlement!B197","v":0},{"$f":"Salary_Entitlement!C197","v":0},{"$f":"Salary_Entitlement!D197","v":0},{"$f":"Salary_Entitlement!E197","v":{"$error":"#N/A"}},{"$f":"Salary_Entitlement!F197","v":0},{"$f":"Salary_Entitlement!G197","v":0},{"$f":"Salary_Entitlement!H197","v":0},{"$f":"Salary_Entitlement!I197","v":0},{"$f":"Salary_Entitlement!J197","v":0},{"$f":"Salary_Entitlement!K197","v":0},{"$f":"Salary_Entitlement!L197","v":0},{"$f":"Salary_Entitlement!M197","v":0},{"$f":"Salary_Entitlement!N197","v":0},{"$f":"Salary_Entitlement!O197","v":0},{"$f":"Salary_Entitlement!P197","v":0},{"$error":"#DIV/0!"},{"$error":"#DIV/0!"},{"$f":"INDEX(Deduction!$A$3:$K$501,MATCH(1,(Deduction!$A$3:$A$501=Sheet8!A196)*(Deduction!$B$3:$B$501=Sheet8!B196)*(Deduction!$C$3:$C$501=Sheet8!D196),0),5)","v":0},{"$f":"INDEX(Deduction!$A$3:$K$501,MATCH(1,(Deduction!$A$3:$A$501=Sheet8!A196)*(Deduction!$B$3:$B$501=Sheet8!B196)*(Deduction!$C$3:$C$501=Sheet8!D196),0),6)","v":0},{"$f":"INDEX(Deduction!$A$3:$K$501,MATCH(1,(Deduction!$A$3:$A$501=Sheet8!A196)*(Deduction!$B$3:$B$501=Sheet8!B196)*(Deduction!$C$3:$C$501=Sheet8!D196),0),7)","v":0},{"$f":"INDEX(Deduction!$A$3:$K$501,MATCH(1,(Deduction!$A$3:$A$501=Sheet8!A196)*(Deduction!$B$3:$B$501=Sheet8!B196)*(Deduction!$C$3:$C$501=Sheet8!D196),0),8)","v":0},{"$f":"INDEX(Deduction!$A$3:$K$501,MATCH(1,(Deduction!$A$3:$A$501=Sheet8!A196)*(Deduction!$B$3:$B$501=Sheet8!B196)*(Deduction!$C$3:$C$501=Sheet8!D196),0),9)","v":0},{"$f":"INDEX(Deduction!$A$3:$K$501,MATCH(1,(Deduction!$A$3:$A$501=Sheet8!A196)*(Deduction!$B$3:$B$501=Sheet8!B196)*(Deduction!$C$3:$C$501=Sheet8!D196),0),10)","v":0},{"$f":"INDEX(Deduction!$A$3:$K$501,MATCH(1,(Deduction!$A$3:$A$501=Sheet8!A196)*(Deduction!$B$3:$B$501=Sheet8!B196)*(Deduction!$C$3:$C$501=Sheet8!D196),0),11)","v":0},{"$f":"+R196-SUM(S196:Y196)","v":{"$error":"#DIV/0!"}},{"$f":"VLOOKUP(D196,Emp_Master!$B$3:$H$501,7)","v":{"$error":"#N/A"}}]
[{"$f":"Salary_Entitlement!A198","v":0},{"$f":"Salary_Entitlement!B198","v":0},{"$f":"Salary_Entitlement!C198","v":0},{"$f":"Salary_Entitlement!D198","v":0},{"$f":"Salary_Entitlement!E198","v":{"$error":"#N/A"}},{"$f":"Salary_Entitlement!F198","v":0},{"$f":"Salary_Entitlement!G198","v":0},{"$f":"Salary_Entitlement!H198","v":0},{"$f":"Salary_Entitlement!I198","v":0},{"$f":"Salary_Entitlement!J198","v":0},{"$f":"Salary_Entitlement!K198","v":0},{"$f":"Salary_Entitlement!L198","v":0},{"$f":"Salary_Entitlement!M198","v":0},{"$f":"Salary_Entitlement!N198","v":0},{"$f":"Salary_Entitlement!O198","v":0},{"$f":"Salary_Entitlement!P198","v":0},{"$error":"#DIV/0!"},{"$error":"#DIV/0!"},{"$f":"INDEX(Deduction!$A$3:$K$501,MATCH(1,(Deduction!$A$3:$A$501=Sheet8!A197)*(Deduction!$B$3:$B$501=Sheet8!B197)*(Deduction!$C$3:$C$501=Sheet8!D197),0),5)","v":0},{"$f":"INDEX(Deduction!$A$3:$K$501,MATCH(1,(Deduction!$A$3:$A$501=Sheet8!A197)*(Deduction!$B$3:$B$501=Sheet8!B197)*(Deduction!$C$3:$C$501=Sheet8!D197),0),6)","v":0},{"$f":"INDEX(Deduction!$A$3:$K$501,MATCH(1,(Deduction!$A$3:$A$501=Sheet8!A197)*(Deduction!$B$3:$B$501=Sheet8!B197)*(Deduction!$C$3:$C$501=Sheet8!D197),0),7)","v":0},{"$f":"INDEX(Deduction!$A$3:$K$501,MATCH(1,(Deduction!$A$3:$A$501=Sheet8!A197)*(Deduction!$B$3:$B$501=Sheet8!B197)*(Deduction!$C$3:$C$501=Sheet8!D197),0),8)","v":0},{"$f":"INDEX(Deduction!$A$3:$K$501,MATCH(1,(Deduction!$A$3:$A$501=Sheet8!A197)*(Deduction!$B$3:$B$501=Sheet8!B197)*(Deduction!$C$3:$C$501=Sheet8!D197),0),9)","v":0},{"$f":"INDEX(Deduction!$A$3:$K$501,MATCH(1,(Deduction!$A$3:$A$501=Sheet8!A197)*(Deduction!$B$3:$B$501=Sheet8!B197)*(Deduction!$C$3:$C$501=Sheet8!D197),0),10)","v":0},{"$f":"INDEX(Deduction!$A$3:$K$501,MATCH(1,(Deduction!$A$3:$A$501=Sheet8!A197)*(Deduction!$B$3:$B$501=Sheet8!B197)*(Deduction!$C$3:$C$501=Sheet8!D197),0),11)","v":0},{"$error":"#DIV/0!"},{"$f":"VLOOKUP(D197,Emp_Master!$B$3:$H$501,7)","v":{"$error":"#N/A"}}]
[{"$f":"Salary_Entitlement!A199","v":0},{"$f":"Salary_Entitlement!B199","v":0},{"$f":"Salary_Entitlement!C199","v":0},{"$f":"Salary_Entitlement!D199","v":0},{"$f":"Salary_Entitlement!E199","v":{"$error":"#N/A"}},{"$f":"Salary_Entitlement!F199","v":0},{"$f":"Salary_Entitlement!G199","v":0},{"$f":"Salary_Entitlement!H199","v":0},{"$f":"Salary_Entitlement!I199","v":0},{"$f":"Salary_Entitlement!J199","v":0},{"$f":"Salary_Entitlement!K199","v":0},{"$f":"Salary_Entitlement!L199","v":0},{"$f":"Salary_Entitlement!M199","v":0},{"$f":"Salary_Entitlement!N199","v":0},{"$f":"Salary_Entitlement!O199","v":0},{"$f":"Salary_Entitlement!P199","v":0},{"$error":"#DIV/0!"},{"$error":"#DIV/0!"},{"$f":"INDEX(Deduction!$A$3:$K$501,MATCH(1,(Deduction!$A$3:$A$501=Sheet8!A198)*(Deduction!$B$3:$B$501=Sheet8!B198)*(Deduction!$C$3:$C$501=Sheet8!D198),0),5)","v":0},{"$f":"INDEX(Deduction!$A$3:$K$501,MATCH(1,(Deduction!$A$3:$A$501=Sheet8!A198)*(Deduction!$B$3:$B$501=Sheet8!B198)*(Deduction!$C$3:$C$501=Sheet8!D198),0),6)","v":0},{"$f":"INDEX(Deduction!$A$3:$K$501,MATCH(1,(Deduction!$A$3:$A$501=Sheet8!A198)*(Deduction!$B$3:$B$501=Sheet8!B198)*(Deduction!$C$3:$C$501=Sheet8!D198),0),7)","v":0},{"$f":"INDEX(Deduction!$A$3:$K$501,MATCH(1,(Deduction!$A$3:$A$501=Sheet8!A198)*(Deduction!$B$3:$B$501=Sheet8!B198)*(Deduction!$C$3:$C$501=Sheet8!D198),0),8)","v":0},{"$f":"INDEX(Deduction!$A$3:$K$501,MATCH(1,(Deduction!$A$3:$A$501=Sheet8!A198)*(Deduction!$B$3:$B$501=Sheet8!B198)*(Deduction!$C$3:$C$501=Sheet8!D198),0),9)","v":0},{"$f":"INDEX(Deduction!$A$3:$K$501,MATCH(1,(Deduction!$A$3:$A$501=Sheet8!A198)*(Deduction!$B$3:$B$501=Sheet8!B198)*(Deduction!$C$3:$C$501=Sheet8!D198),0),10)","v":0},{"$f":"INDEX(Deduction!$A$3:$K$501,MATCH(1,(Deduction!$A$3:$A$501=Sheet8!A198)*(Deduction!$B$3:$B$501=Sheet8!B198)*(Deduction!$C$3:$C$501=Sheet8!D198),0),11)","v":0},{"$error":"#DIV/0!"},{"$f":"VLOOKUP(D198,Emp_Master!$B$3:$H$501,7)","v":{"$error":"#N/A"}}]
[{"$f":"Salary_Entitlement!A200","v":0},{"$f":"Salary_Entitlement!B200","v":0},{"$f":"Salary_Entitlement!C200","v":0},{"$f":"Salary_Entitlement!D200","v":0},{"$f":"Salary_Entitlement!E200","v":{"$error":"#N/A"}},{"$f":"Salary_Entitlement!F200","v":0},{"$f":"Salary_Entitlement!G200","v":0},{"$f":"Salary_Entitlement!H200","v":0},{"$f":"Salary_Entitlement!I200","v":0},{"$f":"Salary_Entitlement!J200","v":0},{"$f":"Salary_Entitlement!K200","v":0},{"$f":"Salary_Entitlement!L200","v":0},{"$f":"Salary_Entitlement!M200","v":0},{"$f":"Salary_Entitlement!N200","v":0},{"$f":"Salary_Entitlement!O200","v":0},{"$f":"Salary_Entitlement!P200","v":0},{"$error":"#DIV/0!"},{"$error":"#DIV/0!"},{"$f":"INDEX(Deduction!$A$3:$K$501,MATCH(1,(Deduction!$A$3:$A$501=Sheet8!A199)*(Deduction!$B$3:$B$501=Sheet8!B199)*(Deduction!$C$3:$C$501=Sheet8!D199),0),5)","v":0},{"$f":"INDEX(Deduction!$A$3:$K$501,MATCH(1,(Deduction!$A$3:$A$501=Sheet8!A199)*(Deduction!$B$3:$B$501=Sheet8!B199)*(Deduction!$C$3:$C$501=Sheet8!D199),0),6)","v":0},{"$f":"INDEX(Deduction!$A$3:$K$501,MATCH(1,(Deduction!$A$3:$A$501=Sheet8!A199)*(Deduction!$B$3:$B$501=Sheet8!B199)*(Deduction!$C$3:$C$501=Sheet8!D199),0),7)","v":0},{"$f":"INDEX(Deduction!$A$3:$K$501,MATCH(1,(Deduction!$A$3:$A$501=Sheet8!A199)*(Deduction!$B$3:$B$501=Sheet8!B199)*(Deduction!$C$3:$C$501=Sheet8!D199),0),8)","v":0},{"$f":"INDEX(Deduction!$A$3:$K$501,MATCH(1,(Deduction!$A$3:$A$501=Sheet8!A199)*(Deduction!$B$3:$B$501=Sheet8!B199)*(Deduction!$C$3:$C$501=Sheet8!D199),0),9)","v":0},{"$f":"INDEX(Deduction!$A$3:$K$501,MATCH(1,(Deduction!$A$3:$A$501=Sheet8!A199)*(Deduction!$B$3:$B$501=Sheet8!B199)*(Deduction!$C$3:$C$501=Sheet8!D199),0),10)","v":0},{"$f":"INDEX(Deduction!$A$3:$K$501,MATCH(1,(Deduction!$A$3:$A$501=Sheet8!A199)*(Deduction!$B$3:$B$501=Sheet8!B199)*(Deduction!$C$3:$C$501=Sheet8!D199),0),11)","v":0},{"$error":"#DIV/0!"},{"$f":"VLOOKUP(D199,Emp_Master!$B$3:$H$501,7)","v":{"$error":"#N/A"}}]
[{"$f":"Salary_Entitlement!A201","v":0},{"$f":"Salary_Entitlement!B201","v":0},{"$f":"Salary_Entitlement!C201","v":0},{"$f":"Salary_Entitlement!D201","v":0},{"$f":"Salary_Entitlement!E201","v":{"$error":"#N/A"}},{"$f":"Salary_Entitlement!F201","v":0},{"$f":"Salary_Entitlement!G201","v":0},{"$f":"Salary_Entitlement!H201","v":0},{"$f":"Salary_Entitlement!I201","v":0},{"$f":"Salary_Entitlement!J201","v":0},{"$f":"Salary_Entitlement!K201","v":0},{"$f":"Salary_Entitlement!L201","v":0},{"$f":"Salary_Entitlement!M201","v":0},{"$f":"Salary_Entitlement!N201","v":0},{"$f":"Salary_Entitlement!O201","v":0},{"$f":"Salary_Entitlement!P201","v":0},{"$error":"#DIV/0!"},{"$error":"#DIV/0!"},{"$f":"INDEX(Deduction!$A$3:$K$501,MATCH(1,(Deduction!$A$3:$A$501=Sheet8!A200)*(Deduction!$B$3:$B$501=Sheet8!B200)*(Deduction!$C$3:$C$501=Sheet8!D200),0),5)","v":0},{"$f":"INDEX(Deduction!$A$3:$K$501,MATCH(1,(Deduction!$A$3:$A$501=Sheet8!A200)*(Deduction!$B$3:$B$501=Sheet8!B200)*(Deduction!$C$3:$C$501=Sheet8!D200),0),6)","v":0},{"$f":"INDEX(Deduction!$A$3:$K$501,MATCH(1,(Deduction!$A$3:$A$501=Sheet8!A200)*(Deduction!$B$3:$B$501=Sheet8!B200)*(Deduction!$C$3:$C$501=Sheet8!D200),0),7)","v":0},{"$f":"INDEX(Deduction!$A$3:$K$501,MATCH(1,(Deduction!$A$3:$A$501=Sheet8!A200)*(Deduction!$B$3:$B$501=Sheet8!B200)*(Deduction!$C$3:$C$501=Sheet8!D200),0),8)","v":0},{"$f":"INDEX(Deduction!$A$3:$K$501,MATCH(1,(Deduction!$A$3:$A$501=Sheet8!A200)*(Deduction!$B$3:$B$501=Sheet8!B200)*(Deduction!$C$3:$C$501=Sheet8!D200),0),9)","v":0},{"$f":"INDEX(Deduction!$A$3:$K$501,MATCH(1,(Deduction!$A$3:$A$501=Sheet8!A200)*(Deduction!$B$3:$B$501=Sheet8!B200)*(Deduction!$C$3:$C$501=Sheet8!D200),0),10)","v":0},{"$f":"INDEX(Deduction!$A$3:$K$501,MATCH(1,(Deduction!$A$3:$A$501=Sheet8!A200)*(Deduction!$B$3:$B$501=Sheet8!B200)*(Deduction!$C$3:$C$501=Sheet8!D200),0),11)","v":0},{"$error":"#DIV/0!"},{"$f":"VLOOKUP(D200,Emp_Master!$B$3:$H$501,7)","v":{"$error":"#N/A"}}]
[{"$f":"Salary_Entitlement!A202","v":0},{"$f":"Salary_Entitlement!B202","v":0},{"$f":"Salary_Entitlement!C202","v":0},{"$f":"Salary_Entitlement!D202","v":0},{"$f":"Salary_Entitlement!E202","v":{"$error":"#N/A"}},{"$f":"Salary_Entitlement!F202","v":0},{"$f":"Salary_Entitlement!G202","v":0},{"$f":"Salary_Entitlement!H202","v":0},{"$f":"Salary_Entitlement!I202","v":0},{"$f":"Salary_Entitlement!J202","v":0},{"$f":"Salary_Entitlement!K202","v":0},{"$f":"Salary_Entitlement!L202","v":0},{"$f":"Salary_Entitlement!M202","v":0},{"$f":"Salary_Entitlement!N202","v":0},{"$f":"Salary_Entitlement!O202","v":0},{"$f":"Salary_Entitlement!P202","v":0},{"$error":"#DIV/0!"},{"$error":"#DIV/0!"},{"$f":"INDEX(Deduction!$A$3:$K$501,MATCH(1,(Deduction!$A$3:$A$501=Sheet8!A201)*(Deduction!$B$3:$B$501=Sheet8!B201)*(Deduction!$C$3:$C$501=Sheet8!D201),0),5)","v":0},{"$f":"INDEX(Deduction!$A$3:$K$501,MATCH(1,(Deduction!$A$3:$A$501=Sheet8!A201)*(Deduction!$B$3:$B$501=Sheet8!B201)*(Deduction!$C$3:$C$501=Sheet8!D201),0),6)","v":0},{"$f":"INDEX(Deduction!$A$3:$K$501,MATCH(1,(Deduction!$A$3:$A$501=Sheet8!A201)*(Deduction!$B$3:$B$501=Sheet8!B201)*(Deduction!$C$3:$C$501=Sheet8!D201),0),7)","v":0},{"$f":"INDEX(Deduction!$A$3:$K$501,MATCH(1,(Deduction!$A$3:$A$501=Sheet8!A201)*(Deduction!$B$3:$B$501=Sheet8!B201)*(Deduction!$C$3:$C$501=Sheet8!D201),0),8)","v":0},{"$f":"INDEX(Deduction!$A$3:$K$501,MATCH(1,(Deduction!$A$3:$A$501=Sheet8!A201)*(Deduction!$B$3:$B$501=Sheet8!B201)*(Deduction!$C$3:$C$501=Sheet8!D201),0),9)","v":0},{"$f":"INDEX(Deduction!$A$3:$K$501,MATCH(1,(Deduction!$A$3:$A$501=Sheet8!A201)*(Deduction!$B$3:$B$501=Sheet8!B201)*(Deduction!$C$3:$C$501=Sheet8!D201),0),10)","v":0},{"$f":"INDEX(Deduction!$A$3:$K$501,MATCH(1,(Deduction!$A$3:$A$501=Sheet8!A201)*(Deduction!$B$3:$B$501=Sheet8!B201)*(Deduction!$C$3:$C$501=Sheet8!D201),0),11)","v":0},{"$error":"#DIV/0!"},{"$f":"VLOOKUP(D201,Emp_Master!$B$3:$H$501,7)","v":{"$error":"#N/A"}}]
[{"$f":"Salary_Entitlement!A203","v":0},{"$f":"Salary_Entitlement!B203","v":0},{"$f":"Salary_Entitlement!C203","v":0},{"$f":"Salary_Entitlement!D203","v":0},{"$f":"Salary_Entitlement!E203","v":{"$error":"#N/A"}},{"$f":"Salary_Entitlement!F203","v":0},{"$f":"Salary_Entitlement!G203","v":0},{"$f":"Salary_Entitlement!H203","v":0},{"$f":"Salary_Entitlement!I203","v":0},{"$f":"Salary_Entitlement!J203","v":0},{"$f":"Salary_Entitlement!K203","v":0},{"$f":"Salary_Entitlement!L203","v":0},{"$f":"Salary_Entitlement!M203","v":0},{"$f":"Salary_Entitlement!N203","v":0},{"$f":"Salary_Entitlement!O203","v":0},{"$f":"Salary_Entitlement!P203","v":0},{"$error":"#DIV/0!"},{"$error":"#DIV/0!"},{"$f":"INDEX(Deduction!$A$3:$K$501,MATCH(1,(Deduction!$A$3:$A$501=Sheet8!A202)*(Deduction!$B$3:$B$501=Sheet8!B202)*(Deduction!$C$3:$C$501=Sheet8!D202),0),5)","v":0},{"$f":"INDEX(Deduction!$A$3:$K$501,MATCH(1,(Deduction!$A$3:$A$501=Sheet8!A202)*(Deduction!$B$3:$B$501=Sheet8!B202)*(Deduction!$C$3:$C$501=Sheet8!D202),0),6)","v":0},{"$f":"INDEX(Deduction!$A$3:$K$501,MATCH(1,(Deduction!$A$3:$A$501=Sheet8!A202)*(Deduction!$B$3:$B$501=Sheet8!B202)*(Deduction!$C$3:$C$501=Sheet8!D202),0),7)","v":0},{"$f":"INDEX(Deduction!$A$3:$K$501,MATCH(1,(Deduction!$A$3:$A$501=Sheet8!A202)*(Deduction!$B$3:$B$501=Sheet8!B202)*(Deduction!$C$3:$C$501=Sheet8!D202),0),8)","v":0},{"$f":"INDEX(Deduction!$A$3:$K$501,MATCH(1,(Deduction!$A$3:$A$501=Sheet8!A202)*(Deduction!$B$3:$B$501=Sheet8!B202)*(Deduction!$C$3:$C$501=Sheet8!D202),0),9)","v":0},{"$f":"INDEX(Deduction!$A$3:$K$501,MATCH(1,(Deduction!$A$3:$A$501=Sheet8!A202)*(Deduction!$B$3:$B$501=Sheet8!B202)*(Deduction!$C$3:$C$501=Sheet8!D202),0),10)","v":0},{"$f":"INDEX(Deduction!$A$3:$K$501,MATCH(1,(Deduction!$A$3:$A$501=Sheet8!A202)*(Deduction!$B$3:$B$501=Sheet8!B202)*(Deduction!$C$3:$C$501=Sheet8!D202),0),11)","v":0},{"$error":"#DIV/0!"},{"$f":"VLOOKUP(D202,Emp_Master!$B$3:$H$501,7)","v":{"$error":"#N/A"}}]
[{"$f":"Salary_Entitlement!A204","v":0},{"$f":"Salary_Entitlement!B204","v":0},{"$f":"Salary_Entitlement!C204","v":0},{"$f":"Salary_Entitlement!D204","v":0},{"$f":"Salary_Entitlement!E204","v":{"$error":"#N/A"}},{"$f":"Salary_Entitlement!F204","v":0},{"$f":"Salary_Entitlement!G204","v":0},{"$f":"Salary_Entitlement!H204","v":0},{"$f":"Salary_Entitlement!I204","v":0},{"$f":"Salary_Entitlement!J204","v":0},{"$f":"Salary_Entitlement!K204","v":0},{"$f":"Salary_Entitlement!L204","v":0},{"$f":"Salary_Entitlement!M204","v":0},{"$f":"Salary_Entitlement!N204","v":0},{"$f":"Salary_Entitlement!O204","v":0},{"$f":"Salary_Entitlement!P204","v":0},{"$error":"#DIV/0!"},{"$error":"#DIV/0!"},{"$f":"INDEX(Deduction!$A$3:$K$501,MATCH(1,(Deduction!$A$3:$A$501=Sheet8!A203)*(Deduction!$B$3:$B$501=Sheet8!B203)*(Deduction!$C$3:$C$501=Sheet8!D203),0),5)","v":0},{"$f":"INDEX(Deduction!$A$3:$K$501,MATCH(1,(Deduction!$A$3:$A$501=Sheet8!A203)*(Deduction!$B$3:$B$501=Sheet8!B203)*(Deduction!$C$3:$C$501=Sheet8!D203),0),6)","v":0},{"$f":"INDEX(Deduction!$A$3:$K$501,MATCH(1,(Deduction!$A$3:$A$501=Sheet8!A203)*(Deduction!$B$3:$B$501=Sheet8!B203)*(Deduction!$C$3:$C$501=Sheet8!D203),0),7)","v":0},{"$f":"INDEX(Deduction!$A$3:$K$501,MATCH(1,(Deduction!$A$3:$A$501=Sheet8!A203)*(Deduction!$B$3:$B$501=Sheet8!B203)*(Deduction!$C$3:$C$501=Sheet8!D203),0),8)","v":0},{"$f":"INDEX(Deduction!$A$3:$K$501,MATCH(1,(Deduction!$A$3:$A$501=Sheet8!A203)*(Deduction!$B$3:$B$501=Sheet8!B203)*(Deduction!$C$3:$C$501=Sheet8!D203),0),9)","v":0},{"$f":"INDEX(Deduction!$A$3:$K$501,MATCH(1,(Deduction!$A$3:$A$501=Sheet8!A203)*(Deduction!$B$3:$B$501=Sheet8!B203)*(Deduction!$C$3:$C$501=Sheet8!D203),0),10)","v":0},{"$f":"INDEX(Deduction!$A$3:$K$501,MATCH(1,(Deduction!$A$3:$A$501=Sheet8!A203)*(Deduction!$B$3:$B$501=Sheet8!B203)*(Deduction!$C$3:$C$501=Sheet8!D203),0),11)","v":0},{"$error":"#DIV/0!"},{"$f":"VLOOKUP(D203,Emp_Master!$B$3:$H$501,7)","v":{"$error":"#N/A"}}]
[{"$f":"Salary_Entitlement!A205","v":0},{"$f":"Salary_Entitlement!B205","v":0},{"$f":"Salary_Entitlement!C205","v":0},{"$f":"Salary_Entitlement!D205","v":0},{"$f":"Salary_Entitlement!E205","v":{"$error":"#N/A"}},{"$f":"Salary_Entitlement!F205","v":0},{"$f":"Salary_Entitlement!G205","v":0},{"$f":"Salary_Entitlement!H205","v":0},{"$f":"Salary_Entitlement!I205","v":0},{"$f":"Salary_Entitlement!J205","v":0},{"$f":"Salary_Entitlement!K205","v":0},{"$f":"Salary_Entitlement!L205","v":0},{"$f":"Salary_Entitlement!M205","v":0},{"$f":"Salary_Entitlement!N205","v":0},{"$f":"Salary_Entitlement!O205","v":0},{"$f":"Salary_Entitlement!P205","v":0},{"$error":"#DIV/0!"},{"$error":"#DIV/0!"},{"$f":"INDEX(Deduction!$A$3:$K$501,MATCH(1,(Deduction!$A$3:$A$501=Sheet8!A204)*(Deduction!$B$3:$B$501=Sheet8!B204)*(Deduction!$C$3:$C$501=Sheet8!D204),0),5)","v":0},{"$f":"INDEX(Deduction!$A$3:$K$501,MATCH(1,(Deduction!$A$3:$A$501=Sheet8!A204)*(Deduction!$B$3:$B$501=Sheet8!B204)*(Deduction!$C$3:$C$501=Sheet8!D204),0),6)","v":0},{"$f":"INDEX(Deduction!$A$3:$K$501,MATCH(1,(Deduction!$A$3:$A$501=Sheet8!A204)*(Deduction!$B$3:$B$501=Sheet8!B204)*(Deduction!$C$3:$C$501=Sheet8!D204),0),7)","v":0},{"$f":"INDEX(Deduction!$A$3:$K$501,MATCH(1,(Deduction!$A$3:$A$501=Sheet8!A204)*(Deduction!$B$3:$B$501=Sheet8!B204)*(Deduction!$C$3:$C$501=Sheet8!D204),0),8)","v":0},{"$f":"INDEX(Deduction!$A$3:$K$501,MATCH(1,(Deduction!$A$3:$A$501=Sheet8!A204)*(Deduction!$B$3:$B$501=Sheet8!B204)*(Deduction!$C$3:$C$501=Sheet8!D204),0),9)","v":0},{"$f":"INDEX(Deduction!$A$3:$K$501,MATCH(1,(Deduction!$A$3:$A$501=Sheet8!A204)*(Deduction!$B$3:$B$501=Sheet8!B204)*(Deduction!$C$3:$C$501=Sheet8!D204),0),10)","v":0},{"$f":"INDEX(Deduction!$A$3:$K$501,MATCH(1,(Deduction!$A$3:$A$501=Sheet8!A204)*(Deduction!$B$3:$B$501=Sheet8!B204)*(Deduction!$C$3:$C$501=Sheet8!D204),0),11)","v":0},{"$error":"#DIV/0!"},{"$f":"VLOOKUP(D204,Emp_Master!$B$3:$H$501,7)","v":{"$error":"#N/A"}}]
[{"$f":"Salary_Entitlement!A206","v":0},{"$f":"Salary_Entitlement!B206","v":0},{"$f":"Salary_Entitlement!C206","v":0},{"$f":"Salary_Entitlement!D206","v":0},{"$f":"Salary_Entitlement!E206","v":{"$error":"#N/A"}},{"$f":"Salary_Entitlement!F206","v":0},{"$f":"Salary_Entitlement!G206","v":0},{"$f":"Salary_Entitlement!H206","v":0},{"$f":"Salary_Entitlement!I206","v":0},{"$f":"Salary_Entitlement!J206","v":0},{"$f":"Salary_Entitlement!K206","v":0},{"$f":"Salary_Entitlement!L206","v":0},{"$f":"Salary_Entitlement!M206","v":0},{"$f":"Salary_Entitlement!N206","v":0},{"$f":"Salary_Entitlement!O206","v":0},{"$f":"Salary_Entitlement!P206","v":0},{"$error":"#DIV/0!"},{"$error":"#DIV/0!"},{"$f":"INDEX(Deduction!$A$3:$K$501,MATCH(1,(Deduction!$A$3:$A$501=Sheet8!A205)*(Deduction!$B$3:$B$501=Sheet8!B205)*(Deduction!$C$3:$C$501=Sheet8!D205),0),5)","v":0},{"$f":"INDEX(Deduction!$A$3:$K$501,MATCH(1,(Deduction!$A$3:$A$501=Sheet8!A205)*(Deduction!$B$3:$B$501=Sheet8!B205)*(Deduction!$C$3:$C$501=Sheet8!D205),0),6)","v":0},{"$f":"INDEX(Deduction!$A$3:$K$501,MATCH(1,(Deduction!$A$3:$A$501=Sheet8!A205)*(Deduction!$B$3:$B$501=Sheet8!B205)*(Deduction!$C$3:$C$501=Sheet8!D205),0),7)","v":0},{"$f":"INDEX(Deduction!$A$3:$K$501,MATCH(1,(Deduction!$A$3:$A$501=Sheet8!A205)*(Deduction!$B$3:$B$501=Sheet8!B205)*(Deduction!$C$3:$C$501=Sheet8!D205),0),8)","v":0},{"$f":"INDEX(Deduction!$A$3:$K$501,MATCH(1,(Deduction!$A$3:$A$501=Sheet8!A205)*(Deduction!$B$3:$B$501=Sheet8!B205)*(Deduction!$C$3:$C$501=Sheet8!D205),0),9)","v":0},{"$f":"INDEX(Deduction!$A$3:$K$501,MATCH(1,(Deduction!$A$3:$A$501=Sheet8!A205)*(Deduction!$B$3:$B$501=Sheet8!B205)*(Deduction!$C$3:$C$501=Sheet8!D205),0),10)","v":0},{"$f":"INDEX(Deduction!$A$3:$K$501,MATCH(1,(Deduction!$A$3:$A$501=Sheet8!A205)*(Deduction!$B$3:$B$501=Sheet8!B205)*(Deduction!$C$3:$C$501=Sheet8!D205),0),11)","v":0},{"$error":"#DIV/0!"},{"$f":"VLOOKUP(D205,Emp_Master!$B$3:$H$501,7)","v":{"$error":"#N/A"}}]
[{"$f":"Salary_Entitlement!A207","v":0},{"$f":"Salary_Entitlement!B207","v":0},{"$f":"Salary_Entitlement!C207","v":0},{"$f":"Salary_Entitlement!D207","v":0},{"$f":"Salary_Entitlement!E207","v":{"$error":"#N/A"}},{"$f":"Salary_Entitlement!F207","v":0},{"$f":"Salary_Entitlement!G207","v":0},{"$f":"Salary_Entitlement!H207","v":0},{"$f":"Salary_Entitlement!I207","v":0},{"$f":"Salary_Entitlement!J207","v":0},{"$f":"Salary_Entitlement!K207","v":0},{"$f":"Salary_Entitlement!L207","v":0},{"$f":"Salary_Entitlement!M207","v":0},{"$f":"Salary_Entitlement!N207","v":0},{"$f":"Salary_Entitlement!O207","v":0},{"$f":"Salary_Entitlement!P207","v":0},{"$error":"#DIV/0!"},{"$error":"#DIV/0!"},{"$f":"INDEX(Deduction!$A$3:$K$501,MATCH(1,(Deduction!$A$3:$A$501=Sheet8!A206)*(Deduction!$B$3:$B$501=Sheet8!B206)*(Deduction!$C$3:$C$501=Sheet8!D206),0),5)","v":0},{"$f":"INDEX(Deduction!$A$3:$K$501,MATCH(1,(Deduction!$A$3:$A$501=Sheet8!A206)*(Deduction!$B$3:$B$501=Sheet8!B206)*(Deduction!$C$3:$C$501=Sheet8!D206),0),6)","v":0},{"$f":"INDEX(Deduction!$A$3:$K$501,MATCH(1,(Deduction!$A$3:$A$501=Sheet8!A206)*(Deduction!$B$3:$B$501=Sheet8!B206)*(Deduction!$C$3:$C$501=Sheet8!D206),0),7)","v":0},{"$f":"INDEX(Deduction!$A$3:$K$501,MATCH(1,(Deduction!$A$3:$A$501=Sheet8!A206)*(Deduction!$B$3:$B$501=Sheet8!B206)*(Deduction!$C$3:$C$501=Sheet8!D206),0),8)","v":0},{"$f":"INDEX(Deduction!$A$3:$K$501,MATCH(1,(Deduction!$A$3:$A$501=Sheet8!A206)*(Deduction!$B$3:$B$501=Sheet8!B206)*(Deduction!$C$3:$C$501=Sheet8!D206),0),9)","v":0},{"$f":"INDEX(Deduction!$A$3:$K$501,MATCH(1,(Deduction!$A$3:$A$501=Sheet8!A206)*(Deduction!$B$3:$B$501=Sheet8!B206)*(Deduction!$C$3:$C$501=Sheet8!D206),0),10)","v":0},{"$f":"INDEX(Deduction!$A$3:$K$501,MATCH(1,(Deduction!$A$3:$A$501=Sheet8!A206)*(Deduction!$B$3:$B$501=Sheet8!B206)*(Deduction!$C$3:$C$501=Sheet8!D206),0),11)","v":0},{"$error":"#DIV/0!"},{"$f":"VLOOKUP(D206,Emp_Master!$B$3:$H$501,7)","v":{"$error":"#N/A"}}]
[{"$f":"Salary_Entitlement!A208","v":0},{"$f":"Salary_Entitlement!B208","v":0},{"$f":"Salary_Entitlement!C208","v":0},{"$f":"Salary_Entitlement!D208","v":0},{"$f":"Salary_Entitlement!E208","v":{"$error":"#N/A"}},{"$f":"Salary_Entitlement!F208","v":0},{"$f":"Salary_Entitlement!G208","v":0},{"$f":"Salary_Entitlement!H208","v":0},{"$f":"Salary_Entitlement!I208","v":0},{"$f":"Salary_Entitlement!J208","v":0},{"$f":"Salary_Entitlement!K208","v":0},{"$f":"Salary_Entitlement!L208","v":0},{"$f":"Salary_Entitlement!M208","v":0},{"$f":"Salary_Entitlement!N208","v":0},{"$f":"Salary_Entitlement!O208","v":0},{"$f":"Salary_Entitlement!P208","v":0},{"$error":"#DIV/0!"},{"$error":"#DIV/0!"},{"$f":"INDEX(Deduction!$A$3:$K$501,MATCH(1,(Deduction!$A$3:$A$501=Sheet8!A207)*(Deduction!$B$3:$B$501=Sheet8!B207)*(Deduction!$C$3:$C$501=Sheet8!D207),0),5)","v":0},{"$f":"INDEX(Deduction!$A$3:$K$501,MATCH(1,(Deduction!$A$3:$A$501=Sheet8!A207)*(Deduction!$B$3:$B$501=Sheet8!B207)*(Deduction!$C$3:$C$501=Sheet8!D207),0),6)","v":0},{"$f":"INDEX(Deduction!$A$3:$K$501,MATCH(1,(Deduction!$A$3:$A$501=Sheet8!A207)*(Deduction!$B$3:$B$501=Sheet8!B207)*(Deduction!$C$3:$C$501=Sheet8!D207),0),7)","v":0},{"$f":"INDEX(Deduction!$A$3:$K$501,MATCH(1,(Deduction!$A$3:$A$501=Sheet8!A207)*(Deduction!$B$3:$B$501=Sheet8!B207)*(Deduction!$C$3:$C$501=Sheet8!D207),0),8)","v":0},{"$f":"INDEX(Deduction!$A$3:$K$501,MATCH(1,(Deduction!$A$3:$A$501=Sheet8!A207)*(Deduction!$B$3:$B$501=Sheet8!B207)*(Deduction!$C$3:$C$501=Sheet8!D207),0),9)","v":0},{"$f":"INDEX(Deduction!$A$3:$K$501,MATCH(1,(Deduction!$A$3:$A$501=Sheet8!A207)*(Deduction!$B$3:$B$501=Sheet8!B207)*(Deduction!$C$3:$C$501=Sheet8!D207),0),10)","v":0},{"$f":"INDEX(Deduction!$A$3:$K$501,MATCH(1,(Deduction!$A$3:$A$501=Sheet8!A207)*(Deduction!$B$3:$B$501=Sheet8!B207)*(Deduction!$C$3:$C$501=Sheet8!D207),0),11)","v":0},{"$error":"#DIV/0!"},{"$f":"VLOOKUP(D207,Emp_Master!$B$3:$H$501,7)","v":{"$error":"#N/A"}}]
[{"$f":"Salary_Entitlement!A209","v":0},{"$f":"Salary_Entitlement!B209","v":0},{"$f":"Salary_Entitlement!C209","v":0},{"$f":"Salary_Entitlement!D209","v":0},{"$f":"Salary_Entitlement!E209","v":{"$error":"#N/A"}},{"$f":"Salary_Entitlement!F209","v":0},{"$f":"Salary_Entitlement!G209","v":0},{"$f":"Salary_Entitlement!H209","v":0},{"$f":"Salary_Entitlement!I209","v":0},{"$f":"Salary_Entitlement!J209","v":0},{"$f":"Salary_Entitlement!K209","v":0},{"$f":"Salary_Entitlement!L209","v":0},{"$f":"Salary_Entitlement!M209","v":0},{"$f":"Salary_Entitlement!N209","v":0},{"$f":"Salary_Entitlement!O209","v":0},{"$f":"Salary_Entitlement!P209","v":0},{"$error":"#DIV/0!"},{"$error":"#DIV/0!"},{"$f":"INDEX(Deduction!$A$3:$K$501,MATCH(1,(Deduction!$A$3:$A$501=Sheet8!A208)*(Deduction!$B$3:$B$501=Sheet8!B208)*(Deduction!$C$3:$C$501=Sheet8!D208),0),5)","v":0},{"$f":"INDEX(Deduction!$A$3:$K$501,MATCH(1,(Deduction!$A$3:$A$501=Sheet8!A208)*(Deduction!$B$3:$B$501=Sheet8!B208)*(Deduction!$C$3:$C$501=Sheet8!D208),0),6)","v":0},{"$f":"INDEX(Deduction!$A$3:$K$501,MATCH(1,(Deduction!$A$3:$A$501=Sheet8!A208)*(Deduction!$B$3:$B$501=Sheet8!B208)*(Deduction!$C$3:$C$501=Sheet8!D208),0),7)","v":0},{"$f":"INDEX(Deduction!$A$3:$K$501,MATCH(1,(Deduction!$A$3:$A$501=Sheet8!A208)*(Deduction!$B$3:$B$501=Sheet8!B208)*(Deduction!$C$3:$C$501=Sheet8!D208),0),8)","v":0},{"$f":"INDEX(Deduction!$A$3:$K$501,MATCH(1,(Deduction!$A$3:$A$501=Sheet8!A208)*(Deduction!$B$3:$B$501=Sheet8!B208)*(Deduction!$C$3:$C$501=Sheet8!D208),0),9)","v":0},{"$f":"INDEX(Deduction!$A$3:$K$501,MATCH(1,(Deduction!$A$3:$A$501=Sheet8!A208)*(Deduction!$B$3:$B$501=Sheet8!B208)*(Deduction!$C$3:$C$501=Sheet8!D208),0),10)","v":0},{"$f":"INDEX(Deduction!$A$3:$K$501,MATCH(1,(Deduction!$A$3:$A$501=Sheet8!A208)*(Deduction!$B$3:$B$501=Sheet8!B208)*(Deduction!$C$3:$C$501=Sheet8!D208),0),11)","v":0},{"$error":"#DIV/0!"},{"$f":"VLOOKUP(D208,Emp_Master!$B$3:$H$501,7)","v":{"$error":"#N/A"}}]
[{"$f":"Salary_Entitlement!A210","v":0},{"$f":"Salary_Entitlement!B210","v":0},{"$f":"Salary_Entitlement!C210","v":0},{"$f":"Salary_Entitlement!D210","v":0},{"$f":"Salary_Entitlement!E210","v":{"$error":"#N/A"}},{"$f":"Salary_Entitlement!F210","v":0},{"$f":"Salary_Entitlement!G210","v":0},{"$f":"Salary_Entitlement!H210","v":0},{"$f":"Salary_Entitlement!I210","v":0},{"$f":"Salary_Entitlement!J210","v":0},{"$f":"Salary_Entitlement!K210","v":0},{"$f":"Salary_Entitlement!L210","v":0},{"$f":"Salary_Entitlement!M210","v":0},{"$f":"Salary_Entitlement!N210","v":0},{"$f":"Salary_Entitlement!O210","v":0},{"$f":"Salary_Entitlement!P210","v":0},{"$error":"#DIV/0!"},{"$error":"#DIV/0!"},{"$f":"INDEX(Deduction!$A$3:$K$501,MATCH(1,(Deduction!$A$3:$A$501=Sheet8!A209)*(Deduction!$B$3:$B$501=Sheet8!B209)*(Deduction!$C$3:$C$501=Sheet8!D209),0),5)","v":0},{"$f":"INDEX(Deduction!$A$3:$K$501,MATCH(1,(Deduction!$A$3:$A$501=Sheet8!A209)*(Deduction!$B$3:$B$501=Sheet8!B209)*(Deduction!$C$3:$C$501=Sheet8!D209),0),6)","v":0},{"$f":"INDEX(Deduction!$A$3:$K$501,MATCH(1,(Deduction!$A$3:$A$501=Sheet8!A209)*(Deduction!$B$3:$B$501=Sheet8!B209)*(Deduction!$C$3:$C$501=Sheet8!D209),0),7)","v":0},{"$f":"INDEX(Deduction!$A$3:$K$501,MATCH(1,(Deduction!$A$3:$A$501=Sheet8!A209)*(Deduction!$B$3:$B$501=Sheet8!B209)*(Deduction!$C$3:$C$501=Sheet8!D209),0),8)","v":0},{"$f":"INDEX(Deduction!$A$3:$K$501,MATCH(1,(Deduction!$A$3:$A$501=Sheet8!A209)*(Deduction!$B$3:$B$501=Sheet8!B209)*(Deduction!$C$3:$C$501=Sheet8!D209),0),9)","v":0},{"$f":"INDEX(Deduction!$A$3:$K$501,MATCH(1,(Deduction!$A$3:$A$501=Sheet8!A209)*(Deduction!$B$3:$B$501=Sheet8!B209)*(Deduction!$C$3:$C$501=Sheet8!D209),0),10)","v":0},{"$f":"INDEX(Deduction!$A$3:$K$501,MATCH(1,(Deduction!$A$3:$A$501=Sheet8!A209)*(Deduction!$B$3:$B$501=Sheet8!B209)*(Deduction!$C$3:$C$501=Sheet8!D209),0),11)","v":0},{"$error":"#DIV/0!"},{"$f":"VLOOKUP(D209,Emp_Master!$B$3:$H$501,7)","v":{"$error":"#N/A"}}]
[{"$f":"Salary_Entitlement!A211","v":0},{"$f":"Salary_Entitlement!B211","v":0},{"$f":"Salary_Entitlement!C211","v":0},{"$f":"Salary_Entitlement!D211","v":0},{"$f":"Salary_Entitlement!E211","v":{"$error":"#N/A"}},{"$f":"Salary_Entitlement!F211","v":0},{"$f":"Salary_Entitlement!G211","v":0},{"$f":"Salary_Entitlement!H211","v":0},{"$f":"Salary_Entitlement!I211","v":0},{"$f":"Salary_Entitlement!J211","v":0},{"$f":"Salary_Entitlement!K211","v":0},{"$f":"Salary_Entitlement!L211","v":0},{"$f":"Salary_Entitlement!M211","v":0},{"$f":"Salary_Entitlement!N211","v":0},{"$f":"Salary_Entitlement!O211","v":0},{"$f":"Salary_Entitlement!P211","v":0},{"$error":"#DIV/0!"},{"$error":"#DIV/0!"},{"$f":"INDEX(Deduction!$A$3:$K$501,MATCH(1,(Deduction!$A$3:$A$501=Sheet8!A210)*(Deduction!$B$3:$B$501=Sheet8!B210)*(Deduction!$C$3:$C$501=Sheet8!D210),0),5)","v":0},{"$f":"INDEX(Deduction!$A$3:$K$501,MATCH(1,(Deduction!$A$3:$A$501=Sheet8!A210)*(Deduction!$B$3:$B$501=Sheet8!B210)*(Deduction!$C$3:$C$501=Sheet8!D210),0),6)","v":0},{"$f":"INDEX(Deduction!$A$3:$K$501,MATCH(1,(Deduction!$A$3:$A$501=Sheet8!A210)*(Deduction!$B$3:$B$501=Sheet8!B210)*(Deduction!$C$3:$C$501=Sheet8!D210),0),7)","v":0},{"$f":"INDEX(Deduction!$A$3:$K$501,MATCH(1,(Deduction!$A$3:$A$501=Sheet8!A210)*(Deduction!$B$3:$B$501=Sheet8!B210)*(Deduction!$C$3:$C$501=Sheet8!D210),0),8)","v":0},{"$f":"INDEX(Deduction!$A$3:$K$501,MATCH(1,(Deduction!$A$3:$A$501=Sheet8!A210)*(Deduction!$B$3:$B$501=Sheet8!B210)*(Deduction!$C$3:$C$501=Sheet8!D210),0),9)","v":0},{"$f":"INDEX(Deduction!$A$3:$K$501,MATCH(1,(Deduction!$A$3:$A$501=Sheet8!A210)*(Deduction!$B$3:$B$501=Sheet8!B210)*(Deduction!$C$3:$C$501=Sheet8!D210),0),10)","v":0},{"$f":"INDEX(Deduction!$A$3:$K$501,MATCH(1,(Deduction!$A$3:$A$501=Sheet8!A210)*(Deduction!$B$3:$B$501=Sheet8!B210)*(Deduction!$C$3:$C$501=Sheet8!D210),0),11)","v":0},{"$error":"#DIV/0!"},{"$f":"VLOOKUP(D210,Emp_Master!$B$3:$H$501,7)","v":{"$error":"#N/A"}}]
[{"$f":"Salary_Entitlement!A212","v":0},{"$f":"Salary_Entitlement!B212","v":0},{"$f":"Salary_Entitlement!C212","v":0},{"$f":"Salary_Entitlement!D212","v":0},{"$f":"Salary_Entitlement!E212","v":{"$error":"#N/A"}},{"$f":"Salary_Entitlement!F212","v":0},{"$f":"Salary_Entitlement!G212","v":0},{"$f":"Salary_Entitlement!H212","v":0},{"$f":"Salary_Entitlement!I212","v":0},{"$f":"Salary_Entitlement!J212","v":0},{"$f":"Salary_Entitlement!K212","v":0},{"$f":"Salary_Entitlement!L212","v":0},{"$f":"Salary_Entitlement!M212","v":0},{"$f":"Salary_Entitlement!N212","v":0},{"$f":"Salary_Entitlement!O212","v":0},{"$f":"Salary_Entitlement!P212","v":0},{"$error":"#DIV/0!"},{"$error":"#DIV/0!"},{"$f":"INDEX(Deduction!$A$3:$K$501,MATCH(1,(Deduction!$A$3:$A$501=Sheet8!A211)*(Deduction!$B$3:$B$501=Sheet8!B211)*(Deduction!$C$3:$C$501=Sheet8!D211),0),5)","v":0},{"$f":"INDEX(Deduction!$A$3:$K$501,MATCH(1,(Deduction!$A$3:$A$501=Sheet8!A211)*(Deduction!$B$3:$B$501=Sheet8!B211)*(Deduction!$C$3:$C$501=Sheet8!D211),0),6)","v":0},{"$f":"INDEX(Deduction!$A$3:$K$501,MATCH(1,(Deduction!$A$3:$A$501=Sheet8!A211)*(Deduction!$B$3:$B$501=Sheet8!B211)*(Deduction!$C$3:$C$501=Sheet8!D211),0),7)","v":0},{"$f":"INDEX(Deduction!$A$3:$K$501,MATCH(1,(Deduction!$A$3:$A$501=Sheet8!A211)*(Deduction!$B$3:$B$501=Sheet8!B211)*(Deduction!$C$3:$C$501=Sheet8!D211),0),8)","v":0},{"$f":"INDEX(Deduction!$A$3:$K$501,MATCH(1,(Deduction!$A$3:$A$501=Sheet8!A211)*(Deduction!$B$3:$B$501=Sheet8!B211)*(Deduction!$C$3:$C$501=Sheet8!D211),0),9)","v":0},{"$f":"INDEX(Deduction!$A$3:$K$501,MATCH(1,(Deduction!$A$3:$A$501=Sheet8!A211)*(Deduction!$B$3:$B$501=Sheet8!B211)*(Deduction!$C$3:$C$501=Sheet8!D211),0),10)","v":0},{"$f":"INDEX(Deduction!$A$3:$K$501,MATCH(1,(Deduction!$A$3:$A$501=Sheet8!A211)*(Deduction!$B$3:$B$501=Sheet8!B211)*(Deduction!$C$3:$C$501=Sheet8!D211),0),11)","v":0},{"$error":"#DIV/0!"},{"$f":"VLOOKUP(D211,Emp_Master!$B$3:$H$501,7)","v":{"$error":"#N/A"}}]
[{"$f":"Salary_Entitlement!A213","v":0},{"$f":"Salary_Entitlement!B213","v":0},{"$f":"Salary_Entitlement!C213","v":0},{"$f":"Salary_Entitlement!D213","v":0},{"$f":"Salary_Entitlement!E213","v":{"$error":"#N/A"}},{"$f":"Salary_Entitlement!F213","v":0},{"$f":"Salary_Entitlement!G213","v":0},{"$f":"Salary_Entitlement!H213","v":0},{"$f":"Salary_Entitlement!I213","v":0},{"$f":"Salary_Entitlement!J213","v":0},{"$f":"Salary_Entitlement!K213","v":0},{"$f":"Salary_Entitlement!L213","v":0},{"$f":"Salary_Entitlement!M213","v":0},{"$f":"Salary_Entitlement!N213","v":0},{"$f":"Salary_Entitlement!O213","v":0},{"$f":"Salary_Entitlement!P213","v":0},{"$error":"#DIV/0!"},{"$error":"#DIV/0!"},{"$f":"INDEX(Deduction!$A$3:$K$501,MATCH(1,(Deduction!$A$3:$A$501=Sheet8!A212)*(Deduction!$B$3:$B$501=Sheet8!B212)*(Deduction!$C$3:$C$501=Sheet8!D212),0),5)","v":0},{"$f":"INDEX(Deduction!$A$3:$K$501,MATCH(1,(Deduction!$A$3:$A$501=Sheet8!A212)*(Deduction!$B$3:$B$501=Sheet8!B212)*(Deduction!$C$3:$C$501=Sheet8!D212),0),6)","v":0},{"$f":"INDEX(Deduction!$A$3:$K$501,MATCH(1,(Deduction!$A$3:$A$501=Sheet8!A212)*(Deduction!$B$3:$B$501=Sheet8!B212)*(Deduction!$C$3:$C$501=Sheet8!D212),0),7)","v":0},{"$f":"INDEX(Deduction!$A$3:$K$501,MATCH(1,(Deduction!$A$3:$A$501=Sheet8!A212)*(Deduction!$B$3:$B$501=Sheet8!B212)*(Deduction!$C$3:$C$501=Sheet8!D212),0),8)","v":0},{"$f":"INDEX(Deduction!$A$3:$K$501,MATCH(1,(Deduction!$A$3:$A$501=Sheet8!A212)*(Deduction!$B$3:$B$501=Sheet8!B212)*(Deduction!$C$3:$C$501=Sheet8!D212),0),9)","v":0},{"$f":"INDEX(Deduction!$A$3:$K$501,MATCH(1,(Deduction!$A$3:$A$501=Sheet8!A212)*(Deduction!$B$3:$B$501=Sheet8!B212)*(Deduction!$C$3:$C$501=Sheet8!D212),0),10)","v":0},{"$f":"INDEX(Deduction!$A$3:$K$501,MATCH(1,(Deduction!$A$3:$A$501=Sheet8!A212)*(Deduction!$B$3:$B$501=Sheet8!B212)*(Deduction!$C$3:$C$501=Sheet8!D212),0),11)","v":0},{"$error":"#DIV/0!"},{"$f":"VLOOKUP(D212,Emp_Master!$B$3:$H$501,7)","v":{"$error":"#N/A"}}]
[{"$f":"Salary_Entitlement!A214","v":0},{"$f":"Salary_Entitlement!B214","v":0},{"$f":"Salary_Entitlement!C214","v":0},{"$f":"Salary_Entitlement!D214","v":0},{"$f":"Salary_Entitlement!E214","v":{"$error":"#N/A"}},{"$f":"Salary_Entitlement!F214","v":0},{"$f":"Salary_Entitlement!G214","v":0},{"$f":"Salary_Entitlement!H214","v":0},{"$f":"Salary_Entitlement!I214","v":0},{"$f":"Salary_Entitlement!J214","v":0},{"$f":"Salary_Entitlement!K214","v":0},{"$f":"Salary_Entitlement!L214","v":0},{"$f":"Salary_Entitlement!M214","v":0},{"$f":"Salary_Entitlement!N214","v":0},{"$f":"Salary_Entitlement!O214","v":0},{"$f":"Salary_Entitlement!P214","v":0},{"$error":"#DIV/0!"},{"$error":"#DIV/0!"},{"$f":"INDEX(Deduction!$A$3:$K$501,MATCH(1,(Deduction!$A$3:$A$501=Sheet8!A213)*(Deduction!$B$3:$B$501=Sheet8!B213)*(Deduction!$C$3:$C$501=Sheet8!D213),0),5)","v":0},{"$f":"INDEX(Deduction!$A$3:$K$501,MATCH(1,(Deduction!$A$3:$A$501=Sheet8!A213)*(Deduction!$B$3:$B$501=Sheet8!B213)*(Deduction!$C$3:$C$501=Sheet8!D213),0),6)","v":0},{"$f":"INDEX(Deduction!$A$3:$K$501,MATCH(1,(Deduction!$A$3:$A$501=Sheet8!A213)*(Deduction!$B$3:$B$501=Sheet8!B213)*(Deduction!$C$3:$C$501=Sheet8!D213),0),7)","v":0},{"$f":"INDEX(Deduction!$A$3:$K$501,MATCH(1,(Deduction!$A$3:$A$501=Sheet8!A213)*(Deduction!$B$3:$B$501=Sheet8!B213)*(Deduction!$C$3:$C$501=Sheet8!D213),0),8)","v":0},{"$f":"INDEX(Deduction!$A$3:$K$501,MATCH(1,(Deduction!$A$3:$A$501=Sheet8!A213)*(Deduction!$B$3:$B$501=Sheet8!B213)*(Deduction!$C$3:$C$501=Sheet8!D213),0),9)","v":0},{"$f":"INDEX(Deduction!$A$3:$K$501,MATCH(1,(Deduction!$A$3:$A$501=Sheet8!A213)*(Deduction!$B$3:$B$501=Sheet8!B213)*(Deduction!$C$3:$C$501=Sheet8!D213),0),10)","v":0},{"$f":"INDEX(Deduction!$A$3:$K$501,MATCH(1,(Deduction!$A$3:$A$501=Sheet8!A213)*(Deduction!$B$3:$B$501=Sheet8!B213)*(Deduction!$C$3:$C$501=Sheet8!D213),0),11)","v":0},{"$error":"#DIV/0!"},{"$f":"VLOOKUP(D213,Emp_Master!$B$3:$H$501,7)","v":{"$error":"#N/A"}}]
[{"$f":"Salary_Entitlement!A215","v":0},{"$f":"Salary_Entitlement!B215","v":0},{"$f":"Salary_Entitlement!C215","v":0},{"$f":"Salary_Entitlement!D215","v":0},{"$f":"Salary_Entitlement!E215","v":{"$error":"#N/A"}},{"$f":"Salary_Entitlement!F215","v":0},{"$f":"Salary_Entitlement!G215","v":0},{"$f":"Salary_Entitlement!H215","v":0},{"$f":"Salary_Entitlement!I215","v":0},{"$f":"Salary_Entitlement!J215","v":0},{"$f":"Salary_Entitlement!K215","v":0},{"$f":"Salary_Entitlement!L215","v":0},{"$f":"Salary_Entitlement!M215","v":0},{"$f":"Salary_Entitlement!N215","v":0},{"$f":"Salary_Entitlement!O215","v":0},{"$f":"Salary_Entitlement!P215","v":0},{"$error":"#DIV/0!"},{"$error":"#DIV/0!"},{"$f":"INDEX(Deduction!$A$3:$K$501,MATCH(1,(Deduction!$A$3:$A$501=Sheet8!A214)*(Deduction!$B$3:$B$501=Sheet8!B214)*(Deduction!$C$3:$C$501=Sheet8!D214),0),5)","v":0},{"$f":"INDEX(Deduction!$A$3:$K$501,MATCH(1,(Deduction!$A$3:$A$501=Sheet8!A214)*(Deduction!$B$3:$B$501=Sheet8!B214)*(Deduction!$C$3:$C$501=Sheet8!D214),0),6)","v":0},{"$f":"INDEX(Deduction!$A$3:$K$501,MATCH(1,(Deduction!$A$3:$A$501=Sheet8!A214)*(Deduction!$B$3:$B$501=Sheet8!B214)*(Deduction!$C$3:$C$501=Sheet8!D214),0),7)","v":0},{"$f":"INDEX(Deduction!$A$3:$K$501,MATCH(1,(Deduction!$A$3:$A$501=Sheet8!A214)*(Deduction!$B$3:$B$501=Sheet8!B214)*(Deduction!$C$3:$C$501=Sheet8!D214),0),8)","v":0},{"$f":"INDEX(Deduction!$A$3:$K$501,MATCH(1,(Deduction!$A$3:$A$501=Sheet8!A214)*(Deduction!$B$3:$B$501=Sheet8!B214)*(Deduction!$C$3:$C$501=Sheet8!D214),0),9)","v":0},{"$f":"INDEX(Deduction!$A$3:$K$501,MATCH(1,(Deduction!$A$3:$A$501=Sheet8!A214)*(Deduction!$B$3:$B$501=Sheet8!B214)*(Deduction!$C$3:$C$501=Sheet8!D214),0),10)","v":0},{"$f":"INDEX(Deduction!$A$3:$K$501,MATCH(1,(Deduction!$A$3:$A$501=Sheet8!A214)*(Deduction!$B$3:$B$501=Sheet8!B214)*(Deduction!$C$3:$C$501=Sheet8!D214),0),11)","v":0},{"$error":"#DIV/0!"},{"$f":"VLOOKUP(D214,Emp_Master!$B$3:$H$501,7)","v":{"$error":"#N/A"}}]
[{"$f":"Salary_Entitlement!A216","v":0},{"$f":"Salary_Entitlement!B216","v":0},{"$f":"Salary_Entitlement!C216","v":0},{"$f":"Salary_Entitlement!D216","v":0},{"$f":"Salary_Entitlement!E216","v":{"$error":"#N/A"}},{"$f":"Salary_Entitlement!F216","v":0},{"$f":"Salary_Entitlement!G216","v":0},{"$f":"Salary_Entitlement!H216","v":0},{"$f":"Salary_Entitlement!I216","v":0},{"$f":"Salary_Entitlement!J216","v":0},{"$f":"Salary_Entitlement!K216","v":0},{"$f":"Salary_Entitlement!L216","v":0},{"$f":"Salary_Entitlement!M216","v":0},{"$f":"Salary_Entitlement!N216","v":0},{"$f":"Salary_Entitlement!O216","v":0},{"$f":"Salary_Entitlement!P216","v":0},{"$error":"#DIV/0!"},{"$error":"#DIV/0!"},{"$f":"INDEX(Deduction!$A$3:$K$501,MATCH(1,(Deduction!$A$3:$A$501=Sheet8!A215)*(Deduction!$B$3:$B$501=Sheet8!B215)*(Deduction!$C$3:$C$501=Sheet8!D215),0),5)","v":0},{"$f":"INDEX(Deduction!$A$3:$K$501,MATCH(1,(Deduction!$A$3:$A$501=Sheet8!A215)*(Deduction!$B$3:$B$501=Sheet8!B215)*(Deduction!$C$3:$C$501=Sheet8!D215),0),6)","v":0},{"$f":"INDEX(Deduction!$A$3:$K$501,MATCH(1,(Deduction!$A$3:$A$501=Sheet8!A215)*(Deduction!$B$3:$B$501=Sheet8!B215)*(Deduction!$C$3:$C$501=Sheet8!D215),0),7)","v":0},{"$f":"INDEX(Deduction!$A$3:$K$501,MATCH(1,(Deduction!$A$3:$A$501=Sheet8!A215)*(Deduction!$B$3:$B$501=Sheet8!B215)*(Deduction!$C$3:$C$501=Sheet8!D215),0),8)","v":0},{"$f":"INDEX(Deduction!$A$3:$K$501,MATCH(1,(Deduction!$A$3:$A$501=Sheet8!A215)*(Deduction!$B$3:$B$501=Sheet8!B215)*(Deduction!$C$3:$C$501=Sheet8!D215),0),9)","v":0},{"$f":"INDEX(Deduction!$A$3:$K$501,MATCH(1,(Deduction!$A$3:$A$501=Sheet8!A215)*(Deduction!$B$3:$B$501=Sheet8!B215)*(Deduction!$C$3:$C$501=Sheet8!D215),0),10)","v":0},{"$f":"INDEX(Deduction!$A$3:$K$501,MATCH(1,(Deduction!$A$3:$A$501=Sheet8!A215)*(Deduction!$B$3:$B$501=Sheet8!B215)*(Deduction!$C$3:$C$501=Sheet8!D215),0),11)","v":0},{"$error":"#DIV/0!"},{"$f":"VLOOKUP(D215,Emp_Master!$B$3:$H$501,7)","v":{"$error":"#N/A"}}]
[{"$f":"Salary_Entitlement!A217","v":0},{"$f":"Salary_Entitlement!B217","v":0},{"$f":"Salary_Entitlement!C217","v":0},{"$f":"Salary_Entitlement!D217","v":0},{"$f":"Salary_Entitlement!E217","v":{"$error":"#N/A"}},{"$f":"Salary_Entitlement!F217","v":0},{"$f":"Salary_Entitlement!G217","v":0},{"$f":"Salary_Entitlement!H217","v":0},{"$f":"Salary_Entitlement!I217","v":0},{"$f":"Salary_Entitlement!J217","v":0},{"$f":"Salary_Entitlement!K217","v":0},{"$f":"Salary_Entitlement!L217","v":0},{"$f":"Salary_Entitlement!M217","v":0},{"$f":"Salary_Entitlement!N217","v":0},{"$f":"Salary_Entitlement!O217","v":0},{"$f":"Salary_Entitlement!P217","v":0},{"$f":"F216/M216*(M216-N216)","v":{"$error":"#DIV/0!"}},{"$f":"SUM(F216:L216)-Q216","v":{"$error":"#DIV/0!"}},{"$f":"INDEX(Deduction!$A$3:$K$501,MATCH(1,(Deduction!$A$3:$A$501=Sheet8!A216)*(Deduction!$B$3:$B$501=Sheet8!B216)*(Deduction!$C$3:$C$501=Sheet8!D216),0),5)","v":0},{"$f":"INDEX(Deduction!$A$3:$K$501,MATCH(1,(Deduction!$A$3:$A$501=Sheet8!A216)*(Deduction!$B$3:$B$501=Sheet8!B216)*(Deduction!$C$3:$C$501=Sheet8!D216),0),6)","v":0},{"$f":"INDEX(Deduction!$A$3:$K$501,MATCH(1,(Deduction!$A$3:$A$501=Sheet8!A216)*(Deduction!$B$3:$B$501=Sheet8!B216)*(Deduction!$C$3:$C$501=Sheet8!D216),0),7)","v":0},{"$f":"INDEX(Deduction!$A$3:$K$501,MATCH(1,(Deduction!$A$3:$A$501=Sheet8!A216)*(Deduction!$B$3:$B$501=Sheet8!B216)*(Deduction!$C$3:$C$501=Sheet8!D216),0),8)","v":0},{"$f":"INDEX(Deduction!$A$3:$K$501,MATCH(1,(Deduction!$A$3:$A$501=Sheet8!A216)*(Deduction!$B$3:$B$501=Sheet8!B216)*(Deduction!$C$3:$C$501=Sheet8!D216),0),9)","v":0},{"$f":"INDEX(Deduction!$A$3:$K$501,MATCH(1,(Deduction!$A$3:$A$501=Sheet8!A216)*(Deduction!$B$3:$B$501=Sheet8!B216)*(Deduction!$C$3:$C$501=Sheet8!D216),0),10)","v":0},{"$f":"INDEX(Deduction!$A$3:$K$501,MATCH(1,(Deduction!$A$3:$A$501=Sheet8!A216)*(Deduction!$B$3:$B$501=Sheet8!B216)*(Deduction!$C$3:$C$501=Sheet8!D216),0),11)","v":0},{"$error":"#DIV/0!"},{"$f":"VLOOKUP(D216,Emp_Master!$B$3:$H$501,7)","v":{"$error":"#N/A"}}]
[{"$f":"Salary_Entitlement!A218","v":0},{"$f":"Salary_Entitlement!B218","v":0},{"$f":"Salary_Entitlement!C218","v":0},{"$f":"Salary_Entitlement!D218","v":0},{"$f":"Salary_Entitlement!E218","v":{"$error":"#N/A"}},{"$f":"Salary_Entitlement!F218","v":0},{"$f":"Salary_Entitlement!G218","v":0},{"$f":"Salary_Entitlement!H218","v":0},{"$f":"Salary_Entitlement!I218","v":0},{"$f":"Salary_Entitlement!J218","v":0},{"$f":"Salary_Entitlement!K218","v":0},{"$f":"Salary_Entitlement!L218","v":0},{"$f":"Salary_Entitlement!M218","v":0},{"$f":"Salary_Entitlement!N218","v":0},{"$f":"Salary_Entitlement!O218","v":0},{"$f":"Salary_Entitlement!P218","v":0},{"$error":"#DIV/0!"},{"$error":"#DIV/0!"},{"$f":"INDEX(Deduction!$A$3:$K$501,MATCH(1,(Deduction!$A$3:$A$501=Sheet8!A217)*(Deduction!$B$3:$B$501=Sheet8!B217)*(Deduction!$C$3:$C$501=Sheet8!D217),0),5)","v":0},{"$f":"INDEX(Deduction!$A$3:$K$501,MATCH(1,(Deduction!$A$3:$A$501=Sheet8!A217)*(Deduction!$B$3:$B$501=Sheet8!B217)*(Deduction!$C$3:$C$501=Sheet8!D217),0),6)","v":0},{"$f":"INDEX(Deduction!$A$3:$K$501,MATCH(1,(Deduction!$A$3:$A$501=Sheet8!A217)*(Deduction!$B$3:$B$501=Sheet8!B217)*(Deduction!$C$3:$C$501=Sheet8!D217),0),7)","v":0},{"$f":"INDEX(Deduction!$A$3:$K$501,MATCH(1,(Deduction!$A$3:$A$501=Sheet8!A217)*(Deduction!$B$3:$B$501=Sheet8!B217)*(Deduction!$C$3:$C$501=Sheet8!D217),0),8)","v":0},{"$f":"INDEX(Deduction!$A$3:$K$501,MATCH(1,(Deduction!$A$3:$A$501=Sheet8!A217)*(Deduction!$B$3:$B$501=Sheet8!B217)*(Deduction!$C$3:$C$501=Sheet8!D217),0),9)","v":0},{"$f":"INDEX(Deduction!$A$3:$K$501,MATCH(1,(Deduction!$A$3:$A$501=Sheet8!A217)*(Deduction!$B$3:$B$501=Sheet8!B217)*(Deduction!$C$3:$C$501=Sheet8!D217),0),10)","v":0},{"$f":"INDEX(Deduction!$A$3:$K$501,MATCH(1,(Deduction!$A$3:$A$501=Sheet8!A217)*(Deduction!$B$3:$B$501=Sheet8!B217)*(Deduction!$C$3:$C$501=Sheet8!D217),0),11)","v":0},{"$error":"#DIV/0!"},{"$f":"VLOOKUP(D217,Emp_Master!$B$3:$H$501,7)","v":{"$error":"#N/A"}}]
[{"$f":"Salary_Entitlement!A219","v":0},{"$f":"Salary_Entitlement!B219","v":0},{"$f":"Salary_Entitlement!C219","v":0},{"$f":"Salary_Entitlement!D219","v":0},{"$f":"Salary_Entitlement!E219","v":{"$error":"#N/A"}},{"$f":"Salary_Entitlement!F219","v":0},{"$f":"Salary_Entitlement!G219","v":0},{"$f":"Salary_Entitlement!H219","v":0},{"$f":"Salary_Entitlement!I219","v":0},{"$f":"Salary_Entitlement!J219","v":0},{"$f":"Salary_Entitlement!K219","v":0},{"$f":"Salary_Entitlement!L219","v":0},{"$f":"Salary_Entitlement!M219","v":0},{"$f":"Salary_Entitlement!N219","v":0},{"$f":"Salary_Entitlement!O219","v":0},{"$f":"Salary_Entitlement!P219","v":0},{"$error":"#DIV/0!"},{"$error":"#DIV/0!"},{"$f":"INDEX(Deduction!$A$3:$K$501,MATCH(1,(Deduction!$A$3:$A$501=Sheet8!A218)*(Deduction!$B$3:$B$501=Sheet8!B218)*(Deduction!$C$3:$C$501=Sheet8!D218),0),5)","v":0},{"$f":"INDEX(Deduction!$A$3:$K$501,MATCH(1,(Deduction!$A$3:$A$501=Sheet8!A218)*(Deduction!$B$3:$B$501=Sheet8!B218)*(Deduction!$C$3:$C$501=Sheet8!D218),0),6)","v":0},{"$f":"INDEX(Deduction!$A$3:$K$501,MATCH(1,(Deduction!$A$3:$A$501=Sheet8!A218)*(Deduction!$B$3:$B$501=Sheet8!B218)*(Deduction!$C$3:$C$501=Sheet8!D218),0),7)","v":0},{"$f":"INDEX(Deduction!$A$3:$K$501,MATCH(1,(Deduction!$A$3:$A$501=Sheet8!A218)*(Deduction!$B$3:$B$501=Sheet8!B218)*(Deduction!$C$3:$C$501=Sheet8!D218),0),8)","v":0},{"$f":"INDEX(Deduction!$A$3:$K$501,MATCH(1,(Deduction!$A$3:$A$501=Sheet8!A218)*(Deduction!$B$3:$B$501=Sheet8!B218)*(Deduction!$C$3:$C$501=Sheet8!D218),0),9)","v":0},{"$f":"INDEX(Deduction!$A$3:$K$501,MATCH(1,(Deduction!$A$3:$A$501=Sheet8!A218)*(Deduction!$B$3:$B$501=Sheet8!B218)*(Deduction!$C$3:$C$501=Sheet8!D218),0),10)","v":0},{"$f":"INDEX(Deduction!$A$3:$K$501,MATCH(1,(Deduction!$A$3:$A$501=Sheet8!A218)*(Deduction!$B$3:$B$501=Sheet8!B218)*(Deduction!$C$3:$C$501=Sheet8!D218),0),11)","v":0},{"$error":"#DIV/0!"},{"$f":"VLOOKUP(D218,Emp_Master!$B$3:$H$501,7)","v":{"$error":"#N/A"}}]
[{"$f":"Salary_Entitlement!A220","v":0},{"$f":"Salary_Entitlement!B220","v":0},{"$f":"Salary_Entitlement!C220","v":0},{"$f":"Salary_Entitlement!D220","v":0},{"$f":"Salary_Entitlement!E220","v":{"$error":"#N/A"}},{"$f":"Salary_Entitlement!F220","v":0},{"$f":"Salary_Entitlement!G220","v":0},{"$f":"Salary_Entitlement!H220","v":0},{"$f":"Salary_Entitlement!I220","v":0},{"$f":"Salary_Entitlement!J220","v":0},{"$f":"Salary_Entitlement!K220","v":0},{"$f":"Salary_Entitlement!L220","v":0},{"$f":"Salary_Entitlement!M220","v":0},{"$f":"Salary_Entitlement!N220","v":0},{"$f":"Salary_Entitlement!O220","v":0},{"$f":"Salary_Entitlement!P220","v":0},{"$error":"#DIV/0!"},{"$error":"#DIV/0!"},{"$f":"INDEX(Deduction!$A$3:$K$501,MATCH(1,(Deduction!$A$3:$A$501=Sheet8!A219)*(Deduction!$B$3:$B$501=Sheet8!B219)*(Deduction!$C$3:$C$501=Sheet8!D219),0),5)","v":0},{"$f":"INDEX(Deduction!$A$3:$K$501,MATCH(1,(Deduction!$A$3:$A$501=Sheet8!A219)*(Deduction!$B$3:$B$501=Sheet8!B219)*(Deduction!$C$3:$C$501=Sheet8!D219),0),6)","v":0},{"$f":"INDEX(Deduction!$A$3:$K$501,MATCH(1,(Deduction!$A$3:$A$501=Sheet8!A219)*(Deduction!$B$3:$B$501=Sheet8!B219)*(Deduction!$C$3:$C$501=Sheet8!D219),0),7)","v":0},{"$f":"INDEX(Deduction!$A$3:$K$501,MATCH(1,(Deduction!$A$3:$A$501=Sheet8!A219)*(Deduction!$B$3:$B$501=Sheet8!B219)*(Deduction!$C$3:$C$501=Sheet8!D219),0),8)","v":0},{"$f":"INDEX(Deduction!$A$3:$K$501,MATCH(1,(Deduction!$A$3:$A$501=Sheet8!A219)*(Deduction!$B$3:$B$501=Sheet8!B219)*(Deduction!$C$3:$C$501=Sheet8!D219),0),9)","v":0},{"$f":"INDEX(Deduction!$A$3:$K$501,MATCH(1,(Deduction!$A$3:$A$501=Sheet8!A219)*(Deduction!$B$3:$B$501=Sheet8!B219)*(Deduction!$C$3:$C$501=Sheet8!D219),0),10)","v":0},{"$f":"INDEX(Deduction!$A$3:$K$501,MATCH(1,(Deduction!$A$3:$A$501=Sheet8!A219)*(Deduction!$B$3:$B$501=Sheet8!B219)*(Deduction!$C$3:$C$501=Sheet8!D219),0),11)","v":0},{"$error":"#DIV/0!"},{"$f":"VLOOKUP(D219,Emp_Master!$B$3:$H$501,7)","v":{"$error":"#N/A"}}]
[{"$f":"Salary_Entitlement!A221","v":0},{"$f":"Salary_Entitlement!B221","v":0},{"$f":"Salary_Entitlement!C221","v":0},{"$f":"Salary_Entitlement!D221","v":0},{"$f":"Salary_Entitlement!E221","v":{"$error":"#N/A"}},{"$f":"Salary_Entitlement!F221","v":0},{"$f":"Salary_Entitlement!G221","v":0},{"$f":"Salary_Entitlement!H221","v":0},{"$f":"Salary_Entitlement!I221","v":0},{"$f":"Salary_Entitlement!J221","v":0},{"$f":"Salary_Entitlement!K221","v":0},{"$f":"Salary_Entitlement!L221","v":0},{"$f":"Salary_Entitlement!M221","v":0},{"$f":"Salary_Entitlement!N221","v":0},{"$f":"Salary_Entitlement!O221","v":0},{"$f":"Salary_Entitlement!P221","v":0},{"$error":"#DIV/0!"},{"$error":"#DIV/0!"},{"$f":"INDEX(Deduction!$A$3:$K$501,MATCH(1,(Deduction!$A$3:$A$501=Sheet8!A220)*(Deduction!$B$3:$B$501=Sheet8!B220)*(Deduction!$C$3:$C$501=Sheet8!D220),0),5)","v":0},{"$f":"INDEX(Deduction!$A$3:$K$501,MATCH(1,(Deduction!$A$3:$A$501=Sheet8!A220)*(Deduction!$B$3:$B$501=Sheet8!B220)*(Deduction!$C$3:$C$501=Sheet8!D220),0),6)","v":0},{"$f":"INDEX(Deduction!$A$3:$K$501,MATCH(1,(Deduction!$A$3:$A$501=Sheet8!A220)*(Deduction!$B$3:$B$501=Sheet8!B220)*(Deduction!$C$3:$C$501=Sheet8!D220),0),7)","v":0},{"$f":"INDEX(Deduction!$A$3:$K$501,MATCH(1,(Deduction!$A$3:$A$501=Sheet8!A220)*(Deduction!$B$3:$B$501=Sheet8!B220)*(Deduction!$C$3:$C$501=Sheet8!D220),0),8)","v":0},{"$f":"INDEX(Deduction!$A$3:$K$501,MATCH(1,(Deduction!$A$3:$A$501=Sheet8!A220)*(Deduction!$B$3:$B$501=Sheet8!B220)*(Deduction!$C$3:$C$501=Sheet8!D220),0),9)","v":0},{"$f":"INDEX(Deduction!$A$3:$K$501,MATCH(1,(Deduction!$A$3:$A$501=Sheet8!A220)*(Deduction!$B$3:$B$501=Sheet8!B220)*(Deduction!$C$3:$C$501=Sheet8!D220),0),10)","v":0},{"$f":"INDEX(Deduction!$A$3:$K$501,MATCH(1,(Deduction!$A$3:$A$501=Sheet8!A220)*(Deduction!$B$3:$B$501=Sheet8!B220)*(Deduction!$C$3:$C$501=Sheet8!D220),0),11)","v":0},{"$error":"#DIV/0!"},{"$f":"VLOOKUP(D220,Emp_Master!$B$3:$H$501,7)","v":{"$error":"#N/A"}}]
[{"$f":"Salary_Entitlement!A222","v":0},{"$f":"Salary_Entitlement!B222","v":0},{"$f":"Salary_Entitlement!C222","v":0},{"$f":"Salary_Entitlement!D222","v":0},{"$f":"Salary_Entitlement!E222","v":{"$error":"#N/A"}},{"$f":"Salary_Entitlement!F222","v":0},{"$f":"Salary_Entitlement!G222","v":0},{"$f":"Salary_Entitlement!H222","v":0},{"$f":"Salary_Entitlement!I222","v":0},{"$f":"Salary_Entitlement!J222","v":0},{"$f":"Salary_Entitlement!K222","v":0},{"$f":"Salary_Entitlement!L222","v":0},{"$f":"Salary_Entitlement!M222","v":0},{"$f":"Salary_Entitlement!N222","v":0},{"$f":"Salary_Entitlement!O222","v":0},{"$f":"Salary_Entitlement!P222","v":0},{"$error":"#DIV/0!"},{"$error":"#DIV/0!"},{"$f":"INDEX(Deduction!$A$3:$K$501,MATCH(1,(Deduction!$A$3:$A$501=Sheet8!A221)*(Deduction!$B$3:$B$501=Sheet8!B221)*(Deduction!$C$3:$C$501=Sheet8!D221),0),5)","v":0},{"$f":"INDEX(Deduction!$A$3:$K$501,MATCH(1,(Deduction!$A$3:$A$501=Sheet8!A221)*(Deduction!$B$3:$B$501=Sheet8!B221)*(Deduction!$C$3:$C$501=Sheet8!D221),0),6)","v":0},{"$f":"INDEX(Deduction!$A$3:$K$501,MATCH(1,(Deduction!$A$3:$A$501=Sheet8!A221)*(Deduction!$B$3:$B$501=Sheet8!B221)*(Deduction!$C$3:$C$501=Sheet8!D221),0),7)","v":0},{"$f":"INDEX(Deduction!$A$3:$K$501,MATCH(1,(Deduction!$A$3:$A$501=Sheet8!A221)*(Deduction!$B$3:$B$501=Sheet8!B221)*(Deduction!$C$3:$C$501=Sheet8!D221),0),8)","v":0},{"$f":"INDEX(Deduction!$A$3:$K$501,MATCH(1,(Deduction!$A$3:$A$501=Sheet8!A221)*(Deduction!$B$3:$B$501=Sheet8!B221)*(Deduction!$C$3:$C$501=Sheet8!D221),0),9)","v":0},{"$f":"INDEX(Deduction!$A$3:$K$501,MATCH(1,(Deduction!$A$3:$A$501=Sheet8!A221)*(Deduction!$B$3:$B$501=Sheet8!B221)*(Deduction!$C$3:$C$501=Sheet8!D221),0),10)","v":0},{"$f":"INDEX(Deduction!$A$3:$K$501,MATCH(1,(Deduction!$A$3:$A$501=Sheet8!A221)*(Deduction!$B$3:$B$501=Sheet8!B221)*(Deduction!$C$3:$C$501=Sheet8!D221),0),11)","v":0},{"$error":"#DIV/0!"},{"$f":"VLOOKUP(D221,Emp_Master!$B$3:$H$501,7)","v":{"$error":"#N/A"}}]
[{"$f":"Salary_Entitlement!A223","v":0},{"$f":"Salary_Entitlement!B223","v":0},{"$f":"Salary_Entitlement!C223","v":0},{"$f":"Salary_Entitlement!D223","v":0},{"$f":"Salary_Entitlement!E223","v":{"$error":"#N/A"}},{"$f":"Salary_Entitlement!F223","v":0},{"$f":"Salary_Entitlement!G223","v":0},{"$f":"Salary_Entitlement!H223","v":0},{"$f":"Salary_Entitlement!I223","v":0},{"$f":"Salary_Entitlement!J223","v":0},{"$f":"Salary_Entitlement!K223","v":0},{"$f":"Salary_Entitlement!L223","v":0},{"$f":"Salary_Entitlement!M223","v":0},{"$f":"Salary_Entitlement!N223","v":0},{"$f":"Salary_Entitlement!O223","v":0},{"$f":"Salary_Entitlement!P223","v":0},{"$error":"#DIV/0!"},{"$error":"#DIV/0!"},{"$f":"INDEX(Deduction!$A$3:$K$501,MATCH(1,(Deduction!$A$3:$A$501=Sheet8!A222)*(Deduction!$B$3:$B$501=Sheet8!B222)*(Deduction!$C$3:$C$501=Sheet8!D222),0),5)","v":0},{"$f":"INDEX(Deduction!$A$3:$K$501,MATCH(1,(Deduction!$A$3:$A$501=Sheet8!A222)*(Deduction!$B$3:$B$501=Sheet8!B222)*(Deduction!$C$3:$C$501=Sheet8!D222),0),6)","v":0},{"$f":"INDEX(Deduction!$A$3:$K$501,MATCH(1,(Deduction!$A$3:$A$501=Sheet8!A222)*(Deduction!$B$3:$B$501=Sheet8!B222)*(Deduction!$C$3:$C$501=Sheet8!D222),0),7)","v":0},{"$f":"INDEX(Deduction!$A$3:$K$501,MATCH(1,(Deduction!$A$3:$A$501=Sheet8!A222)*(Deduction!$B$3:$B$501=Sheet8!B222)*(Deduction!$C$3:$C$501=Sheet8!D222),0),8)","v":0},{"$f":"INDEX(Deduction!$A$3:$K$501,MATCH(1,(Deduction!$A$3:$A$501=Sheet8!A222)*(Deduction!$B$3:$B$501=Sheet8!B222)*(Deduction!$C$3:$C$501=Sheet8!D222),0),9)","v":0},{"$f":"INDEX(Deduction!$A$3:$K$501,MATCH(1,(Deduction!$A$3:$A$501=Sheet8!A222)*(Deduction!$B$3:$B$501=Sheet8!B222)*(Deduction!$C$3:$C$501=Sheet8!D222),0),10)","v":0},{"$f":"INDEX(Deduction!$A$3:$K$501,MATCH(1,(Deduction!$A$3:$A$501=Sheet8!A222)*(Deduction!$B$3:$B$501=Sheet8!B222)*(Deduction!$C$3:$C$501=Sheet8!D222),0),11)","v":0},{"$error":"#DIV/0!"},{"$f":"VLOOKUP(D222,Emp_Master!$B$3:$H$501,7)","v":{"$error":"#N/A"}}]
[{"$f":"Salary_Entitlement!A224","v":0},{"$f":"Salary_Entitlement!B224","v":0},{"$f":"Salary_Entitlement!C224","v":0},{"$f":"Salary_Entitlement!D224","v":0},{"$f":"Salary_Entitlement!E224","v":{"$error":"#N/A"}},{"$f":"Salary_Entitlement!F224","v":0},{"$f":"Salary_Entitlement!G224","v":0},{"$f":"Salary_Entitlement!H224","v":0},{"$f":"Salary_Entitlement!I224","v":0},{"$f":"Salary_Entitlement!J224","v":0},{"$f":"Salary_Entitlement!K224","v":0},{"$f":"Salary_Entitlement!L224","v":0},{"$f":"Salary_Entitlement!M224","v":0},{"$f":"Salary_Entitlement!N224","v":0},{"$f":"Salary_Entitlement!O224","v":0},{"$f":"Salary_Entitlement!P224","v":0},{"$error":"#DIV/0!"},{"$error":"#DIV/0!"},{"$f":"INDEX(Deduction!$A$3:$K$501,MATCH(1,(Deduction!$A$3:$A$501=Sheet8!A223)*(Deduction!$B$3:$B$501=Sheet8!B223)*(Deduction!$C$3:$C$501=Sheet8!D223),0),5)","v":0},{"$f":"INDEX(Deduction!$A$3:$K$501,MATCH(1,(Deduction!$A$3:$A$501=Sheet8!A223)*(Deduction!$B$3:$B$501=Sheet8!B223)*(Deduction!$C$3:$C$501=Sheet8!D223),0),6)","v":0},{"$f":"INDEX(Deduction!$A$3:$K$501,MATCH(1,(Deduction!$A$3:$A$501=Sheet8!A223)*(Deduction!$B$3:$B$501=Sheet8!B223)*(Deduction!$C$3:$C$501=Sheet8!D223),0),7)","v":0},{"$f":"INDEX(Deduction!$A$3:$K$501,MATCH(1,(Deduction!$A$3:$A$501=Sheet8!A223)*(Deduction!$B$3:$B$501=Sheet8!B223)*(Deduction!$C$3:$C$501=Sheet8!D223),0),8)","v":0},{"$f":"INDEX(Deduction!$A$3:$K$501,MATCH(1,(Deduction!$A$3:$A$501=Sheet8!A223)*(Deduction!$B$3:$B$501=Sheet8!B223)*(Deduction!$C$3:$C$501=Sheet8!D223),0),9)","v":0},{"$f":"INDEX(Deduction!$A$3:$K$501,MATCH(1,(Deduction!$A$3:$A$501=Sheet8!A223)*(Deduction!$B$3:$B$501=Sheet8!B223)*(Deduction!$C$3:$C$501=Sheet8!D223),0),10)","v":0},{"$f":"INDEX(Deduction!$A$3:$K$501,MATCH(1,(Deduction!$A$3:$A$501=Sheet8!A223)*(Deduction!$B$3:$B$501=Sheet8!B223)*(Deduction!$C$3:$C$501=Sheet8!D223),0),11)","v":0},{"$error":"#DIV/0!"},{"$f":"VLOOKUP(D223,Emp_Master!$B$3:$H$501,7)","v":{"$error":"#N/A"}}]
[{"$f":"Salary_Entitlement!A225","v":0},{"$f":"Salary_Entitlement!B225","v":0},{"$f":"Salary_Entitlement!C225","v":0},{"$f":"Salary_Entitlement!D225","v":0},{"$f":"Salary_Entitlement!E225","v":{"$error":"#N/A"}},{"$f":"Salary_Entitlement!F225","v":0},{"$f":"Salary_Entitlement!G225","v":0},{"$f":"Salary_Entitlement!H225","v":0},{"$f":"Salary_Entitlement!I225","v":0},{"$f":"Salary_Entitlement!J225","v":0},{"$f":"Salary_Entitlement!K225","v":0},{"$f":"Salary_Entitlement!L225","v":0},{"$f":"Salary_Entitlement!M225","v":0},{"$f":"Salary_Entitlement!N225","v":0},{"$f":"Salary_Entitlement!O225","v":0},{"$f":"Salary_Entitlement!P225","v":0},{"$error":"#DIV/0!"},{"$error":"#DIV/0!"},{"$f":"INDEX(Deduction!$A$3:$K$501,MATCH(1,(Deduction!$A$3:$A$501=Sheet8!A224)*(Deduction!$B$3:$B$501=Sheet8!B224)*(Deduction!$C$3:$C$501=Sheet8!D224),0),5)","v":0},{"$f":"INDEX(Deduction!$A$3:$K$501,MATCH(1,(Deduction!$A$3:$A$501=Sheet8!A224)*(Deduction!$B$3:$B$501=Sheet8!B224)*(Deduction!$C$3:$C$501=Sheet8!D224),0),6)","v":0},{"$f":"INDEX(Deduction!$A$3:$K$501,MATCH(1,(Deduction!$A$3:$A$501=Sheet8!A224)*(Deduction!$B$3:$B$501=Sheet8!B224)*(Deduction!$C$3:$C$501=Sheet8!D224),0),7)","v":0},{"$f":"INDEX(Deduction!$A$3:$K$501,MATCH(1,(Deduction!$A$3:$A$501=Sheet8!A224)*(Deduction!$B$3:$B$501=Sheet8!B224)*(Deduction!$C$3:$C$501=Sheet8!D224),0),8)","v":0},{"$f":"INDEX(Deduction!$A$3:$K$501,MATCH(1,(Deduction!$A$3:$A$501=Sheet8!A224)*(Deduction!$B$3:$B$501=Sheet8!B224)*(Deduction!$C$3:$C$501=Sheet8!D224),0),9)","v":0},{"$f":"INDEX(Deduction!$A$3:$K$501,MATCH(1,(Deduction!$A$3:$A$501=Sheet8!A224)*(Deduction!$B$3:$B$501=Sheet8!B224)*(Deduction!$C$3:$C$501=Sheet8!D224),0),10)","v":0},{"$f":"INDEX(Deduction!$A$3:$K$501,MATCH(1,(Deduction!$A$3:$A$501=Sheet8!A224)*(Deduction!$B$3:$B$501=Sheet8!B224)*(Deduction!$C$3:$C$501=Sheet8!D224),0),11)","v":0},{"$error":"#DIV/0!"},{"$f":"VLOOKUP(D224,Emp_Master!$B$3:$H$501,7)","v":{"$error":"#N/A"}}]
[{"$f":"Salary_Entitlement!A226","v":0},{"$f":"Salary_Entitlement!B226","v":0},{"$f":"Salary_Entitlement!C226","v":0},{"$f":"Salary_Entitlement!D226","v":0},{"$f":"Salary_Entitlement!E226","v":{"$error":"#N/A"}},{"$f":"Salary_Entitlement!F226","v":0},{"$f":"Salary_Entitlement!G226","v":0},{"$f":"Salary_Entitlement!H226","v":0},{"$f":"Salary_Entitlement!I226","v":0},{"$f":"Salary_Entitlement!J226","v":0},{"$f":"Salary_Entitlement!K226","v":0},{"$f":"Salary_Entitlement!L226","v":0},{"$f":"Salary_Entitlement!M226","v":0},{"$f":"Salary_Entitlement!N226","v":0},{"$f":"Salary_Entitlement!O226","v":0},{"$f":"Salary_Entitlement!P226","v":0},{"$error":"#DIV/0!"},{"$error":"#DIV/0!"},{"$f":"INDEX(Deduction!$A$3:$K$501,MATCH(1,(Deduction!$A$3:$A$501=Sheet8!A225)*(Deduction!$B$3:$B$501=Sheet8!B225)*(Deduction!$C$3:$C$501=Sheet8!D225),0),5)","v":0},{"$f":"INDEX(Deduction!$A$3:$K$501,MATCH(1,(Deduction!$A$3:$A$501=Sheet8!A225)*(Deduction!$B$3:$B$501=Sheet8!B225)*(Deduction!$C$3:$C$501=Sheet8!D225),0),6)","v":0},{"$f":"INDEX(Deduction!$A$3:$K$501,MATCH(1,(Deduction!$A$3:$A$501=Sheet8!A225)*(Deduction!$B$3:$B$501=Sheet8!B225)*(Deduction!$C$3:$C$501=Sheet8!D225),0),7)","v":0},{"$f":"INDEX(Deduction!$A$3:$K$501,MATCH(1,(Deduction!$A$3:$A$501=Sheet8!A225)*(Deduction!$B$3:$B$501=Sheet8!B225)*(Deduction!$C$3:$C$501=Sheet8!D225),0),8)","v":0},{"$f":"INDEX(Deduction!$A$3:$K$501,MATCH(1,(Deduction!$A$3:$A$501=Sheet8!A225)*(Deduction!$B$3:$B$501=Sheet8!B225)*(Deduction!$C$3:$C$501=Sheet8!D225),0),9)","v":0},{"$f":"INDEX(Deduction!$A$3:$K$501,MATCH(1,(Deduction!$A$3:$A$501=Sheet8!A225)*(Deduction!$B$3:$B$501=Sheet8!B225)*(Deduction!$C$3:$C$501=Sheet8!D225),0),10)","v":0},{"$f":"INDEX(Deduction!$A$3:$K$501,MATCH(1,(Deduction!$A$3:$A$501=Sheet8!A225)*(Deduction!$B$3:$B$501=Sheet8!B225)*(Deduction!$C$3:$C$501=Sheet8!D225),0),11)","v":0},{"$error":"#DIV/0!"},{"$f":"VLOOKUP(D225,Emp_Master!$B$3:$H$501,7)","v":{"$error":"#N/A"}}]
[{"$f":"Salary_Entitlement!A227","v":0},{"$f":"Salary_Entitlement!B227","v":0},{"$f":"Salary_Entitlement!C227","v":0},{"$f":"Salary_Entitlement!D227","v":0},{"$f":"Salary_Entitlement!E227","v":{"$error":"#N/A"}},{"$f":"Salary_Entitlement!F227","v":0},{"$f":"Salary_Entitlement!G227","v":0},{"$f":"Salary_Entitlement!H227","v":0},{"$f":"Salary_Entitlement!I227","v":0},{"$f":"Salary_Entitlement!J227","v":0},{"$f":"Salary_Entitlement!K227","v":0},{"$f":"Salary_Entitlement!L227","v":0},{"$f":"Salary_Entitlement!M227","v":0},{"$f":"Salary_Entitlement!N227","v":0},{"$f":"Salary_Entitlement!O227","v":0},{"$f":"Salary_Entitlement!P227","v":0},{"$error":"#DIV/0!"},{"$error":"#DIV/0!"},{"$f":"INDEX(Deduction!$A$3:$K$501,MATCH(1,(Deduction!$A$3:$A$501=Sheet8!A226)*(Deduction!$B$3:$B$501=Sheet8!B226)*(Deduction!$C$3:$C$501=Sheet8!D226),0),5)","v":0},{"$f":"INDEX(Deduction!$A$3:$K$501,MATCH(1,(Deduction!$A$3:$A$501=Sheet8!A226)*(Deduction!$B$3:$B$501=Sheet8!B226)*(Deduction!$C$3:$C$501=Sheet8!D226),0),6)","v":0},{"$f":"INDEX(Deduction!$A$3:$K$501,MATCH(1,(Deduction!$A$3:$A$501=Sheet8!A226)*(Deduction!$B$3:$B$501=Sheet8!B226)*(Deduction!$C$3:$C$501=Sheet8!D226),0),7)","v":0},{"$f":"INDEX(Deduction!$A$3:$K$501,MATCH(1,(Deduction!$A$3:$A$501=Sheet8!A226)*(Deduction!$B$3:$B$501=Sheet8!B226)*(Deduction!$C$3:$C$501=Sheet8!D226),0),8)","v":0},{"$f":"INDEX(Deduction!$A$3:$K$501,MATCH(1,(Deduction!$A$3:$A$501=Sheet8!A226)*(Deduction!$B$3:$B$501=Sheet8!B226)*(Deduction!$C$3:$C$501=Sheet8!D226),0),9)","v":0},{"$f":"INDEX(Deduction!$A$3:$K$501,MATCH(1,(Deduction!$A$3:$A$501=Sheet8!A226)*(Deduction!$B$3:$B$501=Sheet8!B226)*(Deduction!$C$3:$C$501=Sheet8!D226),0),10)","v":0},{"$f":"INDEX(Deduction!$A$3:$K$501,MATCH(1,(Deduction!$A$3:$A$501=Sheet8!A226)*(Deduction!$B$3:$B$501=Sheet8!B226)*(Deduction!$C$3:$C$501=Sheet8!D226),0),11)","v":0},{"$error":"#DIV/0!"},{"$f":"VLOOKUP(D226,Emp_Master!$B$3:$H$501,7)","v":{"$error":"#N/A"}}]
[{"$f":"Salary_Entitlement!A228","v":0},{"$f":"Salary_Entitlement!B228","v":0},{"$f":"Salary_Entitlement!C228","v":0},{"$f":"Salary_Entitlement!D228","v":0},{"$f":"Salary_Entitlement!E228","v":{"$error":"#N/A"}},{"$f":"Salary_Entitlement!F228","v":0},{"$f":"Salary_Entitlement!G228","v":0},{"$f":"Salary_Entitlement!H228","v":0},{"$f":"Salary_Entitlement!I228","v":0},{"$f":"Salary_Entitlement!J228","v":0},{"$f":"Salary_Entitlement!K228","v":0},{"$f":"Salary_Entitlement!L228","v":0},{"$f":"Salary_Entitlement!M228","v":0},{"$f":"Salary_Entitlement!N228","v":0},{"$f":"Salary_Entitlement!O228","v":0},{"$f":"Salary_Entitlement!P228","v":0},{"$error":"#DIV/0!"},{"$error":"#DIV/0!"},{"$f":"INDEX(Deduction!$A$3:$K$501,MATCH(1,(Deduction!$A$3:$A$501=Sheet8!A227)*(Deduction!$B$3:$B$501=Sheet8!B227)*(Deduction!$C$3:$C$501=Sheet8!D227),0),5)","v":0},{"$f":"INDEX(Deduction!$A$3:$K$501,MATCH(1,(Deduction!$A$3:$A$501=Sheet8!A227)*(Deduction!$B$3:$B$501=Sheet8!B227)*(Deduction!$C$3:$C$501=Sheet8!D227),0),6)","v":0},{"$f":"INDEX(Deduction!$A$3:$K$501,MATCH(1,(Deduction!$A$3:$A$501=Sheet8!A227)*(Deduction!$B$3:$B$501=Sheet8!B227)*(Deduction!$C$3:$C$501=Sheet8!D227),0),7)","v":0},{"$f":"INDEX(Deduction!$A$3:$K$501,MATCH(1,(Deduction!$A$3:$A$501=Sheet8!A227)*(Deduction!$B$3:$B$501=Sheet8!B227)*(Deduction!$C$3:$C$501=Sheet8!D227),0),8)","v":0},{"$f":"INDEX(Deduction!$A$3:$K$501,MATCH(1,(Deduction!$A$3:$A$501=Sheet8!A227)*(Deduction!$B$3:$B$501=Sheet8!B227)*(Deduction!$C$3:$C$501=Sheet8!D227),0),9)","v":0},{"$f":"INDEX(Deduction!$A$3:$K$501,MATCH(1,(Deduction!$A$3:$A$501=Sheet8!A227)*(Deduction!$B$3:$B$501=Sheet8!B227)*(Deduction!$C$3:$C$501=Sheet8!D227),0),10)","v":0},{"$f":"INDEX(Deduction!$A$3:$K$501,MATCH(1,(Deduction!$A$3:$A$501=Sheet8!A227)*(Deduction!$B$3:$B$501=Sheet8!B227)*(Deduction!$C$3:$C$501=Sheet8!D227),0),11)","v":0},{"$error":"#DIV/0!"},{"$f":"VLOOKUP(D227,Emp_Master!$B$3:$H$501,7)","v":{"$error":"#N/A"}}]
[{"$f":"Salary_Entitlement!A229","v":0},{"$f":"Salary_Entitlement!B229","v":0},{"$f":"Salary_Entitlement!C229","v":0},{"$f":"Salary_Entitlement!D229","v":0},{"$f":"Salary_Entitlement!E229","v":{"$error":"#N/A"}},{"$f":"Salary_Entitlement!F229","v":0},{"$f":"Salary_Entitlement!G229","v":0},{"$f":"Salary_Entitlement!H229","v":0},{"$f":"Salary_Entitlement!I229","v":0},{"$f":"Salary_Entitlement!J229","v":0},{"$f":"Salary_Entitlement!K229","v":0},{"$f":"Salary_Entitlement!L229","v":0},{"$f":"Salary_Entitlement!M229","v":0},{"$f":"Salary_Entitlement!N229","v":0},{"$f":"Salary_Entitlement!O229","v":0},{"$f":"Salary_Entitlement!P229","v":0},{"$error":"#DIV/0!"},{"$error":"#DIV/0!"},{"$f":"INDEX(Deduction!$A$3:$K$501,MATCH(1,(Deduction!$A$3:$A$501=Sheet8!A228)*(Deduction!$B$3:$B$501=Sheet8!B228)*(Deduction!$C$3:$C$501=Sheet8!D228),0),5)","v":0},{"$f":"INDEX(Deduction!$A$3:$K$501,MATCH(1,(Deduction!$A$3:$A$501=Sheet8!A228)*(Deduction!$B$3:$B$501=Sheet8!B228)*(Deduction!$C$3:$C$501=Sheet8!D228),0),6)","v":0},{"$f":"INDEX(Deduction!$A$3:$K$501,MATCH(1,(Deduction!$A$3:$A$501=Sheet8!A228)*(Deduction!$B$3:$B$501=Sheet8!B228)*(Deduction!$C$3:$C$501=Sheet8!D228),0),7)","v":0},{"$f":"INDEX(Deduction!$A$3:$K$501,MATCH(1,(Deduction!$A$3:$A$501=Sheet8!A228)*(Deduction!$B$3:$B$501=Sheet8!B228)*(Deduction!$C$3:$C$501=Sheet8!D228),0),8)","v":0},{"$f":"INDEX(Deduction!$A$3:$K$501,MATCH(1,(Deduction!$A$3:$A$501=Sheet8!A228)*(Deduction!$B$3:$B$501=Sheet8!B228)*(Deduction!$C$3:$C$501=Sheet8!D228),0),9)","v":0},{"$f":"INDEX(Deduction!$A$3:$K$501,MATCH(1,(Deduction!$A$3:$A$501=Sheet8!A228)*(Deduction!$B$3:$B$501=Sheet8!B228)*(Deduction!$C$3:$C$501=Sheet8!D228),0),10)","v":0},{"$f":"INDEX(Deduction!$A$3:$K$501,MATCH(1,(Deduction!$A$3:$A$501=Sheet8!A228)*(Deduction!$B$3:$B$501=Sheet8!B228)*(Deduction!$C$3:$C$501=Sheet8!D228),0),11)","v":0},{"$error":"#DIV/0!"},{"$f":"VLOOKUP(D228,Emp_Master!$B$3:$H$501,7)","v":{"$error":"#N/A"}}]
[{"$f":"Salary_Entitlement!A230","v":0},{"$f":"Salary_Entitlement!B230","v":0},{"$f":"Salary_Entitlement!C230","v":0},{"$f":"Salary_Entitlement!D230","v":0},{"$f":"Salary_Entitlement!E230","v":{"$error":"#N/A"}},{"$f":"Salary_Entitlement!F230","v":0},{"$f":"Salary_Entitlement!G230","v":0},{"$f":"Salary_Entitlement!H230","v":0},{"$f":"Salary_Entitlement!I230","v":0},{"$f":"Salary_Entitlement!J230","v":0},{"$f":"Salary_Entitlement!K230","v":0},{"$f":"Salary_Entitlement!L230","v":0},{"$f":"Salary_Entitlement!M230","v":0},{"$f":"Salary_Entitlement!N230","v":0},{"$f":"Salary_Entitlement!O230","v":0},{"$f":"Salary_Entitlement!P230","v":0},{"$error":"#DIV/0!"},{"$error":"#DIV/0!"},{"$f":"INDEX(Deduction!$A$3:$K$501,MATCH(1,(Deduction!$A$3:$A$501=Sheet8!A229)*(Deduction!$B$3:$B$501=Sheet8!B229)*(Deduction!$C$3:$C$501=Sheet8!D229),0),5)","v":0},{"$f":"INDEX(Deduction!$A$3:$K$501,MATCH(1,(Deduction!$A$3:$A$501=Sheet8!A229)*(Deduction!$B$3:$B$501=Sheet8!B229)*(Deduction!$C$3:$C$501=Sheet8!D229),0),6)","v":0},{"$f":"INDEX(Deduction!$A$3:$K$501,MATCH(1,(Deduction!$A$3:$A$501=Sheet8!A229)*(Deduction!$B$3:$B$501=Sheet8!B229)*(Deduction!$C$3:$C$501=Sheet8!D229),0),7)","v":0},{"$f":"INDEX(Deduction!$A$3:$K$501,MATCH(1,(Deduction!$A$3:$A$501=Sheet8!A229)*(Deduction!$B$3:$B$501=Sheet8!B229)*(Deduction!$C$3:$C$501=Sheet8!D229),0),8)","v":0},{"$f":"INDEX(Deduction!$A$3:$K$501,MATCH(1,(Deduction!$A$3:$A$501=Sheet8!A229)*(Deduction!$B$3:$B$501=Sheet8!B229)*(Deduction!$C$3:$C$501=Sheet8!D229),0),9)","v":0},{"$f":"INDEX(Deduction!$A$3:$K$501,MATCH(1,(Deduction!$A$3:$A$501=Sheet8!A229)*(Deduction!$B$3:$B$501=Sheet8!B229)*(Deduction!$C$3:$C$501=Sheet8!D229),0),10)","v":0},{"$f":"INDEX(Deduction!$A$3:$K$501,MATCH(1,(Deduction!$A$3:$A$501=Sheet8!A229)*(Deduction!$B$3:$B$501=Sheet8!B229)*(Deduction!$C$3:$C$501=Sheet8!D229),0),11)","v":0},{"$error":"#DIV/0!"},{"$f":"VLOOKUP(D229,Emp_Master!$B$3:$H$501,7)","v":{"$error":"#N/A"}}]
[{"$f":"Salary_Entitlement!A231","v":0},{"$f":"Salary_Entitlement!B231","v":0},{"$f":"Salary_Entitlement!C231","v":0},{"$f":"Salary_Entitlement!D231","v":0},{"$f":"Salary_Entitlement!E231","v":{"$error":"#N/A"}},{"$f":"Salary_Entitlement!F231","v":0},{"$f":"Salary_Entitlement!G231","v":0},{"$f":"Salary_Entitlement!H231","v":0},{"$f":"Salary_Entitlement!I231","v":0},{"$f":"Salary_Entitlement!J231","v":0},{"$f":"Salary_Entitlement!K231","v":0},{"$f":"Salary_Entitlement!L231","v":0},{"$f":"Salary_Entitlement!M231","v":0},{"$f":"Salary_Entitlement!N231","v":0},{"$f":"Salary_Entitlement!O231","v":0},{"$f":"Salary_Entitlement!P231","v":0},{"$error":"#DIV/0!"},{"$error":"#DIV/0!"},{"$f":"INDEX(Deduction!$A$3:$K$501,MATCH(1,(Deduction!$A$3:$A$501=Sheet8!A230)*(Deduction!$B$3:$B$501=Sheet8!B230)*(Deduction!$C$3:$C$501=Sheet8!D230),0),5)","v":0},{"$f":"INDEX(Deduction!$A$3:$K$501,MATCH(1,(Deduction!$A$3:$A$501=Sheet8!A230)*(Deduction!$B$3:$B$501=Sheet8!B230)*(Deduction!$C$3:$C$501=Sheet8!D230),0),6)","v":0},{"$f":"INDEX(Deduction!$A$3:$K$501,MATCH(1,(Deduction!$A$3:$A$501=Sheet8!A230)*(Deduction!$B$3:$B$501=Sheet8!B230)*(Deduction!$C$3:$C$501=Sheet8!D230),0),7)","v":0},{"$f":"INDEX(Deduction!$A$3:$K$501,MATCH(1,(Deduction!$A$3:$A$501=Sheet8!A230)*(Deduction!$B$3:$B$501=Sheet8!B230)*(Deduction!$C$3:$C$501=Sheet8!D230),0),8)","v":0},{"$f":"INDEX(Deduction!$A$3:$K$501,MATCH(1,(Deduction!$A$3:$A$501=Sheet8!A230)*(Deduction!$B$3:$B$501=Sheet8!B230)*(Deduction!$C$3:$C$501=Sheet8!D230),0),9)","v":0},{"$f":"INDEX(Deduction!$A$3:$K$501,MATCH(1,(Deduction!$A$3:$A$501=Sheet8!A230)*(Deduction!$B$3:$B$501=Sheet8!B230)*(Deduction!$C$3:$C$501=Sheet8!D230),0),10)","v":0},{"$f":"INDEX(Deduction!$A$3:$K$501,MATCH(1,(Deduction!$A$3:$A$501=Sheet8!A230)*(Deduction!$B$3:$B$501=Sheet8!B230)*(Deduction!$C$3:$C$501=Sheet8!D230),0),11)","v":0},{"$error":"#DIV/0!"},{"$f":"VLOOKUP(D230,Emp_Master!$B$3:$H$501,7)","v":{"$error":"#N/A"}}]
[{"$f":"Salary_Entitlement!A232","v":0},{"$f":"Salary_Entitlement!B232","v":0},{"$f":"Salary_Entitlement!C232","v":0},{"$f":"Salary_Entitlement!D232","v":0},{"$f":"Salary_Entitlement!E232","v":{"$error":"#N/A"}},{"$f":"Salary_Entitlement!F232","v":0},{"$f":"Salary_Entitlement!G232","v":0},{"$f":"Salary_Entitlement!H232","v":0},{"$f":"Salary_Entitlement!I232","v":0},{"$f":"Salary_Entitlement!J232","v":0},{"$f":"Salary_Entitlement!K232","v":0},{"$f":"Salary_Entitlement!L232","v":0},{"$f":"Salary_Entitlement!M232","v":0},{"$f":"Salary_Entitlement!N232","v":0},{"$f":"Salary_Entitlement!O232","v":0},{"$f":"Salary_Entitlement!P232","v":0},{"$error":"#DIV/0!"},{"$error":"#DIV/0!"},{"$f":"INDEX(Deduction!$A$3:$K$501,MATCH(1,(Deduction!$A$3:$A$501=Sheet8!A231)*(Deduction!$B$3:$B$501=Sheet8!B231)*(Deduction!$C$3:$C$501=Sheet8!D231),0),5)","v":0},{"$f":"INDEX(Deduction!$A$3:$K$501,MATCH(1,(Deduction!$A$3:$A$501=Sheet8!A231)*(Deduction!$B$3:$B$501=Sheet8!B231)*(Deduction!$C$3:$C$501=Sheet8!D231),0),6)","v":0},{"$f":"INDEX(Deduction!$A$3:$K$501,MATCH(1,(Deduction!$A$3:$A$501=Sheet8!A231)*(Deduction!$B$3:$B$501=Sheet8!B231)*(Deduction!$C$3:$C$501=Sheet8!D231),0),7)","v":0},{"$f":"INDEX(Deduction!$A$3:$K$501,MATCH(1,(Deduction!$A$3:$A$501=Sheet8!A231)*(Deduction!$B$3:$B$501=Sheet8!B231)*(Deduction!$C$3:$C$501=Sheet8!D231),0),8)","v":0},{"$f":"INDEX(Deduction!$A$3:$K$501,MATCH(1,(Deduction!$A$3:$A$501=Sheet8!A231)*(Deduction!$B$3:$B$501=Sheet8!B231)*(Deduction!$C$3:$C$501=Sheet8!D231),0),9)","v":0},{"$f":"INDEX(Deduction!$A$3:$K$501,MATCH(1,(Deduction!$A$3:$A$501=Sheet8!A231)*(Deduction!$B$3:$B$501=Sheet8!B231)*(Deduction!$C$3:$C$501=Sheet8!D231),0),10)","v":0},{"$f":"INDEX(Deduction!$A$3:$K$501,MATCH(1,(Deduction!$A$3:$A$501=Sheet8!A231)*(Deduction!$B$3:$B$501=Sheet8!B231)*(Deduction!$C$3:$C$501=Sheet8!D231),0),11)","v":0},{"$error":"#DIV/0!"},{"$f":"VLOOKUP(D231,Emp_Master!$B$3:$H$501,7)","v":{"$error":"#N/A"}}]
[{"$f":"Salary_Entitlement!A233","v":0},{"$f":"Salary_Entitlement!B233","v":0},{"$f":"Salary_Entitlement!C233","v":0},{"$f":"Salary_Entitlement!D233","v":0},{"$f":"Salary_Entitlement!E233","v":{"$error":"#N/A"}},{"$f":"Salary_Entitlement!F233","v":0},{"$f":"Salary_Entitlement!G233","v":0},{"$f":"Salary_Entitlement!H233","v":0},{"$f":"Salary_Entitlement!I233","v":0},{"$f":"Salary_Entitlement!J233","v":0},{"$f":"Salary_Entitlement!K233","v":0},{"$f":"Salary_Entitlement!L233","v":0},{"$f":"Salary_Entitlement!M233","v":0},{"$f":"Salary_Entitlement!N233","v":0},{"$f":"Salary_Entitlement!O233","v":0},{"$f":"Salary_Entitlement!P233","v":0},{"$error":"#DIV/0!"},{"$error":"#DIV/0!"},{"$f":"INDEX(Deduction!$A$3:$K$501,MATCH(1,(Deduction!$A$3:$A$501=Sheet8!A232)*(Deduction!$B$3:$B$501=Sheet8!B232)*(Deduction!$C$3:$C$501=Sheet8!D232),0),5)","v":0},{"$f":"INDEX(Deduction!$A$3:$K$501,MATCH(1,(Deduction!$A$3:$A$501=Sheet8!A232)*(Deduction!$B$3:$B$501=Sheet8!B232)*(Deduction!$C$3:$C$501=Sheet8!D232),0),6)","v":0},{"$f":"INDEX(Deduction!$A$3:$K$501,MATCH(1,(Deduction!$A$3:$A$501=Sheet8!A232)*(Deduction!$B$3:$B$501=Sheet8!B232)*(Deduction!$C$3:$C$501=Sheet8!D232),0),7)","v":0},{"$f":"INDEX(Deduction!$A$3:$K$501,MATCH(1,(Deduction!$A$3:$A$501=Sheet8!A232)*(Deduction!$B$3:$B$501=Sheet8!B232)*(Deduction!$C$3:$C$501=Sheet8!D232),0),8)","v":0},{"$f":"INDEX(Deduction!$A$3:$K$501,MATCH(1,(Deduction!$A$3:$A$501=Sheet8!A232)*(Deduction!$B$3:$B$501=Sheet8!B232)*(Deduction!$C$3:$C$501=Sheet8!D232),0),9)","v":0},{"$f":"INDEX(Deduction!$A$3:$K$501,MATCH(1,(Deduction!$A$3:$A$501=Sheet8!A232)*(Deduction!$B$3:$B$501=Sheet8!B232)*(Deduction!$C$3:$C$501=Sheet8!D232),0),10)","v":0},{"$f":"INDEX(Deduction!$A$3:$K$501,MATCH(1,(Deduction!$A$3:$A$501=Sheet8!A232)*(Deduction!$B$3:$B$501=Sheet8!B232)*(Deduction!$C$3:$C$501=Sheet8!D232),0),11)","v":0},{"$error":"#DIV/0!"},{"$f":"VLOOKUP(D232,Emp_Master!$B$3:$H$501,7)","v":{"$error":"#N/A"}}]
[{"$f":"Salary_Entitlement!A234","v":0},{"$f":"Salary_Entitlement!B234","v":0},{"$f":"Salary_Entitlement!C234","v":0},{"$f":"Salary_Entitlement!D234","v":0},{"$f":"Salary_Entitlement!E234","v":{"$error":"#N/A"}},{"$f":"Salary_Entitlement!F234","v":0},{"$f":"Salary_Entitlement!G234","v":0},{"$f":"Salary_Entitlement!H234","v":0},{"$f":"Salary_Entitlement!I234","v":0},{"$f":"Salary_Entitlement!J234","v":0},{"$f":"Salary_Entitlement!K234","v":0},{"$f":"Salary_Entitlement!L234","v":0},{"$f":"Salary_Entitlement!M234","v":0},{"$f":"Salary_Entitlement!N234","v":0},{"$f":"Salary_Entitlement!O234","v":0},{"$f":"Salary_Entitlement!P234","v":0},{"$error":"#DIV/0!"},{"$error":"#DIV/0!"},{"$f":"INDEX(Deduction!$A$3:$K$501,MATCH(1,(Deduction!$A$3:$A$501=Sheet8!A233)*(Deduction!$B$3:$B$501=Sheet8!B233)*(Deduction!$C$3:$C$501=Sheet8!D233),0),5)","v":0},{"$f":"INDEX(Deduction!$A$3:$K$501,MATCH(1,(Deduction!$A$3:$A$501=Sheet8!A233)*(Deduction!$B$3:$B$501=Sheet8!B233)*(Deduction!$C$3:$C$501=Sheet8!D233),0),6)","v":0},{"$f":"INDEX(Deduction!$A$3:$K$501,MATCH(1,(Deduction!$A$3:$A$501=Sheet8!A233)*(Deduction!$B$3:$B$501=Sheet8!B233)*(Deduction!$C$3:$C$501=Sheet8!D233),0),7)","v":0},{"$f":"INDEX(Deduction!$A$3:$K$501,MATCH(1,(Deduction!$A$3:$A$501=Sheet8!A233)*(Deduction!$B$3:$B$501=Sheet8!B233)*(Deduction!$C$3:$C$501=Sheet8!D233),0),8)","v":0},{"$f":"INDEX(Deduction!$A$3:$K$501,MATCH(1,(Deduction!$A$3:$A$501=Sheet8!A233)*(Deduction!$B$3:$B$501=Sheet8!B233)*(Deduction!$C$3:$C$501=Sheet8!D233),0),9)","v":0},{"$f":"INDEX(Deduction!$A$3:$K$501,MATCH(1,(Deduction!$A$3:$A$501=Sheet8!A233)*(Deduction!$B$3:$B$501=Sheet8!B233)*(Deduction!$C$3:$C$501=Sheet8!D233),0),10)","v":0},{"$f":"INDEX(Deduction!$A$3:$K$501,MATCH(1,(Deduction!$A$3:$A$501=Sheet8!A233)*(Deduction!$B$3:$B$501=Sheet8!B233)*(Deduction!$C$3:$C$501=Sheet8!D233),0),11)","v":0},{"$error":"#DIV/0!"},{"$f":"VLOOKUP(D233,Emp_Master!$B$3:$H$501,7)","v":{"$error":"#N/A"}}]
[{"$f":"Salary_Entitlement!A235","v":0},{"$f":"Salary_Entitlement!B235","v":0},{"$f":"Salary_Entitlement!C235","v":0},{"$f":"Salary_Entitlement!D235","v":0},{"$f":"Salary_Entitlement!E235","v":{"$error":"#N/A"}},{"$f":"Salary_Entitlement!F235","v":0},{"$f":"Salary_Entitlement!G235","v":0},{"$f":"Salary_Entitlement!H235","v":0},{"$f":"Salary_Entitlement!I235","v":0},{"$f":"Salary_Entitlement!J235","v":0},{"$f":"Salary_Entitlement!K235","v":0},{"$f":"Salary_Entitlement!L235","v":0},{"$f":"Salary_Entitlement!M235","v":0},{"$f":"Salary_Entitlement!N235","v":0},{"$f":"Salary_Entitlement!O235","v":0},{"$f":"Salary_Entitlement!P235","v":0},{"$error":"#DIV/0!"},{"$error":"#DIV/0!"},{"$f":"INDEX(Deduction!$A$3:$K$501,MATCH(1,(Deduction!$A$3:$A$501=Sheet8!A234)*(Deduction!$B$3:$B$501=Sheet8!B234)*(Deduction!$C$3:$C$501=Sheet8!D234),0),5)","v":0},{"$f":"INDEX(Deduction!$A$3:$K$501,MATCH(1,(Deduction!$A$3:$A$501=Sheet8!A234)*(Deduction!$B$3:$B$501=Sheet8!B234)*(Deduction!$C$3:$C$501=Sheet8!D234),0),6)","v":0},{"$f":"INDEX(Deduction!$A$3:$K$501,MATCH(1,(Deduction!$A$3:$A$501=Sheet8!A234)*(Deduction!$B$3:$B$501=Sheet8!B234)*(Deduction!$C$3:$C$501=Sheet8!D234),0),7)","v":0},{"$f":"INDEX(Deduction!$A$3:$K$501,MATCH(1,(Deduction!$A$3:$A$501=Sheet8!A234)*(Deduction!$B$3:$B$501=Sheet8!B234)*(Deduction!$C$3:$C$501=Sheet8!D234),0),8)","v":0},{"$f":"INDEX(Deduction!$A$3:$K$501,MATCH(1,(Deduction!$A$3:$A$501=Sheet8!A234)*(Deduction!$B$3:$B$501=Sheet8!B234)*(Deduction!$C$3:$C$501=Sheet8!D234),0),9)","v":0},{"$f":"INDEX(Deduction!$A$3:$K$501,MATCH(1,(Deduction!$A$3:$A$501=Sheet8!A234)*(Deduction!$B$3:$B$501=Sheet8!B234)*(Deduction!$C$3:$C$501=Sheet8!D234),0),10)","v":0},{"$f":"INDEX(Deduction!$A$3:$K$501,MATCH(1,(Deduction!$A$3:$A$501=Sheet8!A234)*(Deduction!$B$3:$B$501=Sheet8!B234)*(Deduction!$C$3:$C$501=Sheet8!D234),0),11)","v":0},{"$error":"#DIV/0!"},{"$f":"VLOOKUP(D234,Emp_Master!$B$3:$H$501,7)","v":{"$error":"#N/A"}}]
[{"$f":"Salary_Entitlement!A236","v":0},{"$f":"Salary_Entitlement!B236","v":0},{"$f":"Salary_Entitlement!C236","v":0},{"$f":"Salary_Entitlement!D236","v":0},{"$f":"Salary_Entitlement!E236","v":{"$error":"#N/A"}},{"$f":"Salary_Entitlement!F236","v":0},{"$f":"Salary_Entitlement!G236","v":0},{"$f":"Salary_Entitlement!H236","v":0},{"$f":"Salary_Entitlement!I236","v":0},{"$f":"Salary_Entitlement!J236","v":0},{"$f":"Salary_Entitlement!K236","v":0},{"$f":"Salary_Entitlement!L236","v":0},{"$f":"Salary_Entitlement!M236","v":0},{"$f":"Salary_Entitlement!N236","v":0},{"$f":"Salary_Entitlement!O236","v":0},{"$f":"Salary_Entitlement!P236","v":0},{"$error":"#DIV/0!"},{"$error":"#DIV/0!"},{"$f":"INDEX(Deduction!$A$3:$K$501,MATCH(1,(Deduction!$A$3:$A$501=Sheet8!A235)*(Deduction!$B$3:$B$501=Sheet8!B235)*(Deduction!$C$3:$C$501=Sheet8!D235),0),5)","v":0},{"$f":"INDEX(Deduction!$A$3:$K$501,MATCH(1,(Deduction!$A$3:$A$501=Sheet8!A235)*(Deduction!$B$3:$B$501=Sheet8!B235)*(Deduction!$C$3:$C$501=Sheet8!D235),0),6)","v":0},{"$f":"INDEX(Deduction!$A$3:$K$501,MATCH(1,(Deduction!$A$3:$A$501=Sheet8!A235)*(Deduction!$B$3:$B$501=Sheet8!B235)*(Deduction!$C$3:$C$501=Sheet8!D235),0),7)","v":0},{"$f":"INDEX(Deduction!$A$3:$K$501,MATCH(1,(Deduction!$A$3:$A$501=Sheet8!A235)*(Deduction!$B$3:$B$501=Sheet8!B235)*(Deduction!$C$3:$C$501=Sheet8!D235),0),8)","v":0},{"$f":"INDEX(Deduction!$A$3:$K$501,MATCH(1,(Deduction!$A$3:$A$501=Sheet8!A235)*(Deduction!$B$3:$B$501=Sheet8!B235)*(Deduction!$C$3:$C$501=Sheet8!D235),0),9)","v":0},{"$f":"INDEX(Deduction!$A$3:$K$501,MATCH(1,(Deduction!$A$3:$A$501=Sheet8!A235)*(Deduction!$B$3:$B$501=Sheet8!B235)*(Deduction!$C$3:$C$501=Sheet8!D235),0),10)","v":0},{"$f":"INDEX(Deduction!$A$3:$K$501,MATCH(1,(Deduction!$A$3:$A$501=Sheet8!A235)*(Deduction!$B$3:$B$501=Sheet8!B235)*(Deduction!$C$3:$C$501=Sheet8!D235),0),11)","v":0},{"$error":"#DIV/0!"},{"$f":"VLOOKUP(D235,Emp_Master!$B$3:$H$501,7)","v":{"$error":"#N/A"}}]
[{"$f":"Salary_Entitlement!A237","v":0},{"$f":"Salary_Entitlement!B237","v":0},{"$f":"Salary_Entitlement!C237","v":0},{"$f":"Salary_Entitlement!D237","v":0},{"$f":"Salary_Entitlement!E237","v":{"$error":"#N/A"}},{"$f":"Salary_Entitlement!F237","v":0},{"$f":"Salary_Entitlement!G237","v":0},{"$f":"Salary_Entitlement!H237","v":0},{"$f":"Salary_Entitlement!I237","v":0},{"$f":"Salary_Entitlement!J237","v":0},{"$f":"Salary_Entitlement!K237","v":0},{"$f":"Salary_Entitlement!L237","v":0},{"$f":"Salary_Entitlement!M237","v":0},{"$f":"Salary_Entitlement!N237","v":0},{"$f":"Salary_Entitlement!O237","v":0},{"$f":"Salary_Entitlement!P237","v":0},{"$error":"#DIV/0!"},{"$error":"#DIV/0!"},{"$f":"INDEX(Deduction!$A$3:$K$501,MATCH(1,(Deduction!$A$3:$A$501=Sheet8!A236)*(Deduction!$B$3:$B$501=Sheet8!B236)*(Deduction!$C$3:$C$501=Sheet8!D236),0),5)","v":0},{"$f":"INDEX(Deduction!$A$3:$K$501,MATCH(1,(Deduction!$A$3:$A$501=Sheet8!A236)*(Deduction!$B$3:$B$501=Sheet8!B236)*(Deduction!$C$3:$C$501=Sheet8!D236),0),6)","v":0},{"$f":"INDEX(Deduction!$A$3:$K$501,MATCH(1,(Deduction!$A$3:$A$501=Sheet8!A236)*(Deduction!$B$3:$B$501=Sheet8!B236)*(Deduction!$C$3:$C$501=Sheet8!D236),0),7)","v":0},{"$f":"INDEX(Deduction!$A$3:$K$501,MATCH(1,(Deduction!$A$3:$A$501=Sheet8!A236)*(Deduction!$B$3:$B$501=Sheet8!B236)*(Deduction!$C$3:$C$501=Sheet8!D236),0),8)","v":0},{"$f":"INDEX(Deduction!$A$3:$K$501,MATCH(1,(Deduction!$A$3:$A$501=Sheet8!A236)*(Deduction!$B$3:$B$501=Sheet8!B236)*(Deduction!$C$3:$C$501=Sheet8!D236),0),9)","v":0},{"$f":"INDEX(Deduction!$A$3:$K$501,MATCH(1,(Deduction!$A$3:$A$501=Sheet8!A236)*(Deduction!$B$3:$B$501=Sheet8!B236)*(Deduction!$C$3:$C$501=Sheet8!D236),0),10)","v":0},{"$f":"INDEX(Deduction!$A$3:$K$501,MATCH(1,(Deduction!$A$3:$A$501=Sheet8!A236)*(Deduction!$B$3:$B$501=Sheet8!B236)*(Deduction!$C$3:$C$501=Sheet8!D236),0),11)","v":0},{"$error":"#DIV/0!"},{"$f":"VLOOKUP(D236,Emp_Master!$B$3:$H$501,7)","v":{"$error":"#N/A"}}]
[{"$f":"Salary_Entitlement!A238","v":0},{"$f":"Salary_Entitlement!B238","v":0},{"$f":"Salary_Entitlement!C238","v":0},{"$f":"Salary_Entitlement!D238","v":0},{"$f":"Salary_Entitlement!E238","v":{"$error":"#N/A"}},{"$f":"Salary_Entitlement!F238","v":0},{"$f":"Salary_Entitlement!G238","v":0},{"$f":"Salary_Entitlement!H238","v":0},{"$f":"Salary_Entitlement!I238","v":0},{"$f":"Salary_Entitlement!J238","v":0},{"$f":"Salary_Entitlement!K238","v":0},{"$f":"Salary_Entitlement!L238","v":0},{"$f":"Salary_Entitlement!M238","v":0},{"$f":"Salary_Entitlement!N238","v":0},{"$f":"Salary_Entitlement!O238","v":0},{"$f":"Salary_Entitlement!P238","v":0},{"$error":"#DIV/0!"},{"$error":"#DIV/0!"},{"$f":"INDEX(Deduction!$A$3:$K$501,MATCH(1,(Deduction!$A$3:$A$501=Sheet8!A237)*(Deduction!$B$3:$B$501=Sheet8!B237)*(Deduction!$C$3:$C$501=Sheet8!D237),0),5)","v":0},{"$f":"INDEX(Deduction!$A$3:$K$501,MATCH(1,(Deduction!$A$3:$A$501=Sheet8!A237)*(Deduction!$B$3:$B$501=Sheet8!B237)*(Deduction!$C$3:$C$501=Sheet8!D237),0),6)","v":0},{"$f":"INDEX(Deduction!$A$3:$K$501,MATCH(1,(Deduction!$A$3:$A$501=Sheet8!A237)*(Deduction!$B$3:$B$501=Sheet8!B237)*(Deduction!$C$3:$C$501=Sheet8!D237),0),7)","v":0},{"$f":"INDEX(Deduction!$A$3:$K$501,MATCH(1,(Deduction!$A$3:$A$501=Sheet8!A237)*(Deduction!$B$3:$B$501=Sheet8!B237)*(Deduction!$C$3:$C$501=Sheet8!D237),0),8)","v":0},{"$f":"INDEX(Deduction!$A$3:$K$501,MATCH(1,(Deduction!$A$3:$A$501=Sheet8!A237)*(Deduction!$B$3:$B$501=Sheet8!B237)*(Deduction!$C$3:$C$501=Sheet8!D237),0),9)","v":0},{"$f":"INDEX(Deduction!$A$3:$K$501,MATCH(1,(Deduction!$A$3:$A$501=Sheet8!A237)*(Deduction!$B$3:$B$501=Sheet8!B237)*(Deduction!$C$3:$C$501=Sheet8!D237),0),10)","v":0},{"$f":"INDEX(Deduction!$A$3:$K$501,MATCH(1,(Deduction!$A$3:$A$501=Sheet8!A237)*(Deduction!$B$3:$B$501=Sheet8!B237)*(Deduction!$C$3:$C$501=Sheet8!D237),0),11)","v":0},{"$error":"#DIV/0!"},{"$f":"VLOOKUP(D237,Emp_Master!$B$3:$H$501,7)","v":{"$error":"#N/A"}}]
[{"$f":"Salary_Entitlement!A239","v":0},{"$f":"Salary_Entitlement!B239","v":0},{"$f":"Salary_Entitlement!C239","v":0},{"$f":"Salary_Entitlement!D239","v":0},{"$f":"Salary_Entitlement!E239","v":{"$error":"#N/A"}},{"$f":"Salary_Entitlement!F239","v":0},{"$f":"Salary_Entitlement!G239","v":0},{"$f":"Salary_Entitlement!H239","v":0},{"$f":"Salary_Entitlement!I239","v":0},{"$f":"Salary_Entitlement!J239","v":0},{"$f":"Salary_Entitlement!K239","v":0},{"$f":"Salary_Entitlement!L239","v":0},{"$f":"Salary_Entitlement!M239","v":0},{"$f":"Salary_Entitlement!N239","v":0},{"$f":"Salary_Entitlement!O239","v":0},{"$f":"Salary_Entitlement!P239","v":0},{"$error":"#DIV/0!"},{"$error":"#DIV/0!"},{"$f":"INDEX(Deduction!$A$3:$K$501,MATCH(1,(Deduction!$A$3:$A$501=Sheet8!A238)*(Deduction!$B$3:$B$501=Sheet8!B238)*(Deduction!$C$3:$C$501=Sheet8!D238),0),5)","v":0},{"$f":"INDEX(Deduction!$A$3:$K$501,MATCH(1,(Deduction!$A$3:$A$501=Sheet8!A238)*(Deduction!$B$3:$B$501=Sheet8!B238)*(Deduction!$C$3:$C$501=Sheet8!D238),0),6)","v":0},{"$f":"INDEX(Deduction!$A$3:$K$501,MATCH(1,(Deduction!$A$3:$A$501=Sheet8!A238)*(Deduction!$B$3:$B$501=Sheet8!B238)*(Deduction!$C$3:$C$501=Sheet8!D238),0),7)","v":0},{"$f":"INDEX(Deduction!$A$3:$K$501,MATCH(1,(Deduction!$A$3:$A$501=Sheet8!A238)*(Deduction!$B$3:$B$501=Sheet8!B238)*(Deduction!$C$3:$C$501=Sheet8!D238),0),8)","v":0},{"$f":"INDEX(Deduction!$A$3:$K$501,MATCH(1,(Deduction!$A$3:$A$501=Sheet8!A238)*(Deduction!$B$3:$B$501=Sheet8!B238)*(Deduction!$C$3:$C$501=Sheet8!D238),0),9)","v":0},{"$f":"INDEX(Deduction!$A$3:$K$501,MATCH(1,(Deduction!$A$3:$A$501=Sheet8!A238)*(Deduction!$B$3:$B$501=Sheet8!B238)*(Deduction!$C$3:$C$501=Sheet8!D238),0),10)","v":0},{"$f":"INDEX(Deduction!$A$3:$K$501,MATCH(1,(Deduction!$A$3:$A$501=Sheet8!A238)*(Deduction!$B$3:$B$501=Sheet8!B238)*(Deduction!$C$3:$C$501=Sheet8!D238),0),11)","v":0},{"$error":"#DIV/0!"},{"$f":"VLOOKUP(D238,Emp_Master!$B$3:$H$501,7)","v":{"$error":"#N/A"}}]
[{"$f":"Salary_Entitlement!A240","v":0},{"$f":"Salary_Entitlement!B240","v":0},{"$f":"Salary_Entitlement!C240","v":0},{"$f":"Salary_Entitlement!D240","v":0},{"$f":"Salary_Entitlement!E240","v":{"$error":"#N/A"}},{"$f":"Salary_Entitlement!F240","v":0},{"$f":"Salary_Entitlement!G240","v":0},{"$f":"Salary_Entitlement!H240","v":0},{"$f":"Salary_Entitlement!I240","v":0},{"$f":"Salary_Entitlement!J240","v":0},{"$f":"Salary_Entitlement!K240","v":0},{"$f":"Salary_Entitlement!L240","v":0},{"$f":"Salary_Entitlement!M240","v":0},{"$f":"Salary_Entitlement!N240","v":0},{"$f":"Salary_Entitlement!O240","v":0},{"$f":"Salary_Entitlement!P240","v":0},{"$error":"#DIV/0!"},{"$error":"#DIV/0!"},{"$f":"INDEX(Deduction!$A$3:$K$501,MATCH(1,(Deduction!$A$3:$A$501=Sheet8!A239)*(Deduction!$B$3:$B$501=Sheet8!B239)*(Deduction!$C$3:$C$501=Sheet8!D239),0),5)","v":0},{"$f":"INDEX(Deduction!$A$3:$K$501,MATCH(1,(Deduction!$A$3:$A$501=Sheet8!A239)*(Deduction!$B$3:$B$501=Sheet8!B239)*(Deduction!$C$3:$C$501=Sheet8!D239),0),6)","v":0},{"$f":"INDEX(Deduction!$A$3:$K$501,MATCH(1,(Deduction!$A$3:$A$501=Sheet8!A239)*(Deduction!$B$3:$B$501=Sheet8!B239)*(Deduction!$C$3:$C$501=Sheet8!D239),0),7)","v":0},{"$f":"INDEX(Deduction!$A$3:$K$501,MATCH(1,(Deduction!$A$3:$A$501=Sheet8!A239)*(Deduction!$B$3:$B$501=Sheet8!B239)*(Deduction!$C$3:$C$501=Sheet8!D239),0),8)","v":0},{"$f":"INDEX(Deduction!$A$3:$K$501,MATCH(1,(Deduction!$A$3:$A$501=Sheet8!A239)*(Deduction!$B$3:$B$501=Sheet8!B239)*(Deduction!$C$3:$C$501=Sheet8!D239),0),9)","v":0},{"$f":"INDEX(Deduction!$A$3:$K$501,MATCH(1,(Deduction!$A$3:$A$501=Sheet8!A239)*(Deduction!$B$3:$B$501=Sheet8!B239)*(Deduction!$C$3:$C$501=Sheet8!D239),0),10)","v":0},{"$f":"INDEX(Deduction!$A$3:$K$501,MATCH(1,(Deduction!$A$3:$A$501=Sheet8!A239)*(Deduction!$B$3:$B$501=Sheet8!B239)*(Deduction!$C$3:$C$501=Sheet8!D239),0),11)","v":0},{"$error":"#DIV/0!"},{"$f":"VLOOKUP(D239,Emp_Master!$B$3:$H$501,7)","v":{"$error":"#N/A"}}]
[{"$f":"Salary_Entitlement!A241","v":0},{"$f":"Salary_Entitlement!B241","v":0},{"$f":"Salary_Entitlement!C241","v":0},{"$f":"Salary_Entitlement!D241","v":0},{"$f":"Salary_Entitlement!E241","v":{"$error":"#N/A"}},{"$f":"Salary_Entitlement!F241","v":0},{"$f":"Salary_Entitlement!G241","v":0},{"$f":"Salary_Entitlement!H241","v":0},{"$f":"Salary_Entitlement!I241","v":0},{"$f":"Salary_Entitlement!J241","v":0},{"$f":"Salary_Entitlement!K241","v":0},{"$f":"Salary_Entitlement!L241","v":0},{"$f":"Salary_Entitlement!M241","v":0},{"$f":"Salary_Entitlement!N241","v":0},{"$f":"Salary_Entitlement!O241","v":0},{"$f":"Salary_Entitlement!P241","v":0},{"$error":"#DIV/0!"},{"$error":"#DIV/0!"},{"$f":"INDEX(Deduction!$A$3:$K$501,MATCH(1,(Deduction!$A$3:$A$501=Sheet8!A240)*(Deduction!$B$3:$B$501=Sheet8!B240)*(Deduction!$C$3:$C$501=Sheet8!D240),0),5)","v":0},{"$f":"INDEX(Deduction!$A$3:$K$501,MATCH(1,(Deduction!$A$3:$A$501=Sheet8!A240)*(Deduction!$B$3:$B$501=Sheet8!B240)*(Deduction!$C$3:$C$501=Sheet8!D240),0),6)","v":0},{"$f":"INDEX(Deduction!$A$3:$K$501,MATCH(1,(Deduction!$A$3:$A$501=Sheet8!A240)*(Deduction!$B$3:$B$501=Sheet8!B240)*(Deduction!$C$3:$C$501=Sheet8!D240),0),7)","v":0},{"$f":"INDEX(Deduction!$A$3:$K$501,MATCH(1,(Deduction!$A$3:$A$501=Sheet8!A240)*(Deduction!$B$3:$B$501=Sheet8!B240)*(Deduction!$C$3:$C$501=Sheet8!D240),0),8)","v":0},{"$f":"INDEX(Deduction!$A$3:$K$501,MATCH(1,(Deduction!$A$3:$A$501=Sheet8!A240)*(Deduction!$B$3:$B$501=Sheet8!B240)*(Deduction!$C$3:$C$501=Sheet8!D240),0),9)","v":0},{"$f":"INDEX(Deduction!$A$3:$K$501,MATCH(1,(Deduction!$A$3:$A$501=Sheet8!A240)*(Deduction!$B$3:$B$501=Sheet8!B240)*(Deduction!$C$3:$C$501=Sheet8!D240),0),10)","v":0},{"$f":"INDEX(Deduction!$A$3:$K$501,MATCH(1,(Deduction!$A$3:$A$501=Sheet8!A240)*(Deduction!$B$3:$B$501=Sheet8!B240)*(Deduction!$C$3:$C$501=Sheet8!D240),0),11)","v":0},{"$error":"#DIV/0!"},{"$f":"VLOOKUP(D240,Emp_Master!$B$3:$H$501,7)","v":{"$error":"#N/A"}}]
[{"$f":"Salary_Entitlement!A242","v":0},{"$f":"Salary_Entitlement!B242","v":0},{"$f":"Salary_Entitlement!C242","v":0},{"$f":"Salary_Entitlement!D242","v":0},{"$f":"Salary_Entitlement!E242","v":{"$error":"#N/A"}},{"$f":"Salary_Entitlement!F242","v":0},{"$f":"Salary_Entitlement!G242","v":0},{"$f":"Salary_Entitlement!H242","v":0},{"$f":"Salary_Entitlement!I242","v":0},{"$f":"Salary_Entitlement!J242","v":0},{"$f":"Salary_Entitlement!K242","v":0},{"$f":"Salary_Entitlement!L242","v":0},{"$f":"Salary_Entitlement!M242","v":0},{"$f":"Salary_Entitlement!N242","v":0},{"$f":"Salary_Entitlement!O242","v":0},{"$f":"Salary_Entitlement!P242","v":0},{"$error":"#DIV/0!"},{"$error":"#DIV/0!"},{"$f":"INDEX(Deduction!$A$3:$K$501,MATCH(1,(Deduction!$A$3:$A$501=Sheet8!A241)*(Deduction!$B$3:$B$501=Sheet8!B241)*(Deduction!$C$3:$C$501=Sheet8!D241),0),5)","v":0},{"$f":"INDEX(Deduction!$A$3:$K$501,MATCH(1,(Deduction!$A$3:$A$501=Sheet8!A241)*(Deduction!$B$3:$B$501=Sheet8!B241)*(Deduction!$C$3:$C$501=Sheet8!D241),0),6)","v":0},{"$f":"INDEX(Deduction!$A$3:$K$501,MATCH(1,(Deduction!$A$3:$A$501=Sheet8!A241)*(Deduction!$B$3:$B$501=Sheet8!B241)*(Deduction!$C$3:$C$501=Sheet8!D241),0),7)","v":0},{"$f":"INDEX(Deduction!$A$3:$K$501,MATCH(1,(Deduction!$A$3:$A$501=Sheet8!A241)*(Deduction!$B$3:$B$501=Sheet8!B241)*(Deduction!$C$3:$C$501=Sheet8!D241),0),8)","v":0},{"$f":"INDEX(Deduction!$A$3:$K$501,MATCH(1,(Deduction!$A$3:$A$501=Sheet8!A241)*(Deduction!$B$3:$B$501=Sheet8!B241)*(Deduction!$C$3:$C$501=Sheet8!D241),0),9)","v":0},{"$f":"INDEX(Deduction!$A$3:$K$501,MATCH(1,(Deduction!$A$3:$A$501=Sheet8!A241)*(Deduction!$B$3:$B$501=Sheet8!B241)*(Deduction!$C$3:$C$501=Sheet8!D241),0),10)","v":0},{"$f":"INDEX(Deduction!$A$3:$K$501,MATCH(1,(Deduction!$A$3:$A$501=Sheet8!A241)*(Deduction!$B$3:$B$501=Sheet8!B241)*(Deduction!$C$3:$C$501=Sheet8!D241),0),11)","v":0},{"$error":"#DIV/0!"},{"$f":"VLOOKUP(D241,Emp_Master!$B$3:$H$501,7)","v":{"$error":"#N/A"}}]
[{"$f":"Salary_Entitlement!A243","v":0},{"$f":"Salary_Entitlement!B243","v":0},{"$f":"Salary_Entitlement!C243","v":0},{"$f":"Salary_Entitlement!D243","v":0},{"$f":"Salary_Entitlement!E243","v":{"$error":"#N/A"}},{"$f":"Salary_Entitlement!F243","v":0},{"$f":"Salary_Entitlement!G243","v":0},{"$f":"Salary_Entitlement!H243","v":0},{"$f":"Salary_Entitlement!I243","v":0},{"$f":"Salary_Entitlement!J243","v":0},{"$f":"Salary_Entitlement!K243","v":0},{"$f":"Salary_Entitlement!L243","v":0},{"$f":"Salary_Entitlement!M243","v":0},{"$f":"Salary_Entitlement!N243","v":0},{"$f":"Salary_Entitlement!O243","v":0},{"$f":"Salary_Entitlement!P243","v":0},{"$error":"#DIV/0!"},{"$error":"#DIV/0!"},{"$f":"INDEX(Deduction!$A$3:$K$501,MATCH(1,(Deduction!$A$3:$A$501=Sheet8!A242)*(Deduction!$B$3:$B$501=Sheet8!B242)*(Deduction!$C$3:$C$501=Sheet8!D242),0),5)","v":0},{"$f":"INDEX(Deduction!$A$3:$K$501,MATCH(1,(Deduction!$A$3:$A$501=Sheet8!A242)*(Deduction!$B$3:$B$501=Sheet8!B242)*(Deduction!$C$3:$C$501=Sheet8!D242),0),6)","v":0},{"$f":"INDEX(Deduction!$A$3:$K$501,MATCH(1,(Deduction!$A$3:$A$501=Sheet8!A242)*(Deduction!$B$3:$B$501=Sheet8!B242)*(Deduction!$C$3:$C$501=Sheet8!D242),0),7)","v":0},{"$f":"INDEX(Deduction!$A$3:$K$501,MATCH(1,(Deduction!$A$3:$A$501=Sheet8!A242)*(Deduction!$B$3:$B$501=Sheet8!B242)*(Deduction!$C$3:$C$501=Sheet8!D242),0),8)","v":0},{"$f":"INDEX(Deduction!$A$3:$K$501,MATCH(1,(Deduction!$A$3:$A$501=Sheet8!A242)*(Deduction!$B$3:$B$501=Sheet8!B242)*(Deduction!$C$3:$C$501=Sheet8!D242),0),9)","v":0},{"$f":"INDEX(Deduction!$A$3:$K$501,MATCH(1,(Deduction!$A$3:$A$501=Sheet8!A242)*(Deduction!$B$3:$B$501=Sheet8!B242)*(Deduction!$C$3:$C$501=Sheet8!D242),0),10)","v":0},{"$f":"INDEX(Deduction!$A$3:$K$501,MATCH(1,(Deduction!$A$3:$A$501=Sheet8!A242)*(Deduction!$B$3:$B$501=Sheet8!B242)*(Deduction!$C$3:$C$501=Sheet8!D242),0),11)","v":0},{"$error":"#DIV/0!"},{"$f":"VLOOKUP(D242,Emp_Master!$B$3:$H$501,7)","v":{"$error":"#N/A"}}]
[{"$f":"Salary_Entitlement!A244","v":0},{"$f":"Salary_Entitlement!B244","v":0},{"$f":"Salary_Entitlement!C244","v":0},{"$f":"Salary_Entitlement!D244","v":0},{"$f":"Salary_Entitlement!E244","v":{"$error":"#N/A"}},{"$f":"Salary_Entitlement!F244","v":0},{"$f":"Salary_Entitlement!G244","v":0},{"$f":"Salary_Entitlement!H244","v":0},{"$f":"Salary_Entitlement!I244","v":0},{"$f":"Salary_Entitlement!J244","v":0},{"$f":"Salary_Entitlement!K244","v":0},{"$f":"Salary_Entitlement!L244","v":0},{"$f":"Salary_Entitlement!M244","v":0},{"$f":"Salary_Entitlement!N244","v":0},{"$f":"Salary_Entitlement!O244","v":0},{"$f":"Salary_Entitlement!P244","v":0},{"$error":"#DIV/0!"},{"$error":"#DIV/0!"},{"$f":"INDEX(Deduction!$A$3:$K$501,MATCH(1,(Deduction!$A$3:$A$501=Sheet8!A243)*(Deduction!$B$3:$B$501=Sheet8!B243)*(Deduction!$C$3:$C$501=Sheet8!D243),0),5)","v":0},{"$f":"INDEX(Deduction!$A$3:$K$501,MATCH(1,(Deduction!$A$3:$A$501=Sheet8!A243)*(Deduction!$B$3:$B$501=Sheet8!B243)*(Deduction!$C$3:$C$501=Sheet8!D243),0),6)","v":0},{"$f":"INDEX(Deduction!$A$3:$K$501,MATCH(1,(Deduction!$A$3:$A$501=Sheet8!A243)*(Deduction!$B$3:$B$501=Sheet8!B243)*(Deduction!$C$3:$C$501=Sheet8!D243),0),7)","v":0},{"$f":"INDEX(Deduction!$A$3:$K$501,MATCH(1,(Deduction!$A$3:$A$501=Sheet8!A243)*(Deduction!$B$3:$B$501=Sheet8!B243)*(Deduction!$C$3:$C$501=Sheet8!D243),0),8)","v":0},{"$f":"INDEX(Deduction!$A$3:$K$501,MATCH(1,(Deduction!$A$3:$A$501=Sheet8!A243)*(Deduction!$B$3:$B$501=Sheet8!B243)*(Deduction!$C$3:$C$501=Sheet8!D243),0),9)","v":0},{"$f":"INDEX(Deduction!$A$3:$K$501,MATCH(1,(Deduction!$A$3:$A$501=Sheet8!A243)*(Deduction!$B$3:$B$501=Sheet8!B243)*(Deduction!$C$3:$C$501=Sheet8!D243),0),10)","v":0},{"$f":"INDEX(Deduction!$A$3:$K$501,MATCH(1,(Deduction!$A$3:$A$501=Sheet8!A243)*(Deduction!$B$3:$B$501=Sheet8!B243)*(Deduction!$C$3:$C$501=Sheet8!D243),0),11)","v":0},{"$error":"#DIV/0!"},{"$f":"VLOOKUP(D243,Emp_Master!$B$3:$H$501,7)","v":{"$error":"#N/A"}}]
[{"$f":"Salary_Entitlement!A245","v":0},{"$f":"Salary_Entitlement!B245","v":0},{"$f":"Salary_Entitlement!C245","v":0},{"$f":"Salary_Entitlement!D245","v":0},{"$f":"Salary_Entitlement!E245","v":{"$error":"#N/A"}},{"$f":"Salary_Entitlement!F245","v":0},{"$f":"Salary_Entitlement!G245","v":0},{"$f":"Salary_Entitlement!H245","v":0},{"$f":"Salary_Entitlement!I245","v":0},{"$f":"Salary_Entitlement!J245","v":0},{"$f":"Salary_Entitlement!K245","v":0},{"$f":"Salary_Entitlement!L245","v":0},{"$f":"Salary_Entitlement!M245","v":0},{"$f":"Salary_Entitlement!N245","v":0},{"$f":"Salary_Entitlement!O245","v":0},{"$f":"Salary_Entitlement!P245","v":0},{"$error":"#DIV/0!"},{"$error":"#DIV/0!"},{"$f":"INDEX(Deduction!$A$3:$K$501,MATCH(1,(Deduction!$A$3:$A$501=Sheet8!A244)*(Deduction!$B$3:$B$501=Sheet8!B244)*(Deduction!$C$3:$C$501=Sheet8!D244),0),5)","v":0},{"$f":"INDEX(Deduction!$A$3:$K$501,MATCH(1,(Deduction!$A$3:$A$501=Sheet8!A244)*(Deduction!$B$3:$B$501=Sheet8!B244)*(Deduction!$C$3:$C$501=Sheet8!D244),0),6)","v":0},{"$f":"INDEX(Deduction!$A$3:$K$501,MATCH(1,(Deduction!$A$3:$A$501=Sheet8!A244)*(Deduction!$B$3:$B$501=Sheet8!B244)*(Deduction!$C$3:$C$501=Sheet8!D244),0),7)","v":0},{"$f":"INDEX(Deduction!$A$3:$K$501,MATCH(1,(Deduction!$A$3:$A$501=Sheet8!A244)*(Deduction!$B$3:$B$501=Sheet8!B244)*(Deduction!$C$3:$C$501=Sheet8!D244),0),8)","v":0},{"$f":"INDEX(Deduction!$A$3:$K$501,MATCH(1,(Deduction!$A$3:$A$501=Sheet8!A244)*(Deduction!$B$3:$B$501=Sheet8!B244)*(Deduction!$C$3:$C$501=Sheet8!D244),0),9)","v":0},{"$f":"INDEX(Deduction!$A$3:$K$501,MATCH(1,(Deduction!$A$3:$A$501=Sheet8!A244)*(Deduction!$B$3:$B$501=Sheet8!B244)*(Deduction!$C$3:$C$501=Sheet8!D244),0),10)","v":0},{"$f":"INDEX(Deduction!$A$3:$K$501,MATCH(1,(Deduction!$A$3:$A$501=Sheet8!A244)*(Deduction!$B$3:$B$501=Sheet8!B244)*(Deduction!$C$3:$C$501=Sheet8!D244),0),11)","v":0},{"$error":"#DIV/0!"},{"$f":"VLOOKUP(D244,Emp_Master!$B$3:$H$501,7)","v":{"$error":"#N/A"}}]
[{"$f":"Salary_Entitlement!A246","v":0},{"$f":"Salary_Entitlement!B246","v":0},{"$f":"Salary_Entitlement!C246","v":0},{"$f":"Salary_Entitlement!D246","v":0},{"$f":"Salary_Entitlement!E246","v":{"$error":"#N/A"}},{"$f":"Salary_Entitlement!F246","v":0},{"$f":"Salary_Entitlement!G246","v":0},{"$f":"Salary_Entitlement!H246","v":0},{"$f":"Salary_Entitlement!I246","v":0},{"$f":"Salary_Entitlement!J246","v":0},{"$f":"Salary_Entitlement!K246","v":0},{"$f":"Salary_Entitlement!L246","v":0},{"$f":"Salary_Entitlement!M246","v":0},{"$f":"Salary_Entitlement!N246","v":0},{"$f":"Salary_Entitlement!O246","v":0},{"$f":"Salary_Entitlement!P246","v":0},{"$error":"#DIV/0!"},{"$error":"#DIV/0!"},{"$f":"INDEX(Deduction!$A$3:$K$501,MATCH(1,(Deduction!$A$3:$A$501=Sheet8!A245)*(Deduction!$B$3:$B$501=Sheet8!B245)*(Deduction!$C$3:$C$501=Sheet8!D245),0),5)","v":0},{"$f":"INDEX(Deduction!$A$3:$K$501,MATCH(1,(Deduction!$A$3:$A$501=Sheet8!A245)*(Deduction!$B$3:$B$501=Sheet8!B245)*(Deduction!$C$3:$C$501=Sheet8!D245),0),6)","v":0},{"$f":"INDEX(Deduction!$A$3:$K$501,MATCH(1,(Deduction!$A$3:$A$501=Sheet8!A245)*(Deduction!$B$3:$B$501=Sheet8!B245)*(Deduction!$C$3:$C$501=Sheet8!D245),0),7)","v":0},{"$f":"INDEX(Deduction!$A$3:$K$501,MATCH(1,(Deduction!$A$3:$A$501=Sheet8!A245)*(Deduction!$B$3:$B$501=Sheet8!B245)*(Deduction!$C$3:$C$501=Sheet8!D245),0),8)","v":0},{"$f":"INDEX(Deduction!$A$3:$K$501,MATCH(1,(Deduction!$A$3:$A$501=Sheet8!A245)*(Deduction!$B$3:$B$501=Sheet8!B245)*(Deduction!$C$3:$C$501=Sheet8!D245),0),9)","v":0},{"$f":"INDEX(Deduction!$A$3:$K$501,MATCH(1,(Deduction!$A$3:$A$501=Sheet8!A245)*(Deduction!$B$3:$B$501=Sheet8!B245)*(Deduction!$C$3:$C$501=Sheet8!D245),0),10)","v":0},{"$f":"INDEX(Deduction!$A$3:$K$501,MATCH(1,(Deduction!$A$3:$A$501=Sheet8!A245)*(Deduction!$B$3:$B$501=Sheet8!B245)*(Deduction!$C$3:$C$501=Sheet8!D245),0),11)","v":0},{"$error":"#DIV/0!"},{"$f":"VLOOKUP(D245,Emp_Master!$B$3:$H$501,7)","v":{"$error":"#N/A"}}]
[{"$f":"Salary_Entitlement!A247","v":0},{"$f":"Salary_Entitlement!B247","v":0},{"$f":"Salary_Entitlement!C247","v":0},{"$f":"Salary_Entitlement!D247","v":0},{"$f":"Salary_Entitlement!E247","v":{"$error":"#N/A"}},{"$f":"Salary_Entitlement!F247","v":0},{"$f":"Salary_Entitlement!G247","v":0},{"$f":"Salary_Entitlement!H247","v":0},{"$f":"Salary_Entitlement!I247","v":0},{"$f":"Salary_Entitlement!J247","v":0},{"$f":"Salary_Entitlement!K247","v":0},{"$f":"Salary_Entitlement!L247","v":0},{"$f":"Salary_Entitlement!M247","v":0},{"$f":"Salary_Entitlement!N247","v":0},{"$f":"Salary_Entitlement!O247","v":0},{"$f":"Salary_Entitlement!P247","v":0},{"$error":"#DIV/0!"},{"$error":"#DIV/0!"},{"$f":"INDEX(Deduction!$A$3:$K$501,MATCH(1,(Deduction!$A$3:$A$501=Sheet8!A246)*(Deduction!$B$3:$B$501=Sheet8!B246)*(Deduction!$C$3:$C$501=Sheet8!D246),0),5)","v":0},{"$f":"INDEX(Deduction!$A$3:$K$501,MATCH(1,(Deduction!$A$3:$A$501=Sheet8!A246)*(Deduction!$B$3:$B$501=Sheet8!B246)*(Deduction!$C$3:$C$501=Sheet8!D246),0),6)","v":0},{"$f":"INDEX(Deduction!$A$3:$K$501,MATCH(1,(Deduction!$A$3:$A$501=Sheet8!A246)*(Deduction!$B$3:$B$501=Sheet8!B246)*(Deduction!$C$3:$C$501=Sheet8!D246),0),7)","v":0},{"$f":"INDEX(Deduction!$A$3:$K$501,MATCH(1,(Deduction!$A$3:$A$501=Sheet8!A246)*(Deduction!$B$3:$B$501=Sheet8!B246)*(Deduction!$C$3:$C$501=Sheet8!D246),0),8)","v":0},{"$f":"INDEX(Deduction!$A$3:$K$501,MATCH(1,(Deduction!$A$3:$A$501=Sheet8!A246)*(Deduction!$B$3:$B$501=Sheet8!B246)*(Deduction!$C$3:$C$501=Sheet8!D246),0),9)","v":0},{"$f":"INDEX(Deduction!$A$3:$K$501,MATCH(1,(Deduction!$A$3:$A$501=Sheet8!A246)*(Deduction!$B$3:$B$501=Sheet8!B246)*(Deduction!$C$3:$C$501=Sheet8!D246),0),10)","v":0},{"$f":"INDEX(Deduction!$A$3:$K$501,MATCH(1,(Deduction!$A$3:$A$501=Sheet8!A246)*(Deduction!$B$3:$B$501=Sheet8!B246)*(Deduction!$C$3:$C$501=Sheet8!D246),0),11)","v":0},{"$error":"#DIV/0!"},{"$f":"VLOOKUP(D246,Emp_Master!$B$3:$H$501,7)","v":{"$error":"#N/A"}}]
[{"$f":"Salary_Entitlement!A248","v":0},{"$f":"Salary_Entitlement!B248","v":0},{"$f":"Salary_Entitlement!C248","v":0},{"$f":"Salary_Entitlement!D248","v":0},{"$f":"Salary_Entitlement!E248","v":{"$error":"#N/A"}},{"$f":"Salary_Entitlement!F248","v":0},{"$f":"Salary_Entitlement!G248","v":0},{"$f":"Salary_Entitlement!H248","v":0},{"$f":"Salary_Entitlement!I248","v":0},{"$f":"Salary_Entitlement!J248","v":0},{"$f":"Salary_Entitlement!K248","v":0},{"$f":"Salary_Entitlement!L248","v":0},{"$f":"Salary_Entitlement!M248","v":0},{"$f":"Salary_Entitlement!N248","v":0},{"$f":"Salary_Entitlement!O248","v":0},{"$f":"Salary_Entitlement!P248","v":0},{"$error":"#DIV/0!"},{"$error":"#DIV/0!"},{"$f":"INDEX(Deduction!$A$3:$K$501,MATCH(1,(Deduction!$A$3:$A$501=Sheet8!A247)*(Deduction!$B$3:$B$501=Sheet8!B247)*(Deduction!$C$3:$C$501=Sheet8!D247),0),5)","v":0},{"$f":"INDEX(Deduction!$A$3:$K$501,MATCH(1,(Deduction!$A$3:$A$501=Sheet8!A247)*(Deduction!$B$3:$B$501=Sheet8!B247)*(Deduction!$C$3:$C$501=Sheet8!D247),0),6)","v":0},{"$f":"INDEX(Deduction!$A$3:$K$501,MATCH(1,(Deduction!$A$3:$A$501=Sheet8!A247)*(Deduction!$B$3:$B$501=Sheet8!B247)*(Deduction!$C$3:$C$501=Sheet8!D247),0),7)","v":0},{"$f":"INDEX(Deduction!$A$3:$K$501,MATCH(1,(Deduction!$A$3:$A$501=Sheet8!A247)*(Deduction!$B$3:$B$501=Sheet8!B247)*(Deduction!$C$3:$C$501=Sheet8!D247),0),8)","v":0},{"$f":"INDEX(Deduction!$A$3:$K$501,MATCH(1,(Deduction!$A$3:$A$501=Sheet8!A247)*(Deduction!$B$3:$B$501=Sheet8!B247)*(Deduction!$C$3:$C$501=Sheet8!D247),0),9)","v":0},{"$f":"INDEX(Deduction!$A$3:$K$501,MATCH(1,(Deduction!$A$3:$A$501=Sheet8!A247)*(Deduction!$B$3:$B$501=Sheet8!B247)*(Deduction!$C$3:$C$501=Sheet8!D247),0),10)","v":0},{"$f":"INDEX(Deduction!$A$3:$K$501,MATCH(1,(Deduction!$A$3:$A$501=Sheet8!A247)*(Deduction!$B$3:$B$501=Sheet8!B247)*(Deduction!$C$3:$C$501=Sheet8!D247),0),11)","v":0},{"$error":"#DIV/0!"},{"$f":"VLOOKUP(D247,Emp_Master!$B$3:$H$501,7)","v":{"$error":"#N/A"}}]
[{"$f":"Salary_Entitlement!A249","v":0},{"$f":"Salary_Entitlement!B249","v":0},{"$f":"Salary_Entitlement!C249","v":0},{"$f":"Salary_Entitlement!D249","v":0},{"$f":"Salary_Entitlement!E249","v":{"$error":"#N/A"}},{"$f":"Salary_Entitlement!F249","v":0},{"$f":"Salary_Entitlement!G249","v":0},{"$f":"Salary_Entitlement!H249","v":0},{"$f":"Salary_Entitlement!I249","v":0},{"$f":"Salary_Entitlement!J249","v":0},{"$f":"Salary_Entitlement!K249","v":0},{"$f":"Salary_Entitlement!L249","v":0},{"$f":"Salary_Entitlement!M249","v":0},{"$f":"Salary_Entitlement!N249","v":0},{"$f":"Salary_Entitlement!O249","v":0},{"$f":"Salary_Entitlement!P249","v":0},{"$error":"#DIV/0!"},{"$error":"#DIV/0!"},{"$f":"INDEX(Deduction!$A$3:$K$501,MATCH(1,(Deduction!$A$3:$A$501=Sheet8!A248)*(Deduction!$B$3:$B$501=Sheet8!B248)*(Deduction!$C$3:$C$501=Sheet8!D248),0),5)","v":0},{"$f":"INDEX(Deduction!$A$3:$K$501,MATCH(1,(Deduction!$A$3:$A$501=Sheet8!A248)*(Deduction!$B$3:$B$501=Sheet8!B248)*(Deduction!$C$3:$C$501=Sheet8!D248),0),6)","v":0},{"$f":"INDEX(Deduction!$A$3:$K$501,MATCH(1,(Deduction!$A$3:$A$501=Sheet8!A248)*(Deduction!$B$3:$B$501=Sheet8!B248)*(Deduction!$C$3:$C$501=Sheet8!D248),0),7)","v":0},{"$f":"INDEX(Deduction!$A$3:$K$501,MATCH(1,(Deduction!$A$3:$A$501=Sheet8!A248)*(Deduction!$B$3:$B$501=Sheet8!B248)*(Deduction!$C$3:$C$501=Sheet8!D248),0),8)","v":0},{"$f":"INDEX(Deduction!$A$3:$K$501,MATCH(1,(Deduction!$A$3:$A$501=Sheet8!A248)*(Deduction!$B$3:$B$501=Sheet8!B248)*(Deduction!$C$3:$C$501=Sheet8!D248),0),9)","v":0},{"$f":"INDEX(Deduction!$A$3:$K$501,MATCH(1,(Deduction!$A$3:$A$501=Sheet8!A248)*(Deduction!$B$3:$B$501=Sheet8!B248)*(Deduction!$C$3:$C$501=Sheet8!D248),0),10)","v":0},{"$f":"INDEX(Deduction!$A$3:$K$501,MATCH(1,(Deduction!$A$3:$A$501=Sheet8!A248)*(Deduction!$B$3:$B$501=Sheet8!B248)*(Deduction!$C$3:$C$501=Sheet8!D248),0),11)","v":0},{"$error":"#DIV/0!"},{"$f":"VLOOKUP(D248,Emp_Master!$B$3:$H$501,7)","v":{"$error":"#N/A"}}]
[{"$f":"Salary_Entitlement!A250","v":0},{"$f":"Salary_Entitlement!B250","v":0},{"$f":"Salary_Entitlement!C250","v":0},{"$f":"Salary_Entitlement!D250","v":0},{"$f":"Salary_Entitlement!E250","v":{"$error":"#N/A"}},{"$f":"Salary_Entitlement!F250","v":0},{"$f":"Salary_Entitlement!G250","v":0},{"$f":"Salary_Entitlement!H250","v":0},{"$f":"Salary_Entitlement!I250","v":0},{"$f":"Salary_Entitlement!J250","v":0},{"$f":"Salary_Entitlement!K250","v":0},{"$f":"Salary_Entitlement!L250","v":0},{"$f":"Salary_Entitlement!M250","v":0},{"$f":"Salary_Entitlement!N250","v":0},{"$f":"Salary_Entitlement!O250","v":0},{"$f":"Salary_Entitlement!P250","v":0},{"$error":"#DIV/0!"},{"$error":"#DIV/0!"},{"$f":"INDEX(Deduction!$A$3:$K$501,MATCH(1,(Deduction!$A$3:$A$501=Sheet8!A249)*(Deduction!$B$3:$B$501=Sheet8!B249)*(Deduction!$C$3:$C$501=Sheet8!D249),0),5)","v":0},{"$f":"INDEX(Deduction!$A$3:$K$501,MATCH(1,(Deduction!$A$3:$A$501=Sheet8!A249)*(Deduction!$B$3:$B$501=Sheet8!B249)*(Deduction!$C$3:$C$501=Sheet8!D249),0),6)","v":0},{"$f":"INDEX(Deduction!$A$3:$K$501,MATCH(1,(Deduction!$A$3:$A$501=Sheet8!A249)*(Deduction!$B$3:$B$501=Sheet8!B249)*(Deduction!$C$3:$C$501=Sheet8!D249),0),7)","v":0},{"$f":"INDEX(Deduction!$A$3:$K$501,MATCH(1,(Deduction!$A$3:$A$501=Sheet8!A249)*(Deduction!$B$3:$B$501=Sheet8!B249)*(Deduction!$C$3:$C$501=Sheet8!D249),0),8)","v":0},{"$f":"INDEX(Deduction!$A$3:$K$501,MATCH(1,(Deduction!$A$3:$A$501=Sheet8!A249)*(Deduction!$B$3:$B$501=Sheet8!B249)*(Deduction!$C$3:$C$501=Sheet8!D249),0),9)","v":0},{"$f":"INDEX(Deduction!$A$3:$K$501,MATCH(1,(Deduction!$A$3:$A$501=Sheet8!A249)*(Deduction!$B$3:$B$501=Sheet8!B249)*(Deduction!$C$3:$C$501=Sheet8!D249),0),10)","v":0},{"$f":"INDEX(Deduction!$A$3:$K$501,MATCH(1,(Deduction!$A$3:$A$501=Sheet8!A249)*(Deduction!$B$3:$B$501=Sheet8!B249)*(Deduction!$C$3:$C$501=Sheet8!D249),0),11)","v":0},{"$error":"#DIV/0!"},{"$f":"VLOOKUP(D249,Emp_Master!$B$3:$H$501,7)","v":{"$error":"#N/A"}}]
[{"$f":"Salary_Entitlement!A251","v":0},{"$f":"Salary_Entitlement!B251","v":0},{"$f":"Salary_Entitlement!C251","v":0},{"$f":"Salary_Entitlement!D251","v":0},{"$f":"Salary_Entitlement!E251","v":{"$error":"#N/A"}},{"$f":"Salary_Entitlement!F251","v":0},{"$f":"Salary_Entitlement!G251","v":0},{"$f":"Salary_Entitlement!H251","v":0},{"$f":"Salary_Entitlement!I251","v":0},{"$f":"Salary_Entitlement!J251","v":0},{"$f":"Salary_Entitlement!K251","v":0},{"$f":"Salary_Entitlement!L251","v":0},{"$f":"Salary_Entitlement!M251","v":0},{"$f":"Salary_Entitlement!N251","v":0},{"$f":"Salary_Entitlement!O251","v":0},{"$f":"Salary_Entitlement!P251","v":0},{"$error":"#DIV/0!"},{"$error":"#DIV/0!"},{"$f":"INDEX(Deduction!$A$3:$K$501,MATCH(1,(Deduction!$A$3:$A$501=Sheet8!A250)*(Deduction!$B$3:$B$501=Sheet8!B250)*(Deduction!$C$3:$C$501=Sheet8!D250),0),5)","v":0},{"$f":"INDEX(Deduction!$A$3:$K$501,MATCH(1,(Deduction!$A$3:$A$501=Sheet8!A250)*(Deduction!$B$3:$B$501=Sheet8!B250)*(Deduction!$C$3:$C$501=Sheet8!D250),0),6)","v":0},{"$f":"INDEX(Deduction!$A$3:$K$501,MATCH(1,(Deduction!$A$3:$A$501=Sheet8!A250)*(Deduction!$B$3:$B$501=Sheet8!B250)*(Deduction!$C$3:$C$501=Sheet8!D250),0),7)","v":0},{"$f":"INDEX(Deduction!$A$3:$K$501,MATCH(1,(Deduction!$A$3:$A$501=Sheet8!A250)*(Deduction!$B$3:$B$501=Sheet8!B250)*(Deduction!$C$3:$C$501=Sheet8!D250),0),8)","v":0},{"$f":"INDEX(Deduction!$A$3:$K$501,MATCH(1,(Deduction!$A$3:$A$501=Sheet8!A250)*(Deduction!$B$3:$B$501=Sheet8!B250)*(Deduction!$C$3:$C$501=Sheet8!D250),0),9)","v":0},{"$f":"INDEX(Deduction!$A$3:$K$501,MATCH(1,(Deduction!$A$3:$A$501=Sheet8!A250)*(Deduction!$B$3:$B$501=Sheet8!B250)*(Deduction!$C$3:$C$501=Sheet8!D250),0),10)","v":0},{"$f":"INDEX(Deduction!$A$3:$K$501,MATCH(1,(Deduction!$A$3:$A$501=Sheet8!A250)*(Deduction!$B$3:$B$501=Sheet8!B250)*(Deduction!$C$3:$C$501=Sheet8!D250),0),11)","v":0},{"$error":"#DIV/0!"},{"$f":"VLOOKUP(D250,Emp_Master!$B$3:$H$501,7)","v":{"$error":"#N/A"}}]
[{"$f":"Salary_Entitlement!A252","v":0},{"$f":"Salary_Entitlement!B252","v":0},{"$f":"Salary_Entitlement!C252","v":0},{"$f":"Salary_Entitlement!D252","v":0},{"$f":"Salary_Entitlement!E252","v":{"$error":"#N/A"}},{"$f":"Salary_Entitlement!F252","v":0},{"$f":"Salary_Entitlement!G252","v":0},{"$f":"Salary_Entitlement!H252","v":0},{"$f":"Salary_Entitlement!I252","v":0},{"$f":"Salary_Entitlement!J252","v":0},{"$f":"Salary_Entitlement!K252","v":0},{"$f":"Salary_Entitlement!L252","v":0},{"$f":"Salary_Entitlement!M252","v":0},{"$f":"Salary_Entitlement!N252","v":0},{"$f":"Salary_Entitlement!O252","v":0},{"$f":"Salary_Entitlement!P252","v":0},{"$error":"#DIV/0!"},{"$error":"#DIV/0!"},{"$f":"INDEX(Deduction!$A$3:$K$501,MATCH(1,(Deduction!$A$3:$A$501=Sheet8!A251)*(Deduction!$B$3:$B$501=Sheet8!B251)*(Deduction!$C$3:$C$501=Sheet8!D251),0),5)","v":0},{"$f":"INDEX(Deduction!$A$3:$K$501,MATCH(1,(Deduction!$A$3:$A$501=Sheet8!A251)*(Deduction!$B$3:$B$501=Sheet8!B251)*(Deduction!$C$3:$C$501=Sheet8!D251),0),6)","v":0},{"$f":"INDEX(Deduction!$A$3:$K$501,MATCH(1,(Deduction!$A$3:$A$501=Sheet8!A251)*(Deduction!$B$3:$B$501=Sheet8!B251)*(Deduction!$C$3:$C$501=Sheet8!D251),0),7)","v":0},{"$f":"INDEX(Deduction!$A$3:$K$501,MATCH(1,(Deduction!$A$3:$A$501=Sheet8!A251)*(Deduction!$B$3:$B$501=Sheet8!B251)*(Deduction!$C$3:$C$501=Sheet8!D251),0),8)","v":0},{"$f":"INDEX(Deduction!$A$3:$K$501,MATCH(1,(Deduction!$A$3:$A$501=Sheet8!A251)*(Deduction!$B$3:$B$501=Sheet8!B251)*(Deduction!$C$3:$C$501=Sheet8!D251),0),9)","v":0},{"$f":"INDEX(Deduction!$A$3:$K$501,MATCH(1,(Deduction!$A$3:$A$501=Sheet8!A251)*(Deduction!$B$3:$B$501=Sheet8!B251)*(Deduction!$C$3:$C$501=Sheet8!D251),0),10)","v":0},{"$f":"INDEX(Deduction!$A$3:$K$501,MATCH(1,(Deduction!$A$3:$A$501=Sheet8!A251)*(Deduction!$B$3:$B$501=Sheet8!B251)*(Deduction!$C$3:$C$501=Sheet8!D251),0),11)","v":0},{"$error":"#DIV/0!"},{"$f":"VLOOKUP(D251,Emp_Master!$B$3:$H$501,7)","v":{"$error":"#N/A"}}]
[{"$f":"Salary_Entitlement!A253","v":0},{"$f":"Salary_Entitlement!B253","v":0},{"$f":"Salary_Entitlement!C253","v":0},{"$f":"Salary_Entitlement!D253","v":0},{"$f":"Salary_Entitlement!E253","v":{"$error":"#N/A"}},{"$f":"Salary_Entitlement!F253","v":0},{"$f":"Salary_Entitlement!G253","v":0},{"$f":"Salary_Entitlement!H253","v":0},{"$f":"Salary_Entitlement!I253","v":0},{"$f":"Salary_Entitlement!J253","v":0},{"$f":"Salary_Entitlement!K253","v":0},{"$f":"Salary_Entitlement!L253","v":0},{"$f":"Salary_Entitlement!M253","v":0},{"$f":"Salary_Entitlement!N253","v":0},{"$f":"Salary_Entitlement!O253","v":0},{"$f":"Salary_Entitlement!P253","v":0},{"$error":"#DIV/0!"},{"$error":"#DIV/0!"},{"$f":"INDEX(Deduction!$A$3:$K$501,MATCH(1,(Deduction!$A$3:$A$501=Sheet8!A252)*(Deduction!$B$3:$B$501=Sheet8!B252)*(Deduction!$C$3:$C$501=Sheet8!D252),0),5)","v":0},{"$f":"INDEX(Deduction!$A$3:$K$501,MATCH(1,(Deduction!$A$3:$A$501=Sheet8!A252)*(Deduction!$B$3:$B$501=Sheet8!B252)*(Deduction!$C$3:$C$501=Sheet8!D252),0),6)","v":0},{"$f":"INDEX(Deduction!$A$3:$K$501,MATCH(1,(Deduction!$A$3:$A$501=Sheet8!A252)*(Deduction!$B$3:$B$501=Sheet8!B252)*(Deduction!$C$3:$C$501=Sheet8!D252),0),7)","v":0},{"$f":"INDEX(Deduction!$A$3:$K$501,MATCH(1,(Deduction!$A$3:$A$501=Sheet8!A252)*(Deduction!$B$3:$B$501=Sheet8!B252)*(Deduction!$C$3:$C$501=Sheet8!D252),0),8)","v":0},{"$f":"INDEX(Deduction!$A$3:$K$501,MATCH(1,(Deduction!$A$3:$A$501=Sheet8!A252)*(Deduction!$B$3:$B$501=Sheet8!B252)*(Deduction!$C$3:$C$501=Sheet8!D252),0),9)","v":0},{"$f":"INDEX(Deduction!$A$3:$K$501,MATCH(1,(Deduction!$A$3:$A$501=Sheet8!A252)*(Deduction!$B$3:$B$501=Sheet8!B252)*(Deduction!$C$3:$C$501=Sheet8!D252),0),10)","v":0},{"$f":"INDEX(Deduction!$A$3:$K$501,MATCH(1,(Deduction!$A$3:$A$501=Sheet8!A252)*(Deduction!$B$3:$B$501=Sheet8!B252)*(Deduction!$C$3:$C$501=Sheet8!D252),0),11)","v":0},{"$error":"#DIV/0!"},{"$f":"VLOOKUP(D252,Emp_Master!$B$3:$H$501,7)","v":{"$error":"#N/A"}}]
[{"$f":"Salary_Entitlement!A254","v":0},{"$f":"Salary_Entitlement!B254","v":0},{"$f":"Salary_Entitlement!C254","v":0},{"$f":"Salary_Entitlement!D254","v":0},{"$f":"Salary_Entitlement!E254","v":{"$error":"#N/A"}},{"$f":"Salary_Entitlement!F254","v":0},{"$f":"Salary_Entitlement!G254","v":0},{"$f":"Salary_Entitlement!H254","v":0},{"$f":"Salary_Entitlement!I254","v":0},{"$f":"Salary_Entitlement!J254","v":0},{"$f":"Salary_Entitlement!K254","v":0},{"$f":"Salary_Entitlement!L254","v":0},{"$f":"Salary_Entitlement!M254","v":0},{"$f":"Salary_Entitlement!N254","v":0},{"$f":"Salary_Entitlement!O254","v":0},{"$f":"Salary_Entitlement!P254","v":0},{"$error":"#DIV/0!"},{"$error":"#DIV/0!"},{"$f":"INDEX(Deduction!$A$3:$K$501,MATCH(1,(Deduction!$A$3:$A$501=Sheet8!A253)*(Deduction!$B$3:$B$501=Sheet8!B253)*(Deduction!$C$3:$C$501=Sheet8!D253),0),5)","v":0},{"$f":"INDEX(Deduction!$A$3:$K$501,MATCH(1,(Deduction!$A$3:$A$501=Sheet8!A253)*(Deduction!$B$3:$B$501=Sheet8!B253)*(Deduction!$C$3:$C$501=Sheet8!D253),0),6)","v":0},{"$f":"INDEX(Deduction!$A$3:$K$501,MATCH(1,(Deduction!$A$3:$A$501=Sheet8!A253)*(Deduction!$B$3:$B$501=Sheet8!B253)*(Deduction!$C$3:$C$501=Sheet8!D253),0),7)","v":0},{"$f":"INDEX(Deduction!$A$3:$K$501,MATCH(1,(Deduction!$A$3:$A$501=Sheet8!A253)*(Deduction!$B$3:$B$501=Sheet8!B253)*(Deduction!$C$3:$C$501=Sheet8!D253),0),8)","v":0},{"$f":"INDEX(Deduction!$A$3:$K$501,MATCH(1,(Deduction!$A$3:$A$501=Sheet8!A253)*(Deduction!$B$3:$B$501=Sheet8!B253)*(Deduction!$C$3:$C$501=Sheet8!D253),0),9)","v":0},{"$f":"INDEX(Deduction!$A$3:$K$501,MATCH(1,(Deduction!$A$3:$A$501=Sheet8!A253)*(Deduction!$B$3:$B$501=Sheet8!B253)*(Deduction!$C$3:$C$501=Sheet8!D253),0),10)","v":0},{"$f":"INDEX(Deduction!$A$3:$K$501,MATCH(1,(Deduction!$A$3:$A$501=Sheet8!A253)*(Deduction!$B$3:$B$501=Sheet8!B253)*(Deduction!$C$3:$C$501=Sheet8!D253),0),11)","v":0},{"$error":"#DIV/0!"},{"$f":"VLOOKUP(D253,Emp_Master!$B$3:$H$501,7)","v":{"$error":"#N/A"}}]
[{"$f":"Salary_Entitlement!A255","v":0},{"$f":"Salary_Entitlement!B255","v":0},{"$f":"Salary_Entitlement!C255","v":0},{"$f":"Salary_Entitlement!D255","v":0},{"$f":"Salary_Entitlement!E255","v":{"$error":"#N/A"}},{"$f":"Salary_Entitlement!F255","v":0},{"$f":"Salary_Entitlement!G255","v":0},{"$f":"Salary_Entitlement!H255","v":0},{"$f":"Salary_Entitlement!I255","v":0},{"$f":"Salary_Entitlement!J255","v":0},{"$f":"Salary_Entitlement!K255","v":0},{"$f":"Salary_Entitlement!L255","v":0},{"$f":"Salary_Entitlement!M255","v":0},{"$f":"Salary_Entitlement!N255","v":0},{"$f":"Salary_Entitlement!O255","v":0},{"$f":"Salary_Entitlement!P255","v":0},{"$error":"#DIV/0!"},{"$error":"#DIV/0!"},{"$f":"INDEX(Deduction!$A$3:$K$501,MATCH(1,(Deduction!$A$3:$A$501=Sheet8!A254)*(Deduction!$B$3:$B$501=Sheet8!B254)*(Deduction!$C$3:$C$501=Sheet8!D254),0),5)","v":0},{"$f":"INDEX(Deduction!$A$3:$K$501,MATCH(1,(Deduction!$A$3:$A$501=Sheet8!A254)*(Deduction!$B$3:$B$501=Sheet8!B254)*(Deduction!$C$3:$C$501=Sheet8!D254),0),6)","v":0},{"$f":"INDEX(Deduction!$A$3:$K$501,MATCH(1,(Deduction!$A$3:$A$501=Sheet8!A254)*(Deduction!$B$3:$B$501=Sheet8!B254)*(Deduction!$C$3:$C$501=Sheet8!D254),0),7)","v":0},{"$f":"INDEX(Deduction!$A$3:$K$501,MATCH(1,(Deduction!$A$3:$A$501=Sheet8!A254)*(Deduction!$B$3:$B$501=Sheet8!B254)*(Deduction!$C$3:$C$501=Sheet8!D254),0),8)","v":0},{"$f":"INDEX(Deduction!$A$3:$K$501,MATCH(1,(Deduction!$A$3:$A$501=Sheet8!A254)*(Deduction!$B$3:$B$501=Sheet8!B254)*(Deduction!$C$3:$C$501=Sheet8!D254),0),9)","v":0},{"$f":"INDEX(Deduction!$A$3:$K$501,MATCH(1,(Deduction!$A$3:$A$501=Sheet8!A254)*(Deduction!$B$3:$B$501=Sheet8!B254)*(Deduction!$C$3:$C$501=Sheet8!D254),0),10)","v":0},{"$f":"INDEX(Deduction!$A$3:$K$501,MATCH(1,(Deduction!$A$3:$A$501=Sheet8!A254)*(Deduction!$B$3:$B$501=Sheet8!B254)*(Deduction!$C$3:$C$501=Sheet8!D254),0),11)","v":0},{"$error":"#DIV/0!"},{"$f":"VLOOKUP(D254,Emp_Master!$B$3:$H$501,7)","v":{"$error":"#N/A"}}]
[{"$f":"Salary_Entitlement!A256","v":0},{"$f":"Salary_Entitlement!B256","v":0},{"$f":"Salary_Entitlement!C256","v":0},{"$f":"Salary_Entitlement!D256","v":0},{"$f":"Salary_Entitlement!E256","v":{"$error":"#N/A"}},{"$f":"Salary_Entitlement!F256","v":0},{"$f":"Salary_Entitlement!G256","v":0},{"$f":"Salary_Entitlement!H256","v":0},{"$f":"Salary_Entitlement!I256","v":0},{"$f":"Salary_Entitlement!J256","v":0},{"$f":"Salary_Entitlement!K256","v":0},{"$f":"Salary_Entitlement!L256","v":0},{"$f":"Salary_Entitlement!M256","v":0},{"$f":"Salary_Entitlement!N256","v":0},{"$f":"Salary_Entitlement!O256","v":0},{"$f":"Salary_Entitlement!P256","v":0},{"$error":"#DIV/0!"},{"$error":"#DIV/0!"},{"$f":"INDEX(Deduction!$A$3:$K$501,MATCH(1,(Deduction!$A$3:$A$501=Sheet8!A255)*(Deduction!$B$3:$B$501=Sheet8!B255)*(Deduction!$C$3:$C$501=Sheet8!D255),0),5)","v":0},{"$f":"INDEX(Deduction!$A$3:$K$501,MATCH(1,(Deduction!$A$3:$A$501=Sheet8!A255)*(Deduction!$B$3:$B$501=Sheet8!B255)*(Deduction!$C$3:$C$501=Sheet8!D255),0),6)","v":0},{"$f":"INDEX(Deduction!$A$3:$K$501,MATCH(1,(Deduction!$A$3:$A$501=Sheet8!A255)*(Deduction!$B$3:$B$501=Sheet8!B255)*(Deduction!$C$3:$C$501=Sheet8!D255),0),7)","v":0},{"$f":"INDEX(Deduction!$A$3:$K$501,MATCH(1,(Deduction!$A$3:$A$501=Sheet8!A255)*(Deduction!$B$3:$B$501=Sheet8!B255)*(Deduction!$C$3:$C$501=Sheet8!D255),0),8)","v":0},{"$f":"INDEX(Deduction!$A$3:$K$501,MATCH(1,(Deduction!$A$3:$A$501=Sheet8!A255)*(Deduction!$B$3:$B$501=Sheet8!B255)*(Deduction!$C$3:$C$501=Sheet8!D255),0),9)","v":0},{"$f":"INDEX(Deduction!$A$3:$K$501,MATCH(1,(Deduction!$A$3:$A$501=Sheet8!A255)*(Deduction!$B$3:$B$501=Sheet8!B255)*(Deduction!$C$3:$C$501=Sheet8!D255),0),10)","v":0},{"$f":"INDEX(Deduction!$A$3:$K$501,MATCH(1,(Deduction!$A$3:$A$501=Sheet8!A255)*(Deduction!$B$3:$B$501=Sheet8!B255)*(Deduction!$C$3:$C$501=Sheet8!D255),0),11)","v":0},{"$error":"#DIV/0!"},{"$f":"VLOOKUP(D255,Emp_Master!$B$3:$H$501,7)","v":{"$error":"#N/A"}}]
[{"$f":"Salary_Entitlement!A257","v":0},{"$f":"Salary_Entitlement!B257","v":0},{"$f":"Salary_Entitlement!C257","v":0},{"$f":"Salary_Entitlement!D257","v":0},{"$f":"Salary_Entitlement!E257","v":{"$error":"#N/A"}},{"$f":"Salary_Entitlement!F257","v":0},{"$f":"Salary_Entitlement!G257","v":0},{"$f":"Salary_Entitlement!H257","v":0},{"$f":"Salary_Entitlement!I257","v":0},{"$f":"Salary_Entitlement!J257","v":0},{"$f":"Salary_Entitlement!K257","v":0},{"$f":"Salary_Entitlement!L257","v":0},{"$f":"Salary_Entitlement!M257","v":0},{"$f":"Salary_Entitlement!N257","v":0},{"$f":"Salary_Entitlement!O257","v":0},{"$f":"Salary_Entitlement!P257","v":0},{"$error":"#DIV/0!"},{"$error":"#DIV/0!"},{"$f":"INDEX(Deduction!$A$3:$K$501,MATCH(1,(Deduction!$A$3:$A$501=Sheet8!A256)*(Deduction!$B$3:$B$501=Sheet8!B256)*(Deduction!$C$3:$C$501=Sheet8!D256),0),5)","v":0},{"$f":"INDEX(Deduction!$A$3:$K$501,MATCH(1,(Deduction!$A$3:$A$501=Sheet8!A256)*(Deduction!$B$3:$B$501=Sheet8!B256)*(Deduction!$C$3:$C$501=Sheet8!D256),0),6)","v":0},{"$f":"INDEX(Deduction!$A$3:$K$501,MATCH(1,(Deduction!$A$3:$A$501=Sheet8!A256)*(Deduction!$B$3:$B$501=Sheet8!B256)*(Deduction!$C$3:$C$501=Sheet8!D256),0),7)","v":0},{"$f":"INDEX(Deduction!$A$3:$K$501,MATCH(1,(Deduction!$A$3:$A$501=Sheet8!A256)*(Deduction!$B$3:$B$501=Sheet8!B256)*(Deduction!$C$3:$C$501=Sheet8!D256),0),8)","v":0},{"$f":"INDEX(Deduction!$A$3:$K$501,MATCH(1,(Deduction!$A$3:$A$501=Sheet8!A256)*(Deduction!$B$3:$B$501=Sheet8!B256)*(Deduction!$C$3:$C$501=Sheet8!D256),0),9)","v":0},{"$f":"INDEX(Deduction!$A$3:$K$501,MATCH(1,(Deduction!$A$3:$A$501=Sheet8!A256)*(Deduction!$B$3:$B$501=Sheet8!B256)*(Deduction!$C$3:$C$501=Sheet8!D256),0),10)","v":0},{"$f":"INDEX(Deduction!$A$3:$K$501,MATCH(1,(Deduction!$A$3:$A$501=Sheet8!A256)*(Deduction!$B$3:$B$501=Sheet8!B256)*(Deduction!$C$3:$C$501=Sheet8!D256),0),11)","v":0},{"$error":"#DIV/0!"},{"$f":"VLOOKUP(D256,Emp_Master!$B$3:$H$501,7)","v":{"$error":"#N/A"}}]
[{"$f":"Salary_Entitlement!A258","v":0},{"$f":"Salary_Entitlement!B258","v":0},{"$f":"Salary_Entitlement!C258","v":0},{"$f":"Salary_Entitlement!D258","v":0},{"$f":"Salary_Entitlement!E258","v":{"$error":"#N/A"}},{"$f":"Salary_Entitlement!F258","v":0},{"$f":"Salary_Entitlement!G258","v":0},{"$f":"Salary_Entitlement!H258","v":0},{"$f":"Salary_Entitlement!I258","v":0},{"$f":"Salary_Entitlement!J258","v":0},{"$f":"Salary_Entitlement!K258","v":0},{"$f":"Salary_Entitlement!L258","v":0},{"$f":"Salary_Entitlement!M258","v":0},{"$f":"Salary_Entitlement!N258","v":0},{"$f":"Salary_Entitlement!O258","v":0},{"$f":"Salary_Entitlement!P258","v":0},{"$error":"#DIV/0!"},{"$error":"#DIV/0!"},{"$f":"INDEX(Deduction!$A$3:$K$501,MATCH(1,(Deduction!$A$3:$A$501=Sheet8!A257)*(Deduction!$B$3:$B$501=Sheet8!B257)*(Deduction!$C$3:$C$501=Sheet8!D257),0),5)","v":0},{"$f":"INDEX(Deduction!$A$3:$K$501,MATCH(1,(Deduction!$A$3:$A$501=Sheet8!A257)*(Deduction!$B$3:$B$501=Sheet8!B257)*(Deduction!$C$3:$C$501=Sheet8!D257),0),6)","v":0},{"$f":"INDEX(Deduction!$A$3:$K$501,MATCH(1,(Deduction!$A$3:$A$501=Sheet8!A257)*(Deduction!$B$3:$B$501=Sheet8!B257)*(Deduction!$C$3:$C$501=Sheet8!D257),0),7)","v":0},{"$f":"INDEX(Deduction!$A$3:$K$501,MATCH(1,(Deduction!$A$3:$A$501=Sheet8!A257)*(Deduction!$B$3:$B$501=Sheet8!B257)*(Deduction!$C$3:$C$501=Sheet8!D257),0),8)","v":0},{"$f":"INDEX(Deduction!$A$3:$K$501,MATCH(1,(Deduction!$A$3:$A$501=Sheet8!A257)*(Deduction!$B$3:$B$501=Sheet8!B257)*(Deduction!$C$3:$C$501=Sheet8!D257),0),9)","v":0},{"$f":"INDEX(Deduction!$A$3:$K$501,MATCH(1,(Deduction!$A$3:$A$501=Sheet8!A257)*(Deduction!$B$3:$B$501=Sheet8!B257)*(Deduction!$C$3:$C$501=Sheet8!D257),0),10)","v":0},{"$f":"INDEX(Deduction!$A$3:$K$501,MATCH(1,(Deduction!$A$3:$A$501=Sheet8!A257)*(Deduction!$B$3:$B$501=Sheet8!B257)*(Deduction!$C$3:$C$501=Sheet8!D257),0),11)","v":0},{"$error":"#DIV/0!"},{"$f":"VLOOKUP(D257,Emp_Master!$B$3:$H$501,7)","v":{"$error":"#N/A"}}]
[{"$f":"Salary_Entitlement!A259","v":0},{"$f":"Salary_Entitlement!B259","v":0},{"$f":"Salary_Entitlement!C259","v":0},{"$f":"Salary_Entitlement!D259","v":0},{"$f":"Salary_Entitlement!E259","v":{"$error":"#N/A"}},{"$f":"Salary_Entitlement!F259","v":0},{"$f":"Salary_Entitlement!G259","v":0},{"$f":"Salary_Entitlement!H259","v":0},{"$f":"Salary_Entitlement!I259","v":0},{"$f":"Salary_Entitlement!J259","v":0},{"$f":"Salary_Entitlement!K259","v":0},{"$f":"Salary_Entitlement!L259","v":0},{"$f":"Salary_Entitlement!M259","v":0},{"$f":"Salary_Entitlement!N259","v":0},{"$f":"Salary_Entitlement!O259","v":0},{"$f":"Salary_Entitlement!P259","v":0},{"$error":"#DIV/0!"},{"$error":"#DIV/0!"},{"$f":"INDEX(Deduction!$A$3:$K$501,MATCH(1,(Deduction!$A$3:$A$501=Sheet8!A258)*(Deduction!$B$3:$B$501=Sheet8!B258)*(Deduction!$C$3:$C$501=Sheet8!D258),0),5)","v":0},{"$f":"INDEX(Deduction!$A$3:$K$501,MATCH(1,(Deduction!$A$3:$A$501=Sheet8!A258)*(Deduction!$B$3:$B$501=Sheet8!B258)*(Deduction!$C$3:$C$501=Sheet8!D258),0),6)","v":0},{"$f":"INDEX(Deduction!$A$3:$K$501,MATCH(1,(Deduction!$A$3:$A$501=Sheet8!A258)*(Deduction!$B$3:$B$501=Sheet8!B258)*(Deduction!$C$3:$C$501=Sheet8!D258),0),7)","v":0},{"$f":"INDEX(Deduction!$A$3:$K$501,MATCH(1,(Deduction!$A$3:$A$501=Sheet8!A258)*(Deduction!$B$3:$B$501=Sheet8!B258)*(Deduction!$C$3:$C$501=Sheet8!D258),0),8)","v":0},{"$f":"INDEX(Deduction!$A$3:$K$501,MATCH(1,(Deduction!$A$3:$A$501=Sheet8!A258)*(Deduction!$B$3:$B$501=Sheet8!B258)*(Deduction!$C$3:$C$501=Sheet8!D258),0),9)","v":0},{"$f":"INDEX(Deduction!$A$3:$K$501,MATCH(1,(Deduction!$A$3:$A$501=Sheet8!A258)*(Deduction!$B$3:$B$501=Sheet8!B258)*(Deduction!$C$3:$C$501=Sheet8!D258),0),10)","v":0},{"$f":"INDEX(Deduction!$A$3:$K$501,MATCH(1,(Deduction!$A$3:$A$501=Sheet8!A258)*(Deduction!$B$3:$B$501=Sheet8!B258)*(Deduction!$C$3:$C$501=Sheet8!D258),0),11)","v":0},{"$error":"#DIV/0!"},{"$f":"VLOOKUP(D258,Emp_Master!$B$3:$H$501,7)","v":{"$error":"#N/A"}}]
[{"$f":"Salary_Entitlement!A260","v":0},{"$f":"Salary_Entitlement!B260","v":0},{"$f":"Salary_Entitlement!C260","v":0},{"$f":"Salary_Entitlement!D260","v":0},{"$f":"Salary_Entitlement!E260","v":{"$error":"#N/A"}},{"$f":"Salary_Entitlement!F260","v":0},{"$f":"Salary_Entitlement!G260","v":0},{"$f":"Salary_Entitlement!H260","v":0},{"$f":"Salary_Entitlement!I260","v":0},{"$f":"Salary_Entitlement!J260","v":0},{"$f":"Salary_Entitlement!K260","v":0},{"$f":"Salary_Entitlement!L260","v":0},{"$f":"Salary_Entitlement!M260","v":0},{"$f":"Salary_Entitlement!N260","v":0},{"$f":"Salary_Entitlement!O260","v":0},{"$f":"Salary_Entitlement!P260","v":0},{"$error":"#DIV/0!"},{"$error":"#DIV/0!"},{"$f":"INDEX(Deduction!$A$3:$K$501,MATCH(1,(Deduction!$A$3:$A$501=Sheet8!A259)*(Deduction!$B$3:$B$501=Sheet8!B259)*(Deduction!$C$3:$C$501=Sheet8!D259),0),5)","v":0},{"$f":"INDEX(Deduction!$A$3:$K$501,MATCH(1,(Deduction!$A$3:$A$501=Sheet8!A259)*(Deduction!$B$3:$B$501=Sheet8!B259)*(Deduction!$C$3:$C$501=Sheet8!D259),0),6)","v":0},{"$f":"INDEX(Deduction!$A$3:$K$501,MATCH(1,(Deduction!$A$3:$A$501=Sheet8!A259)*(Deduction!$B$3:$B$501=Sheet8!B259)*(Deduction!$C$3:$C$501=Sheet8!D259),0),7)","v":0},{"$f":"INDEX(Deduction!$A$3:$K$501,MATCH(1,(Deduction!$A$3:$A$501=Sheet8!A259)*(Deduction!$B$3:$B$501=Sheet8!B259)*(Deduction!$C$3:$C$501=Sheet8!D259),0),8)","v":0},{"$f":"INDEX(Deduction!$A$3:$K$501,MATCH(1,(Deduction!$A$3:$A$501=Sheet8!A259)*(Deduction!$B$3:$B$501=Sheet8!B259)*(Deduction!$C$3:$C$501=Sheet8!D259),0),9)","v":0},{"$f":"INDEX(Deduction!$A$3:$K$501,MATCH(1,(Deduction!$A$3:$A$501=Sheet8!A259)*(Deduction!$B$3:$B$501=Sheet8!B259)*(Deduction!$C$3:$C$501=Sheet8!D259),0),10)","v":0},{"$f":"INDEX(Deduction!$A$3:$K$501,MATCH(1,(Deduction!$A$3:$A$501=Sheet8!A259)*(Deduction!$B$3:$B$501=Sheet8!B259)*(Deduction!$C$3:$C$501=Sheet8!D259),0),11)","v":0},{"$error":"#DIV/0!"},{"$f":"VLOOKUP(D259,Emp_Master!$B$3:$H$501,7)","v":{"$error":"#N/A"}}]
[{"$f":"Salary_Entitlement!A261","v":0},{"$f":"Salary_Entitlement!B261","v":0},{"$f":"Salary_Entitlement!C261","v":0},{"$f":"Salary_Entitlement!D261","v":0},{"$f":"Salary_Entitlement!E261","v":{"$error":"#N/A"}},{"$f":"Salary_Entitlement!F261","v":0},{"$f":"Salary_Entitlement!G261","v":0},{"$f":"Salary_Entitlement!H261","v":0},{"$f":"Salary_Entitlement!I261","v":0},{"$f":"Salary_Entitlement!J261","v":0},{"$f":"Salary_Entitlement!K261","v":0},{"$f":"Salary_Entitlement!L261","v":0},{"$f":"Salary_Entitlement!M261","v":0},{"$f":"Salary_Entitlement!N261","v":0},{"$f":"Salary_Entitlement!O261","v":0},{"$f":"Salary_Entitlement!P261","v":0},{"$error":"#DIV/0!"},{"$error":"#DIV/0!"},{"$f":"INDEX(Deduction!$A$3:$K$501,MATCH(1,(Deduction!$A$3:$A$501=Sheet8!A260)*(Deduction!$B$3:$B$501=Sheet8!B260)*(Deduction!$C$3:$C$501=Sheet8!D260),0),5)","v":0},{"$f":"INDEX(Deduction!$A$3:$K$501,MATCH(1,(Deduction!$A$3:$A$501=Sheet8!A260)*(Deduction!$B$3:$B$501=Sheet8!B260)*(Deduction!$C$3:$C$501=Sheet8!D260),0),6)","v":0},{"$f":"INDEX(Deduction!$A$3:$K$501,MATCH(1,(Deduction!$A$3:$A$501=Sheet8!A260)*(Deduction!$B$3:$B$501=Sheet8!B260)*(Deduction!$C$3:$C$501=Sheet8!D260),0),7)","v":0},{"$f":"INDEX(Deduction!$A$3:$K$501,MATCH(1,(Deduction!$A$3:$A$501=Sheet8!A260)*(Deduction!$B$3:$B$501=Sheet8!B260)*(Deduction!$C$3:$C$501=Sheet8!D260),0),8)","v":0},{"$f":"INDEX(Deduction!$A$3:$K$501,MATCH(1,(Deduction!$A$3:$A$501=Sheet8!A260)*(Deduction!$B$3:$B$501=Sheet8!B260)*(Deduction!$C$3:$C$501=Sheet8!D260),0),9)","v":0},{"$f":"INDEX(Deduction!$A$3:$K$501,MATCH(1,(Deduction!$A$3:$A$501=Sheet8!A260)*(Deduction!$B$3:$B$501=Sheet8!B260)*(Deduction!$C$3:$C$501=Sheet8!D260),0),10)","v":0},{"$f":"INDEX(Deduction!$A$3:$K$501,MATCH(1,(Deduction!$A$3:$A$501=Sheet8!A260)*(Deduction!$B$3:$B$501=Sheet8!B260)*(Deduction!$C$3:$C$501=Sheet8!D260),0),11)","v":0},{"$f":"+R260-SUM(S260:Y260)","v":{"$error":"#DIV/0!"}},{"$f":"VLOOKUP(D260,Emp_Master!$B$3:$H$501,7)","v":{"$error":"#N/A"}}]
[{"$f":"Salary_Entitlement!A262","v":0},{"$f":"Salary_Entitlement!B262","v":0},{"$f":"Salary_Entitlement!C262","v":0},{"$f":"Salary_Entitlement!D262","v":0},{"$f":"Salary_Entitlement!E262","v":{"$error":"#N/A"}},{"$f":"Salary_Entitlement!F262","v":0},{"$f":"Salary_Entitlement!G262","v":0},{"$f":"Salary_Entitlement!H262","v":0},{"$f":"Salary_Entitlement!I262","v":0},{"$f":"Salary_Entitlement!J262","v":0},{"$f":"Salary_Entitlement!K262","v":0},{"$f":"Salary_Entitlement!L262","v":0},{"$f":"Salary_Entitlement!M262","v":0},{"$f":"Salary_Entitlement!N262","v":0},{"$f":"Salary_Entitlement!O262","v":0},{"$f":"Salary_Entitlement!P262","v":0},{"$error":"#DIV/0!"},{"$error":"#DIV/0!"},{"$f":"INDEX(Deduction!$A$3:$K$501,MATCH(1,(Deduction!$A$3:$A$501=Sheet8!A261)*(Deduction!$B$3:$B$501=Sheet8!B261)*(Deduction!$C$3:$C$501=Sheet8!D261),0),5)","v":0},{"$f":"INDEX(Deduction!$A$3:$K$501,MATCH(1,(Deduction!$A$3:$A$501=Sheet8!A261)*(Deduction!$B$3:$B$501=Sheet8!B261)*(Deduction!$C$3:$C$501=Sheet8!D261),0),6)","v":0},{"$f":"INDEX(Deduction!$A$3:$K$501,MATCH(1,(Deduction!$A$3:$A$501=Sheet8!A261)*(Deduction!$B$3:$B$501=Sheet8!B261)*(Deduction!$C$3:$C$501=Sheet8!D261),0),7)","v":0},{"$f":"INDEX(Deduction!$A$3:$K$501,MATCH(1,(Deduction!$A$3:$A$501=Sheet8!A261)*(Deduction!$B$3:$B$501=Sheet8!B261)*(Deduction!$C$3:$C$501=Sheet8!D261),0),8)","v":0},{"$f":"INDEX(Deduction!$A$3:$K$501,MATCH(1,(Deduction!$A$3:$A$501=Sheet8!A261)*(Deduction!$B$3:$B$501=Sheet8!B261)*(Deduction!$C$3:$C$501=Sheet8!D261),0),9)","v":0},{"$f":"INDEX(Deduction!$A$3:$K$501,MATCH(1,(Deduction!$A$3:$A$501=Sheet8!A261)*(Deduction!$B$3:$B$501=Sheet8!B261)*(Deduction!$C$3:$C$501=Sheet8!D261),0),10)","v":0},{"$f":"INDEX(Deduction!$A$3:$K$501,MATCH(1,(Deduction!$A$3:$A$501=Sheet8!A261)*(Deduction!$B$3:$B$501=Sheet8!B261)*(Deduction!$C$3:$C$501=Sheet8!D261),0),11)","v":0},{"$error":"#DIV/0!"},{"$f":"VLOOKUP(D261,Emp_Master!$B$3:$H$501,7)","v":{"$error":"#N/A"}}]
[{"$f":"Salary_Entitlement!A263","v":0},{"$f":"Salary_Entitlement!B263","v":0},{"$f":"Salary_Entitlement!C263","v":0},{"$f":"Salary_Entitlement!D263","v":0},{"$f":"Salary_Entitlement!E263","v":{"$error":"#N/A"}},{"$f":"Salary_Entitlement!F263","v":0},{"$f":"Salary_Entitlement!G263","v":0},{"$f":"Salary_Entitlement!H263","v":0},{"$f":"Salary_Entitlement!I263","v":0},{"$f":"Salary_Entitlement!J263","v":0},{"$f":"Salary_Entitlement!K263","v":0},{"$f":"Salary_Entitlement!L263","v":0},{"$f":"Salary_Entitlement!M263","v":0},{"$f":"Salary_Entitlement!N263","v":0},{"$f":"Salary_Entitlement!O263","v":0},{"$f":"Salary_Entitlement!P263","v":0},{"$error":"#DIV/0!"},{"$error":"#DIV/0!"},{"$f":"INDEX(Deduction!$A$3:$K$501,MATCH(1,(Deduction!$A$3:$A$501=Sheet8!A262)*(Deduction!$B$3:$B$501=Sheet8!B262)*(Deduction!$C$3:$C$501=Sheet8!D262),0),5)","v":0},{"$f":"INDEX(Deduction!$A$3:$K$501,MATCH(1,(Deduction!$A$3:$A$501=Sheet8!A262)*(Deduction!$B$3:$B$501=Sheet8!B262)*(Deduction!$C$3:$C$501=Sheet8!D262),0),6)","v":0},{"$f":"INDEX(Deduction!$A$3:$K$501,MATCH(1,(Deduction!$A$3:$A$501=Sheet8!A262)*(Deduction!$B$3:$B$501=Sheet8!B262)*(Deduction!$C$3:$C$501=Sheet8!D262),0),7)","v":0},{"$f":"INDEX(Deduction!$A$3:$K$501,MATCH(1,(Deduction!$A$3:$A$501=Sheet8!A262)*(Deduction!$B$3:$B$501=Sheet8!B262)*(Deduction!$C$3:$C$501=Sheet8!D262),0),8)","v":0},{"$f":"INDEX(Deduction!$A$3:$K$501,MATCH(1,(Deduction!$A$3:$A$501=Sheet8!A262)*(Deduction!$B$3:$B$501=Sheet8!B262)*(Deduction!$C$3:$C$501=Sheet8!D262),0),9)","v":0},{"$f":"INDEX(Deduction!$A$3:$K$501,MATCH(1,(Deduction!$A$3:$A$501=Sheet8!A262)*(Deduction!$B$3:$B$501=Sheet8!B262)*(Deduction!$C$3:$C$501=Sheet8!D262),0),10)","v":0},{"$f":"INDEX(Deduction!$A$3:$K$501,MATCH(1,(Deduction!$A$3:$A$501=Sheet8!A262)*(Deduction!$B$3:$B$501=Sheet8!B262)*(Deduction!$C$3:$C$501=Sheet8!D262),0),11)","v":0},{"$error":"#DIV/0!"},{"$f":"VLOOKUP(D262,Emp_Master!$B$3:$H$501,7)","v":{"$error":"#N/A"}}]
[{"$f":"Salary_Entitlement!A264","v":0},{"$f":"Salary_Entitlement!B264","v":0},{"$f":"Salary_Entitlement!C264","v":0},{"$f":"Salary_Entitlement!D264","v":0},{"$f":"Salary_Entitlement!E264","v":{"$error":"#N/A"}},{"$f":"Salary_Entitlement!F264","v":0},{"$f":"Salary_Entitlement!G264","v":0},{"$f":"Salary_Entitlement!H264","v":0},{"$f":"Salary_Entitlement!I264","v":0},{"$f":"Salary_Entitlement!J264","v":0},{"$f":"Salary_Entitlement!K264","v":0},{"$f":"Salary_Entitlement!L264","v":0},{"$f":"Salary_Entitlement!M264","v":0},{"$f":"Salary_Entitlement!N264","v":0},{"$f":"Salary_Entitlement!O264","v":0},{"$f":"Salary_Entitlement!P264","v":0},{"$error":"#DIV/0!"},{"$error":"#DIV/0!"},{"$f":"INDEX(Deduction!$A$3:$K$501,MATCH(1,(Deduction!$A$3:$A$501=Sheet8!A263)*(Deduction!$B$3:$B$501=Sheet8!B263)*(Deduction!$C$3:$C$501=Sheet8!D263),0),5)","v":0},{"$f":"INDEX(Deduction!$A$3:$K$501,MATCH(1,(Deduction!$A$3:$A$501=Sheet8!A263)*(Deduction!$B$3:$B$501=Sheet8!B263)*(Deduction!$C$3:$C$501=Sheet8!D263),0),6)","v":0},{"$f":"INDEX(Deduction!$A$3:$K$501,MATCH(1,(Deduction!$A$3:$A$501=Sheet8!A263)*(Deduction!$B$3:$B$501=Sheet8!B263)*(Deduction!$C$3:$C$501=Sheet8!D263),0),7)","v":0},{"$f":"INDEX(Deduction!$A$3:$K$501,MATCH(1,(Deduction!$A$3:$A$501=Sheet8!A263)*(Deduction!$B$3:$B$501=Sheet8!B263)*(Deduction!$C$3:$C$501=Sheet8!D263),0),8)","v":0},{"$f":"INDEX(Deduction!$A$3:$K$501,MATCH(1,(Deduction!$A$3:$A$501=Sheet8!A263)*(Deduction!$B$3:$B$501=Sheet8!B263)*(Deduction!$C$3:$C$501=Sheet8!D263),0),9)","v":0},{"$f":"INDEX(Deduction!$A$3:$K$501,MATCH(1,(Deduction!$A$3:$A$501=Sheet8!A263)*(Deduction!$B$3:$B$501=Sheet8!B263)*(Deduction!$C$3:$C$501=Sheet8!D263),0),10)","v":0},{"$f":"INDEX(Deduction!$A$3:$K$501,MATCH(1,(Deduction!$A$3:$A$501=Sheet8!A263)*(Deduction!$B$3:$B$501=Sheet8!B263)*(Deduction!$C$3:$C$501=Sheet8!D263),0),11)","v":0},{"$error":"#DIV/0!"},{"$f":"VLOOKUP(D263,Emp_Master!$B$3:$H$501,7)","v":{"$error":"#N/A"}}]
[{"$f":"Salary_Entitlement!A265","v":0},{"$f":"Salary_Entitlement!B265","v":0},{"$f":"Salary_Entitlement!C265","v":0},{"$f":"Salary_Entitlement!D265","v":0},{"$f":"Salary_Entitlement!E265","v":{"$error":"#N/A"}},{"$f":"Salary_Entitlement!F265","v":0},{"$f":"Salary_Entitlement!G265","v":0},{"$f":"Salary_Entitlement!H265","v":0},{"$f":"Salary_Entitlement!I265","v":0},{"$f":"Salary_Entitlement!J265","v":0},{"$f":"Salary_Entitlement!K265","v":0},{"$f":"Salary_Entitlement!L265","v":0},{"$f":"Salary_Entitlement!M265","v":0},{"$f":"Salary_Entitlement!N265","v":0},{"$f":"Salary_Entitlement!O265","v":0},{"$f":"Salary_Entitlement!P265","v":0},{"$error":"#DIV/0!"},{"$error":"#DIV/0!"},{"$f":"INDEX(Deduction!$A$3:$K$501,MATCH(1,(Deduction!$A$3:$A$501=Sheet8!A264)*(Deduction!$B$3:$B$501=Sheet8!B264)*(Deduction!$C$3:$C$501=Sheet8!D264),0),5)","v":0},{"$f":"INDEX(Deduction!$A$3:$K$501,MATCH(1,(Deduction!$A$3:$A$501=Sheet8!A264)*(Deduction!$B$3:$B$501=Sheet8!B264)*(Deduction!$C$3:$C$501=Sheet8!D264),0),6)","v":0},{"$f":"INDEX(Deduction!$A$3:$K$501,MATCH(1,(Deduction!$A$3:$A$501=Sheet8!A264)*(Deduction!$B$3:$B$501=Sheet8!B264)*(Deduction!$C$3:$C$501=Sheet8!D264),0),7)","v":0},{"$f":"INDEX(Deduction!$A$3:$K$501,MATCH(1,(Deduction!$A$3:$A$501=Sheet8!A264)*(Deduction!$B$3:$B$501=Sheet8!B264)*(Deduction!$C$3:$C$501=Sheet8!D264),0),8)","v":0},{"$f":"INDEX(Deduction!$A$3:$K$501,MATCH(1,(Deduction!$A$3:$A$501=Sheet8!A264)*(Deduction!$B$3:$B$501=Sheet8!B264)*(Deduction!$C$3:$C$501=Sheet8!D264),0),9)","v":0},{"$f":"INDEX(Deduction!$A$3:$K$501,MATCH(1,(Deduction!$A$3:$A$501=Sheet8!A264)*(Deduction!$B$3:$B$501=Sheet8!B264)*(Deduction!$C$3:$C$501=Sheet8!D264),0),10)","v":0},{"$f":"INDEX(Deduction!$A$3:$K$501,MATCH(1,(Deduction!$A$3:$A$501=Sheet8!A264)*(Deduction!$B$3:$B$501=Sheet8!B264)*(Deduction!$C$3:$C$501=Sheet8!D264),0),11)","v":0},{"$error":"#DIV/0!"},{"$f":"VLOOKUP(D264,Emp_Master!$B$3:$H$501,7)","v":{"$error":"#N/A"}}]
[{"$f":"Salary_Entitlement!A266","v":0},{"$f":"Salary_Entitlement!B266","v":0},{"$f":"Salary_Entitlement!C266","v":0},{"$f":"Salary_Entitlement!D266","v":0},{"$f":"Salary_Entitlement!E266","v":{"$error":"#N/A"}},{"$f":"Salary_Entitlement!F266","v":0},{"$f":"Salary_Entitlement!G266","v":0},{"$f":"Salary_Entitlement!H266","v":0},{"$f":"Salary_Entitlement!I266","v":0},{"$f":"Salary_Entitlement!J266","v":0},{"$f":"Salary_Entitlement!K266","v":0},{"$f":"Salary_Entitlement!L266","v":0},{"$f":"Salary_Entitlement!M266","v":0},{"$f":"Salary_Entitlement!N266","v":0},{"$f":"Salary_Entitlement!O266","v":0},{"$f":"Salary_Entitlement!P266","v":0},{"$error":"#DIV/0!"},{"$error":"#DIV/0!"},{"$f":"INDEX(Deduction!$A$3:$K$501,MATCH(1,(Deduction!$A$3:$A$501=Sheet8!A265)*(Deduction!$B$3:$B$501=Sheet8!B265)*(Deduction!$C$3:$C$501=Sheet8!D265),0),5)","v":0},{"$f":"INDEX(Deduction!$A$3:$K$501,MATCH(1,(Deduction!$A$3:$A$501=Sheet8!A265)*(Deduction!$B$3:$B$501=Sheet8!B265)*(Deduction!$C$3:$C$501=Sheet8!D265),0),6)","v":0},{"$f":"INDEX(Deduction!$A$3:$K$501,MATCH(1,(Deduction!$A$3:$A$501=Sheet8!A265)*(Deduction!$B$3:$B$501=Sheet8!B265)*(Deduction!$C$3:$C$501=Sheet8!D265),0),7)","v":0},{"$f":"INDEX(Deduction!$A$3:$K$501,MATCH(1,(Deduction!$A$3:$A$501=Sheet8!A265)*(Deduction!$B$3:$B$501=Sheet8!B265)*(Deduction!$C$3:$C$501=Sheet8!D265),0),8)","v":0},{"$f":"INDEX(Deduction!$A$3:$K$501,MATCH(1,(Deduction!$A$3:$A$501=Sheet8!A265)*(Deduction!$B$3:$B$501=Sheet8!B265)*(Deduction!$C$3:$C$501=Sheet8!D265),0),9)","v":0},{"$f":"INDEX(Deduction!$A$3:$K$501,MATCH(1,(Deduction!$A$3:$A$501=Sheet8!A265)*(Deduction!$B$3:$B$501=Sheet8!B265)*(Deduction!$C$3:$C$501=Sheet8!D265),0),10)","v":0},{"$f":"INDEX(Deduction!$A$3:$K$501,MATCH(1,(Deduction!$A$3:$A$501=Sheet8!A265)*(Deduction!$B$3:$B$501=Sheet8!B265)*(Deduction!$C$3:$C$501=Sheet8!D265),0),11)","v":0},{"$error":"#DIV/0!"},{"$f":"VLOOKUP(D265,Emp_Master!$B$3:$H$501,7)","v":{"$error":"#N/A"}}]
[{"$f":"Salary_Entitlement!A267","v":0},{"$f":"Salary_Entitlement!B267","v":0},{"$f":"Salary_Entitlement!C267","v":0},{"$f":"Salary_Entitlement!D267","v":0},{"$f":"Salary_Entitlement!E267","v":{"$error":"#N/A"}},{"$f":"Salary_Entitlement!F267","v":0},{"$f":"Salary_Entitlement!G267","v":0},{"$f":"Salary_Entitlement!H267","v":0},{"$f":"Salary_Entitlement!I267","v":0},{"$f":"Salary_Entitlement!J267","v":0},{"$f":"Salary_Entitlement!K267","v":0},{"$f":"Salary_Entitlement!L267","v":0},{"$f":"Salary_Entitlement!M267","v":0},{"$f":"Salary_Entitlement!N267","v":0},{"$f":"Salary_Entitlement!O267","v":0},{"$f":"Salary_Entitlement!P267","v":0},{"$error":"#DIV/0!"},{"$error":"#DIV/0!"},{"$f":"INDEX(Deduction!$A$3:$K$501,MATCH(1,(Deduction!$A$3:$A$501=Sheet8!A266)*(Deduction!$B$3:$B$501=Sheet8!B266)*(Deduction!$C$3:$C$501=Sheet8!D266),0),5)","v":0},{"$f":"INDEX(Deduction!$A$3:$K$501,MATCH(1,(Deduction!$A$3:$A$501=Sheet8!A266)*(Deduction!$B$3:$B$501=Sheet8!B266)*(Deduction!$C$3:$C$501=Sheet8!D266),0),6)","v":0},{"$f":"INDEX(Deduction!$A$3:$K$501,MATCH(1,(Deduction!$A$3:$A$501=Sheet8!A266)*(Deduction!$B$3:$B$501=Sheet8!B266)*(Deduction!$C$3:$C$501=Sheet8!D266),0),7)","v":0},{"$f":"INDEX(Deduction!$A$3:$K$501,MATCH(1,(Deduction!$A$3:$A$501=Sheet8!A266)*(Deduction!$B$3:$B$501=Sheet8!B266)*(Deduction!$C$3:$C$501=Sheet8!D266),0),8)","v":0},{"$f":"INDEX(Deduction!$A$3:$K$501,MATCH(1,(Deduction!$A$3:$A$501=Sheet8!A266)*(Deduction!$B$3:$B$501=Sheet8!B266)*(Deduction!$C$3:$C$501=Sheet8!D266),0),9)","v":0},{"$f":"INDEX(Deduction!$A$3:$K$501,MATCH(1,(Deduction!$A$3:$A$501=Sheet8!A266)*(Deduction!$B$3:$B$501=Sheet8!B266)*(Deduction!$C$3:$C$501=Sheet8!D266),0),10)","v":0},{"$f":"INDEX(Deduction!$A$3:$K$501,MATCH(1,(Deduction!$A$3:$A$501=Sheet8!A266)*(Deduction!$B$3:$B$501=Sheet8!B266)*(Deduction!$C$3:$C$501=Sheet8!D266),0),11)","v":0},{"$error":"#DIV/0!"},{"$f":"VLOOKUP(D266,Emp_Master!$B$3:$H$501,7)","v":{"$error":"#N/A"}}]
[{"$f":"Salary_Entitlement!A268","v":0},{"$f":"Salary_Entitlement!B268","v":0},{"$f":"Salary_Entitlement!C268","v":0},{"$f":"Salary_Entitlement!D268","v":0},{"$f":"Salary_Entitlement!E268","v":{"$error":"#N/A"}},{"$f":"Salary_Entitlement!F268","v":0},{"$f":"Salary_Entitlement!G268","v":0},{"$f":"Salary_Entitlement!H268","v":0},{"$f":"Salary_Entitlement!I268","v":0},{"$f":"Salary_Entitlement!J268","v":0},{"$f":"Salary_Entitlement!K268","v":0},{"$f":"Salary_Entitlement!L268","v":0},{"$f":"Salary_Entitlement!M268","v":0},{"$f":"Salary_Entitlement!N268","v":0},{"$f":"Salary_Entitlement!O268","v":0},{"$f":"Salary_Entitlement!P268","v":0},{"$error":"#DIV/0!"},{"$error":"#DIV/0!"},{"$f":"INDEX(Deduction!$A$3:$K$501,MATCH(1,(Deduction!$A$3:$A$501=Sheet8!A267)*(Deduction!$B$3:$B$501=Sheet8!B267)*(Deduction!$C$3:$C$501=Sheet8!D267),0),5)","v":0},{"$f":"INDEX(Deduction!$A$3:$K$501,MATCH(1,(Deduction!$A$3:$A$501=Sheet8!A267)*(Deduction!$B$3:$B$501=Sheet8!B267)*(Deduction!$C$3:$C$501=Sheet8!D267),0),6)","v":0},{"$f":"INDEX(Deduction!$A$3:$K$501,MATCH(1,(Deduction!$A$3:$A$501=Sheet8!A267)*(Deduction!$B$3:$B$501=Sheet8!B267)*(Deduction!$C$3:$C$501=Sheet8!D267),0),7)","v":0},{"$f":"INDEX(Deduction!$A$3:$K$501,MATCH(1,(Deduction!$A$3:$A$501=Sheet8!A267)*(Deduction!$B$3:$B$501=Sheet8!B267)*(Deduction!$C$3:$C$501=Sheet8!D267),0),8)","v":0},{"$f":"INDEX(Deduction!$A$3:$K$501,MATCH(1,(Deduction!$A$3:$A$501=Sheet8!A267)*(Deduction!$B$3:$B$501=Sheet8!B267)*(Deduction!$C$3:$C$501=Sheet8!D267),0),9)","v":0},{"$f":"INDEX(Deduction!$A$3:$K$501,MATCH(1,(Deduction!$A$3:$A$501=Sheet8!A267)*(Deduction!$B$3:$B$501=Sheet8!B267)*(Deduction!$C$3:$C$501=Sheet8!D267),0),10)","v":0},{"$f":"INDEX(Deduction!$A$3:$K$501,MATCH(1,(Deduction!$A$3:$A$501=Sheet8!A267)*(Deduction!$B$3:$B$501=Sheet8!B267)*(Deduction!$C$3:$C$501=Sheet8!D267),0),11)","v":0},{"$error":"#DIV/0!"},{"$f":"VLOOKUP(D267,Emp_Master!$B$3:$H$501,7)","v":{"$error":"#N/A"}}]
[{"$f":"Salary_Entitlement!A269","v":0},{"$f":"Salary_Entitlement!B269","v":0},{"$f":"Salary_Entitlement!C269","v":0},{"$f":"Salary_Entitlement!D269","v":0},{"$f":"Salary_Entitlement!E269","v":{"$error":"#N/A"}},{"$f":"Salary_Entitlement!F269","v":0},{"$f":"Salary_Entitlement!G269","v":0},{"$f":"Salary_Entitlement!H269","v":0},{"$f":"Salary_Entitlement!I269","v":0},{"$f":"Salary_Entitlement!J269","v":0},{"$f":"Salary_Entitlement!K269","v":0},{"$f":"Salary_Entitlement!L269","v":0},{"$f":"Salary_Entitlement!M269","v":0},{"$f":"Salary_Entitlement!N269","v":0},{"$f":"Salary_Entitlement!O269","v":0},{"$f":"Salary_Entitlement!P269","v":0},{"$error":"#DIV/0!"},{"$error":"#DIV/0!"},{"$f":"INDEX(Deduction!$A$3:$K$501,MATCH(1,(Deduction!$A$3:$A$501=Sheet8!A268)*(Deduction!$B$3:$B$501=Sheet8!B268)*(Deduction!$C$3:$C$501=Sheet8!D268),0),5)","v":0},{"$f":"INDEX(Deduction!$A$3:$K$501,MATCH(1,(Deduction!$A$3:$A$501=Sheet8!A268)*(Deduction!$B$3:$B$501=Sheet8!B268)*(Deduction!$C$3:$C$501=Sheet8!D268),0),6)","v":0},{"$f":"INDEX(Deduction!$A$3:$K$501,MATCH(1,(Deduction!$A$3:$A$501=Sheet8!A268)*(Deduction!$B$3:$B$501=Sheet8!B268)*(Deduction!$C$3:$C$501=Sheet8!D268),0),7)","v":0},{"$f":"INDEX(Deduction!$A$3:$K$501,MATCH(1,(Deduction!$A$3:$A$501=Sheet8!A268)*(Deduction!$B$3:$B$501=Sheet8!B268)*(Deduction!$C$3:$C$501=Sheet8!D268),0),8)","v":0},{"$f":"INDEX(Deduction!$A$3:$K$501,MATCH(1,(Deduction!$A$3:$A$501=Sheet8!A268)*(Deduction!$B$3:$B$501=Sheet8!B268)*(Deduction!$C$3:$C$501=Sheet8!D268),0),9)","v":0},{"$f":"INDEX(Deduction!$A$3:$K$501,MATCH(1,(Deduction!$A$3:$A$501=Sheet8!A268)*(Deduction!$B$3:$B$501=Sheet8!B268)*(Deduction!$C$3:$C$501=Sheet8!D268),0),10)","v":0},{"$f":"INDEX(Deduction!$A$3:$K$501,MATCH(1,(Deduction!$A$3:$A$501=Sheet8!A268)*(Deduction!$B$3:$B$501=Sheet8!B268)*(Deduction!$C$3:$C$501=Sheet8!D268),0),11)","v":0},{"$error":"#DIV/0!"},{"$f":"VLOOKUP(D268,Emp_Master!$B$3:$H$501,7)","v":{"$error":"#N/A"}}]
[{"$f":"Salary_Entitlement!A270","v":0},{"$f":"Salary_Entitlement!B270","v":0},{"$f":"Salary_Entitlement!C270","v":0},{"$f":"Salary_Entitlement!D270","v":0},{"$f":"Salary_Entitlement!E270","v":{"$error":"#N/A"}},{"$f":"Salary_Entitlement!F270","v":0},{"$f":"Salary_Entitlement!G270","v":0},{"$f":"Salary_Entitlement!H270","v":0},{"$f":"Salary_Entitlement!I270","v":0},{"$f":"Salary_Entitlement!J270","v":0},{"$f":"Salary_Entitlement!K270","v":0},{"$f":"Salary_Entitlement!L270","v":0},{"$f":"Salary_Entitlement!M270","v":0},{"$f":"Salary_Entitlement!N270","v":0},{"$f":"Salary_Entitlement!O270","v":0},{"$f":"Salary_Entitlement!P270","v":0},{"$error":"#DIV/0!"},{"$error":"#DIV/0!"},{"$f":"INDEX(Deduction!$A$3:$K$501,MATCH(1,(Deduction!$A$3:$A$501=Sheet8!A269)*(Deduction!$B$3:$B$501=Sheet8!B269)*(Deduction!$C$3:$C$501=Sheet8!D269),0),5)","v":0},{"$f":"INDEX(Deduction!$A$3:$K$501,MATCH(1,(Deduction!$A$3:$A$501=Sheet8!A269)*(Deduction!$B$3:$B$501=Sheet8!B269)*(Deduction!$C$3:$C$501=Sheet8!D269),0),6)","v":0},{"$f":"INDEX(Deduction!$A$3:$K$501,MATCH(1,(Deduction!$A$3:$A$501=Sheet8!A269)*(Deduction!$B$3:$B$501=Sheet8!B269)*(Deduction!$C$3:$C$501=Sheet8!D269),0),7)","v":0},{"$f":"INDEX(Deduction!$A$3:$K$501,MATCH(1,(Deduction!$A$3:$A$501=Sheet8!A269)*(Deduction!$B$3:$B$501=Sheet8!B269)*(Deduction!$C$3:$C$501=Sheet8!D269),0),8)","v":0},{"$f":"INDEX(Deduction!$A$3:$K$501,MATCH(1,(Deduction!$A$3:$A$501=Sheet8!A269)*(Deduction!$B$3:$B$501=Sheet8!B269)*(Deduction!$C$3:$C$501=Sheet8!D269),0),9)","v":0},{"$f":"INDEX(Deduction!$A$3:$K$501,MATCH(1,(Deduction!$A$3:$A$501=Sheet8!A269)*(Deduction!$B$3:$B$501=Sheet8!B269)*(Deduction!$C$3:$C$501=Sheet8!D269),0),10)","v":0},{"$f":"INDEX(Deduction!$A$3:$K$501,MATCH(1,(Deduction!$A$3:$A$501=Sheet8!A269)*(Deduction!$B$3:$B$501=Sheet8!B269)*(Deduction!$C$3:$C$501=Sheet8!D269),0),11)","v":0},{"$error":"#DIV/0!"},{"$f":"VLOOKUP(D269,Emp_Master!$B$3:$H$501,7)","v":{"$error":"#N/A"}}]
[{"$f":"Salary_Entitlement!A271","v":0},{"$f":"Salary_Entitlement!B271","v":0},{"$f":"Salary_Entitlement!C271","v":0},{"$f":"Salary_Entitlement!D271","v":0},{"$f":"Salary_Entitlement!E271","v":{"$error":"#N/A"}},{"$f":"Salary_Entitlement!F271","v":0},{"$f":"Salary_Entitlement!G271","v":0},{"$f":"Salary_Entitlement!H271","v":0},{"$f":"Salary_Entitlement!I271","v":0},{"$f":"Salary_Entitlement!J271","v":0},{"$f":"Salary_Entitlement!K271","v":0},{"$f":"Salary_Entitlement!L271","v":0},{"$f":"Salary_Entitlement!M271","v":0},{"$f":"Salary_Entitlement!N271","v":0},{"$f":"Salary_Entitlement!O271","v":0},{"$f":"Salary_Entitlement!P271","v":0},{"$error":"#DIV/0!"},{"$error":"#DIV/0!"},{"$f":"INDEX(Deduction!$A$3:$K$501,MATCH(1,(Deduction!$A$3:$A$501=Sheet8!A270)*(Deduction!$B$3:$B$501=Sheet8!B270)*(Deduction!$C$3:$C$501=Sheet8!D270),0),5)","v":0},{"$f":"INDEX(Deduction!$A$3:$K$501,MATCH(1,(Deduction!$A$3:$A$501=Sheet8!A270)*(Deduction!$B$3:$B$501=Sheet8!B270)*(Deduction!$C$3:$C$501=Sheet8!D270),0),6)","v":0},{"$f":"INDEX(Deduction!$A$3:$K$501,MATCH(1,(Deduction!$A$3:$A$501=Sheet8!A270)*(Deduction!$B$3:$B$501=Sheet8!B270)*(Deduction!$C$3:$C$501=Sheet8!D270),0),7)","v":0},{"$f":"INDEX(Deduction!$A$3:$K$501,MATCH(1,(Deduction!$A$3:$A$501=Sheet8!A270)*(Deduction!$B$3:$B$501=Sheet8!B270)*(Deduction!$C$3:$C$501=Sheet8!D270),0),8)","v":0},{"$f":"INDEX(Deduction!$A$3:$K$501,MATCH(1,(Deduction!$A$3:$A$501=Sheet8!A270)*(Deduction!$B$3:$B$501=Sheet8!B270)*(Deduction!$C$3:$C$501=Sheet8!D270),0),9)","v":0},{"$f":"INDEX(Deduction!$A$3:$K$501,MATCH(1,(Deduction!$A$3:$A$501=Sheet8!A270)*(Deduction!$B$3:$B$501=Sheet8!B270)*(Deduction!$C$3:$C$501=Sheet8!D270),0),10)","v":0},{"$f":"INDEX(Deduction!$A$3:$K$501,MATCH(1,(Deduction!$A$3:$A$501=Sheet8!A270)*(Deduction!$B$3:$B$501=Sheet8!B270)*(Deduction!$C$3:$C$501=Sheet8!D270),0),11)","v":0},{"$error":"#DIV/0!"},{"$f":"VLOOKUP(D270,Emp_Master!$B$3:$H$501,7)","v":{"$error":"#N/A"}}]
[{"$f":"Salary_Entitlement!A272","v":0},{"$f":"Salary_Entitlement!B272","v":0},{"$f":"Salary_Entitlement!C272","v":0},{"$f":"Salary_Entitlement!D272","v":0},{"$f":"Salary_Entitlement!E272","v":{"$error":"#N/A"}},{"$f":"Salary_Entitlement!F272","v":0},{"$f":"Salary_Entitlement!G272","v":0},{"$f":"Salary_Entitlement!H272","v":0},{"$f":"Salary_Entitlement!I272","v":0},{"$f":"Salary_Entitlement!J272","v":0},{"$f":"Salary_Entitlement!K272","v":0},{"$f":"Salary_Entitlement!L272","v":0},{"$f":"Salary_Entitlement!M272","v":0},{"$f":"Salary_Entitlement!N272","v":0},{"$f":"Salary_Entitlement!O272","v":0},{"$f":"Salary_Entitlement!P272","v":0},{"$error":"#DIV/0!"},{"$error":"#DIV/0!"},{"$f":"INDEX(Deduction!$A$3:$K$501,MATCH(1,(Deduction!$A$3:$A$501=Sheet8!A271)*(Deduction!$B$3:$B$501=Sheet8!B271)*(Deduction!$C$3:$C$501=Sheet8!D271),0),5)","v":0},{"$f":"INDEX(Deduction!$A$3:$K$501,MATCH(1,(Deduction!$A$3:$A$501=Sheet8!A271)*(Deduction!$B$3:$B$501=Sheet8!B271)*(Deduction!$C$3:$C$501=Sheet8!D271),0),6)","v":0},{"$f":"INDEX(Deduction!$A$3:$K$501,MATCH(1,(Deduction!$A$3:$A$501=Sheet8!A271)*(Deduction!$B$3:$B$501=Sheet8!B271)*(Deduction!$C$3:$C$501=Sheet8!D271),0),7)","v":0},{"$f":"INDEX(Deduction!$A$3:$K$501,MATCH(1,(Deduction!$A$3:$A$501=Sheet8!A271)*(Deduction!$B$3:$B$501=Sheet8!B271)*(Deduction!$C$3:$C$501=Sheet8!D271),0),8)","v":0},{"$f":"INDEX(Deduction!$A$3:$K$501,MATCH(1,(Deduction!$A$3:$A$501=Sheet8!A271)*(Deduction!$B$3:$B$501=Sheet8!B271)*(Deduction!$C$3:$C$501=Sheet8!D271),0),9)","v":0},{"$f":"INDEX(Deduction!$A$3:$K$501,MATCH(1,(Deduction!$A$3:$A$501=Sheet8!A271)*(Deduction!$B$3:$B$501=Sheet8!B271)*(Deduction!$C$3:$C$501=Sheet8!D271),0),10)","v":0},{"$f":"INDEX(Deduction!$A$3:$K$501,MATCH(1,(Deduction!$A$3:$A$501=Sheet8!A271)*(Deduction!$B$3:$B$501=Sheet8!B271)*(Deduction!$C$3:$C$501=Sheet8!D271),0),11)","v":0},{"$error":"#DIV/0!"},{"$f":"VLOOKUP(D271,Emp_Master!$B$3:$H$501,7)","v":{"$error":"#N/A"}}]
[{"$f":"Salary_Entitlement!A273","v":0},{"$f":"Salary_Entitlement!B273","v":0},{"$f":"Salary_Entitlement!C273","v":0},{"$f":"Salary_Entitlement!D273","v":0},{"$f":"Salary_Entitlement!E273","v":{"$error":"#N/A"}},{"$f":"Salary_Entitlement!F273","v":0},{"$f":"Salary_Entitlement!G273","v":0},{"$f":"Salary_Entitlement!H273","v":0},{"$f":"Salary_Entitlement!I273","v":0},{"$f":"Salary_Entitlement!J273","v":0},{"$f":"Salary_Entitlement!K273","v":0},{"$f":"Salary_Entitlement!L273","v":0},{"$f":"Salary_Entitlement!M273","v":0},{"$f":"Salary_Entitlement!N273","v":0},{"$f":"Salary_Entitlement!O273","v":0},{"$f":"Salary_Entitlement!P273","v":0},{"$error":"#DIV/0!"},{"$error":"#DIV/0!"},{"$f":"INDEX(Deduction!$A$3:$K$501,MATCH(1,(Deduction!$A$3:$A$501=Sheet8!A272)*(Deduction!$B$3:$B$501=Sheet8!B272)*(Deduction!$C$3:$C$501=Sheet8!D272),0),5)","v":0},{"$f":"INDEX(Deduction!$A$3:$K$501,MATCH(1,(Deduction!$A$3:$A$501=Sheet8!A272)*(Deduction!$B$3:$B$501=Sheet8!B272)*(Deduction!$C$3:$C$501=Sheet8!D272),0),6)","v":0},{"$f":"INDEX(Deduction!$A$3:$K$501,MATCH(1,(Deduction!$A$3:$A$501=Sheet8!A272)*(Deduction!$B$3:$B$501=Sheet8!B272)*(Deduction!$C$3:$C$501=Sheet8!D272),0),7)","v":0},{"$f":"INDEX(Deduction!$A$3:$K$501,MATCH(1,(Deduction!$A$3:$A$501=Sheet8!A272)*(Deduction!$B$3:$B$501=Sheet8!B272)*(Deduction!$C$3:$C$501=Sheet8!D272),0),8)","v":0},{"$f":"INDEX(Deduction!$A$3:$K$501,MATCH(1,(Deduction!$A$3:$A$501=Sheet8!A272)*(Deduction!$B$3:$B$501=Sheet8!B272)*(Deduction!$C$3:$C$501=Sheet8!D272),0),9)","v":0},{"$f":"INDEX(Deduction!$A$3:$K$501,MATCH(1,(Deduction!$A$3:$A$501=Sheet8!A272)*(Deduction!$B$3:$B$501=Sheet8!B272)*(Deduction!$C$3:$C$501=Sheet8!D272),0),10)","v":0},{"$f":"INDEX(Deduction!$A$3:$K$501,MATCH(1,(Deduction!$A$3:$A$501=Sheet8!A272)*(Deduction!$B$3:$B$501=Sheet8!B272)*(Deduction!$C$3:$C$501=Sheet8!D272),0),11)","v":0},{"$error":"#DIV/0!"},{"$f":"VLOOKUP(D272,Emp_Master!$B$3:$H$501,7)","v":{"$error":"#N/A"}}]
[{"$f":"Salary_Entitlement!A274","v":0},{"$f":"Salary_Entitlement!B274","v":0},{"$f":"Salary_Entitlement!C274","v":0},{"$f":"Salary_Entitlement!D274","v":0},{"$f":"Salary_Entitlement!E274","v":{"$error":"#N/A"}},{"$f":"Salary_Entitlement!F274","v":0},{"$f":"Salary_Entitlement!G274","v":0},{"$f":"Salary_Entitlement!H274","v":0},{"$f":"Salary_Entitlement!I274","v":0},{"$f":"Salary_Entitlement!J274","v":0},{"$f":"Salary_Entitlement!K274","v":0},{"$f":"Salary_Entitlement!L274","v":0},{"$f":"Salary_Entitlement!M274","v":0},{"$f":"Salary_Entitlement!N274","v":0},{"$f":"Salary_Entitlement!O274","v":0},{"$f":"Salary_Entitlement!P274","v":0},{"$error":"#DIV/0!"},{"$error":"#DIV/0!"},{"$f":"INDEX(Deduction!$A$3:$K$501,MATCH(1,(Deduction!$A$3:$A$501=Sheet8!A273)*(Deduction!$B$3:$B$501=Sheet8!B273)*(Deduction!$C$3:$C$501=Sheet8!D273),0),5)","v":0},{"$f":"INDEX(Deduction!$A$3:$K$501,MATCH(1,(Deduction!$A$3:$A$501=Sheet8!A273)*(Deduction!$B$3:$B$501=Sheet8!B273)*(Deduction!$C$3:$C$501=Sheet8!D273),0),6)","v":0},{"$f":"INDEX(Deduction!$A$3:$K$501,MATCH(1,(Deduction!$A$3:$A$501=Sheet8!A273)*(Deduction!$B$3:$B$501=Sheet8!B273)*(Deduction!$C$3:$C$501=Sheet8!D273),0),7)","v":0},{"$f":"INDEX(Deduction!$A$3:$K$501,MATCH(1,(Deduction!$A$3:$A$501=Sheet8!A273)*(Deduction!$B$3:$B$501=Sheet8!B273)*(Deduction!$C$3:$C$501=Sheet8!D273),0),8)","v":0},{"$f":"INDEX(Deduction!$A$3:$K$501,MATCH(1,(Deduction!$A$3:$A$501=Sheet8!A273)*(Deduction!$B$3:$B$501=Sheet8!B273)*(Deduction!$C$3:$C$501=Sheet8!D273),0),9)","v":0},{"$f":"INDEX(Deduction!$A$3:$K$501,MATCH(1,(Deduction!$A$3:$A$501=Sheet8!A273)*(Deduction!$B$3:$B$501=Sheet8!B273)*(Deduction!$C$3:$C$501=Sheet8!D273),0),10)","v":0},{"$f":"INDEX(Deduction!$A$3:$K$501,MATCH(1,(Deduction!$A$3:$A$501=Sheet8!A273)*(Deduction!$B$3:$B$501=Sheet8!B273)*(Deduction!$C$3:$C$501=Sheet8!D273),0),11)","v":0},{"$error":"#DIV/0!"},{"$f":"VLOOKUP(D273,Emp_Master!$B$3:$H$501,7)","v":{"$error":"#N/A"}}]
[{"$f":"Salary_Entitlement!A275","v":0},{"$f":"Salary_Entitlement!B275","v":0},{"$f":"Salary_Entitlement!C275","v":0},{"$f":"Salary_Entitlement!D275","v":0},{"$f":"Salary_Entitlement!E275","v":{"$error":"#N/A"}},{"$f":"Salary_Entitlement!F275","v":0},{"$f":"Salary_Entitlement!G275","v":0},{"$f":"Salary_Entitlement!H275","v":0},{"$f":"Salary_Entitlement!I275","v":0},{"$f":"Salary_Entitlement!J275","v":0},{"$f":"Salary_Entitlement!K275","v":0},{"$f":"Salary_Entitlement!L275","v":0},{"$f":"Salary_Entitlement!M275","v":0},{"$f":"Salary_Entitlement!N275","v":0},{"$f":"Salary_Entitlement!O275","v":0},{"$f":"Salary_Entitlement!P275","v":0},{"$error":"#DIV/0!"},{"$error":"#DIV/0!"},{"$f":"INDEX(Deduction!$A$3:$K$501,MATCH(1,(Deduction!$A$3:$A$501=Sheet8!A274)*(Deduction!$B$3:$B$501=Sheet8!B274)*(Deduction!$C$3:$C$501=Sheet8!D274),0),5)","v":0},{"$f":"INDEX(Deduction!$A$3:$K$501,MATCH(1,(Deduction!$A$3:$A$501=Sheet8!A274)*(Deduction!$B$3:$B$501=Sheet8!B274)*(Deduction!$C$3:$C$501=Sheet8!D274),0),6)","v":0},{"$f":"INDEX(Deduction!$A$3:$K$501,MATCH(1,(Deduction!$A$3:$A$501=Sheet8!A274)*(Deduction!$B$3:$B$501=Sheet8!B274)*(Deduction!$C$3:$C$501=Sheet8!D274),0),7)","v":0},{"$f":"INDEX(Deduction!$A$3:$K$501,MATCH(1,(Deduction!$A$3:$A$501=Sheet8!A274)*(Deduction!$B$3:$B$501=Sheet8!B274)*(Deduction!$C$3:$C$501=Sheet8!D274),0),8)","v":0},{"$f":"INDEX(Deduction!$A$3:$K$501,MATCH(1,(Deduction!$A$3:$A$501=Sheet8!A274)*(Deduction!$B$3:$B$501=Sheet8!B274)*(Deduction!$C$3:$C$501=Sheet8!D274),0),9)","v":0},{"$f":"INDEX(Deduction!$A$3:$K$501,MATCH(1,(Deduction!$A$3:$A$501=Sheet8!A274)*(Deduction!$B$3:$B$501=Sheet8!B274)*(Deduction!$C$3:$C$501=Sheet8!D274),0),10)","v":0},{"$f":"INDEX(Deduction!$A$3:$K$501,MATCH(1,(Deduction!$A$3:$A$501=Sheet8!A274)*(Deduction!$B$3:$B$501=Sheet8!B274)*(Deduction!$C$3:$C$501=Sheet8!D274),0),11)","v":0},{"$error":"#DIV/0!"},{"$f":"VLOOKUP(D274,Emp_Master!$B$3:$H$501,7)","v":{"$error":"#N/A"}}]
[{"$f":"Salary_Entitlement!A276","v":0},{"$f":"Salary_Entitlement!B276","v":0},{"$f":"Salary_Entitlement!C276","v":0},{"$f":"Salary_Entitlement!D276","v":0},{"$f":"Salary_Entitlement!E276","v":{"$error":"#N/A"}},{"$f":"Salary_Entitlement!F276","v":0},{"$f":"Salary_Entitlement!G276","v":0},{"$f":"Salary_Entitlement!H276","v":0},{"$f":"Salary_Entitlement!I276","v":0},{"$f":"Salary_Entitlement!J276","v":0},{"$f":"Salary_Entitlement!K276","v":0},{"$f":"Salary_Entitlement!L276","v":0},{"$f":"Salary_Entitlement!M276","v":0},{"$f":"Salary_Entitlement!N276","v":0},{"$f":"Salary_Entitlement!O276","v":0},{"$f":"Salary_Entitlement!P276","v":0},{"$error":"#DIV/0!"},{"$error":"#DIV/0!"},{"$f":"INDEX(Deduction!$A$3:$K$501,MATCH(1,(Deduction!$A$3:$A$501=Sheet8!A275)*(Deduction!$B$3:$B$501=Sheet8!B275)*(Deduction!$C$3:$C$501=Sheet8!D275),0),5)","v":0},{"$f":"INDEX(Deduction!$A$3:$K$501,MATCH(1,(Deduction!$A$3:$A$501=Sheet8!A275)*(Deduction!$B$3:$B$501=Sheet8!B275)*(Deduction!$C$3:$C$501=Sheet8!D275),0),6)","v":0},{"$f":"INDEX(Deduction!$A$3:$K$501,MATCH(1,(Deduction!$A$3:$A$501=Sheet8!A275)*(Deduction!$B$3:$B$501=Sheet8!B275)*(Deduction!$C$3:$C$501=Sheet8!D275),0),7)","v":0},{"$f":"INDEX(Deduction!$A$3:$K$501,MATCH(1,(Deduction!$A$3:$A$501=Sheet8!A275)*(Deduction!$B$3:$B$501=Sheet8!B275)*(Deduction!$C$3:$C$501=Sheet8!D275),0),8)","v":0},{"$f":"INDEX(Deduction!$A$3:$K$501,MATCH(1,(Deduction!$A$3:$A$501=Sheet8!A275)*(Deduction!$B$3:$B$501=Sheet8!B275)*(Deduction!$C$3:$C$501=Sheet8!D275),0),9)","v":0},{"$f":"INDEX(Deduction!$A$3:$K$501,MATCH(1,(Deduction!$A$3:$A$501=Sheet8!A275)*(Deduction!$B$3:$B$501=Sheet8!B275)*(Deduction!$C$3:$C$501=Sheet8!D275),0),10)","v":0},{"$f":"INDEX(Deduction!$A$3:$K$501,MATCH(1,(Deduction!$A$3:$A$501=Sheet8!A275)*(Deduction!$B$3:$B$501=Sheet8!B275)*(Deduction!$C$3:$C$501=Sheet8!D275),0),11)","v":0},{"$error":"#DIV/0!"},{"$f":"VLOOKUP(D275,Emp_Master!$B$3:$H$501,7)","v":{"$error":"#N/A"}}]
[{"$f":"Salary_Entitlement!A277","v":0},{"$f":"Salary_Entitlement!B277","v":0},{"$f":"Salary_Entitlement!C277","v":0},{"$f":"Salary_Entitlement!D277","v":0},{"$f":"Salary_Entitlement!E277","v":{"$error":"#N/A"}},{"$f":"Salary_Entitlement!F277","v":0},{"$f":"Salary_Entitlement!G277","v":0},{"$f":"Salary_Entitlement!H277","v":0},{"$f":"Salary_Entitlement!I277","v":0},{"$f":"Salary_Entitlement!J277","v":0},{"$f":"Salary_Entitlement!K277","v":0},{"$f":"Salary_Entitlement!L277","v":0},{"$f":"Salary_Entitlement!M277","v":0},{"$f":"Salary_Entitlement!N277","v":0},{"$f":"Salary_Entitlement!O277","v":0},{"$f":"Salary_Entitlement!P277","v":0},{"$error":"#DIV/0!"},{"$error":"#DIV/0!"},{"$f":"INDEX(Deduction!$A$3:$K$501,MATCH(1,(Deduction!$A$3:$A$501=Sheet8!A276)*(Deduction!$B$3:$B$501=Sheet8!B276)*(Deduction!$C$3:$C$501=Sheet8!D276),0),5)","v":0},{"$f":"INDEX(Deduction!$A$3:$K$501,MATCH(1,(Deduction!$A$3:$A$501=Sheet8!A276)*(Deduction!$B$3:$B$501=Sheet8!B276)*(Deduction!$C$3:$C$501=Sheet8!D276),0),6)","v":0},{"$f":"INDEX(Deduction!$A$3:$K$501,MATCH(1,(Deduction!$A$3:$A$501=Sheet8!A276)*(Deduction!$B$3:$B$501=Sheet8!B276)*(Deduction!$C$3:$C$501=Sheet8!D276),0),7)","v":0},{"$f":"INDEX(Deduction!$A$3:$K$501,MATCH(1,(Deduction!$A$3:$A$501=Sheet8!A276)*(Deduction!$B$3:$B$501=Sheet8!B276)*(Deduction!$C$3:$C$501=Sheet8!D276),0),8)","v":0},{"$f":"INDEX(Deduction!$A$3:$K$501,MATCH(1,(Deduction!$A$3:$A$501=Sheet8!A276)*(Deduction!$B$3:$B$501=Sheet8!B276)*(Deduction!$C$3:$C$501=Sheet8!D276),0),9)","v":0},{"$f":"INDEX(Deduction!$A$3:$K$501,MATCH(1,(Deduction!$A$3:$A$501=Sheet8!A276)*(Deduction!$B$3:$B$501=Sheet8!B276)*(Deduction!$C$3:$C$501=Sheet8!D276),0),10)","v":0},{"$f":"INDEX(Deduction!$A$3:$K$501,MATCH(1,(Deduction!$A$3:$A$501=Sheet8!A276)*(Deduction!$B$3:$B$501=Sheet8!B276)*(Deduction!$C$3:$C$501=Sheet8!D276),0),11)","v":0},{"$error":"#DIV/0!"},{"$f":"VLOOKUP(D276,Emp_Master!$B$3:$H$501,7)","v":{"$error":"#N/A"}}]
[{"$f":"Salary_Entitlement!A278","v":0},{"$f":"Salary_Entitlement!B278","v":0},{"$f":"Salary_Entitlement!C278","v":0},{"$f":"Salary_Entitlement!D278","v":0},{"$f":"Salary_Entitlement!E278","v":{"$error":"#N/A"}},{"$f":"Salary_Entitlement!F278","v":0},{"$f":"Salary_Entitlement!G278","v":0},{"$f":"Salary_Entitlement!H278","v":0},{"$f":"Salary_Entitlement!I278","v":0},{"$f":"Salary_Entitlement!J278","v":0},{"$f":"Salary_Entitlement!K278","v":0},{"$f":"Salary_Entitlement!L278","v":0},{"$f":"Salary_Entitlement!M278","v":0},{"$f":"Salary_Entitlement!N278","v":0},{"$f":"Salary_Entitlement!O278","v":0},{"$f":"Salary_Entitlement!P278","v":0},{"$error":"#DIV/0!"},{"$error":"#DIV/0!"},{"$f":"INDEX(Deduction!$A$3:$K$501,MATCH(1,(Deduction!$A$3:$A$501=Sheet8!A277)*(Deduction!$B$3:$B$501=Sheet8!B277)*(Deduction!$C$3:$C$501=Sheet8!D277),0),5)","v":0},{"$f":"INDEX(Deduction!$A$3:$K$501,MATCH(1,(Deduction!$A$3:$A$501=Sheet8!A277)*(Deduction!$B$3:$B$501=Sheet8!B277)*(Deduction!$C$3:$C$501=Sheet8!D277),0),6)","v":0},{"$f":"INDEX(Deduction!$A$3:$K$501,MATCH(1,(Deduction!$A$3:$A$501=Sheet8!A277)*(Deduction!$B$3:$B$501=Sheet8!B277)*(Deduction!$C$3:$C$501=Sheet8!D277),0),7)","v":0},{"$f":"INDEX(Deduction!$A$3:$K$501,MATCH(1,(Deduction!$A$3:$A$501=Sheet8!A277)*(Deduction!$B$3:$B$501=Sheet8!B277)*(Deduction!$C$3:$C$501=Sheet8!D277),0),8)","v":0},{"$f":"INDEX(Deduction!$A$3:$K$501,MATCH(1,(Deduction!$A$3:$A$501=Sheet8!A277)*(Deduction!$B$3:$B$501=Sheet8!B277)*(Deduction!$C$3:$C$501=Sheet8!D277),0),9)","v":0},{"$f":"INDEX(Deduction!$A$3:$K$501,MATCH(1,(Deduction!$A$3:$A$501=Sheet8!A277)*(Deduction!$B$3:$B$501=Sheet8!B277)*(Deduction!$C$3:$C$501=Sheet8!D277),0),10)","v":0},{"$f":"INDEX(Deduction!$A$3:$K$501,MATCH(1,(Deduction!$A$3:$A$501=Sheet8!A277)*(Deduction!$B$3:$B$501=Sheet8!B277)*(Deduction!$C$3:$C$501=Sheet8!D277),0),11)","v":0},{"$error":"#DIV/0!"},{"$f":"VLOOKUP(D277,Emp_Master!$B$3:$H$501,7)","v":{"$error":"#N/A"}}]
[{"$f":"Salary_Entitlement!A279","v":0},{"$f":"Salary_Entitlement!B279","v":0},{"$f":"Salary_Entitlement!C279","v":0},{"$f":"Salary_Entitlement!D279","v":0},{"$f":"Salary_Entitlement!E279","v":{"$error":"#N/A"}},{"$f":"Salary_Entitlement!F279","v":0},{"$f":"Salary_Entitlement!G279","v":0},{"$f":"Salary_Entitlement!H279","v":0},{"$f":"Salary_Entitlement!I279","v":0},{"$f":"Salary_Entitlement!J279","v":0},{"$f":"Salary_Entitlement!K279","v":0},{"$f":"Salary_Entitlement!L279","v":0},{"$f":"Salary_Entitlement!M279","v":0},{"$f":"Salary_Entitlement!N279","v":0},{"$f":"Salary_Entitlement!O279","v":0},{"$f":"Salary_Entitlement!P279","v":0},{"$error":"#DIV/0!"},{"$error":"#DIV/0!"},{"$f":"INDEX(Deduction!$A$3:$K$501,MATCH(1,(Deduction!$A$3:$A$501=Sheet8!A278)*(Deduction!$B$3:$B$501=Sheet8!B278)*(Deduction!$C$3:$C$501=Sheet8!D278),0),5)","v":0},{"$f":"INDEX(Deduction!$A$3:$K$501,MATCH(1,(Deduction!$A$3:$A$501=Sheet8!A278)*(Deduction!$B$3:$B$501=Sheet8!B278)*(Deduction!$C$3:$C$501=Sheet8!D278),0),6)","v":0},{"$f":"INDEX(Deduction!$A$3:$K$501,MATCH(1,(Deduction!$A$3:$A$501=Sheet8!A278)*(Deduction!$B$3:$B$501=Sheet8!B278)*(Deduction!$C$3:$C$501=Sheet8!D278),0),7)","v":0},{"$f":"INDEX(Deduction!$A$3:$K$501,MATCH(1,(Deduction!$A$3:$A$501=Sheet8!A278)*(Deduction!$B$3:$B$501=Sheet8!B278)*(Deduction!$C$3:$C$501=Sheet8!D278),0),8)","v":0},{"$f":"INDEX(Deduction!$A$3:$K$501,MATCH(1,(Deduction!$A$3:$A$501=Sheet8!A278)*(Deduction!$B$3:$B$501=Sheet8!B278)*(Deduction!$C$3:$C$501=Sheet8!D278),0),9)","v":0},{"$f":"INDEX(Deduction!$A$3:$K$501,MATCH(1,(Deduction!$A$3:$A$501=Sheet8!A278)*(Deduction!$B$3:$B$501=Sheet8!B278)*(Deduction!$C$3:$C$501=Sheet8!D278),0),10)","v":0},{"$f":"INDEX(Deduction!$A$3:$K$501,MATCH(1,(Deduction!$A$3:$A$501=Sheet8!A278)*(Deduction!$B$3:$B$501=Sheet8!B278)*(Deduction!$C$3:$C$501=Sheet8!D278),0),11)","v":0},{"$error":"#DIV/0!"},{"$f":"VLOOKUP(D278,Emp_Master!$B$3:$H$501,7)","v":{"$error":"#N/A"}}]
[{"$f":"Salary_Entitlement!A280","v":0},{"$f":"Salary_Entitlement!B280","v":0},{"$f":"Salary_Entitlement!C280","v":0},{"$f":"Salary_Entitlement!D280","v":0},{"$f":"Salary_Entitlement!E280","v":{"$error":"#N/A"}},{"$f":"Salary_Entitlement!F280","v":0},{"$f":"Salary_Entitlement!G280","v":0},{"$f":"Salary_Entitlement!H280","v":0},{"$f":"Salary_Entitlement!I280","v":0},{"$f":"Salary_Entitlement!J280","v":0},{"$f":"Salary_Entitlement!K280","v":0},{"$f":"Salary_Entitlement!L280","v":0},{"$f":"Salary_Entitlement!M280","v":0},{"$f":"Salary_Entitlement!N280","v":0},{"$f":"Salary_Entitlement!O280","v":0},{"$f":"Salary_Entitlement!P280","v":0},{"$error":"#DIV/0!"},{"$error":"#DIV/0!"},{"$f":"INDEX(Deduction!$A$3:$K$501,MATCH(1,(Deduction!$A$3:$A$501=Sheet8!A279)*(Deduction!$B$3:$B$501=Sheet8!B279)*(Deduction!$C$3:$C$501=Sheet8!D279),0),5)","v":0},{"$f":"INDEX(Deduction!$A$3:$K$501,MATCH(1,(Deduction!$A$3:$A$501=Sheet8!A279)*(Deduction!$B$3:$B$501=Sheet8!B279)*(Deduction!$C$3:$C$501=Sheet8!D279),0),6)","v":0},{"$f":"INDEX(Deduction!$A$3:$K$501,MATCH(1,(Deduction!$A$3:$A$501=Sheet8!A279)*(Deduction!$B$3:$B$501=Sheet8!B279)*(Deduction!$C$3:$C$501=Sheet8!D279),0),7)","v":0},{"$f":"INDEX(Deduction!$A$3:$K$501,MATCH(1,(Deduction!$A$3:$A$501=Sheet8!A279)*(Deduction!$B$3:$B$501=Sheet8!B279)*(Deduction!$C$3:$C$501=Sheet8!D279),0),8)","v":0},{"$f":"INDEX(Deduction!$A$3:$K$501,MATCH(1,(Deduction!$A$3:$A$501=Sheet8!A279)*(Deduction!$B$3:$B$501=Sheet8!B279)*(Deduction!$C$3:$C$501=Sheet8!D279),0),9)","v":0},{"$f":"INDEX(Deduction!$A$3:$K$501,MATCH(1,(Deduction!$A$3:$A$501=Sheet8!A279)*(Deduction!$B$3:$B$501=Sheet8!B279)*(Deduction!$C$3:$C$501=Sheet8!D279),0),10)","v":0},{"$f":"INDEX(Deduction!$A$3:$K$501,MATCH(1,(Deduction!$A$3:$A$501=Sheet8!A279)*(Deduction!$B$3:$B$501=Sheet8!B279)*(Deduction!$C$3:$C$501=Sheet8!D279),0),11)","v":0},{"$error":"#DIV/0!"},{"$f":"VLOOKUP(D279,Emp_Master!$B$3:$H$501,7)","v":{"$error":"#N/A"}}]
[{"$f":"Salary_Entitlement!A281","v":0},{"$f":"Salary_Entitlement!B281","v":0},{"$f":"Salary_Entitlement!C281","v":0},{"$f":"Salary_Entitlement!D281","v":0},{"$f":"Salary_Entitlement!E281","v":{"$error":"#N/A"}},{"$f":"Salary_Entitlement!F281","v":0},{"$f":"Salary_Entitlement!G281","v":0},{"$f":"Salary_Entitlement!H281","v":0},{"$f":"Salary_Entitlement!I281","v":0},{"$f":"Salary_Entitlement!J281","v":0},{"$f":"Salary_Entitlement!K281","v":0},{"$f":"Salary_Entitlement!L281","v":0},{"$f":"Salary_Entitlement!M281","v":0},{"$f":"Salary_Entitlement!N281","v":0},{"$f":"Salary_Entitlement!O281","v":0},{"$f":"Salary_Entitlement!P281","v":0},{"$f":"F280/M280*(M280-N280)","v":{"$error":"#DIV/0!"}},{"$f":"SUM(F280:L280)-Q280","v":{"$error":"#DIV/0!"}},{"$f":"INDEX(Deduction!$A$3:$K$501,MATCH(1,(Deduction!$A$3:$A$501=Sheet8!A280)*(Deduction!$B$3:$B$501=Sheet8!B280)*(Deduction!$C$3:$C$501=Sheet8!D280),0),5)","v":0},{"$f":"INDEX(Deduction!$A$3:$K$501,MATCH(1,(Deduction!$A$3:$A$501=Sheet8!A280)*(Deduction!$B$3:$B$501=Sheet8!B280)*(Deduction!$C$3:$C$501=Sheet8!D280),0),6)","v":0},{"$f":"INDEX(Deduction!$A$3:$K$501,MATCH(1,(Deduction!$A$3:$A$501=Sheet8!A280)*(Deduction!$B$3:$B$501=Sheet8!B280)*(Deduction!$C$3:$C$501=Sheet8!D280),0),7)","v":0},{"$f":"INDEX(Deduction!$A$3:$K$501,MATCH(1,(Deduction!$A$3:$A$501=Sheet8!A280)*(Deduction!$B$3:$B$501=Sheet8!B280)*(Deduction!$C$3:$C$501=Sheet8!D280),0),8)","v":0},{"$f":"INDEX(Deduction!$A$3:$K$501,MATCH(1,(Deduction!$A$3:$A$501=Sheet8!A280)*(Deduction!$B$3:$B$501=Sheet8!B280)*(Deduction!$C$3:$C$501=Sheet8!D280),0),9)","v":0},{"$f":"INDEX(Deduction!$A$3:$K$501,MATCH(1,(Deduction!$A$3:$A$501=Sheet8!A280)*(Deduction!$B$3:$B$501=Sheet8!B280)*(Deduction!$C$3:$C$501=Sheet8!D280),0),10)","v":0},{"$f":"INDEX(Deduction!$A$3:$K$501,MATCH(1,(Deduction!$A$3:$A$501=Sheet8!A280)*(Deduction!$B$3:$B$501=Sheet8!B280)*(Deduction!$C$3:$C$501=Sheet8!D280),0),11)","v":0},{"$error":"#DIV/0!"},{"$f":"VLOOKUP(D280,Emp_Master!$B$3:$H$501,7)","v":{"$error":"#N/A"}}]
[{"$f":"Salary_Entitlement!A282","v":0},{"$f":"Salary_Entitlement!B282","v":0},{"$f":"Salary_Entitlement!C282","v":0},{"$f":"Salary_Entitlement!D282","v":0},{"$f":"Salary_Entitlement!E282","v":{"$error":"#N/A"}},{"$f":"Salary_Entitlement!F282","v":0},{"$f":"Salary_Entitlement!G282","v":0},{"$f":"Salary_Entitlement!H282","v":0},{"$f":"Salary_Entitlement!I282","v":0},{"$f":"Salary_Entitlement!J282","v":0},{"$f":"Salary_Entitlement!K282","v":0},{"$f":"Salary_Entitlement!L282","v":0},{"$f":"Salary_Entitlement!M282","v":0},{"$f":"Salary_Entitlement!N282","v":0},{"$f":"Salary_Entitlement!O282","v":0},{"$f":"Salary_Entitlement!P282","v":0},{"$error":"#DIV/0!"},{"$error":"#DIV/0!"},{"$f":"INDEX(Deduction!$A$3:$K$501,MATCH(1,(Deduction!$A$3:$A$501=Sheet8!A281)*(Deduction!$B$3:$B$501=Sheet8!B281)*(Deduction!$C$3:$C$501=Sheet8!D281),0),5)","v":0},{"$f":"INDEX(Deduction!$A$3:$K$501,MATCH(1,(Deduction!$A$3:$A$501=Sheet8!A281)*(Deduction!$B$3:$B$501=Sheet8!B281)*(Deduction!$C$3:$C$501=Sheet8!D281),0),6)","v":0},{"$f":"INDEX(Deduction!$A$3:$K$501,MATCH(1,(Deduction!$A$3:$A$501=Sheet8!A281)*(Deduction!$B$3:$B$501=Sheet8!B281)*(Deduction!$C$3:$C$501=Sheet8!D281),0),7)","v":0},{"$f":"INDEX(Deduction!$A$3:$K$501,MATCH(1,(Deduction!$A$3:$A$501=Sheet8!A281)*(Deduction!$B$3:$B$501=Sheet8!B281)*(Deduction!$C$3:$C$501=Sheet8!D281),0),8)","v":0},{"$f":"INDEX(Deduction!$A$3:$K$501,MATCH(1,(Deduction!$A$3:$A$501=Sheet8!A281)*(Deduction!$B$3:$B$501=Sheet8!B281)*(Deduction!$C$3:$C$501=Sheet8!D281),0),9)","v":0},{"$f":"INDEX(Deduction!$A$3:$K$501,MATCH(1,(Deduction!$A$3:$A$501=Sheet8!A281)*(Deduction!$B$3:$B$501=Sheet8!B281)*(Deduction!$C$3:$C$501=Sheet8!D281),0),10)","v":0},{"$f":"INDEX(Deduction!$A$3:$K$501,MATCH(1,(Deduction!$A$3:$A$501=Sheet8!A281)*(Deduction!$B$3:$B$501=Sheet8!B281)*(Deduction!$C$3:$C$501=Sheet8!D281),0),11)","v":0},{"$error":"#DIV/0!"},{"$f":"VLOOKUP(D281,Emp_Master!$B$3:$H$501,7)","v":{"$error":"#N/A"}}]
[{"$f":"Salary_Entitlement!A283","v":0},{"$f":"Salary_Entitlement!B283","v":0},{"$f":"Salary_Entitlement!C283","v":0},{"$f":"Salary_Entitlement!D283","v":0},{"$f":"Salary_Entitlement!E283","v":{"$error":"#N/A"}},{"$f":"Salary_Entitlement!F283","v":0},{"$f":"Salary_Entitlement!G283","v":0},{"$f":"Salary_Entitlement!H283","v":0},{"$f":"Salary_Entitlement!I283","v":0},{"$f":"Salary_Entitlement!J283","v":0},{"$f":"Salary_Entitlement!K283","v":0},{"$f":"Salary_Entitlement!L283","v":0},{"$f":"Salary_Entitlement!M283","v":0},{"$f":"Salary_Entitlement!N283","v":0},{"$f":"Salary_Entitlement!O283","v":0},{"$f":"Salary_Entitlement!P283","v":0},{"$error":"#DIV/0!"},{"$error":"#DIV/0!"},{"$f":"INDEX(Deduction!$A$3:$K$501,MATCH(1,(Deduction!$A$3:$A$501=Sheet8!A282)*(Deduction!$B$3:$B$501=Sheet8!B282)*(Deduction!$C$3:$C$501=Sheet8!D282),0),5)","v":0},{"$f":"INDEX(Deduction!$A$3:$K$501,MATCH(1,(Deduction!$A$3:$A$501=Sheet8!A282)*(Deduction!$B$3:$B$501=Sheet8!B282)*(Deduction!$C$3:$C$501=Sheet8!D282),0),6)","v":0},{"$f":"INDEX(Deduction!$A$3:$K$501,MATCH(1,(Deduction!$A$3:$A$501=Sheet8!A282)*(Deduction!$B$3:$B$501=Sheet8!B282)*(Deduction!$C$3:$C$501=Sheet8!D282),0),7)","v":0},{"$f":"INDEX(Deduction!$A$3:$K$501,MATCH(1,(Deduction!$A$3:$A$501=Sheet8!A282)*(Deduction!$B$3:$B$501=Sheet8!B282)*(Deduction!$C$3:$C$501=Sheet8!D282),0),8)","v":0},{"$f":"INDEX(Deduction!$A$3:$K$501,MATCH(1,(Deduction!$A$3:$A$501=Sheet8!A282)*(Deduction!$B$3:$B$501=Sheet8!B282)*(Deduction!$C$3:$C$501=Sheet8!D282),0),9)","v":0},{"$f":"INDEX(Deduction!$A$3:$K$501,MATCH(1,(Deduction!$A$3:$A$501=Sheet8!A282)*(Deduction!$B$3:$B$501=Sheet8!B282)*(Deduction!$C$3:$C$501=Sheet8!D282),0),10)","v":0},{"$f":"INDEX(Deduction!$A$3:$K$501,MATCH(1,(Deduction!$A$3:$A$501=Sheet8!A282)*(Deduction!$B$3:$B$501=Sheet8!B282)*(Deduction!$C$3:$C$501=Sheet8!D282),0),11)","v":0},{"$error":"#DIV/0!"},{"$f":"VLOOKUP(D282,Emp_Master!$B$3:$H$501,7)","v":{"$error":"#N/A"}}]
[{"$f":"Salary_Entitlement!A284","v":0},{"$f":"Salary_Entitlement!B284","v":0},{"$f":"Salary_Entitlement!C284","v":0},{"$f":"Salary_Entitlement!D284","v":0},{"$f":"Salary_Entitlement!E284","v":{"$error":"#N/A"}},{"$f":"Salary_Entitlement!F284","v":0},{"$f":"Salary_Entitlement!G284","v":0},{"$f":"Salary_Entitlement!H284","v":0},{"$f":"Salary_Entitlement!I284","v":0},{"$f":"Salary_Entitlement!J284","v":0},{"$f":"Salary_Entitlement!K284","v":0},{"$f":"Salary_Entitlement!L284","v":0},{"$f":"Salary_Entitlement!M284","v":0},{"$f":"Salary_Entitlement!N284","v":0},{"$f":"Salary_Entitlement!O284","v":0},{"$f":"Salary_Entitlement!P284","v":0},{"$error":"#DIV/0!"},{"$error":"#DIV/0!"},{"$f":"INDEX(Deduction!$A$3:$K$501,MATCH(1,(Deduction!$A$3:$A$501=Sheet8!A283)*(Deduction!$B$3:$B$501=Sheet8!B283)*(Deduction!$C$3:$C$501=Sheet8!D283),0),5)","v":0},{"$f":"INDEX(Deduction!$A$3:$K$501,MATCH(1,(Deduction!$A$3:$A$501=Sheet8!A283)*(Deduction!$B$3:$B$501=Sheet8!B283)*(Deduction!$C$3:$C$501=Sheet8!D283),0),6)","v":0},{"$f":"INDEX(Deduction!$A$3:$K$501,MATCH(1,(Deduction!$A$3:$A$501=Sheet8!A283)*(Deduction!$B$3:$B$501=Sheet8!B283)*(Deduction!$C$3:$C$501=Sheet8!D283),0),7)","v":0},{"$f":"INDEX(Deduction!$A$3:$K$501,MATCH(1,(Deduction!$A$3:$A$501=Sheet8!A283)*(Deduction!$B$3:$B$501=Sheet8!B283)*(Deduction!$C$3:$C$501=Sheet8!D283),0),8)","v":0},{"$f":"INDEX(Deduction!$A$3:$K$501,MATCH(1,(Deduction!$A$3:$A$501=Sheet8!A283)*(Deduction!$B$3:$B$501=Sheet8!B283)*(Deduction!$C$3:$C$501=Sheet8!D283),0),9)","v":0},{"$f":"INDEX(Deduction!$A$3:$K$501,MATCH(1,(Deduction!$A$3:$A$501=Sheet8!A283)*(Deduction!$B$3:$B$501=Sheet8!B283)*(Deduction!$C$3:$C$501=Sheet8!D283),0),10)","v":0},{"$f":"INDEX(Deduction!$A$3:$K$501,MATCH(1,(Deduction!$A$3:$A$501=Sheet8!A283)*(Deduction!$B$3:$B$501=Sheet8!B283)*(Deduction!$C$3:$C$501=Sheet8!D283),0),11)","v":0},{"$error":"#DIV/0!"},{"$f":"VLOOKUP(D283,Emp_Master!$B$3:$H$501,7)","v":{"$error":"#N/A"}}]
[{"$f":"Salary_Entitlement!A285","v":0},{"$f":"Salary_Entitlement!B285","v":0},{"$f":"Salary_Entitlement!C285","v":0},{"$f":"Salary_Entitlement!D285","v":0},{"$f":"Salary_Entitlement!E285","v":{"$error":"#N/A"}},{"$f":"Salary_Entitlement!F285","v":0},{"$f":"Salary_Entitlement!G285","v":0},{"$f":"Salary_Entitlement!H285","v":0},{"$f":"Salary_Entitlement!I285","v":0},{"$f":"Salary_Entitlement!J285","v":0},{"$f":"Salary_Entitlement!K285","v":0},{"$f":"Salary_Entitlement!L285","v":0},{"$f":"Salary_Entitlement!M285","v":0},{"$f":"Salary_Entitlement!N285","v":0},{"$f":"Salary_Entitlement!O285","v":0},{"$f":"Salary_Entitlement!P285","v":0},{"$error":"#DIV/0!"},{"$error":"#DIV/0!"},{"$f":"INDEX(Deduction!$A$3:$K$501,MATCH(1,(Deduction!$A$3:$A$501=Sheet8!A284)*(Deduction!$B$3:$B$501=Sheet8!B284)*(Deduction!$C$3:$C$501=Sheet8!D284),0),5)","v":0},{"$f":"INDEX(Deduction!$A$3:$K$501,MATCH(1,(Deduction!$A$3:$A$501=Sheet8!A284)*(Deduction!$B$3:$B$501=Sheet8!B284)*(Deduction!$C$3:$C$501=Sheet8!D284),0),6)","v":0},{"$f":"INDEX(Deduction!$A$3:$K$501,MATCH(1,(Deduction!$A$3:$A$501=Sheet8!A284)*(Deduction!$B$3:$B$501=Sheet8!B284)*(Deduction!$C$3:$C$501=Sheet8!D284),0),7)","v":0},{"$f":"INDEX(Deduction!$A$3:$K$501,MATCH(1,(Deduction!$A$3:$A$501=Sheet8!A284)*(Deduction!$B$3:$B$501=Sheet8!B284)*(Deduction!$C$3:$C$501=Sheet8!D284),0),8)","v":0},{"$f":"INDEX(Deduction!$A$3:$K$501,MATCH(1,(Deduction!$A$3:$A$501=Sheet8!A284)*(Deduction!$B$3:$B$501=Sheet8!B284)*(Deduction!$C$3:$C$501=Sheet8!D284),0),9)","v":0},{"$f":"INDEX(Deduction!$A$3:$K$501,MATCH(1,(Deduction!$A$3:$A$501=Sheet8!A284)*(Deduction!$B$3:$B$501=Sheet8!B284)*(Deduction!$C$3:$C$501=Sheet8!D284),0),10)","v":0},{"$f":"INDEX(Deduction!$A$3:$K$501,MATCH(1,(Deduction!$A$3:$A$501=Sheet8!A284)*(Deduction!$B$3:$B$501=Sheet8!B284)*(Deduction!$C$3:$C$501=Sheet8!D284),0),11)","v":0},{"$error":"#DIV/0!"},{"$f":"VLOOKUP(D284,Emp_Master!$B$3:$H$501,7)","v":{"$error":"#N/A"}}]
[{"$f":"Salary_Entitlement!A286","v":0},{"$f":"Salary_Entitlement!B286","v":0},{"$f":"Salary_Entitlement!C286","v":0},{"$f":"Salary_Entitlement!D286","v":0},{"$f":"Salary_Entitlement!E286","v":{"$error":"#N/A"}},{"$f":"Salary_Entitlement!F286","v":0},{"$f":"Salary_Entitlement!G286","v":0},{"$f":"Salary_Entitlement!H286","v":0},{"$f":"Salary_Entitlement!I286","v":0},{"$f":"Salary_Entitlement!J286","v":0},{"$f":"Salary_Entitlement!K286","v":0},{"$f":"Salary_Entitlement!L286","v":0},{"$f":"Salary_Entitlement!M286","v":0},{"$f":"Salary_Entitlement!N286","v":0},{"$f":"Salary_Entitlement!O286","v":0},{"$f":"Salary_Entitlement!P286","v":0},{"$error":"#DIV/0!"},{"$error":"#DIV/0!"},{"$f":"INDEX(Deduction!$A$3:$K$501,MATCH(1,(Deduction!$A$3:$A$501=Sheet8!A285)*(Deduction!$B$3:$B$501=Sheet8!B285)*(Deduction!$C$3:$C$501=Sheet8!D285),0),5)","v":0},{"$f":"INDEX(Deduction!$A$3:$K$501,MATCH(1,(Deduction!$A$3:$A$501=Sheet8!A285)*(Deduction!$B$3:$B$501=Sheet8!B285)*(Deduction!$C$3:$C$501=Sheet8!D285),0),6)","v":0},{"$f":"INDEX(Deduction!$A$3:$K$501,MATCH(1,(Deduction!$A$3:$A$501=Sheet8!A285)*(Deduction!$B$3:$B$501=Sheet8!B285)*(Deduction!$C$3:$C$501=Sheet8!D285),0),7)","v":0},{"$f":"INDEX(Deduction!$A$3:$K$501,MATCH(1,(Deduction!$A$3:$A$501=Sheet8!A285)*(Deduction!$B$3:$B$501=Sheet8!B285)*(Deduction!$C$3:$C$501=Sheet8!D285),0),8)","v":0},{"$f":"INDEX(Deduction!$A$3:$K$501,MATCH(1,(Deduction!$A$3:$A$501=Sheet8!A285)*(Deduction!$B$3:$B$501=Sheet8!B285)*(Deduction!$C$3:$C$501=Sheet8!D285),0),9)","v":0},{"$f":"INDEX(Deduction!$A$3:$K$501,MATCH(1,(Deduction!$A$3:$A$501=Sheet8!A285)*(Deduction!$B$3:$B$501=Sheet8!B285)*(Deduction!$C$3:$C$501=Sheet8!D285),0),10)","v":0},{"$f":"INDEX(Deduction!$A$3:$K$501,MATCH(1,(Deduction!$A$3:$A$501=Sheet8!A285)*(Deduction!$B$3:$B$501=Sheet8!B285)*(Deduction!$C$3:$C$501=Sheet8!D285),0),11)","v":0},{"$error":"#DIV/0!"},{"$f":"VLOOKUP(D285,Emp_Master!$B$3:$H$501,7)","v":{"$error":"#N/A"}}]
[{"$f":"Salary_Entitlement!A287","v":0},{"$f":"Salary_Entitlement!B287","v":0},{"$f":"Salary_Entitlement!C287","v":0},{"$f":"Salary_Entitlement!D287","v":0},{"$f":"Salary_Entitlement!E287","v":{"$error":"#N/A"}},{"$f":"Salary_Entitlement!F287","v":0},{"$f":"Salary_Entitlement!G287","v":0},{"$f":"Salary_Entitlement!H287","v":0},{"$f":"Salary_Entitlement!I287","v":0},{"$f":"Salary_Entitlement!J287","v":0},{"$f":"Salary_Entitlement!K287","v":0},{"$f":"Salary_Entitlement!L287","v":0},{"$f":"Salary_Entitlement!M287","v":0},{"$f":"Salary_Entitlement!N287","v":0},{"$f":"Salary_Entitlement!O287","v":0},{"$f":"Salary_Entitlement!P287","v":0},{"$error":"#DIV/0!"},{"$error":"#DIV/0!"},{"$f":"INDEX(Deduction!$A$3:$K$501,MATCH(1,(Deduction!$A$3:$A$501=Sheet8!A286)*(Deduction!$B$3:$B$501=Sheet8!B286)*(Deduction!$C$3:$C$501=Sheet8!D286),0),5)","v":0},{"$f":"INDEX(Deduction!$A$3:$K$501,MATCH(1,(Deduction!$A$3:$A$501=Sheet8!A286)*(Deduction!$B$3:$B$501=Sheet8!B286)*(Deduction!$C$3:$C$501=Sheet8!D286),0),6)","v":0},{"$f":"INDEX(Deduction!$A$3:$K$501,MATCH(1,(Deduction!$A$3:$A$501=Sheet8!A286)*(Deduction!$B$3:$B$501=Sheet8!B286)*(Deduction!$C$3:$C$501=Sheet8!D286),0),7)","v":0},{"$f":"INDEX(Deduction!$A$3:$K$501,MATCH(1,(Deduction!$A$3:$A$501=Sheet8!A286)*(Deduction!$B$3:$B$501=Sheet8!B286)*(Deduction!$C$3:$C$501=Sheet8!D286),0),8)","v":0},{"$f":"INDEX(Deduction!$A$3:$K$501,MATCH(1,(Deduction!$A$3:$A$501=Sheet8!A286)*(Deduction!$B$3:$B$501=Sheet8!B286)*(Deduction!$C$3:$C$501=Sheet8!D286),0),9)","v":0},{"$f":"INDEX(Deduction!$A$3:$K$501,MATCH(1,(Deduction!$A$3:$A$501=Sheet8!A286)*(Deduction!$B$3:$B$501=Sheet8!B286)*(Deduction!$C$3:$C$501=Sheet8!D286),0),10)","v":0},{"$f":"INDEX(Deduction!$A$3:$K$501,MATCH(1,(Deduction!$A$3:$A$501=Sheet8!A286)*(Deduction!$B$3:$B$501=Sheet8!B286)*(Deduction!$C$3:$C$501=Sheet8!D286),0),11)","v":0},{"$error":"#DIV/0!"},{"$f":"VLOOKUP(D286,Emp_Master!$B$3:$H$501,7)","v":{"$error":"#N/A"}}]
[{"$f":"Salary_Entitlement!A288","v":0},{"$f":"Salary_Entitlement!B288","v":0},{"$f":"Salary_Entitlement!C288","v":0},{"$f":"Salary_Entitlement!D288","v":0},{"$f":"Salary_Entitlement!E288","v":{"$error":"#N/A"}},{"$f":"Salary_Entitlement!F288","v":0},{"$f":"Salary_Entitlement!G288","v":0},{"$f":"Salary_Entitlement!H288","v":0},{"$f":"Salary_Entitlement!I288","v":0},{"$f":"Salary_Entitlement!J288","v":0},{"$f":"Salary_Entitlement!K288","v":0},{"$f":"Salary_Entitlement!L288","v":0},{"$f":"Salary_Entitlement!M288","v":0},{"$f":"Salary_Entitlement!N288","v":0},{"$f":"Salary_Entitlement!O288","v":0},{"$f":"Salary_Entitlement!P288","v":0},{"$error":"#DIV/0!"},{"$error":"#DIV/0!"},{"$f":"INDEX(Deduction!$A$3:$K$501,MATCH(1,(Deduction!$A$3:$A$501=Sheet8!A287)*(Deduction!$B$3:$B$501=Sheet8!B287)*(Deduction!$C$3:$C$501=Sheet8!D287),0),5)","v":0},{"$f":"INDEX(Deduction!$A$3:$K$501,MATCH(1,(Deduction!$A$3:$A$501=Sheet8!A287)*(Deduction!$B$3:$B$501=Sheet8!B287)*(Deduction!$C$3:$C$501=Sheet8!D287),0),6)","v":0},{"$f":"INDEX(Deduction!$A$3:$K$501,MATCH(1,(Deduction!$A$3:$A$501=Sheet8!A287)*(Deduction!$B$3:$B$501=Sheet8!B287)*(Deduction!$C$3:$C$501=Sheet8!D287),0),7)","v":0},{"$f":"INDEX(Deduction!$A$3:$K$501,MATCH(1,(Deduction!$A$3:$A$501=Sheet8!A287)*(Deduction!$B$3:$B$501=Sheet8!B287)*(Deduction!$C$3:$C$501=Sheet8!D287),0),8)","v":0},{"$f":"INDEX(Deduction!$A$3:$K$501,MATCH(1,(Deduction!$A$3:$A$501=Sheet8!A287)*(Deduction!$B$3:$B$501=Sheet8!B287)*(Deduction!$C$3:$C$501=Sheet8!D287),0),9)","v":0},{"$f":"INDEX(Deduction!$A$3:$K$501,MATCH(1,(Deduction!$A$3:$A$501=Sheet8!A287)*(Deduction!$B$3:$B$501=Sheet8!B287)*(Deduction!$C$3:$C$501=Sheet8!D287),0),10)","v":0},{"$f":"INDEX(Deduction!$A$3:$K$501,MATCH(1,(Deduction!$A$3:$A$501=Sheet8!A287)*(Deduction!$B$3:$B$501=Sheet8!B287)*(Deduction!$C$3:$C$501=Sheet8!D287),0),11)","v":0},{"$error":"#DIV/0!"},{"$f":"VLOOKUP(D287,Emp_Master!$B$3:$H$501,7)","v":{"$error":"#N/A"}}]
[{"$f":"Salary_Entitlement!A289","v":0},{"$f":"Salary_Entitlement!B289","v":0},{"$f":"Salary_Entitlement!C289","v":0},{"$f":"Salary_Entitlement!D289","v":0},{"$f":"Salary_Entitlement!E289","v":{"$error":"#N/A"}},{"$f":"Salary_Entitlement!F289","v":0},{"$f":"Salary_Entitlement!G289","v":0},{"$f":"Salary_Entitlement!H289","v":0},{"$f":"Salary_Entitlement!I289","v":0},{"$f":"Salary_Entitlement!J289","v":0},{"$f":"Salary_Entitlement!K289","v":0},{"$f":"Salary_Entitlement!L289","v":0},{"$f":"Salary_Entitlement!M289","v":0},{"$f":"Salary_Entitlement!N289","v":0},{"$f":"Salary_Entitlement!O289","v":0},{"$f":"Salary_Entitlement!P289","v":0},{"$error":"#DIV/0!"},{"$error":"#DIV/0!"},{"$f":"INDEX(Deduction!$A$3:$K$501,MATCH(1,(Deduction!$A$3:$A$501=Sheet8!A288)*(Deduction!$B$3:$B$501=Sheet8!B288)*(Deduction!$C$3:$C$501=Sheet8!D288),0),5)","v":0},{"$f":"INDEX(Deduction!$A$3:$K$501,MATCH(1,(Deduction!$A$3:$A$501=Sheet8!A288)*(Deduction!$B$3:$B$501=Sheet8!B288)*(Deduction!$C$3:$C$501=Sheet8!D288),0),6)","v":0},{"$f":"INDEX(Deduction!$A$3:$K$501,MATCH(1,(Deduction!$A$3:$A$501=Sheet8!A288)*(Deduction!$B$3:$B$501=Sheet8!B288)*(Deduction!$C$3:$C$501=Sheet8!D288),0),7)","v":0},{"$f":"INDEX(Deduction!$A$3:$K$501,MATCH(1,(Deduction!$A$3:$A$501=Sheet8!A288)*(Deduction!$B$3:$B$501=Sheet8!B288)*(Deduction!$C$3:$C$501=Sheet8!D288),0),8)","v":0},{"$f":"INDEX(Deduction!$A$3:$K$501,MATCH(1,(Deduction!$A$3:$A$501=Sheet8!A288)*(Deduction!$B$3:$B$501=Sheet8!B288)*(Deduction!$C$3:$C$501=Sheet8!D288),0),9)","v":0},{"$f":"INDEX(Deduction!$A$3:$K$501,MATCH(1,(Deduction!$A$3:$A$501=Sheet8!A288)*(Deduction!$B$3:$B$501=Sheet8!B288)*(Deduction!$C$3:$C$501=Sheet8!D288),0),10)","v":0},{"$f":"INDEX(Deduction!$A$3:$K$501,MATCH(1,(Deduction!$A$3:$A$501=Sheet8!A288)*(Deduction!$B$3:$B$501=Sheet8!B288)*(Deduction!$C$3:$C$501=Sheet8!D288),0),11)","v":0},{"$error":"#DIV/0!"},{"$f":"VLOOKUP(D288,Emp_Master!$B$3:$H$501,7)","v":{"$error":"#N/A"}}]
[{"$f":"Salary_Entitlement!A290","v":0},{"$f":"Salary_Entitlement!B290","v":0},{"$f":"Salary_Entitlement!C290","v":0},{"$f":"Salary_Entitlement!D290","v":0},{"$f":"Salary_Entitlement!E290","v":{"$error":"#N/A"}},{"$f":"Salary_Entitlement!F290","v":0},{"$f":"Salary_Entitlement!G290","v":0},{"$f":"Salary_Entitlement!H290","v":0},{"$f":"Salary_Entitlement!I290","v":0},{"$f":"Salary_Entitlement!J290","v":0},{"$f":"Salary_Entitlement!K290","v":0},{"$f":"Salary_Entitlement!L290","v":0},{"$f":"Salary_Entitlement!M290","v":0},{"$f":"Salary_Entitlement!N290","v":0},{"$f":"Salary_Entitlement!O290","v":0},{"$f":"Salary_Entitlement!P290","v":0},{"$error":"#DIV/0!"},{"$error":"#DIV/0!"},{"$f":"INDEX(Deduction!$A$3:$K$501,MATCH(1,(Deduction!$A$3:$A$501=Sheet8!A289)*(Deduction!$B$3:$B$501=Sheet8!B289)*(Deduction!$C$3:$C$501=Sheet8!D289),0),5)","v":0},{"$f":"INDEX(Deduction!$A$3:$K$501,MATCH(1,(Deduction!$A$3:$A$501=Sheet8!A289)*(Deduction!$B$3:$B$501=Sheet8!B289)*(Deduction!$C$3:$C$501=Sheet8!D289),0),6)","v":0},{"$f":"INDEX(Deduction!$A$3:$K$501,MATCH(1,(Deduction!$A$3:$A$501=Sheet8!A289)*(Deduction!$B$3:$B$501=Sheet8!B289)*(Deduction!$C$3:$C$501=Sheet8!D289),0),7)","v":0},{"$f":"INDEX(Deduction!$A$3:$K$501,MATCH(1,(Deduction!$A$3:$A$501=Sheet8!A289)*(Deduction!$B$3:$B$501=Sheet8!B289)*(Deduction!$C$3:$C$501=Sheet8!D289),0),8)","v":0},{"$f":"INDEX(Deduction!$A$3:$K$501,MATCH(1,(Deduction!$A$3:$A$501=Sheet8!A289)*(Deduction!$B$3:$B$501=Sheet8!B289)*(Deduction!$C$3:$C$501=Sheet8!D289),0),9)","v":0},{"$f":"INDEX(Deduction!$A$3:$K$501,MATCH(1,(Deduction!$A$3:$A$501=Sheet8!A289)*(Deduction!$B$3:$B$501=Sheet8!B289)*(Deduction!$C$3:$C$501=Sheet8!D289),0),10)","v":0},{"$f":"INDEX(Deduction!$A$3:$K$501,MATCH(1,(Deduction!$A$3:$A$501=Sheet8!A289)*(Deduction!$B$3:$B$501=Sheet8!B289)*(Deduction!$C$3:$C$501=Sheet8!D289),0),11)","v":0},{"$error":"#DIV/0!"},{"$f":"VLOOKUP(D289,Emp_Master!$B$3:$H$501,7)","v":{"$error":"#N/A"}}]
[{"$f":"Salary_Entitlement!A291","v":0},{"$f":"Salary_Entitlement!B291","v":0},{"$f":"Salary_Entitlement!C291","v":0},{"$f":"Salary_Entitlement!D291","v":0},{"$f":"Salary_Entitlement!E291","v":{"$error":"#N/A"}},{"$f":"Salary_Entitlement!F291","v":0},{"$f":"Salary_Entitlement!G291","v":0},{"$f":"Salary_Entitlement!H291","v":0},{"$f":"Salary_Entitlement!I291","v":0},{"$f":"Salary_Entitlement!J291","v":0},{"$f":"Salary_Entitlement!K291","v":0},{"$f":"Salary_Entitlement!L291","v":0},{"$f":"Salary_Entitlement!M291","v":0},{"$f":"Salary_Entitlement!N291","v":0},{"$f":"Salary_Entitlement!O291","v":0},{"$f":"Salary_Entitlement!P291","v":0},{"$error":"#DIV/0!"},{"$error":"#DIV/0!"},{"$f":"INDEX(Deduction!$A$3:$K$501,MATCH(1,(Deduction!$A$3:$A$501=Sheet8!A290)*(Deduction!$B$3:$B$501=Sheet8!B290)*(Deduction!$C$3:$C$501=Sheet8!D290),0),5)","v":0},{"$f":"INDEX(Deduction!$A$3:$K$501,MATCH(1,(Deduction!$A$3:$A$501=Sheet8!A290)*(Deduction!$B$3:$B$501=Sheet8!B290)*(Deduction!$C$3:$C$501=Sheet8!D290),0),6)","v":0},{"$f":"INDEX(Deduction!$A$3:$K$501,MATCH(1,(Deduction!$A$3:$A$501=Sheet8!A290)*(Deduction!$B$3:$B$501=Sheet8!B290)*(Deduction!$C$3:$C$501=Sheet8!D290),0),7)","v":0},{"$f":"INDEX(Deduction!$A$3:$K$501,MATCH(1,(Deduction!$A$3:$A$501=Sheet8!A290)*(Deduction!$B$3:$B$501=Sheet8!B290)*(Deduction!$C$3:$C$501=Sheet8!D290),0),8)","v":0},{"$f":"INDEX(Deduction!$A$3:$K$501,MATCH(1,(Deduction!$A$3:$A$501=Sheet8!A290)*(Deduction!$B$3:$B$501=Sheet8!B290)*(Deduction!$C$3:$C$501=Sheet8!D290),0),9)","v":0},{"$f":"INDEX(Deduction!$A$3:$K$501,MATCH(1,(Deduction!$A$3:$A$501=Sheet8!A290)*(Deduction!$B$3:$B$501=Sheet8!B290)*(Deduction!$C$3:$C$501=Sheet8!D290),0),10)","v":0},{"$f":"INDEX(Deduction!$A$3:$K$501,MATCH(1,(Deduction!$A$3:$A$501=Sheet8!A290)*(Deduction!$B$3:$B$501=Sheet8!B290)*(Deduction!$C$3:$C$501=Sheet8!D290),0),11)","v":0},{"$error":"#DIV/0!"},{"$f":"VLOOKUP(D290,Emp_Master!$B$3:$H$501,7)","v":{"$error":"#N/A"}}]
[{"$f":"Salary_Entitlement!A292","v":0},{"$f":"Salary_Entitlement!B292","v":0},{"$f":"Salary_Entitlement!C292","v":0},{"$f":"Salary_Entitlement!D292","v":0},{"$f":"Salary_Entitlement!E292","v":{"$error":"#N/A"}},{"$f":"Salary_Entitlement!F292","v":0},{"$f":"Salary_Entitlement!G292","v":0},{"$f":"Salary_Entitlement!H292","v":0},{"$f":"Salary_Entitlement!I292","v":0},{"$f":"Salary_Entitlement!J292","v":0},{"$f":"Salary_Entitlement!K292","v":0},{"$f":"Salary_Entitlement!L292","v":0},{"$f":"Salary_Entitlement!M292","v":0},{"$f":"Salary_Entitlement!N292","v":0},{"$f":"Salary_Entitlement!O292","v":0},{"$f":"Salary_Entitlement!P292","v":0},{"$error":"#DIV/0!"},{"$error":"#DIV/0!"},{"$f":"INDEX(Deduction!$A$3:$K$501,MATCH(1,(Deduction!$A$3:$A$501=Sheet8!A291)*(Deduction!$B$3:$B$501=Sheet8!B291)*(Deduction!$C$3:$C$501=Sheet8!D291),0),5)","v":0},{"$f":"INDEX(Deduction!$A$3:$K$501,MATCH(1,(Deduction!$A$3:$A$501=Sheet8!A291)*(Deduction!$B$3:$B$501=Sheet8!B291)*(Deduction!$C$3:$C$501=Sheet8!D291),0),6)","v":0},{"$f":"INDEX(Deduction!$A$3:$K$501,MATCH(1,(Deduction!$A$3:$A$501=Sheet8!A291)*(Deduction!$B$3:$B$501=Sheet8!B291)*(Deduction!$C$3:$C$501=Sheet8!D291),0),7)","v":0},{"$f":"INDEX(Deduction!$A$3:$K$501,MATCH(1,(Deduction!$A$3:$A$501=Sheet8!A291)*(Deduction!$B$3:$B$501=Sheet8!B291)*(Deduction!$C$3:$C$501=Sheet8!D291),0),8)","v":0},{"$f":"INDEX(Deduction!$A$3:$K$501,MATCH(1,(Deduction!$A$3:$A$501=Sheet8!A291)*(Deduction!$B$3:$B$501=Sheet8!B291)*(Deduction!$C$3:$C$501=Sheet8!D291),0),9)","v":0},{"$f":"INDEX(Deduction!$A$3:$K$501,MATCH(1,(Deduction!$A$3:$A$501=Sheet8!A291)*(Deduction!$B$3:$B$501=Sheet8!B291)*(Deduction!$C$3:$C$501=Sheet8!D291),0),10)","v":0},{"$f":"INDEX(Deduction!$A$3:$K$501,MATCH(1,(Deduction!$A$3:$A$501=Sheet8!A291)*(Deduction!$B$3:$B$501=Sheet8!B291)*(Deduction!$C$3:$C$501=Sheet8!D291),0),11)","v":0},{"$error":"#DIV/0!"},{"$f":"VLOOKUP(D291,Emp_Master!$B$3:$H$501,7)","v":{"$error":"#N/A"}}]
[{"$f":"Salary_Entitlement!A293","v":0},{"$f":"Salary_Entitlement!B293","v":0},{"$f":"Salary_Entitlement!C293","v":0},{"$f":"Salary_Entitlement!D293","v":0},{"$f":"Salary_Entitlement!E293","v":{"$error":"#N/A"}},{"$f":"Salary_Entitlement!F293","v":0},{"$f":"Salary_Entitlement!G293","v":0},{"$f":"Salary_Entitlement!H293","v":0},{"$f":"Salary_Entitlement!I293","v":0},{"$f":"Salary_Entitlement!J293","v":0},{"$f":"Salary_Entitlement!K293","v":0},{"$f":"Salary_Entitlement!L293","v":0},{"$f":"Salary_Entitlement!M293","v":0},{"$f":"Salary_Entitlement!N293","v":0},{"$f":"Salary_Entitlement!O293","v":0},{"$f":"Salary_Entitlement!P293","v":0},{"$error":"#DIV/0!"},{"$error":"#DIV/0!"},{"$f":"INDEX(Deduction!$A$3:$K$501,MATCH(1,(Deduction!$A$3:$A$501=Sheet8!A292)*(Deduction!$B$3:$B$501=Sheet8!B292)*(Deduction!$C$3:$C$501=Sheet8!D292),0),5)","v":0},{"$f":"INDEX(Deduction!$A$3:$K$501,MATCH(1,(Deduction!$A$3:$A$501=Sheet8!A292)*(Deduction!$B$3:$B$501=Sheet8!B292)*(Deduction!$C$3:$C$501=Sheet8!D292),0),6)","v":0},{"$f":"INDEX(Deduction!$A$3:$K$501,MATCH(1,(Deduction!$A$3:$A$501=Sheet8!A292)*(Deduction!$B$3:$B$501=Sheet8!B292)*(Deduction!$C$3:$C$501=Sheet8!D292),0),7)","v":0},{"$f":"INDEX(Deduction!$A$3:$K$501,MATCH(1,(Deduction!$A$3:$A$501=Sheet8!A292)*(Deduction!$B$3:$B$501=Sheet8!B292)*(Deduction!$C$3:$C$501=Sheet8!D292),0),8)","v":0},{"$f":"INDEX(Deduction!$A$3:$K$501,MATCH(1,(Deduction!$A$3:$A$501=Sheet8!A292)*(Deduction!$B$3:$B$501=Sheet8!B292)*(Deduction!$C$3:$C$501=Sheet8!D292),0),9)","v":0},{"$f":"INDEX(Deduction!$A$3:$K$501,MATCH(1,(Deduction!$A$3:$A$501=Sheet8!A292)*(Deduction!$B$3:$B$501=Sheet8!B292)*(Deduction!$C$3:$C$501=Sheet8!D292),0),10)","v":0},{"$f":"INDEX(Deduction!$A$3:$K$501,MATCH(1,(Deduction!$A$3:$A$501=Sheet8!A292)*(Deduction!$B$3:$B$501=Sheet8!B292)*(Deduction!$C$3:$C$501=Sheet8!D292),0),11)","v":0},{"$error":"#DIV/0!"},{"$f":"VLOOKUP(D292,Emp_Master!$B$3:$H$501,7)","v":{"$error":"#N/A"}}]
[{"$f":"Salary_Entitlement!A294","v":0},{"$f":"Salary_Entitlement!B294","v":0},{"$f":"Salary_Entitlement!C294","v":0},{"$f":"Salary_Entitlement!D294","v":0},{"$f":"Salary_Entitlement!E294","v":{"$error":"#N/A"}},{"$f":"Salary_Entitlement!F294","v":0},{"$f":"Salary_Entitlement!G294","v":0},{"$f":"Salary_Entitlement!H294","v":0},{"$f":"Salary_Entitlement!I294","v":0},{"$f":"Salary_Entitlement!J294","v":0},{"$f":"Salary_Entitlement!K294","v":0},{"$f":"Salary_Entitlement!L294","v":0},{"$f":"Salary_Entitlement!M294","v":0},{"$f":"Salary_Entitlement!N294","v":0},{"$f":"Salary_Entitlement!O294","v":0},{"$f":"Salary_Entitlement!P294","v":0},{"$error":"#DIV/0!"},{"$error":"#DIV/0!"},{"$f":"INDEX(Deduction!$A$3:$K$501,MATCH(1,(Deduction!$A$3:$A$501=Sheet8!A293)*(Deduction!$B$3:$B$501=Sheet8!B293)*(Deduction!$C$3:$C$501=Sheet8!D293),0),5)","v":0},{"$f":"INDEX(Deduction!$A$3:$K$501,MATCH(1,(Deduction!$A$3:$A$501=Sheet8!A293)*(Deduction!$B$3:$B$501=Sheet8!B293)*(Deduction!$C$3:$C$501=Sheet8!D293),0),6)","v":0},{"$f":"INDEX(Deduction!$A$3:$K$501,MATCH(1,(Deduction!$A$3:$A$501=Sheet8!A293)*(Deduction!$B$3:$B$501=Sheet8!B293)*(Deduction!$C$3:$C$501=Sheet8!D293),0),7)","v":0},{"$f":"INDEX(Deduction!$A$3:$K$501,MATCH(1,(Deduction!$A$3:$A$501=Sheet8!A293)*(Deduction!$B$3:$B$501=Sheet8!B293)*(Deduction!$C$3:$C$501=Sheet8!D293),0),8)","v":0},{"$f":"INDEX(Deduction!$A$3:$K$501,MATCH(1,(Deduction!$A$3:$A$501=Sheet8!A293)*(Deduction!$B$3:$B$501=Sheet8!B293)*(Deduction!$C$3:$C$501=Sheet8!D293),0),9)","v":0},{"$f":"INDEX(Deduction!$A$3:$K$501,MATCH(1,(Deduction!$A$3:$A$501=Sheet8!A293)*(Deduction!$B$3:$B$501=Sheet8!B293)*(Deduction!$C$3:$C$501=Sheet8!D293),0),10)","v":0},{"$f":"INDEX(Deduction!$A$3:$K$501,MATCH(1,(Deduction!$A$3:$A$501=Sheet8!A293)*(Deduction!$B$3:$B$501=Sheet8!B293)*(Deduction!$C$3:$C$501=Sheet8!D293),0),11)","v":0},{"$error":"#DIV/0!"},{"$f":"VLOOKUP(D293,Emp_Master!$B$3:$H$501,7)","v":{"$error":"#N/A"}}]
[{"$f":"Salary_Entitlement!A295","v":0},{"$f":"Salary_Entitlement!B295","v":0},{"$f":"Salary_Entitlement!C295","v":0},{"$f":"Salary_Entitlement!D295","v":0},{"$f":"Salary_Entitlement!E295","v":{"$error":"#N/A"}},{"$f":"Salary_Entitlement!F295","v":0},{"$f":"Salary_Entitlement!G295","v":0},{"$f":"Salary_Entitlement!H295","v":0},{"$f":"Salary_Entitlement!I295","v":0},{"$f":"Salary_Entitlement!J295","v":0},{"$f":"Salary_Entitlement!K295","v":0},{"$f":"Salary_Entitlement!L295","v":0},{"$f":"Salary_Entitlement!M295","v":0},{"$f":"Salary_Entitlement!N295","v":0},{"$f":"Salary_Entitlement!O295","v":0},{"$f":"Salary_Entitlement!P295","v":0},{"$error":"#DIV/0!"},{"$error":"#DIV/0!"},{"$f":"INDEX(Deduction!$A$3:$K$501,MATCH(1,(Deduction!$A$3:$A$501=Sheet8!A294)*(Deduction!$B$3:$B$501=Sheet8!B294)*(Deduction!$C$3:$C$501=Sheet8!D294),0),5)","v":0},{"$f":"INDEX(Deduction!$A$3:$K$501,MATCH(1,(Deduction!$A$3:$A$501=Sheet8!A294)*(Deduction!$B$3:$B$501=Sheet8!B294)*(Deduction!$C$3:$C$501=Sheet8!D294),0),6)","v":0},{"$f":"INDEX(Deduction!$A$3:$K$501,MATCH(1,(Deduction!$A$3:$A$501=Sheet8!A294)*(Deduction!$B$3:$B$501=Sheet8!B294)*(Deduction!$C$3:$C$501=Sheet8!D294),0),7)","v":0},{"$f":"INDEX(Deduction!$A$3:$K$501,MATCH(1,(Deduction!$A$3:$A$501=Sheet8!A294)*(Deduction!$B$3:$B$501=Sheet8!B294)*(Deduction!$C$3:$C$501=Sheet8!D294),0),8)","v":0},{"$f":"INDEX(Deduction!$A$3:$K$501,MATCH(1,(Deduction!$A$3:$A$501=Sheet8!A294)*(Deduction!$B$3:$B$501=Sheet8!B294)*(Deduction!$C$3:$C$501=Sheet8!D294),0),9)","v":0},{"$f":"INDEX(Deduction!$A$3:$K$501,MATCH(1,(Deduction!$A$3:$A$501=Sheet8!A294)*(Deduction!$B$3:$B$501=Sheet8!B294)*(Deduction!$C$3:$C$501=Sheet8!D294),0),10)","v":0},{"$f":"INDEX(Deduction!$A$3:$K$501,MATCH(1,(Deduction!$A$3:$A$501=Sheet8!A294)*(Deduction!$B$3:$B$501=Sheet8!B294)*(Deduction!$C$3:$C$501=Sheet8!D294),0),11)","v":0},{"$error":"#DIV/0!"},{"$f":"VLOOKUP(D294,Emp_Master!$B$3:$H$501,7)","v":{"$error":"#N/A"}}]
[{"$f":"Salary_Entitlement!A296","v":0},{"$f":"Salary_Entitlement!B296","v":0},{"$f":"Salary_Entitlement!C296","v":0},{"$f":"Salary_Entitlement!D296","v":0},{"$f":"Salary_Entitlement!E296","v":{"$error":"#N/A"}},{"$f":"Salary_Entitlement!F296","v":0},{"$f":"Salary_Entitlement!G296","v":0},{"$f":"Salary_Entitlement!H296","v":0},{"$f":"Salary_Entitlement!I296","v":0},{"$f":"Salary_Entitlement!J296","v":0},{"$f":"Salary_Entitlement!K296","v":0},{"$f":"Salary_Entitlement!L296","v":0},{"$f":"Salary_Entitlement!M296","v":0},{"$f":"Salary_Entitlement!N296","v":0},{"$f":"Salary_Entitlement!O296","v":0},{"$f":"Salary_Entitlement!P296","v":0},{"$error":"#DIV/0!"},{"$error":"#DIV/0!"},{"$f":"INDEX(Deduction!$A$3:$K$501,MATCH(1,(Deduction!$A$3:$A$501=Sheet8!A295)*(Deduction!$B$3:$B$501=Sheet8!B295)*(Deduction!$C$3:$C$501=Sheet8!D295),0),5)","v":0},{"$f":"INDEX(Deduction!$A$3:$K$501,MATCH(1,(Deduction!$A$3:$A$501=Sheet8!A295)*(Deduction!$B$3:$B$501=Sheet8!B295)*(Deduction!$C$3:$C$501=Sheet8!D295),0),6)","v":0},{"$f":"INDEX(Deduction!$A$3:$K$501,MATCH(1,(Deduction!$A$3:$A$501=Sheet8!A295)*(Deduction!$B$3:$B$501=Sheet8!B295)*(Deduction!$C$3:$C$501=Sheet8!D295),0),7)","v":0},{"$f":"INDEX(Deduction!$A$3:$K$501,MATCH(1,(Deduction!$A$3:$A$501=Sheet8!A295)*(Deduction!$B$3:$B$501=Sheet8!B295)*(Deduction!$C$3:$C$501=Sheet8!D295),0),8)","v":0},{"$f":"INDEX(Deduction!$A$3:$K$501,MATCH(1,(Deduction!$A$3:$A$501=Sheet8!A295)*(Deduction!$B$3:$B$501=Sheet8!B295)*(Deduction!$C$3:$C$501=Sheet8!D295),0),9)","v":0},{"$f":"INDEX(Deduction!$A$3:$K$501,MATCH(1,(Deduction!$A$3:$A$501=Sheet8!A295)*(Deduction!$B$3:$B$501=Sheet8!B295)*(Deduction!$C$3:$C$501=Sheet8!D295),0),10)","v":0},{"$f":"INDEX(Deduction!$A$3:$K$501,MATCH(1,(Deduction!$A$3:$A$501=Sheet8!A295)*(Deduction!$B$3:$B$501=Sheet8!B295)*(Deduction!$C$3:$C$501=Sheet8!D295),0),11)","v":0},{"$error":"#DIV/0!"},{"$f":"VLOOKUP(D295,Emp_Master!$B$3:$H$501,7)","v":{"$error":"#N/A"}}]
[{"$f":"Salary_Entitlement!A297","v":0},{"$f":"Salary_Entitlement!B297","v":0},{"$f":"Salary_Entitlement!C297","v":0},{"$f":"Salary_Entitlement!D297","v":0},{"$f":"Salary_Entitlement!E297","v":{"$error":"#N/A"}},{"$f":"Salary_Entitlement!F297","v":0},{"$f":"Salary_Entitlement!G297","v":0},{"$f":"Salary_Entitlement!H297","v":0},{"$f":"Salary_Entitlement!I297","v":0},{"$f":"Salary_Entitlement!J297","v":0},{"$f":"Salary_Entitlement!K297","v":0},{"$f":"Salary_Entitlement!L297","v":0},{"$f":"Salary_Entitlement!M297","v":0},{"$f":"Salary_Entitlement!N297","v":0},{"$f":"Salary_Entitlement!O297","v":0},{"$f":"Salary_Entitlement!P297","v":0},{"$error":"#DIV/0!"},{"$error":"#DIV/0!"},{"$f":"INDEX(Deduction!$A$3:$K$501,MATCH(1,(Deduction!$A$3:$A$501=Sheet8!A296)*(Deduction!$B$3:$B$501=Sheet8!B296)*(Deduction!$C$3:$C$501=Sheet8!D296),0),5)","v":0},{"$f":"INDEX(Deduction!$A$3:$K$501,MATCH(1,(Deduction!$A$3:$A$501=Sheet8!A296)*(Deduction!$B$3:$B$501=Sheet8!B296)*(Deduction!$C$3:$C$501=Sheet8!D296),0),6)","v":0},{"$f":"INDEX(Deduction!$A$3:$K$501,MATCH(1,(Deduction!$A$3:$A$501=Sheet8!A296)*(Deduction!$B$3:$B$501=Sheet8!B296)*(Deduction!$C$3:$C$501=Sheet8!D296),0),7)","v":0},{"$f":"INDEX(Deduction!$A$3:$K$501,MATCH(1,(Deduction!$A$3:$A$501=Sheet8!A296)*(Deduction!$B$3:$B$501=Sheet8!B296)*(Deduction!$C$3:$C$501=Sheet8!D296),0),8)","v":0},{"$f":"INDEX(Deduction!$A$3:$K$501,MATCH(1,(Deduction!$A$3:$A$501=Sheet8!A296)*(Deduction!$B$3:$B$501=Sheet8!B296)*(Deduction!$C$3:$C$501=Sheet8!D296),0),9)","v":0},{"$f":"INDEX(Deduction!$A$3:$K$501,MATCH(1,(Deduction!$A$3:$A$501=Sheet8!A296)*(Deduction!$B$3:$B$501=Sheet8!B296)*(Deduction!$C$3:$C$501=Sheet8!D296),0),10)","v":0},{"$f":"INDEX(Deduction!$A$3:$K$501,MATCH(1,(Deduction!$A$3:$A$501=Sheet8!A296)*(Deduction!$B$3:$B$501=Sheet8!B296)*(Deduction!$C$3:$C$501=Sheet8!D296),0),11)","v":0},{"$error":"#DIV/0!"},{"$f":"VLOOKUP(D296,Emp_Master!$B$3:$H$501,7)","v":{"$error":"#N/A"}}]
[{"$f":"Salary_Entitlement!A298","v":0},{"$f":"Salary_Entitlement!B298","v":0},{"$f":"Salary_Entitlement!C298","v":0},{"$f":"Salary_Entitlement!D298","v":0},{"$f":"Salary_Entitlement!E298","v":{"$error":"#N/A"}},{"$f":"Salary_Entitlement!F298","v":0},{"$f":"Salary_Entitlement!G298","v":0},{"$f":"Salary_Entitlement!H298","v":0},{"$f":"Salary_Entitlement!I298","v":0},{"$f":"Salary_Entitlement!J298","v":0},{"$f":"Salary_Entitlement!K298","v":0},{"$f":"Salary_Entitlement!L298","v":0},{"$f":"Salary_Entitlement!M298","v":0},{"$f":"Salary_Entitlement!N298","v":0},{"$f":"Salary_Entitlement!O298","v":0},{"$f":"Salary_Entitlement!P298","v":0},{"$error":"#DIV/0!"},{"$error":"#DIV/0!"},{"$f":"INDEX(Deduction!$A$3:$K$501,MATCH(1,(Deduction!$A$3:$A$501=Sheet8!A297)*(Deduction!$B$3:$B$501=Sheet8!B297)*(Deduction!$C$3:$C$501=Sheet8!D297),0),5)","v":0},{"$f":"INDEX(Deduction!$A$3:$K$501,MATCH(1,(Deduction!$A$3:$A$501=Sheet8!A297)*(Deduction!$B$3:$B$501=Sheet8!B297)*(Deduction!$C$3:$C$501=Sheet8!D297),0),6)","v":0},{"$f":"INDEX(Deduction!$A$3:$K$501,MATCH(1,(Deduction!$A$3:$A$501=Sheet8!A297)*(Deduction!$B$3:$B$501=Sheet8!B297)*(Deduction!$C$3:$C$501=Sheet8!D297),0),7)","v":0},{"$f":"INDEX(Deduction!$A$3:$K$501,MATCH(1,(Deduction!$A$3:$A$501=Sheet8!A297)*(Deduction!$B$3:$B$501=Sheet8!B297)*(Deduction!$C$3:$C$501=Sheet8!D297),0),8)","v":0},{"$f":"INDEX(Deduction!$A$3:$K$501,MATCH(1,(Deduction!$A$3:$A$501=Sheet8!A297)*(Deduction!$B$3:$B$501=Sheet8!B297)*(Deduction!$C$3:$C$501=Sheet8!D297),0),9)","v":0},{"$f":"INDEX(Deduction!$A$3:$K$501,MATCH(1,(Deduction!$A$3:$A$501=Sheet8!A297)*(Deduction!$B$3:$B$501=Sheet8!B297)*(Deduction!$C$3:$C$501=Sheet8!D297),0),10)","v":0},{"$f":"INDEX(Deduction!$A$3:$K$501,MATCH(1,(Deduction!$A$3:$A$501=Sheet8!A297)*(Deduction!$B$3:$B$501=Sheet8!B297)*(Deduction!$C$3:$C$501=Sheet8!D297),0),11)","v":0},{"$error":"#DIV/0!"},{"$f":"VLOOKUP(D297,Emp_Master!$B$3:$H$501,7)","v":{"$error":"#N/A"}}]
[{"$f":"Salary_Entitlement!A299","v":0},{"$f":"Salary_Entitlement!B299","v":0},{"$f":"Salary_Entitlement!C299","v":0},{"$f":"Salary_Entitlement!D299","v":0},{"$f":"Salary_Entitlement!E299","v":{"$error":"#N/A"}},{"$f":"Salary_Entitlement!F299","v":0},{"$f":"Salary_Entitlement!G299","v":0},{"$f":"Salary_Entitlement!H299","v":0},{"$f":"Salary_Entitlement!I299","v":0},{"$f":"Salary_Entitlement!J299","v":0},{"$f":"Salary_Entitlement!K299","v":0},{"$f":"Salary_Entitlement!L299","v":0},{"$f":"Salary_Entitlement!M299","v":0},{"$f":"Salary_Entitlement!N299","v":0},{"$f":"Salary_Entitlement!O299","v":0},{"$f":"Salary_Entitlement!P299","v":0},{"$error":"#DIV/0!"},{"$error":"#DIV/0!"},{"$f":"INDEX(Deduction!$A$3:$K$501,MATCH(1,(Deduction!$A$3:$A$501=Sheet8!A298)*(Deduction!$B$3:$B$501=Sheet8!B298)*(Deduction!$C$3:$C$501=Sheet8!D298),0),5)","v":0},{"$f":"INDEX(Deduction!$A$3:$K$501,MATCH(1,(Deduction!$A$3:$A$501=Sheet8!A298)*(Deduction!$B$3:$B$501=Sheet8!B298)*(Deduction!$C$3:$C$501=Sheet8!D298),0),6)","v":0},{"$f":"INDEX(Deduction!$A$3:$K$501,MATCH(1,(Deduction!$A$3:$A$501=Sheet8!A298)*(Deduction!$B$3:$B$501=Sheet8!B298)*(Deduction!$C$3:$C$501=Sheet8!D298),0),7)","v":0},{"$f":"INDEX(Deduction!$A$3:$K$501,MATCH(1,(Deduction!$A$3:$A$501=Sheet8!A298)*(Deduction!$B$3:$B$501=Sheet8!B298)*(Deduction!$C$3:$C$501=Sheet8!D298),0),8)","v":0},{"$f":"INDEX(Deduction!$A$3:$K$501,MATCH(1,(Deduction!$A$3:$A$501=Sheet8!A298)*(Deduction!$B$3:$B$501=Sheet8!B298)*(Deduction!$C$3:$C$501=Sheet8!D298),0),9)","v":0},{"$f":"INDEX(Deduction!$A$3:$K$501,MATCH(1,(Deduction!$A$3:$A$501=Sheet8!A298)*(Deduction!$B$3:$B$501=Sheet8!B298)*(Deduction!$C$3:$C$501=Sheet8!D298),0),10)","v":0},{"$f":"INDEX(Deduction!$A$3:$K$501,MATCH(1,(Deduction!$A$3:$A$501=Sheet8!A298)*(Deduction!$B$3:$B$501=Sheet8!B298)*(Deduction!$C$3:$C$501=Sheet8!D298),0),11)","v":0},{"$error":"#DIV/0!"},{"$f":"VLOOKUP(D298,Emp_Master!$B$3:$H$501,7)","v":{"$error":"#N/A"}}]
[{"$f":"Salary_Entitlement!A300","v":0},{"$f":"Salary_Entitlement!B300","v":0},{"$f":"Salary_Entitlement!C300","v":0},{"$f":"Salary_Entitlement!D300","v":0},{"$f":"Salary_Entitlement!E300","v":{"$error":"#N/A"}},{"$f":"Salary_Entitlement!F300","v":0},{"$f":"Salary_Entitlement!G300","v":0},{"$f":"Salary_Entitlement!H300","v":0},{"$f":"Salary_Entitlement!I300","v":0},{"$f":"Salary_Entitlement!J300","v":0},{"$f":"Salary_Entitlement!K300","v":0},{"$f":"Salary_Entitlement!L300","v":0},{"$f":"Salary_Entitlement!M300","v":0},{"$f":"Salary_Entitlement!N300","v":0},{"$f":"Salary_Entitlement!O300","v":0},{"$f":"Salary_Entitlement!P300","v":0},{"$error":"#DIV/0!"},{"$error":"#DIV/0!"},{"$f":"INDEX(Deduction!$A$3:$K$501,MATCH(1,(Deduction!$A$3:$A$501=Sheet8!A299)*(Deduction!$B$3:$B$501=Sheet8!B299)*(Deduction!$C$3:$C$501=Sheet8!D299),0),5)","v":0},{"$f":"INDEX(Deduction!$A$3:$K$501,MATCH(1,(Deduction!$A$3:$A$501=Sheet8!A299)*(Deduction!$B$3:$B$501=Sheet8!B299)*(Deduction!$C$3:$C$501=Sheet8!D299),0),6)","v":0},{"$f":"INDEX(Deduction!$A$3:$K$501,MATCH(1,(Deduction!$A$3:$A$501=Sheet8!A299)*(Deduction!$B$3:$B$501=Sheet8!B299)*(Deduction!$C$3:$C$501=Sheet8!D299),0),7)","v":0},{"$f":"INDEX(Deduction!$A$3:$K$501,MATCH(1,(Deduction!$A$3:$A$501=Sheet8!A299)*(Deduction!$B$3:$B$501=Sheet8!B299)*(Deduction!$C$3:$C$501=Sheet8!D299),0),8)","v":0},{"$f":"INDEX(Deduction!$A$3:$K$501,MATCH(1,(Deduction!$A$3:$A$501=Sheet8!A299)*(Deduction!$B$3:$B$501=Sheet8!B299)*(Deduction!$C$3:$C$501=Sheet8!D299),0),9)","v":0},{"$f":"INDEX(Deduction!$A$3:$K$501,MATCH(1,(Deduction!$A$3:$A$501=Sheet8!A299)*(Deduction!$B$3:$B$501=Sheet8!B299)*(Deduction!$C$3:$C$501=Sheet8!D299),0),10)","v":0},{"$f":"INDEX(Deduction!$A$3:$K$501,MATCH(1,(Deduction!$A$3:$A$501=Sheet8!A299)*(Deduction!$B$3:$B$501=Sheet8!B299)*(Deduction!$C$3:$C$501=Sheet8!D299),0),11)","v":0},{"$error":"#DIV/0!"},{"$f":"VLOOKUP(D299,Emp_Master!$B$3:$H$501,7)","v":{"$error":"#N/A"}}]
[{"$f":"Salary_Entitlement!A301","v":0},{"$f":"Salary_Entitlement!B301","v":0},{"$f":"Salary_Entitlement!C301","v":0},{"$f":"Salary_Entitlement!D301","v":0},{"$f":"Salary_Entitlement!E301","v":{"$error":"#N/A"}},{"$f":"Salary_Entitlement!F301","v":0},{"$f":"Salary_Entitlement!G301","v":0},{"$f":"Salary_Entitlement!H301","v":0},{"$f":"Salary_Entitlement!I301","v":0},{"$f":"Salary_Entitlement!J301","v":0},{"$f":"Salary_Entitlement!K301","v":0},{"$f":"Salary_Entitlement!L301","v":0},{"$f":"Salary_Entitlement!M301","v":0},{"$f":"Salary_Entitlement!N301","v":0},{"$f":"Salary_Entitlement!O301","v":0},{"$f":"Salary_Entitlement!P301","v":0},{"$error":"#DIV/0!"},{"$error":"#DIV/0!"},{"$f":"INDEX(Deduction!$A$3:$K$501,MATCH(1,(Deduction!$A$3:$A$501=Sheet8!A300)*(Deduction!$B$3:$B$501=Sheet8!B300)*(Deduction!$C$3:$C$501=Sheet8!D300),0),5)","v":0},{"$f":"INDEX(Deduction!$A$3:$K$501,MATCH(1,(Deduction!$A$3:$A$501=Sheet8!A300)*(Deduction!$B$3:$B$501=Sheet8!B300)*(Deduction!$C$3:$C$501=Sheet8!D300),0),6)","v":0},{"$f":"INDEX(Deduction!$A$3:$K$501,MATCH(1,(Deduction!$A$3:$A$501=Sheet8!A300)*(Deduction!$B$3:$B$501=Sheet8!B300)*(Deduction!$C$3:$C$501=Sheet8!D300),0),7)","v":0},{"$f":"INDEX(Deduction!$A$3:$K$501,MATCH(1,(Deduction!$A$3:$A$501=Sheet8!A300)*(Deduction!$B$3:$B$501=Sheet8!B300)*(Deduction!$C$3:$C$501=Sheet8!D300),0),8)","v":0},{"$f":"INDEX(Deduction!$A$3:$K$501,MATCH(1,(Deduction!$A$3:$A$501=Sheet8!A300)*(Deduction!$B$3:$B$501=Sheet8!B300)*(Deduction!$C$3:$C$501=Sheet8!D300),0),9)","v":0},{"$f":"INDEX(Deduction!$A$3:$K$501,MATCH(1,(Deduction!$A$3:$A$501=Sheet8!A300)*(Deduction!$B$3:$B$501=Sheet8!B300)*(Deduction!$C$3:$C$501=Sheet8!D300),0),10)","v":0},{"$f":"INDEX(Deduction!$A$3:$K$501,MATCH(1,(Deduction!$A$3:$A$501=Sheet8!A300)*(Deduction!$B$3:$B$501=Sheet8!B300)*(Deduction!$C$3:$C$501=Sheet8!D300),0),11)","v":0},{"$error":"#DIV/0!"},{"$f":"VLOOKUP(D300,Emp_Master!$B$3:$H$501,7)","v":{"$error":"#N/A"}}]
[{"$f":"Salary_Entitlement!A302","v":0},{"$f":"Salary_Entitlement!B302","v":0},{"$f":"Salary_Entitlement!C302","v":0},{"$f":"Salary_Entitlement!D302","v":0},{"$f":"Salary_Entitlement!E302","v":{"$error":"#N/A"}},{"$f":"Salary_Entitlement!F302","v":0},{"$f":"Salary_Entitlement!G302","v":0},{"$f":"Salary_Entitlement!H302","v":0},{"$f":"Salary_Entitlement!I302","v":0},{"$f":"Salary_Entitlement!J302","v":0},{"$f":"Salary_Entitlement!K302","v":0},{"$f":"Salary_Entitlement!L302","v":0},{"$f":"Salary_Entitlement!M302","v":0},{"$f":"Salary_Entitlement!N302","v":0},{"$f":"Salary_Entitlement!O302","v":0},{"$f":"Salary_Entitlement!P302","v":0},{"$error":"#DIV/0!"},{"$error":"#DIV/0!"},{"$f":"INDEX(Deduction!$A$3:$K$501,MATCH(1,(Deduction!$A$3:$A$501=Sheet8!A301)*(Deduction!$B$3:$B$501=Sheet8!B301)*(Deduction!$C$3:$C$501=Sheet8!D301),0),5)","v":0},{"$f":"INDEX(Deduction!$A$3:$K$501,MATCH(1,(Deduction!$A$3:$A$501=Sheet8!A301)*(Deduction!$B$3:$B$501=Sheet8!B301)*(Deduction!$C$3:$C$501=Sheet8!D301),0),6)","v":0},{"$f":"INDEX(Deduction!$A$3:$K$501,MATCH(1,(Deduction!$A$3:$A$501=Sheet8!A301)*(Deduction!$B$3:$B$501=Sheet8!B301)*(Deduction!$C$3:$C$501=Sheet8!D301),0),7)","v":0},{"$f":"INDEX(Deduction!$A$3:$K$501,MATCH(1,(Deduction!$A$3:$A$501=Sheet8!A301)*(Deduction!$B$3:$B$501=Sheet8!B301)*(Deduction!$C$3:$C$501=Sheet8!D301),0),8)","v":0},{"$f":"INDEX(Deduction!$A$3:$K$501,MATCH(1,(Deduction!$A$3:$A$501=Sheet8!A301)*(Deduction!$B$3:$B$501=Sheet8!B301)*(Deduction!$C$3:$C$501=Sheet8!D301),0),9)","v":0},{"$f":"INDEX(Deduction!$A$3:$K$501,MATCH(1,(Deduction!$A$3:$A$501=Sheet8!A301)*(Deduction!$B$3:$B$501=Sheet8!B301)*(Deduction!$C$3:$C$501=Sheet8!D301),0),10)","v":0},{"$f":"INDEX(Deduction!$A$3:$K$501,MATCH(1,(Deduction!$A$3:$A$501=Sheet8!A301)*(Deduction!$B$3:$B$501=Sheet8!B301)*(Deduction!$C$3:$C$501=Sheet8!D301),0),11)","v":0},{"$error":"#DIV/0!"},{"$f":"VLOOKUP(D301,Emp_Master!$B$3:$H$501,7)","v":{"$error":"#N/A"}}]
[{"$f":"Salary_Entitlement!A303","v":0},{"$f":"Salary_Entitlement!B303","v":0},{"$f":"Salary_Entitlement!C303","v":0},{"$f":"Salary_Entitlement!D303","v":0},{"$f":"Salary_Entitlement!E303","v":{"$error":"#N/A"}},{"$f":"Salary_Entitlement!F303","v":0},{"$f":"Salary_Entitlement!G303","v":0},{"$f":"Salary_Entitlement!H303","v":0},{"$f":"Salary_Entitlement!I303","v":0},{"$f":"Salary_Entitlement!J303","v":0},{"$f":"Salary_Entitlement!K303","v":0},{"$f":"Salary_Entitlement!L303","v":0},{"$f":"Salary_Entitlement!M303","v":0},{"$f":"Salary_Entitlement!N303","v":0},{"$f":"Salary_Entitlement!O303","v":0},{"$f":"Salary_Entitlement!P303","v":0},{"$error":"#DIV/0!"},{"$error":"#DIV/0!"},{"$f":"INDEX(Deduction!$A$3:$K$501,MATCH(1,(Deduction!$A$3:$A$501=Sheet8!A302)*(Deduction!$B$3:$B$501=Sheet8!B302)*(Deduction!$C$3:$C$501=Sheet8!D302),0),5)","v":0},{"$f":"INDEX(Deduction!$A$3:$K$501,MATCH(1,(Deduction!$A$3:$A$501=Sheet8!A302)*(Deduction!$B$3:$B$501=Sheet8!B302)*(Deduction!$C$3:$C$501=Sheet8!D302),0),6)","v":0},{"$f":"INDEX(Deduction!$A$3:$K$501,MATCH(1,(Deduction!$A$3:$A$501=Sheet8!A302)*(Deduction!$B$3:$B$501=Sheet8!B302)*(Deduction!$C$3:$C$501=Sheet8!D302),0),7)","v":0},{"$f":"INDEX(Deduction!$A$3:$K$501,MATCH(1,(Deduction!$A$3:$A$501=Sheet8!A302)*(Deduction!$B$3:$B$501=Sheet8!B302)*(Deduction!$C$3:$C$501=Sheet8!D302),0),8)","v":0},{"$f":"INDEX(Deduction!$A$3:$K$501,MATCH(1,(Deduction!$A$3:$A$501=Sheet8!A302)*(Deduction!$B$3:$B$501=Sheet8!B302)*(Deduction!$C$3:$C$501=Sheet8!D302),0),9)","v":0},{"$f":"INDEX(Deduction!$A$3:$K$501,MATCH(1,(Deduction!$A$3:$A$501=Sheet8!A302)*(Deduction!$B$3:$B$501=Sheet8!B302)*(Deduction!$C$3:$C$501=Sheet8!D302),0),10)","v":0},{"$f":"INDEX(Deduction!$A$3:$K$501,MATCH(1,(Deduction!$A$3:$A$501=Sheet8!A302)*(Deduction!$B$3:$B$501=Sheet8!B302)*(Deduction!$C$3:$C$501=Sheet8!D302),0),11)","v":0},{"$error":"#DIV/0!"},{"$f":"VLOOKUP(D302,Emp_Master!$B$3:$H$501,7)","v":{"$error":"#N/A"}}]
[{"$f":"Salary_Entitlement!A304","v":0},{"$f":"Salary_Entitlement!B304","v":0},{"$f":"Salary_Entitlement!C304","v":0},{"$f":"Salary_Entitlement!D304","v":0},{"$f":"Salary_Entitlement!E304","v":{"$error":"#N/A"}},{"$f":"Salary_Entitlement!F304","v":0},{"$f":"Salary_Entitlement!G304","v":0},{"$f":"Salary_Entitlement!H304","v":0},{"$f":"Salary_Entitlement!I304","v":0},{"$f":"Salary_Entitlement!J304","v":0},{"$f":"Salary_Entitlement!K304","v":0},{"$f":"Salary_Entitlement!L304","v":0},{"$f":"Salary_Entitlement!M304","v":0},{"$f":"Salary_Entitlement!N304","v":0},{"$f":"Salary_Entitlement!O304","v":0},{"$f":"Salary_Entitlement!P304","v":0},{"$error":"#DIV/0!"},{"$error":"#DIV/0!"},{"$f":"INDEX(Deduction!$A$3:$K$501,MATCH(1,(Deduction!$A$3:$A$501=Sheet8!A303)*(Deduction!$B$3:$B$501=Sheet8!B303)*(Deduction!$C$3:$C$501=Sheet8!D303),0),5)","v":0},{"$f":"INDEX(Deduction!$A$3:$K$501,MATCH(1,(Deduction!$A$3:$A$501=Sheet8!A303)*(Deduction!$B$3:$B$501=Sheet8!B303)*(Deduction!$C$3:$C$501=Sheet8!D303),0),6)","v":0},{"$f":"INDEX(Deduction!$A$3:$K$501,MATCH(1,(Deduction!$A$3:$A$501=Sheet8!A303)*(Deduction!$B$3:$B$501=Sheet8!B303)*(Deduction!$C$3:$C$501=Sheet8!D303),0),7)","v":0},{"$f":"INDEX(Deduction!$A$3:$K$501,MATCH(1,(Deduction!$A$3:$A$501=Sheet8!A303)*(Deduction!$B$3:$B$501=Sheet8!B303)*(Deduction!$C$3:$C$501=Sheet8!D303),0),8)","v":0},{"$f":"INDEX(Deduction!$A$3:$K$501,MATCH(1,(Deduction!$A$3:$A$501=Sheet8!A303)*(Deduction!$B$3:$B$501=Sheet8!B303)*(Deduction!$C$3:$C$501=Sheet8!D303),0),9)","v":0},{"$f":"INDEX(Deduction!$A$3:$K$501,MATCH(1,(Deduction!$A$3:$A$501=Sheet8!A303)*(Deduction!$B$3:$B$501=Sheet8!B303)*(Deduction!$C$3:$C$501=Sheet8!D303),0),10)","v":0},{"$f":"INDEX(Deduction!$A$3:$K$501,MATCH(1,(Deduction!$A$3:$A$501=Sheet8!A303)*(Deduction!$B$3:$B$501=Sheet8!B303)*(Deduction!$C$3:$C$501=Sheet8!D303),0),11)","v":0},{"$error":"#DIV/0!"},{"$f":"VLOOKUP(D303,Emp_Master!$B$3:$H$501,7)","v":{"$error":"#N/A"}}]
[{"$f":"Salary_Entitlement!A305","v":0},{"$f":"Salary_Entitlement!B305","v":0},{"$f":"Salary_Entitlement!C305","v":0},{"$f":"Salary_Entitlement!D305","v":0},{"$f":"Salary_Entitlement!E305","v":{"$error":"#N/A"}},{"$f":"Salary_Entitlement!F305","v":0},{"$f":"Salary_Entitlement!G305","v":0},{"$f":"Salary_Entitlement!H305","v":0},{"$f":"Salary_Entitlement!I305","v":0},{"$f":"Salary_Entitlement!J305","v":0},{"$f":"Salary_Entitlement!K305","v":0},{"$f":"Salary_Entitlement!L305","v":0},{"$f":"Salary_Entitlement!M305","v":0},{"$f":"Salary_Entitlement!N305","v":0},{"$f":"Salary_Entitlement!O305","v":0},{"$f":"Salary_Entitlement!P305","v":0},{"$error":"#DIV/0!"},{"$error":"#DIV/0!"},{"$f":"INDEX(Deduction!$A$3:$K$501,MATCH(1,(Deduction!$A$3:$A$501=Sheet8!A304)*(Deduction!$B$3:$B$501=Sheet8!B304)*(Deduction!$C$3:$C$501=Sheet8!D304),0),5)","v":0},{"$f":"INDEX(Deduction!$A$3:$K$501,MATCH(1,(Deduction!$A$3:$A$501=Sheet8!A304)*(Deduction!$B$3:$B$501=Sheet8!B304)*(Deduction!$C$3:$C$501=Sheet8!D304),0),6)","v":0},{"$f":"INDEX(Deduction!$A$3:$K$501,MATCH(1,(Deduction!$A$3:$A$501=Sheet8!A304)*(Deduction!$B$3:$B$501=Sheet8!B304)*(Deduction!$C$3:$C$501=Sheet8!D304),0),7)","v":0},{"$f":"INDEX(Deduction!$A$3:$K$501,MATCH(1,(Deduction!$A$3:$A$501=Sheet8!A304)*(Deduction!$B$3:$B$501=Sheet8!B304)*(Deduction!$C$3:$C$501=Sheet8!D304),0),8)","v":0},{"$f":"INDEX(Deduction!$A$3:$K$501,MATCH(1,(Deduction!$A$3:$A$501=Sheet8!A304)*(Deduction!$B$3:$B$501=Sheet8!B304)*(Deduction!$C$3:$C$501=Sheet8!D304),0),9)","v":0},{"$f":"INDEX(Deduction!$A$3:$K$501,MATCH(1,(Deduction!$A$3:$A$501=Sheet8!A304)*(Deduction!$B$3:$B$501=Sheet8!B304)*(Deduction!$C$3:$C$501=Sheet8!D304),0),10)","v":0},{"$f":"INDEX(Deduction!$A$3:$K$501,MATCH(1,(Deduction!$A$3:$A$501=Sheet8!A304)*(Deduction!$B$3:$B$501=Sheet8!B304)*(Deduction!$C$3:$C$501=Sheet8!D304),0),11)","v":0},{"$error":"#DIV/0!"},{"$f":"VLOOKUP(D304,Emp_Master!$B$3:$H$501,7)","v":{"$error":"#N/A"}}]
[{"$f":"Salary_Entitlement!A306","v":0},{"$f":"Salary_Entitlement!B306","v":0},{"$f":"Salary_Entitlement!C306","v":0},{"$f":"Salary_Entitlement!D306","v":0},{"$f":"Salary_Entitlement!E306","v":{"$error":"#N/A"}},{"$f":"Salary_Entitlement!F306","v":0},{"$f":"Salary_Entitlement!G306","v":0},{"$f":"Salary_Entitlement!H306","v":0},{"$f":"Salary_Entitlement!I306","v":0},{"$f":"Salary_Entitlement!J306","v":0},{"$f":"Salary_Entitlement!K306","v":0},{"$f":"Salary_Entitlement!L306","v":0},{"$f":"Salary_Entitlement!M306","v":0},{"$f":"Salary_Entitlement!N306","v":0},{"$f":"Salary_Entitlement!O306","v":0},{"$f":"Salary_Entitlement!P306","v":0},{"$error":"#DIV/0!"},{"$error":"#DIV/0!"},{"$f":"INDEX(Deduction!$A$3:$K$501,MATCH(1,(Deduction!$A$3:$A$501=Sheet8!A305)*(Deduction!$B$3:$B$501=Sheet8!B305)*(Deduction!$C$3:$C$501=Sheet8!D305),0),5)","v":0},{"$f":"INDEX(Deduction!$A$3:$K$501,MATCH(1,(Deduction!$A$3:$A$501=Sheet8!A305)*(Deduction!$B$3:$B$501=Sheet8!B305)*(Deduction!$C$3:$C$501=Sheet8!D305),0),6)","v":0},{"$f":"INDEX(Deduction!$A$3:$K$501,MATCH(1,(Deduction!$A$3:$A$501=Sheet8!A305)*(Deduction!$B$3:$B$501=Sheet8!B305)*(Deduction!$C$3:$C$501=Sheet8!D305),0),7)","v":0},{"$f":"INDEX(Deduction!$A$3:$K$501,MATCH(1,(Deduction!$A$3:$A$501=Sheet8!A305)*(Deduction!$B$3:$B$501=Sheet8!B305)*(Deduction!$C$3:$C$501=Sheet8!D305),0),8)","v":0},{"$f":"INDEX(Deduction!$A$3:$K$501,MATCH(1,(Deduction!$A$3:$A$501=Sheet8!A305)*(Deduction!$B$3:$B$501=Sheet8!B305)*(Deduction!$C$3:$C$501=Sheet8!D305),0),9)","v":0},{"$f":"INDEX(Deduction!$A$3:$K$501,MATCH(1,(Deduction!$A$3:$A$501=Sheet8!A305)*(Deduction!$B$3:$B$501=Sheet8!B305)*(Deduction!$C$3:$C$501=Sheet8!D305),0),10)","v":0},{"$f":"INDEX(Deduction!$A$3:$K$501,MATCH(1,(Deduction!$A$3:$A$501=Sheet8!A305)*(Deduction!$B$3:$B$501=Sheet8!B305)*(Deduction!$C$3:$C$501=Sheet8!D305),0),11)","v":0},{"$error":"#DIV/0!"},{"$f":"VLOOKUP(D305,Emp_Master!$B$3:$H$501,7)","v":{"$error":"#N/A"}}]
[{"$f":"Salary_Entitlement!A307","v":0},{"$f":"Salary_Entitlement!B307","v":0},{"$f":"Salary_Entitlement!C307","v":0},{"$f":"Salary_Entitlement!D307","v":0},{"$f":"Salary_Entitlement!E307","v":{"$error":"#N/A"}},{"$f":"Salary_Entitlement!F307","v":0},{"$f":"Salary_Entitlement!G307","v":0},{"$f":"Salary_Entitlement!H307","v":0},{"$f":"Salary_Entitlement!I307","v":0},{"$f":"Salary_Entitlement!J307","v":0},{"$f":"Salary_Entitlement!K307","v":0},{"$f":"Salary_Entitlement!L307","v":0},{"$f":"Salary_Entitlement!M307","v":0},{"$f":"Salary_Entitlement!N307","v":0},{"$f":"Salary_Entitlement!O307","v":0},{"$f":"Salary_Entitlement!P307","v":0},{"$error":"#DIV/0!"},{"$error":"#DIV/0!"},{"$f":"INDEX(Deduction!$A$3:$K$501,MATCH(1,(Deduction!$A$3:$A$501=Sheet8!A306)*(Deduction!$B$3:$B$501=Sheet8!B306)*(Deduction!$C$3:$C$501=Sheet8!D306),0),5)","v":0},{"$f":"INDEX(Deduction!$A$3:$K$501,MATCH(1,(Deduction!$A$3:$A$501=Sheet8!A306)*(Deduction!$B$3:$B$501=Sheet8!B306)*(Deduction!$C$3:$C$501=Sheet8!D306),0),6)","v":0},{"$f":"INDEX(Deduction!$A$3:$K$501,MATCH(1,(Deduction!$A$3:$A$501=Sheet8!A306)*(Deduction!$B$3:$B$501=Sheet8!B306)*(Deduction!$C$3:$C$501=Sheet8!D306),0),7)","v":0},{"$f":"INDEX(Deduction!$A$3:$K$501,MATCH(1,(Deduction!$A$3:$A$501=Sheet8!A306)*(Deduction!$B$3:$B$501=Sheet8!B306)*(Deduction!$C$3:$C$501=Sheet8!D306),0),8)","v":0},{"$f":"INDEX(Deduction!$A$3:$K$501,MATCH(1,(Deduction!$A$3:$A$501=Sheet8!A306)*(Deduction!$B$3:$B$501=Sheet8!B306)*(Deduction!$C$3:$C$501=Sheet8!D306),0),9)","v":0},{"$f":"INDEX(Deduction!$A$3:$K$501,MATCH(1,(Deduction!$A$3:$A$501=Sheet8!A306)*(Deduction!$B$3:$B$501=Sheet8!B306)*(Deduction!$C$3:$C$501=Sheet8!D306),0),10)","v":0},{"$f":"INDEX(Deduction!$A$3:$K$501,MATCH(1,(Deduction!$A$3:$A$501=Sheet8!A306)*(Deduction!$B$3:$B$501=Sheet8!B306)*(Deduction!$C$3:$C$501=Sheet8!D306),0),11)","v":0},{"$error":"#DIV/0!"},{"$f":"VLOOKUP(D306,Emp_Master!$B$3:$H$501,7)","v":{"$error":"#N/A"}}]
[{"$f":"Salary_Entitlement!A308","v":0},{"$f":"Salary_Entitlement!B308","v":0},{"$f":"Salary_Entitlement!C308","v":0},{"$f":"Salary_Entitlement!D308","v":0},{"$f":"Salary_Entitlement!E308","v":{"$error":"#N/A"}},{"$f":"Salary_Entitlement!F308","v":0},{"$f":"Salary_Entitlement!G308","v":0},{"$f":"Salary_Entitlement!H308","v":0},{"$f":"Salary_Entitlement!I308","v":0},{"$f":"Salary_Entitlement!J308","v":0},{"$f":"Salary_Entitlement!K308","v":0},{"$f":"Salary_Entitlement!L308","v":0},{"$f":"Salary_Entitlement!M308","v":0},{"$f":"Salary_Entitlement!N308","v":0},{"$f":"Salary_Entitlement!O308","v":0},{"$f":"Salary_Entitlement!P308","v":0},{"$error":"#DIV/0!"},{"$error":"#DIV/0!"},{"$f":"INDEX(Deduction!$A$3:$K$501,MATCH(1,(Deduction!$A$3:$A$501=Sheet8!A307)*(Deduction!$B$3:$B$501=Sheet8!B307)*(Deduction!$C$3:$C$501=Sheet8!D307),0),5)","v":0},{"$f":"INDEX(Deduction!$A$3:$K$501,MATCH(1,(Deduction!$A$3:$A$501=Sheet8!A307)*(Deduction!$B$3:$B$501=Sheet8!B307)*(Deduction!$C$3:$C$501=Sheet8!D307),0),6)","v":0},{"$f":"INDEX(Deduction!$A$3:$K$501,MATCH(1,(Deduction!$A$3:$A$501=Sheet8!A307)*(Deduction!$B$3:$B$501=Sheet8!B307)*(Deduction!$C$3:$C$501=Sheet8!D307),0),7)","v":0},{"$f":"INDEX(Deduction!$A$3:$K$501,MATCH(1,(Deduction!$A$3:$A$501=Sheet8!A307)*(Deduction!$B$3:$B$501=Sheet8!B307)*(Deduction!$C$3:$C$501=Sheet8!D307),0),8)","v":0},{"$f":"INDEX(Deduction!$A$3:$K$501,MATCH(1,(Deduction!$A$3:$A$501=Sheet8!A307)*(Deduction!$B$3:$B$501=Sheet8!B307)*(Deduction!$C$3:$C$501=Sheet8!D307),0),9)","v":0},{"$f":"INDEX(Deduction!$A$3:$K$501,MATCH(1,(Deduction!$A$3:$A$501=Sheet8!A307)*(Deduction!$B$3:$B$501=Sheet8!B307)*(Deduction!$C$3:$C$501=Sheet8!D307),0),10)","v":0},{"$f":"INDEX(Deduction!$A$3:$K$501,MATCH(1,(Deduction!$A$3:$A$501=Sheet8!A307)*(Deduction!$B$3:$B$501=Sheet8!B307)*(Deduction!$C$3:$C$501=Sheet8!D307),0),11)","v":0},{"$error":"#DIV/0!"},{"$f":"VLOOKUP(D307,Emp_Master!$B$3:$H$501,7)","v":{"$error":"#N/A"}}]
[{"$f":"Salary_Entitlement!A309","v":0},{"$f":"Salary_Entitlement!B309","v":0},{"$f":"Salary_Entitlement!C309","v":0},{"$f":"Salary_Entitlement!D309","v":0},{"$f":"Salary_Entitlement!E309","v":{"$error":"#N/A"}},{"$f":"Salary_Entitlement!F309","v":0},{"$f":"Salary_Entitlement!G309","v":0},{"$f":"Salary_Entitlement!H309","v":0},{"$f":"Salary_Entitlement!I309","v":0},{"$f":"Salary_Entitlement!J309","v":0},{"$f":"Salary_Entitlement!K309","v":0},{"$f":"Salary_Entitlement!L309","v":0},{"$f":"Salary_Entitlement!M309","v":0},{"$f":"Salary_Entitlement!N309","v":0},{"$f":"Salary_Entitlement!O309","v":0},{"$f":"Salary_Entitlement!P309","v":0},{"$error":"#DIV/0!"},{"$error":"#DIV/0!"},{"$f":"INDEX(Deduction!$A$3:$K$501,MATCH(1,(Deduction!$A$3:$A$501=Sheet8!A308)*(Deduction!$B$3:$B$501=Sheet8!B308)*(Deduction!$C$3:$C$501=Sheet8!D308),0),5)","v":0},{"$f":"INDEX(Deduction!$A$3:$K$501,MATCH(1,(Deduction!$A$3:$A$501=Sheet8!A308)*(Deduction!$B$3:$B$501=Sheet8!B308)*(Deduction!$C$3:$C$501=Sheet8!D308),0),6)","v":0},{"$f":"INDEX(Deduction!$A$3:$K$501,MATCH(1,(Deduction!$A$3:$A$501=Sheet8!A308)*(Deduction!$B$3:$B$501=Sheet8!B308)*(Deduction!$C$3:$C$501=Sheet8!D308),0),7)","v":0},{"$f":"INDEX(Deduction!$A$3:$K$501,MATCH(1,(Deduction!$A$3:$A$501=Sheet8!A308)*(Deduction!$B$3:$B$501=Sheet8!B308)*(Deduction!$C$3:$C$501=Sheet8!D308),0),8)","v":0},{"$f":"INDEX(Deduction!$A$3:$K$501,MATCH(1,(Deduction!$A$3:$A$501=Sheet8!A308)*(Deduction!$B$3:$B$501=Sheet8!B308)*(Deduction!$C$3:$C$501=Sheet8!D308),0),9)","v":0},{"$f":"INDEX(Deduction!$A$3:$K$501,MATCH(1,(Deduction!$A$3:$A$501=Sheet8!A308)*(Deduction!$B$3:$B$501=Sheet8!B308)*(Deduction!$C$3:$C$501=Sheet8!D308),0),10)","v":0},{"$f":"INDEX(Deduction!$A$3:$K$501,MATCH(1,(Deduction!$A$3:$A$501=Sheet8!A308)*(Deduction!$B$3:$B$501=Sheet8!B308)*(Deduction!$C$3:$C$501=Sheet8!D308),0),11)","v":0},{"$error":"#DIV/0!"},{"$f":"VLOOKUP(D308,Emp_Master!$B$3:$H$501,7)","v":{"$error":"#N/A"}}]
[{"$f":"Salary_Entitlement!A310","v":0},{"$f":"Salary_Entitlement!B310","v":0},{"$f":"Salary_Entitlement!C310","v":0},{"$f":"Salary_Entitlement!D310","v":0},{"$f":"Salary_Entitlement!E310","v":{"$error":"#N/A"}},{"$f":"Salary_Entitlement!F310","v":0},{"$f":"Salary_Entitlement!G310","v":0},{"$f":"Salary_Entitlement!H310","v":0},{"$f":"Salary_Entitlement!I310","v":0},{"$f":"Salary_Entitlement!J310","v":0},{"$f":"Salary_Entitlement!K310","v":0},{"$f":"Salary_Entitlement!L310","v":0},{"$f":"Salary_Entitlement!M310","v":0},{"$f":"Salary_Entitlement!N310","v":0},{"$f":"Salary_Entitlement!O310","v":0},{"$f":"Salary_Entitlement!P310","v":0},{"$error":"#DIV/0!"},{"$error":"#DIV/0!"},{"$f":"INDEX(Deduction!$A$3:$K$501,MATCH(1,(Deduction!$A$3:$A$501=Sheet8!A309)*(Deduction!$B$3:$B$501=Sheet8!B309)*(Deduction!$C$3:$C$501=Sheet8!D309),0),5)","v":0},{"$f":"INDEX(Deduction!$A$3:$K$501,MATCH(1,(Deduction!$A$3:$A$501=Sheet8!A309)*(Deduction!$B$3:$B$501=Sheet8!B309)*(Deduction!$C$3:$C$501=Sheet8!D309),0),6)","v":0},{"$f":"INDEX(Deduction!$A$3:$K$501,MATCH(1,(Deduction!$A$3:$A$501=Sheet8!A309)*(Deduction!$B$3:$B$501=Sheet8!B309)*(Deduction!$C$3:$C$501=Sheet8!D309),0),7)","v":0},{"$f":"INDEX(Deduction!$A$3:$K$501,MATCH(1,(Deduction!$A$3:$A$501=Sheet8!A309)*(Deduction!$B$3:$B$501=Sheet8!B309)*(Deduction!$C$3:$C$501=Sheet8!D309),0),8)","v":0},{"$f":"INDEX(Deduction!$A$3:$K$501,MATCH(1,(Deduction!$A$3:$A$501=Sheet8!A309)*(Deduction!$B$3:$B$501=Sheet8!B309)*(Deduction!$C$3:$C$501=Sheet8!D309),0),9)","v":0},{"$f":"INDEX(Deduction!$A$3:$K$501,MATCH(1,(Deduction!$A$3:$A$501=Sheet8!A309)*(Deduction!$B$3:$B$501=Sheet8!B309)*(Deduction!$C$3:$C$501=Sheet8!D309),0),10)","v":0},{"$f":"INDEX(Deduction!$A$3:$K$501,MATCH(1,(Deduction!$A$3:$A$501=Sheet8!A309)*(Deduction!$B$3:$B$501=Sheet8!B309)*(Deduction!$C$3:$C$501=Sheet8!D309),0),11)","v":0},{"$error":"#DIV/0!"},{"$f":"VLOOKUP(D309,Emp_Master!$B$3:$H$501,7)","v":{"$error":"#N/A"}}]
[{"$f":"Salary_Entitlement!A311","v":0},{"$f":"Salary_Entitlement!B311","v":0},{"$f":"Salary_Entitlement!C311","v":0},{"$f":"Salary_Entitlement!D311","v":0},{"$f":"Salary_Entitlement!E311","v":{"$error":"#N/A"}},{"$f":"Salary_Entitlement!F311","v":0},{"$f":"Salary_Entitlement!G311","v":0},{"$f":"Salary_Entitlement!H311","v":0},{"$f":"Salary_Entitlement!I311","v":0},{"$f":"Salary_Entitlement!J311","v":0},{"$f":"Salary_Entitlement!K311","v":0},{"$f":"Salary_Entitlement!L311","v":0},{"$f":"Salary_Entitlement!M311","v":0},{"$f":"Salary_Entitlement!N311","v":0},{"$f":"Salary_Entitlement!O311","v":0},{"$f":"Salary_Entitlement!P311","v":0},{"$error":"#DIV/0!"},{"$error":"#DIV/0!"},{"$f":"INDEX(Deduction!$A$3:$K$501,MATCH(1,(Deduction!$A$3:$A$501=Sheet8!A310)*(Deduction!$B$3:$B$501=Sheet8!B310)*(Deduction!$C$3:$C$501=Sheet8!D310),0),5)","v":0},{"$f":"INDEX(Deduction!$A$3:$K$501,MATCH(1,(Deduction!$A$3:$A$501=Sheet8!A310)*(Deduction!$B$3:$B$501=Sheet8!B310)*(Deduction!$C$3:$C$501=Sheet8!D310),0),6)","v":0},{"$f":"INDEX(Deduction!$A$3:$K$501,MATCH(1,(Deduction!$A$3:$A$501=Sheet8!A310)*(Deduction!$B$3:$B$501=Sheet8!B310)*(Deduction!$C$3:$C$501=Sheet8!D310),0),7)","v":0},{"$f":"INDEX(Deduction!$A$3:$K$501,MATCH(1,(Deduction!$A$3:$A$501=Sheet8!A310)*(Deduction!$B$3:$B$501=Sheet8!B310)*(Deduction!$C$3:$C$501=Sheet8!D310),0),8)","v":0},{"$f":"INDEX(Deduction!$A$3:$K$501,MATCH(1,(Deduction!$A$3:$A$501=Sheet8!A310)*(Deduction!$B$3:$B$501=Sheet8!B310)*(Deduction!$C$3:$C$501=Sheet8!D310),0),9)","v":0},{"$f":"INDEX(Deduction!$A$3:$K$501,MATCH(1,(Deduction!$A$3:$A$501=Sheet8!A310)*(Deduction!$B$3:$B$501=Sheet8!B310)*(Deduction!$C$3:$C$501=Sheet8!D310),0),10)","v":0},{"$f":"INDEX(Deduction!$A$3:$K$501,MATCH(1,(Deduction!$A$3:$A$501=Sheet8!A310)*(Deduction!$B$3:$B$501=Sheet8!B310)*(Deduction!$C$3:$C$501=Sheet8!D310),0),11)","v":0},{"$error":"#DIV/0!"},{"$f":"VLOOKUP(D310,Emp_Master!$B$3:$H$501,7)","v":{"$error":"#N/A"}}]
[{"$f":"Salary_Entitlement!A312","v":0},{"$f":"Salary_Entitlement!B312","v":0},{"$f":"Salary_Entitlement!C312","v":0},{"$f":"Salary_Entitlement!D312","v":0},{"$f":"Salary_Entitlement!E312","v":{"$error":"#N/A"}},{"$f":"Salary_Entitlement!F312","v":0},{"$f":"Salary_Entitlement!G312","v":0},{"$f":"Salary_Entitlement!H312","v":0},{"$f":"Salary_Entitlement!I312","v":0},{"$f":"Salary_Entitlement!J312","v":0},{"$f":"Salary_Entitlement!K312","v":0},{"$f":"Salary_Entitlement!L312","v":0},{"$f":"Salary_Entitlement!M312","v":0},{"$f":"Salary_Entitlement!N312","v":0},{"$f":"Salary_Entitlement!O312","v":0},{"$f":"Salary_Entitlement!P312","v":0},{"$error":"#DIV/0!"},{"$error":"#DIV/0!"},{"$f":"INDEX(Deduction!$A$3:$K$501,MATCH(1,(Deduction!$A$3:$A$501=Sheet8!A311)*(Deduction!$B$3:$B$501=Sheet8!B311)*(Deduction!$C$3:$C$501=Sheet8!D311),0),5)","v":0},{"$f":"INDEX(Deduction!$A$3:$K$501,MATCH(1,(Deduction!$A$3:$A$501=Sheet8!A311)*(Deduction!$B$3:$B$501=Sheet8!B311)*(Deduction!$C$3:$C$501=Sheet8!D311),0),6)","v":0},{"$f":"INDEX(Deduction!$A$3:$K$501,MATCH(1,(Deduction!$A$3:$A$501=Sheet8!A311)*(Deduction!$B$3:$B$501=Sheet8!B311)*(Deduction!$C$3:$C$501=Sheet8!D311),0),7)","v":0},{"$f":"INDEX(Deduction!$A$3:$K$501,MATCH(1,(Deduction!$A$3:$A$501=Sheet8!A311)*(Deduction!$B$3:$B$501=Sheet8!B311)*(Deduction!$C$3:$C$501=Sheet8!D311),0),8)","v":0},{"$f":"INDEX(Deduction!$A$3:$K$501,MATCH(1,(Deduction!$A$3:$A$501=Sheet8!A311)*(Deduction!$B$3:$B$501=Sheet8!B311)*(Deduction!$C$3:$C$501=Sheet8!D311),0),9)","v":0},{"$f":"INDEX(Deduction!$A$3:$K$501,MATCH(1,(Deduction!$A$3:$A$501=Sheet8!A311)*(Deduction!$B$3:$B$501=Sheet8!B311)*(Deduction!$C$3:$C$501=Sheet8!D311),0),10)","v":0},{"$f":"INDEX(Deduction!$A$3:$K$501,MATCH(1,(Deduction!$A$3:$A$501=Sheet8!A311)*(Deduction!$B$3:$B$501=Sheet8!B311)*(Deduction!$C$3:$C$501=Sheet8!D311),0),11)","v":0},{"$error":"#DIV/0!"},{"$f":"VLOOKUP(D311,Emp_Master!$B$3:$H$501,7)","v":{"$error":"#N/A"}}]
[{"$f":"Salary_Entitlement!A313","v":0},{"$f":"Salary_Entitlement!B313","v":0},{"$f":"Salary_Entitlement!C313","v":0},{"$f":"Salary_Entitlement!D313","v":0},{"$f":"Salary_Entitlement!E313","v":{"$error":"#N/A"}},{"$f":"Salary_Entitlement!F313","v":0},{"$f":"Salary_Entitlement!G313","v":0},{"$f":"Salary_Entitlement!H313","v":0},{"$f":"Salary_Entitlement!I313","v":0},{"$f":"Salary_Entitlement!J313","v":0},{"$f":"Salary_Entitlement!K313","v":0},{"$f":"Salary_Entitlement!L313","v":0},{"$f":"Salary_Entitlement!M313","v":0},{"$f":"Salary_Entitlement!N313","v":0},{"$f":"Salary_Entitlement!O313","v":0},{"$f":"Salary_Entitlement!P313","v":0},{"$error":"#DIV/0!"},{"$error":"#DIV/0!"},{"$f":"INDEX(Deduction!$A$3:$K$501,MATCH(1,(Deduction!$A$3:$A$501=Sheet8!A312)*(Deduction!$B$3:$B$501=Sheet8!B312)*(Deduction!$C$3:$C$501=Sheet8!D312),0),5)","v":0},{"$f":"INDEX(Deduction!$A$3:$K$501,MATCH(1,(Deduction!$A$3:$A$501=Sheet8!A312)*(Deduction!$B$3:$B$501=Sheet8!B312)*(Deduction!$C$3:$C$501=Sheet8!D312),0),6)","v":0},{"$f":"INDEX(Deduction!$A$3:$K$501,MATCH(1,(Deduction!$A$3:$A$501=Sheet8!A312)*(Deduction!$B$3:$B$501=Sheet8!B312)*(Deduction!$C$3:$C$501=Sheet8!D312),0),7)","v":0},{"$f":"INDEX(Deduction!$A$3:$K$501,MATCH(1,(Deduction!$A$3:$A$501=Sheet8!A312)*(Deduction!$B$3:$B$501=Sheet8!B312)*(Deduction!$C$3:$C$501=Sheet8!D312),0),8)","v":0},{"$f":"INDEX(Deduction!$A$3:$K$501,MATCH(1,(Deduction!$A$3:$A$501=Sheet8!A312)*(Deduction!$B$3:$B$501=Sheet8!B312)*(Deduction!$C$3:$C$501=Sheet8!D312),0),9)","v":0},{"$f":"INDEX(Deduction!$A$3:$K$501,MATCH(1,(Deduction!$A$3:$A$501=Sheet8!A312)*(Deduction!$B$3:$B$501=Sheet8!B312)*(Deduction!$C$3:$C$501=Sheet8!D312),0),10)","v":0},{"$f":"INDEX(Deduction!$A$3:$K$501,MATCH(1,(Deduction!$A$3:$A$501=Sheet8!A312)*(Deduction!$B$3:$B$501=Sheet8!B312)*(Deduction!$C$3:$C$501=Sheet8!D312),0),11)","v":0},{"$error":"#DIV/0!"},{"$f":"VLOOKUP(D312,Emp_Master!$B$3:$H$501,7)","v":{"$error":"#N/A"}}]
[{"$f":"Salary_Entitlement!A314","v":0},{"$f":"Salary_Entitlement!B314","v":0},{"$f":"Salary_Entitlement!C314","v":0},{"$f":"Salary_Entitlement!D314","v":0},{"$f":"Salary_Entitlement!E314","v":{"$error":"#N/A"}},{"$f":"Salary_Entitlement!F314","v":0},{"$f":"Salary_Entitlement!G314","v":0},{"$f":"Salary_Entitlement!H314","v":0},{"$f":"Salary_Entitlement!I314","v":0},{"$f":"Salary_Entitlement!J314","v":0},{"$f":"Salary_Entitlement!K314","v":0},{"$f":"Salary_Entitlement!L314","v":0},{"$f":"Salary_Entitlement!M314","v":0},{"$f":"Salary_Entitlement!N314","v":0},{"$f":"Salary_Entitlement!O314","v":0},{"$f":"Salary_Entitlement!P314","v":0},{"$error":"#DIV/0!"},{"$error":"#DIV/0!"},{"$f":"INDEX(Deduction!$A$3:$K$501,MATCH(1,(Deduction!$A$3:$A$501=Sheet8!A313)*(Deduction!$B$3:$B$501=Sheet8!B313)*(Deduction!$C$3:$C$501=Sheet8!D313),0),5)","v":0},{"$f":"INDEX(Deduction!$A$3:$K$501,MATCH(1,(Deduction!$A$3:$A$501=Sheet8!A313)*(Deduction!$B$3:$B$501=Sheet8!B313)*(Deduction!$C$3:$C$501=Sheet8!D313),0),6)","v":0},{"$f":"INDEX(Deduction!$A$3:$K$501,MATCH(1,(Deduction!$A$3:$A$501=Sheet8!A313)*(Deduction!$B$3:$B$501=Sheet8!B313)*(Deduction!$C$3:$C$501=Sheet8!D313),0),7)","v":0},{"$f":"INDEX(Deduction!$A$3:$K$501,MATCH(1,(Deduction!$A$3:$A$501=Sheet8!A313)*(Deduction!$B$3:$B$501=Sheet8!B313)*(Deduction!$C$3:$C$501=Sheet8!D313),0),8)","v":0},{"$f":"INDEX(Deduction!$A$3:$K$501,MATCH(1,(Deduction!$A$3:$A$501=Sheet8!A313)*(Deduction!$B$3:$B$501=Sheet8!B313)*(Deduction!$C$3:$C$501=Sheet8!D313),0),9)","v":0},{"$f":"INDEX(Deduction!$A$3:$K$501,MATCH(1,(Deduction!$A$3:$A$501=Sheet8!A313)*(Deduction!$B$3:$B$501=Sheet8!B313)*(Deduction!$C$3:$C$501=Sheet8!D313),0),10)","v":0},{"$f":"INDEX(Deduction!$A$3:$K$501,MATCH(1,(Deduction!$A$3:$A$501=Sheet8!A313)*(Deduction!$B$3:$B$501=Sheet8!B313)*(Deduction!$C$3:$C$501=Sheet8!D313),0),11)","v":0},{"$error":"#DIV/0!"},{"$f":"VLOOKUP(D313,Emp_Master!$B$3:$H$501,7)","v":{"$error":"#N/A"}}]
[{"$f":"Salary_Entitlement!A315","v":0},{"$f":"Salary_Entitlement!B315","v":0},{"$f":"Salary_Entitlement!C315","v":0},{"$f":"Salary_Entitlement!D315","v":0},{"$f":"Salary_Entitlement!E315","v":{"$error":"#N/A"}},{"$f":"Salary_Entitlement!F315","v":0},{"$f":"Salary_Entitlement!G315","v":0},{"$f":"Salary_Entitlement!H315","v":0},{"$f":"Salary_Entitlement!I315","v":0},{"$f":"Salary_Entitlement!J315","v":0},{"$f":"Salary_Entitlement!K315","v":0},{"$f":"Salary_Entitlement!L315","v":0},{"$f":"Salary_Entitlement!M315","v":0},{"$f":"Salary_Entitlement!N315","v":0},{"$f":"Salary_Entitlement!O315","v":0},{"$f":"Salary_Entitlement!P315","v":0},{"$error":"#DIV/0!"},{"$error":"#DIV/0!"},{"$f":"INDEX(Deduction!$A$3:$K$501,MATCH(1,(Deduction!$A$3:$A$501=Sheet8!A314)*(Deduction!$B$3:$B$501=Sheet8!B314)*(Deduction!$C$3:$C$501=Sheet8!D314),0),5)","v":0},{"$f":"INDEX(Deduction!$A$3:$K$501,MATCH(1,(Deduction!$A$3:$A$501=Sheet8!A314)*(Deduction!$B$3:$B$501=Sheet8!B314)*(Deduction!$C$3:$C$501=Sheet8!D314),0),6)","v":0},{"$f":"INDEX(Deduction!$A$3:$K$501,MATCH(1,(Deduction!$A$3:$A$501=Sheet8!A314)*(Deduction!$B$3:$B$501=Sheet8!B314)*(Deduction!$C$3:$C$501=Sheet8!D314),0),7)","v":0},{"$f":"INDEX(Deduction!$A$3:$K$501,MATCH(1,(Deduction!$A$3:$A$501=Sheet8!A314)*(Deduction!$B$3:$B$501=Sheet8!B314)*(Deduction!$C$3:$C$501=Sheet8!D314),0),8)","v":0},{"$f":"INDEX(Deduction!$A$3:$K$501,MATCH(1,(Deduction!$A$3:$A$501=Sheet8!A314)*(Deduction!$B$3:$B$501=Sheet8!B314)*(Deduction!$C$3:$C$501=Sheet8!D314),0),9)","v":0},{"$f":"INDEX(Deduction!$A$3:$K$501,MATCH(1,(Deduction!$A$3:$A$501=Sheet8!A314)*(Deduction!$B$3:$B$501=Sheet8!B314)*(Deduction!$C$3:$C$501=Sheet8!D314),0),10)","v":0},{"$f":"INDEX(Deduction!$A$3:$K$501,MATCH(1,(Deduction!$A$3:$A$501=Sheet8!A314)*(Deduction!$B$3:$B$501=Sheet8!B314)*(Deduction!$C$3:$C$501=Sheet8!D314),0),11)","v":0},{"$error":"#DIV/0!"},{"$f":"VLOOKUP(D314,Emp_Master!$B$3:$H$501,7)","v":{"$error":"#N/A"}}]
[{"$f":"Salary_Entitlement!A316","v":0},{"$f":"Salary_Entitlement!B316","v":0},{"$f":"Salary_Entitlement!C316","v":0},{"$f":"Salary_Entitlement!D316","v":0},{"$f":"Salary_Entitlement!E316","v":{"$error":"#N/A"}},{"$f":"Salary_Entitlement!F316","v":0},{"$f":"Salary_Entitlement!G316","v":0},{"$f":"Salary_Entitlement!H316","v":0},{"$f":"Salary_Entitlement!I316","v":0},{"$f":"Salary_Entitlement!J316","v":0},{"$f":"Salary_Entitlement!K316","v":0},{"$f":"Salary_Entitlement!L316","v":0},{"$f":"Salary_Entitlement!M316","v":0},{"$f":"Salary_Entitlement!N316","v":0},{"$f":"Salary_Entitlement!O316","v":0},{"$f":"Salary_Entitlement!P316","v":0},{"$error":"#DIV/0!"},{"$error":"#DIV/0!"},{"$f":"INDEX(Deduction!$A$3:$K$501,MATCH(1,(Deduction!$A$3:$A$501=Sheet8!A315)*(Deduction!$B$3:$B$501=Sheet8!B315)*(Deduction!$C$3:$C$501=Sheet8!D315),0),5)","v":0},{"$f":"INDEX(Deduction!$A$3:$K$501,MATCH(1,(Deduction!$A$3:$A$501=Sheet8!A315)*(Deduction!$B$3:$B$501=Sheet8!B315)*(Deduction!$C$3:$C$501=Sheet8!D315),0),6)","v":0},{"$f":"INDEX(Deduction!$A$3:$K$501,MATCH(1,(Deduction!$A$3:$A$501=Sheet8!A315)*(Deduction!$B$3:$B$501=Sheet8!B315)*(Deduction!$C$3:$C$501=Sheet8!D315),0),7)","v":0},{"$f":"INDEX(Deduction!$A$3:$K$501,MATCH(1,(Deduction!$A$3:$A$501=Sheet8!A315)*(Deduction!$B$3:$B$501=Sheet8!B315)*(Deduction!$C$3:$C$501=Sheet8!D315),0),8)","v":0},{"$f":"INDEX(Deduction!$A$3:$K$501,MATCH(1,(Deduction!$A$3:$A$501=Sheet8!A315)*(Deduction!$B$3:$B$501=Sheet8!B315)*(Deduction!$C$3:$C$501=Sheet8!D315),0),9)","v":0},{"$f":"INDEX(Deduction!$A$3:$K$501,MATCH(1,(Deduction!$A$3:$A$501=Sheet8!A315)*(Deduction!$B$3:$B$501=Sheet8!B315)*(Deduction!$C$3:$C$501=Sheet8!D315),0),10)","v":0},{"$f":"INDEX(Deduction!$A$3:$K$501,MATCH(1,(Deduction!$A$3:$A$501=Sheet8!A315)*(Deduction!$B$3:$B$501=Sheet8!B315)*(Deduction!$C$3:$C$501=Sheet8!D315),0),11)","v":0},{"$error":"#DIV/0!"},{"$f":"VLOOKUP(D315,Emp_Master!$B$3:$H$501,7)","v":{"$error":"#N/A"}}]
[{"$f":"Salary_Entitlement!A317","v":0},{"$f":"Salary_Entitlement!B317","v":0},{"$f":"Salary_Entitlement!C317","v":0},{"$f":"Salary_Entitlement!D317","v":0},{"$f":"Salary_Entitlement!E317","v":{"$error":"#N/A"}},{"$f":"Salary_Entitlement!F317","v":0},{"$f":"Salary_Entitlement!G317","v":0},{"$f":"Salary_Entitlement!H317","v":0},{"$f":"Salary_Entitlement!I317","v":0},{"$f":"Salary_Entitlement!J317","v":0},{"$f":"Salary_Entitlement!K317","v":0},{"$f":"Salary_Entitlement!L317","v":0},{"$f":"Salary_Entitlement!M317","v":0},{"$f":"Salary_Entitlement!N317","v":0},{"$f":"Salary_Entitlement!O317","v":0},{"$f":"Salary_Entitlement!P317","v":0},{"$error":"#DIV/0!"},{"$error":"#DIV/0!"},{"$f":"INDEX(Deduction!$A$3:$K$501,MATCH(1,(Deduction!$A$3:$A$501=Sheet8!A316)*(Deduction!$B$3:$B$501=Sheet8!B316)*(Deduction!$C$3:$C$501=Sheet8!D316),0),5)","v":0},{"$f":"INDEX(Deduction!$A$3:$K$501,MATCH(1,(Deduction!$A$3:$A$501=Sheet8!A316)*(Deduction!$B$3:$B$501=Sheet8!B316)*(Deduction!$C$3:$C$501=Sheet8!D316),0),6)","v":0},{"$f":"INDEX(Deduction!$A$3:$K$501,MATCH(1,(Deduction!$A$3:$A$501=Sheet8!A316)*(Deduction!$B$3:$B$501=Sheet8!B316)*(Deduction!$C$3:$C$501=Sheet8!D316),0),7)","v":0},{"$f":"INDEX(Deduction!$A$3:$K$501,MATCH(1,(Deduction!$A$3:$A$501=Sheet8!A316)*(Deduction!$B$3:$B$501=Sheet8!B316)*(Deduction!$C$3:$C$501=Sheet8!D316),0),8)","v":0},{"$f":"INDEX(Deduction!$A$3:$K$501,MATCH(1,(Deduction!$A$3:$A$501=Sheet8!A316)*(Deduction!$B$3:$B$501=Sheet8!B316)*(Deduction!$C$3:$C$501=Sheet8!D316),0),9)","v":0},{"$f":"INDEX(Deduction!$A$3:$K$501,MATCH(1,(Deduction!$A$3:$A$501=Sheet8!A316)*(Deduction!$B$3:$B$501=Sheet8!B316)*(Deduction!$C$3:$C$501=Sheet8!D316),0),10)","v":0},{"$f":"INDEX(Deduction!$A$3:$K$501,MATCH(1,(Deduction!$A$3:$A$501=Sheet8!A316)*(Deduction!$B$3:$B$501=Sheet8!B316)*(Deduction!$C$3:$C$501=Sheet8!D316),0),11)","v":0},{"$error":"#DIV/0!"},{"$f":"VLOOKUP(D316,Emp_Master!$B$3:$H$501,7)","v":{"$error":"#N/A"}}]
[{"$f":"Salary_Entitlement!A318","v":0},{"$f":"Salary_Entitlement!B318","v":0},{"$f":"Salary_Entitlement!C318","v":0},{"$f":"Salary_Entitlement!D318","v":0},{"$f":"Salary_Entitlement!E318","v":{"$error":"#N/A"}},{"$f":"Salary_Entitlement!F318","v":0},{"$f":"Salary_Entitlement!G318","v":0},{"$f":"Salary_Entitlement!H318","v":0},{"$f":"Salary_Entitlement!I318","v":0},{"$f":"Salary_Entitlement!J318","v":0},{"$f":"Salary_Entitlement!K318","v":0},{"$f":"Salary_Entitlement!L318","v":0},{"$f":"Salary_Entitlement!M318","v":0},{"$f":"Salary_Entitlement!N318","v":0},{"$f":"Salary_Entitlement!O318","v":0},{"$f":"Salary_Entitlement!P318","v":0},{"$error":"#DIV/0!"},{"$error":"#DIV/0!"},{"$f":"INDEX(Deduction!$A$3:$K$501,MATCH(1,(Deduction!$A$3:$A$501=Sheet8!A317)*(Deduction!$B$3:$B$501=Sheet8!B317)*(Deduction!$C$3:$C$501=Sheet8!D317),0),5)","v":0},{"$f":"INDEX(Deduction!$A$3:$K$501,MATCH(1,(Deduction!$A$3:$A$501=Sheet8!A317)*(Deduction!$B$3:$B$501=Sheet8!B317)*(Deduction!$C$3:$C$501=Sheet8!D317),0),6)","v":0},{"$f":"INDEX(Deduction!$A$3:$K$501,MATCH(1,(Deduction!$A$3:$A$501=Sheet8!A317)*(Deduction!$B$3:$B$501=Sheet8!B317)*(Deduction!$C$3:$C$501=Sheet8!D317),0),7)","v":0},{"$f":"INDEX(Deduction!$A$3:$K$501,MATCH(1,(Deduction!$A$3:$A$501=Sheet8!A317)*(Deduction!$B$3:$B$501=Sheet8!B317)*(Deduction!$C$3:$C$501=Sheet8!D317),0),8)","v":0},{"$f":"INDEX(Deduction!$A$3:$K$501,MATCH(1,(Deduction!$A$3:$A$501=Sheet8!A317)*(Deduction!$B$3:$B$501=Sheet8!B317)*(Deduction!$C$3:$C$501=Sheet8!D317),0),9)","v":0},{"$f":"INDEX(Deduction!$A$3:$K$501,MATCH(1,(Deduction!$A$3:$A$501=Sheet8!A317)*(Deduction!$B$3:$B$501=Sheet8!B317)*(Deduction!$C$3:$C$501=Sheet8!D317),0),10)","v":0},{"$f":"INDEX(Deduction!$A$3:$K$501,MATCH(1,(Deduction!$A$3:$A$501=Sheet8!A317)*(Deduction!$B$3:$B$501=Sheet8!B317)*(Deduction!$C$3:$C$501=Sheet8!D317),0),11)","v":0},{"$error":"#DIV/0!"},{"$f":"VLOOKUP(D317,Emp_Master!$B$3:$H$501,7)","v":{"$error":"#N/A"}}]
[{"$f":"Salary_Entitlement!A319","v":0},{"$f":"Salary_Entitlement!B319","v":0},{"$f":"Salary_Entitlement!C319","v":0},{"$f":"Salary_Entitlement!D319","v":0},{"$f":"Salary_Entitlement!E319","v":{"$error":"#N/A"}},{"$f":"Salary_Entitlement!F319","v":0},{"$f":"Salary_Entitlement!G319","v":0},{"$f":"Salary_Entitlement!H319","v":0},{"$f":"Salary_Entitlement!I319","v":0},{"$f":"Salary_Entitlement!J319","v":0},{"$f":"Salary_Entitlement!K319","v":0},{"$f":"Salary_Entitlement!L319","v":0},{"$f":"Salary_Entitlement!M319","v":0},{"$f":"Salary_Entitlement!N319","v":0},{"$f":"Salary_Entitlement!O319","v":0},{"$f":"Salary_Entitlement!P319","v":0},{"$error":"#DIV/0!"},{"$error":"#DIV/0!"},{"$f":"INDEX(Deduction!$A$3:$K$501,MATCH(1,(Deduction!$A$3:$A$501=Sheet8!A318)*(Deduction!$B$3:$B$501=Sheet8!B318)*(Deduction!$C$3:$C$501=Sheet8!D318),0),5)","v":0},{"$f":"INDEX(Deduction!$A$3:$K$501,MATCH(1,(Deduction!$A$3:$A$501=Sheet8!A318)*(Deduction!$B$3:$B$501=Sheet8!B318)*(Deduction!$C$3:$C$501=Sheet8!D318),0),6)","v":0},{"$f":"INDEX(Deduction!$A$3:$K$501,MATCH(1,(Deduction!$A$3:$A$501=Sheet8!A318)*(Deduction!$B$3:$B$501=Sheet8!B318)*(Deduction!$C$3:$C$501=Sheet8!D318),0),7)","v":0},{"$f":"INDEX(Deduction!$A$3:$K$501,MATCH(1,(Deduction!$A$3:$A$501=Sheet8!A318)*(Deduction!$B$3:$B$501=Sheet8!B318)*(Deduction!$C$3:$C$501=Sheet8!D318),0),8)","v":0},{"$f":"INDEX(Deduction!$A$3:$K$501,MATCH(1,(Deduction!$A$3:$A$501=Sheet8!A318)*(Deduction!$B$3:$B$501=Sheet8!B318)*(Deduction!$C$3:$C$501=Sheet8!D318),0),9)","v":0},{"$f":"INDEX(Deduction!$A$3:$K$501,MATCH(1,(Deduction!$A$3:$A$501=Sheet8!A318)*(Deduction!$B$3:$B$501=Sheet8!B318)*(Deduction!$C$3:$C$501=Sheet8!D318),0),10)","v":0},{"$f":"INDEX(Deduction!$A$3:$K$501,MATCH(1,(Deduction!$A$3:$A$501=Sheet8!A318)*(Deduction!$B$3:$B$501=Sheet8!B318)*(Deduction!$C$3:$C$501=Sheet8!D318),0),11)","v":0},{"$error":"#DIV/0!"},{"$f":"VLOOKUP(D318,Emp_Master!$B$3:$H$501,7)","v":{"$error":"#N/A"}}]
[{"$f":"Salary_Entitlement!A320","v":0},{"$f":"Salary_Entitlement!B320","v":0},{"$f":"Salary_Entitlement!C320","v":0},{"$f":"Salary_Entitlement!D320","v":0},{"$f":"Salary_Entitlement!E320","v":{"$error":"#N/A"}},{"$f":"Salary_Entitlement!F320","v":0},{"$f":"Salary_Entitlement!G320","v":0},{"$f":"Salary_Entitlement!H320","v":0},{"$f":"Salary_Entitlement!I320","v":0},{"$f":"Salary_Entitlement!J320","v":0},{"$f":"Salary_Entitlement!K320","v":0},{"$f":"Salary_Entitlement!L320","v":0},{"$f":"Salary_Entitlement!M320","v":0},{"$f":"Salary_Entitlement!N320","v":0},{"$f":"Salary_Entitlement!O320","v":0},{"$f":"Salary_Entitlement!P320","v":0},{"$error":"#DIV/0!"},{"$error":"#DIV/0!"},{"$f":"INDEX(Deduction!$A$3:$K$501,MATCH(1,(Deduction!$A$3:$A$501=Sheet8!A319)*(Deduction!$B$3:$B$501=Sheet8!B319)*(Deduction!$C$3:$C$501=Sheet8!D319),0),5)","v":0},{"$f":"INDEX(Deduction!$A$3:$K$501,MATCH(1,(Deduction!$A$3:$A$501=Sheet8!A319)*(Deduction!$B$3:$B$501=Sheet8!B319)*(Deduction!$C$3:$C$501=Sheet8!D319),0),6)","v":0},{"$f":"INDEX(Deduction!$A$3:$K$501,MATCH(1,(Deduction!$A$3:$A$501=Sheet8!A319)*(Deduction!$B$3:$B$501=Sheet8!B319)*(Deduction!$C$3:$C$501=Sheet8!D319),0),7)","v":0},{"$f":"INDEX(Deduction!$A$3:$K$501,MATCH(1,(Deduction!$A$3:$A$501=Sheet8!A319)*(Deduction!$B$3:$B$501=Sheet8!B319)*(Deduction!$C$3:$C$501=Sheet8!D319),0),8)","v":0},{"$f":"INDEX(Deduction!$A$3:$K$501,MATCH(1,(Deduction!$A$3:$A$501=Sheet8!A319)*(Deduction!$B$3:$B$501=Sheet8!B319)*(Deduction!$C$3:$C$501=Sheet8!D319),0),9)","v":0},{"$f":"INDEX(Deduction!$A$3:$K$501,MATCH(1,(Deduction!$A$3:$A$501=Sheet8!A319)*(Deduction!$B$3:$B$501=Sheet8!B319)*(Deduction!$C$3:$C$501=Sheet8!D319),0),10)","v":0},{"$f":"INDEX(Deduction!$A$3:$K$501,MATCH(1,(Deduction!$A$3:$A$501=Sheet8!A319)*(Deduction!$B$3:$B$501=Sheet8!B319)*(Deduction!$C$3:$C$501=Sheet8!D319),0),11)","v":0},{"$error":"#DIV/0!"},{"$f":"VLOOKUP(D319,Emp_Master!$B$3:$H$501,7)","v":{"$error":"#N/A"}}]
[{"$f":"Salary_Entitlement!A321","v":0},{"$f":"Salary_Entitlement!B321","v":0},{"$f":"Salary_Entitlement!C321","v":0},{"$f":"Salary_Entitlement!D321","v":0},{"$f":"Salary_Entitlement!E321","v":{"$error":"#N/A"}},{"$f":"Salary_Entitlement!F321","v":0},{"$f":"Salary_Entitlement!G321","v":0},{"$f":"Salary_Entitlement!H321","v":0},{"$f":"Salary_Entitlement!I321","v":0},{"$f":"Salary_Entitlement!J321","v":0},{"$f":"Salary_Entitlement!K321","v":0},{"$f":"Salary_Entitlement!L321","v":0},{"$f":"Salary_Entitlement!M321","v":0},{"$f":"Salary_Entitlement!N321","v":0},{"$f":"Salary_Entitlement!O321","v":0},{"$f":"Salary_Entitlement!P321","v":0},{"$error":"#DIV/0!"},{"$error":"#DIV/0!"},{"$f":"INDEX(Deduction!$A$3:$K$501,MATCH(1,(Deduction!$A$3:$A$501=Sheet8!A320)*(Deduction!$B$3:$B$501=Sheet8!B320)*(Deduction!$C$3:$C$501=Sheet8!D320),0),5)","v":0},{"$f":"INDEX(Deduction!$A$3:$K$501,MATCH(1,(Deduction!$A$3:$A$501=Sheet8!A320)*(Deduction!$B$3:$B$501=Sheet8!B320)*(Deduction!$C$3:$C$501=Sheet8!D320),0),6)","v":0},{"$f":"INDEX(Deduction!$A$3:$K$501,MATCH(1,(Deduction!$A$3:$A$501=Sheet8!A320)*(Deduction!$B$3:$B$501=Sheet8!B320)*(Deduction!$C$3:$C$501=Sheet8!D320),0),7)","v":0},{"$f":"INDEX(Deduction!$A$3:$K$501,MATCH(1,(Deduction!$A$3:$A$501=Sheet8!A320)*(Deduction!$B$3:$B$501=Sheet8!B320)*(Deduction!$C$3:$C$501=Sheet8!D320),0),8)","v":0},{"$f":"INDEX(Deduction!$A$3:$K$501,MATCH(1,(Deduction!$A$3:$A$501=Sheet8!A320)*(Deduction!$B$3:$B$501=Sheet8!B320)*(Deduction!$C$3:$C$501=Sheet8!D320),0),9)","v":0},{"$f":"INDEX(Deduction!$A$3:$K$501,MATCH(1,(Deduction!$A$3:$A$501=Sheet8!A320)*(Deduction!$B$3:$B$501=Sheet8!B320)*(Deduction!$C$3:$C$501=Sheet8!D320),0),10)","v":0},{"$f":"INDEX(Deduction!$A$3:$K$501,MATCH(1,(Deduction!$A$3:$A$501=Sheet8!A320)*(Deduction!$B$3:$B$501=Sheet8!B320)*(Deduction!$C$3:$C$501=Sheet8!D320),0),11)","v":0},{"$error":"#DIV/0!"},{"$f":"VLOOKUP(D320,Emp_Master!$B$3:$H$501,7)","v":{"$error":"#N/A"}}]
[{"$f":"Salary_Entitlement!A322","v":0},{"$f":"Salary_Entitlement!B322","v":0},{"$f":"Salary_Entitlement!C322","v":0},{"$f":"Salary_Entitlement!D322","v":0},{"$f":"Salary_Entitlement!E322","v":{"$error":"#N/A"}},{"$f":"Salary_Entitlement!F322","v":0},{"$f":"Salary_Entitlement!G322","v":0},{"$f":"Salary_Entitlement!H322","v":0},{"$f":"Salary_Entitlement!I322","v":0},{"$f":"Salary_Entitlement!J322","v":0},{"$f":"Salary_Entitlement!K322","v":0},{"$f":"Salary_Entitlement!L322","v":0},{"$f":"Salary_Entitlement!M322","v":0},{"$f":"Salary_Entitlement!N322","v":0},{"$f":"Salary_Entitlement!O322","v":0},{"$f":"Salary_Entitlement!P322","v":0},{"$error":"#DIV/0!"},{"$error":"#DIV/0!"},{"$f":"INDEX(Deduction!$A$3:$K$501,MATCH(1,(Deduction!$A$3:$A$501=Sheet8!A321)*(Deduction!$B$3:$B$501=Sheet8!B321)*(Deduction!$C$3:$C$501=Sheet8!D321),0),5)","v":0},{"$f":"INDEX(Deduction!$A$3:$K$501,MATCH(1,(Deduction!$A$3:$A$501=Sheet8!A321)*(Deduction!$B$3:$B$501=Sheet8!B321)*(Deduction!$C$3:$C$501=Sheet8!D321),0),6)","v":0},{"$f":"INDEX(Deduction!$A$3:$K$501,MATCH(1,(Deduction!$A$3:$A$501=Sheet8!A321)*(Deduction!$B$3:$B$501=Sheet8!B321)*(Deduction!$C$3:$C$501=Sheet8!D321),0),7)","v":0},{"$f":"INDEX(Deduction!$A$3:$K$501,MATCH(1,(Deduction!$A$3:$A$501=Sheet8!A321)*(Deduction!$B$3:$B$501=Sheet8!B321)*(Deduction!$C$3:$C$501=Sheet8!D321),0),8)","v":0},{"$f":"INDEX(Deduction!$A$3:$K$501,MATCH(1,(Deduction!$A$3:$A$501=Sheet8!A321)*(Deduction!$B$3:$B$501=Sheet8!B321)*(Deduction!$C$3:$C$501=Sheet8!D321),0),9)","v":0},{"$f":"INDEX(Deduction!$A$3:$K$501,MATCH(1,(Deduction!$A$3:$A$501=Sheet8!A321)*(Deduction!$B$3:$B$501=Sheet8!B321)*(Deduction!$C$3:$C$501=Sheet8!D321),0),10)","v":0},{"$f":"INDEX(Deduction!$A$3:$K$501,MATCH(1,(Deduction!$A$3:$A$501=Sheet8!A321)*(Deduction!$B$3:$B$501=Sheet8!B321)*(Deduction!$C$3:$C$501=Sheet8!D321),0),11)","v":0},{"$error":"#DIV/0!"},{"$f":"VLOOKUP(D321,Emp_Master!$B$3:$H$501,7)","v":{"$error":"#N/A"}}]
[{"$f":"Salary_Entitlement!A323","v":0},{"$f":"Salary_Entitlement!B323","v":0},{"$f":"Salary_Entitlement!C323","v":0},{"$f":"Salary_Entitlement!D323","v":0},{"$f":"Salary_Entitlement!E323","v":{"$error":"#N/A"}},{"$f":"Salary_Entitlement!F323","v":0},{"$f":"Salary_Entitlement!G323","v":0},{"$f":"Salary_Entitlement!H323","v":0},{"$f":"Salary_Entitlement!I323","v":0},{"$f":"Salary_Entitlement!J323","v":0},{"$f":"Salary_Entitlement!K323","v":0},{"$f":"Salary_Entitlement!L323","v":0},{"$f":"Salary_Entitlement!M323","v":0},{"$f":"Salary_Entitlement!N323","v":0},{"$f":"Salary_Entitlement!O323","v":0},{"$f":"Salary_Entitlement!P323","v":0},{"$error":"#DIV/0!"},{"$error":"#DIV/0!"},{"$f":"INDEX(Deduction!$A$3:$K$501,MATCH(1,(Deduction!$A$3:$A$501=Sheet8!A322)*(Deduction!$B$3:$B$501=Sheet8!B322)*(Deduction!$C$3:$C$501=Sheet8!D322),0),5)","v":0},{"$f":"INDEX(Deduction!$A$3:$K$501,MATCH(1,(Deduction!$A$3:$A$501=Sheet8!A322)*(Deduction!$B$3:$B$501=Sheet8!B322)*(Deduction!$C$3:$C$501=Sheet8!D322),0),6)","v":0},{"$f":"INDEX(Deduction!$A$3:$K$501,MATCH(1,(Deduction!$A$3:$A$501=Sheet8!A322)*(Deduction!$B$3:$B$501=Sheet8!B322)*(Deduction!$C$3:$C$501=Sheet8!D322),0),7)","v":0},{"$f":"INDEX(Deduction!$A$3:$K$501,MATCH(1,(Deduction!$A$3:$A$501=Sheet8!A322)*(Deduction!$B$3:$B$501=Sheet8!B322)*(Deduction!$C$3:$C$501=Sheet8!D322),0),8)","v":0},{"$f":"INDEX(Deduction!$A$3:$K$501,MATCH(1,(Deduction!$A$3:$A$501=Sheet8!A322)*(Deduction!$B$3:$B$501=Sheet8!B322)*(Deduction!$C$3:$C$501=Sheet8!D322),0),9)","v":0},{"$f":"INDEX(Deduction!$A$3:$K$501,MATCH(1,(Deduction!$A$3:$A$501=Sheet8!A322)*(Deduction!$B$3:$B$501=Sheet8!B322)*(Deduction!$C$3:$C$501=Sheet8!D322),0),10)","v":0},{"$f":"INDEX(Deduction!$A$3:$K$501,MATCH(1,(Deduction!$A$3:$A$501=Sheet8!A322)*(Deduction!$B$3:$B$501=Sheet8!B322)*(Deduction!$C$3:$C$501=Sheet8!D322),0),11)","v":0},{"$error":"#DIV/0!"},{"$f":"VLOOKUP(D322,Emp_Master!$B$3:$H$501,7)","v":{"$error":"#N/A"}}]
[{"$f":"Salary_Entitlement!A324","v":0},{"$f":"Salary_Entitlement!B324","v":0},{"$f":"Salary_Entitlement!C324","v":0},{"$f":"Salary_Entitlement!D324","v":0},{"$f":"Salary_Entitlement!E324","v":{"$error":"#N/A"}},{"$f":"Salary_Entitlement!F324","v":0},{"$f":"Salary_Entitlement!G324","v":0},{"$f":"Salary_Entitlement!H324","v":0},{"$f":"Salary_Entitlement!I324","v":0},{"$f":"Salary_Entitlement!J324","v":0},{"$f":"Salary_Entitlement!K324","v":0},{"$f":"Salary_Entitlement!L324","v":0},{"$f":"Salary_Entitlement!M324","v":0},{"$f":"Salary_Entitlement!N324","v":0},{"$f":"Salary_Entitlement!O324","v":0},{"$f":"Salary_Entitlement!P324","v":0},{"$error":"#DIV/0!"},{"$error":"#DIV/0!"},{"$f":"INDEX(Deduction!$A$3:$K$501,MATCH(1,(Deduction!$A$3:$A$501=Sheet8!A323)*(Deduction!$B$3:$B$501=Sheet8!B323)*(Deduction!$C$3:$C$501=Sheet8!D323),0),5)","v":0},{"$f":"INDEX(Deduction!$A$3:$K$501,MATCH(1,(Deduction!$A$3:$A$501=Sheet8!A323)*(Deduction!$B$3:$B$501=Sheet8!B323)*(Deduction!$C$3:$C$501=Sheet8!D323),0),6)","v":0},{"$f":"INDEX(Deduction!$A$3:$K$501,MATCH(1,(Deduction!$A$3:$A$501=Sheet8!A323)*(Deduction!$B$3:$B$501=Sheet8!B323)*(Deduction!$C$3:$C$501=Sheet8!D323),0),7)","v":0},{"$f":"INDEX(Deduction!$A$3:$K$501,MATCH(1,(Deduction!$A$3:$A$501=Sheet8!A323)*(Deduction!$B$3:$B$501=Sheet8!B323)*(Deduction!$C$3:$C$501=Sheet8!D323),0),8)","v":0},{"$f":"INDEX(Deduction!$A$3:$K$501,MATCH(1,(Deduction!$A$3:$A$501=Sheet8!A323)*(Deduction!$B$3:$B$501=Sheet8!B323)*(Deduction!$C$3:$C$501=Sheet8!D323),0),9)","v":0},{"$f":"INDEX(Deduction!$A$3:$K$501,MATCH(1,(Deduction!$A$3:$A$501=Sheet8!A323)*(Deduction!$B$3:$B$501=Sheet8!B323)*(Deduction!$C$3:$C$501=Sheet8!D323),0),10)","v":0},{"$f":"INDEX(Deduction!$A$3:$K$501,MATCH(1,(Deduction!$A$3:$A$501=Sheet8!A323)*(Deduction!$B$3:$B$501=Sheet8!B323)*(Deduction!$C$3:$C$501=Sheet8!D323),0),11)","v":0},{"$error":"#DIV/0!"},{"$f":"VLOOKUP(D323,Emp_Master!$B$3:$H$501,7)","v":{"$error":"#N/A"}}]
[{"$f":"Salary_Entitlement!A325","v":0},{"$f":"Salary_Entitlement!B325","v":0},{"$f":"Salary_Entitlement!C325","v":0},{"$f":"Salary_Entitlement!D325","v":0},{"$f":"Salary_Entitlement!E325","v":{"$error":"#N/A"}},{"$f":"Salary_Entitlement!F325","v":0},{"$f":"Salary_Entitlement!G325","v":0},{"$f":"Salary_Entitlement!H325","v":0},{"$f":"Salary_Entitlement!I325","v":0},{"$f":"Salary_Entitlement!J325","v":0},{"$f":"Salary_Entitlement!K325","v":0},{"$f":"Salary_Entitlement!L325","v":0},{"$f":"Salary_Entitlement!M325","v":0},{"$f":"Salary_Entitlement!N325","v":0},{"$f":"Salary_Entitlement!O325","v":0},{"$f":"Salary_Entitlement!P325","v":0},{"$error":"#DIV/0!"},{"$error":"#DIV/0!"},{"$f":"INDEX(Deduction!$A$3:$K$501,MATCH(1,(Deduction!$A$3:$A$501=Sheet8!A324)*(Deduction!$B$3:$B$501=Sheet8!B324)*(Deduction!$C$3:$C$501=Sheet8!D324),0),5)","v":0},{"$f":"INDEX(Deduction!$A$3:$K$501,MATCH(1,(Deduction!$A$3:$A$501=Sheet8!A324)*(Deduction!$B$3:$B$501=Sheet8!B324)*(Deduction!$C$3:$C$501=Sheet8!D324),0),6)","v":0},{"$f":"INDEX(Deduction!$A$3:$K$501,MATCH(1,(Deduction!$A$3:$A$501=Sheet8!A324)*(Deduction!$B$3:$B$501=Sheet8!B324)*(Deduction!$C$3:$C$501=Sheet8!D324),0),7)","v":0},{"$f":"INDEX(Deduction!$A$3:$K$501,MATCH(1,(Deduction!$A$3:$A$501=Sheet8!A324)*(Deduction!$B$3:$B$501=Sheet8!B324)*(Deduction!$C$3:$C$501=Sheet8!D324),0),8)","v":0},{"$f":"INDEX(Deduction!$A$3:$K$501,MATCH(1,(Deduction!$A$3:$A$501=Sheet8!A324)*(Deduction!$B$3:$B$501=Sheet8!B324)*(Deduction!$C$3:$C$501=Sheet8!D324),0),9)","v":0},{"$f":"INDEX(Deduction!$A$3:$K$501,MATCH(1,(Deduction!$A$3:$A$501=Sheet8!A324)*(Deduction!$B$3:$B$501=Sheet8!B324)*(Deduction!$C$3:$C$501=Sheet8!D324),0),10)","v":0},{"$f":"INDEX(Deduction!$A$3:$K$501,MATCH(1,(Deduction!$A$3:$A$501=Sheet8!A324)*(Deduction!$B$3:$B$501=Sheet8!B324)*(Deduction!$C$3:$C$501=Sheet8!D324),0),11)","v":0},{"$f":"+R324-SUM(S324:Y324)","v":{"$error":"#DIV/0!"}},{"$f":"VLOOKUP(D324,Emp_Master!$B$3:$H$501,7)","v":{"$error":"#N/A"}}]
[{"$f":"Salary_Entitlement!A326","v":0},{"$f":"Salary_Entitlement!B326","v":0},{"$f":"Salary_Entitlement!C326","v":0},{"$f":"Salary_Entitlement!D326","v":0},{"$f":"Salary_Entitlement!E326","v":{"$error":"#N/A"}},{"$f":"Salary_Entitlement!F326","v":0},{"$f":"Salary_Entitlement!G326","v":0},{"$f":"Salary_Entitlement!H326","v":0},{"$f":"Salary_Entitlement!I326","v":0},{"$f":"Salary_Entitlement!J326","v":0},{"$f":"Salary_Entitlement!K326","v":0},{"$f":"Salary_Entitlement!L326","v":0},{"$f":"Salary_Entitlement!M326","v":0},{"$f":"Salary_Entitlement!N326","v":0},{"$f":"Salary_Entitlement!O326","v":0},{"$f":"Salary_Entitlement!P326","v":0},{"$error":"#DIV/0!"},{"$error":"#DIV/0!"},{"$f":"INDEX(Deduction!$A$3:$K$501,MATCH(1,(Deduction!$A$3:$A$501=Sheet8!A325)*(Deduction!$B$3:$B$501=Sheet8!B325)*(Deduction!$C$3:$C$501=Sheet8!D325),0),5)","v":0},{"$f":"INDEX(Deduction!$A$3:$K$501,MATCH(1,(Deduction!$A$3:$A$501=Sheet8!A325)*(Deduction!$B$3:$B$501=Sheet8!B325)*(Deduction!$C$3:$C$501=Sheet8!D325),0),6)","v":0},{"$f":"INDEX(Deduction!$A$3:$K$501,MATCH(1,(Deduction!$A$3:$A$501=Sheet8!A325)*(Deduction!$B$3:$B$501=Sheet8!B325)*(Deduction!$C$3:$C$501=Sheet8!D325),0),7)","v":0},{"$f":"INDEX(Deduction!$A$3:$K$501,MATCH(1,(Deduction!$A$3:$A$501=Sheet8!A325)*(Deduction!$B$3:$B$501=Sheet8!B325)*(Deduction!$C$3:$C$501=Sheet8!D325),0),8)","v":0},{"$f":"INDEX(Deduction!$A$3:$K$501,MATCH(1,(Deduction!$A$3:$A$501=Sheet8!A325)*(Deduction!$B$3:$B$501=Sheet8!B325)*(Deduction!$C$3:$C$501=Sheet8!D325),0),9)","v":0},{"$f":"INDEX(Deduction!$A$3:$K$501,MATCH(1,(Deduction!$A$3:$A$501=Sheet8!A325)*(Deduction!$B$3:$B$501=Sheet8!B325)*(Deduction!$C$3:$C$501=Sheet8!D325),0),10)","v":0},{"$f":"INDEX(Deduction!$A$3:$K$501,MATCH(1,(Deduction!$A$3:$A$501=Sheet8!A325)*(Deduction!$B$3:$B$501=Sheet8!B325)*(Deduction!$C$3:$C$501=Sheet8!D325),0),11)","v":0},{"$error":"#DIV/0!"},{"$f":"VLOOKUP(D325,Emp_Master!$B$3:$H$501,7)","v":{"$error":"#N/A"}}]
[{"$f":"Salary_Entitlement!A327","v":0},{"$f":"Salary_Entitlement!B327","v":0},{"$f":"Salary_Entitlement!C327","v":0},{"$f":"Salary_Entitlement!D327","v":0},{"$f":"Salary_Entitlement!E327","v":{"$error":"#N/A"}},{"$f":"Salary_Entitlement!F327","v":0},{"$f":"Salary_Entitlement!G327","v":0},{"$f":"Salary_Entitlement!H327","v":0},{"$f":"Salary_Entitlement!I327","v":0},{"$f":"Salary_Entitlement!J327","v":0},{"$f":"Salary_Entitlement!K327","v":0},{"$f":"Salary_Entitlement!L327","v":0},{"$f":"Salary_Entitlement!M327","v":0},{"$f":"Salary_Entitlement!N327","v":0},{"$f":"Salary_Entitlement!O327","v":0},{"$f":"Salary_Entitlement!P327","v":0},{"$error":"#DIV/0!"},{"$error":"#DIV/0!"},{"$f":"INDEX(Deduction!$A$3:$K$501,MATCH(1,(Deduction!$A$3:$A$501=Sheet8!A326)*(Deduction!$B$3:$B$501=Sheet8!B326)*(Deduction!$C$3:$C$501=Sheet8!D326),0),5)","v":0},{"$f":"INDEX(Deduction!$A$3:$K$501,MATCH(1,(Deduction!$A$3:$A$501=Sheet8!A326)*(Deduction!$B$3:$B$501=Sheet8!B326)*(Deduction!$C$3:$C$501=Sheet8!D326),0),6)","v":0},{"$f":"INDEX(Deduction!$A$3:$K$501,MATCH(1,(Deduction!$A$3:$A$501=Sheet8!A326)*(Deduction!$B$3:$B$501=Sheet8!B326)*(Deduction!$C$3:$C$501=Sheet8!D326),0),7)","v":0},{"$f":"INDEX(Deduction!$A$3:$K$501,MATCH(1,(Deduction!$A$3:$A$501=Sheet8!A326)*(Deduction!$B$3:$B$501=Sheet8!B326)*(Deduction!$C$3:$C$501=Sheet8!D326),0),8)","v":0},{"$f":"INDEX(Deduction!$A$3:$K$501,MATCH(1,(Deduction!$A$3:$A$501=Sheet8!A326)*(Deduction!$B$3:$B$501=Sheet8!B326)*(Deduction!$C$3:$C$501=Sheet8!D326),0),9)","v":0},{"$f":"INDEX(Deduction!$A$3:$K$501,MATCH(1,(Deduction!$A$3:$A$501=Sheet8!A326)*(Deduction!$B$3:$B$501=Sheet8!B326)*(Deduction!$C$3:$C$501=Sheet8!D326),0),10)","v":0},{"$f":"INDEX(Deduction!$A$3:$K$501,MATCH(1,(Deduction!$A$3:$A$501=Sheet8!A326)*(Deduction!$B$3:$B$501=Sheet8!B326)*(Deduction!$C$3:$C$501=Sheet8!D326),0),11)","v":0},{"$error":"#DIV/0!"},{"$f":"VLOOKUP(D326,Emp_Master!$B$3:$H$501,7)","v":{"$error":"#N/A"}}]
[{"$f":"Salary_Entitlement!A328","v":0},{"$f":"Salary_Entitlement!B328","v":0},{"$f":"Salary_Entitlement!C328","v":0},{"$f":"Salary_Entitlement!D328","v":0},{"$f":"Salary_Entitlement!E328","v":{"$error":"#N/A"}},{"$f":"Salary_Entitlement!F328","v":0},{"$f":"Salary_Entitlement!G328","v":0},{"$f":"Salary_Entitlement!H328","v":0},{"$f":"Salary_Entitlement!I328","v":0},{"$f":"Salary_Entitlement!J328","v":0},{"$f":"Salary_Entitlement!K328","v":0},{"$f":"Salary_Entitlement!L328","v":0},{"$f":"Salary_Entitlement!M328","v":0},{"$f":"Salary_Entitlement!N328","v":0},{"$f":"Salary_Entitlement!O328","v":0},{"$f":"Salary_Entitlement!P328","v":0},{"$error":"#DIV/0!"},{"$error":"#DIV/0!"},{"$f":"INDEX(Deduction!$A$3:$K$501,MATCH(1,(Deduction!$A$3:$A$501=Sheet8!A327)*(Deduction!$B$3:$B$501=Sheet8!B327)*(Deduction!$C$3:$C$501=Sheet8!D327),0),5)","v":0},{"$f":"INDEX(Deduction!$A$3:$K$501,MATCH(1,(Deduction!$A$3:$A$501=Sheet8!A327)*(Deduction!$B$3:$B$501=Sheet8!B327)*(Deduction!$C$3:$C$501=Sheet8!D327),0),6)","v":0},{"$f":"INDEX(Deduction!$A$3:$K$501,MATCH(1,(Deduction!$A$3:$A$501=Sheet8!A327)*(Deduction!$B$3:$B$501=Sheet8!B327)*(Deduction!$C$3:$C$501=Sheet8!D327),0),7)","v":0},{"$f":"INDEX(Deduction!$A$3:$K$501,MATCH(1,(Deduction!$A$3:$A$501=Sheet8!A327)*(Deduction!$B$3:$B$501=Sheet8!B327)*(Deduction!$C$3:$C$501=Sheet8!D327),0),8)","v":0},{"$f":"INDEX(Deduction!$A$3:$K$501,MATCH(1,(Deduction!$A$3:$A$501=Sheet8!A327)*(Deduction!$B$3:$B$501=Sheet8!B327)*(Deduction!$C$3:$C$501=Sheet8!D327),0),9)","v":0},{"$f":"INDEX(Deduction!$A$3:$K$501,MATCH(1,(Deduction!$A$3:$A$501=Sheet8!A327)*(Deduction!$B$3:$B$501=Sheet8!B327)*(Deduction!$C$3:$C$501=Sheet8!D327),0),10)","v":0},{"$f":"INDEX(Deduction!$A$3:$K$501,MATCH(1,(Deduction!$A$3:$A$501=Sheet8!A327)*(Deduction!$B$3:$B$501=Sheet8!B327)*(Deduction!$C$3:$C$501=Sheet8!D327),0),11)","v":0},{"$error":"#DIV/0!"},{"$f":"VLOOKUP(D327,Emp_Master!$B$3:$H$501,7)","v":{"$error":"#N/A"}}]
[{"$f":"Salary_Entitlement!A329","v":0},{"$f":"Salary_Entitlement!B329","v":0},{"$f":"Salary_Entitlement!C329","v":0},{"$f":"Salary_Entitlement!D329","v":0},{"$f":"Salary_Entitlement!E329","v":{"$error":"#N/A"}},{"$f":"Salary_Entitlement!F329","v":0},{"$f":"Salary_Entitlement!G329","v":0},{"$f":"Salary_Entitlement!H329","v":0},{"$f":"Salary_Entitlement!I329","v":0},{"$f":"Salary_Entitlement!J329","v":0},{"$f":"Salary_Entitlement!K329","v":0},{"$f":"Salary_Entitlement!L329","v":0},{"$f":"Salary_Entitlement!M329","v":0},{"$f":"Salary_Entitlement!N329","v":0},{"$f":"Salary_Entitlement!O329","v":0},{"$f":"Salary_Entitlement!P329","v":0},{"$error":"#DIV/0!"},{"$error":"#DIV/0!"},{"$f":"INDEX(Deduction!$A$3:$K$501,MATCH(1,(Deduction!$A$3:$A$501=Sheet8!A328)*(Deduction!$B$3:$B$501=Sheet8!B328)*(Deduction!$C$3:$C$501=Sheet8!D328),0),5)","v":0},{"$f":"INDEX(Deduction!$A$3:$K$501,MATCH(1,(Deduction!$A$3:$A$501=Sheet8!A328)*(Deduction!$B$3:$B$501=Sheet8!B328)*(Deduction!$C$3:$C$501=Sheet8!D328),0),6)","v":0},{"$f":"INDEX(Deduction!$A$3:$K$501,MATCH(1,(Deduction!$A$3:$A$501=Sheet8!A328)*(Deduction!$B$3:$B$501=Sheet8!B328)*(Deduction!$C$3:$C$501=Sheet8!D328),0),7)","v":0},{"$f":"INDEX(Deduction!$A$3:$K$501,MATCH(1,(Deduction!$A$3:$A$501=Sheet8!A328)*(Deduction!$B$3:$B$501=Sheet8!B328)*(Deduction!$C$3:$C$501=Sheet8!D328),0),8)","v":0},{"$f":"INDEX(Deduction!$A$3:$K$501,MATCH(1,(Deduction!$A$3:$A$501=Sheet8!A328)*(Deduction!$B$3:$B$501=Sheet8!B328)*(Deduction!$C$3:$C$501=Sheet8!D328),0),9)","v":0},{"$f":"INDEX(Deduction!$A$3:$K$501,MATCH(1,(Deduction!$A$3:$A$501=Sheet8!A328)*(Deduction!$B$3:$B$501=Sheet8!B328)*(Deduction!$C$3:$C$501=Sheet8!D328),0),10)","v":0},{"$f":"INDEX(Deduction!$A$3:$K$501,MATCH(1,(Deduction!$A$3:$A$501=Sheet8!A328)*(Deduction!$B$3:$B$501=Sheet8!B328)*(Deduction!$C$3:$C$501=Sheet8!D328),0),11)","v":0},{"$error":"#DIV/0!"},{"$f":"VLOOKUP(D328,Emp_Master!$B$3:$H$501,7)","v":{"$error":"#N/A"}}]
[{"$f":"Salary_Entitlement!A330","v":0},{"$f":"Salary_Entitlement!B330","v":0},{"$f":"Salary_Entitlement!C330","v":0},{"$f":"Salary_Entitlement!D330","v":0},{"$f":"Salary_Entitlement!E330","v":{"$error":"#N/A"}},{"$f":"Salary_Entitlement!F330","v":0},{"$f":"Salary_Entitlement!G330","v":0},{"$f":"Salary_Entitlement!H330","v":0},{"$f":"Salary_Entitlement!I330","v":0},{"$f":"Salary_Entitlement!J330","v":0},{"$f":"Salary_Entitlement!K330","v":0},{"$f":"Salary_Entitlement!L330","v":0},{"$f":"Salary_Entitlement!M330","v":0},{"$f":"Salary_Entitlement!N330","v":0},{"$f":"Salary_Entitlement!O330","v":0},{"$f":"Salary_Entitlement!P330","v":0},{"$error":"#DIV/0!"},{"$error":"#DIV/0!"},{"$f":"INDEX(Deduction!$A$3:$K$501,MATCH(1,(Deduction!$A$3:$A$501=Sheet8!A329)*(Deduction!$B$3:$B$501=Sheet8!B329)*(Deduction!$C$3:$C$501=Sheet8!D329),0),5)","v":0},{"$f":"INDEX(Deduction!$A$3:$K$501,MATCH(1,(Deduction!$A$3:$A$501=Sheet8!A329)*(Deduction!$B$3:$B$501=Sheet8!B329)*(Deduction!$C$3:$C$501=Sheet8!D329),0),6)","v":0},{"$f":"INDEX(Deduction!$A$3:$K$501,MATCH(1,(Deduction!$A$3:$A$501=Sheet8!A329)*(Deduction!$B$3:$B$501=Sheet8!B329)*(Deduction!$C$3:$C$501=Sheet8!D329),0),7)","v":0},{"$f":"INDEX(Deduction!$A$3:$K$501,MATCH(1,(Deduction!$A$3:$A$501=Sheet8!A329)*(Deduction!$B$3:$B$501=Sheet8!B329)*(Deduction!$C$3:$C$501=Sheet8!D329),0),8)","v":0},{"$f":"INDEX(Deduction!$A$3:$K$501,MATCH(1,(Deduction!$A$3:$A$501=Sheet8!A329)*(Deduction!$B$3:$B$501=Sheet8!B329)*(Deduction!$C$3:$C$501=Sheet8!D329),0),9)","v":0},{"$f":"INDEX(Deduction!$A$3:$K$501,MATCH(1,(Deduction!$A$3:$A$501=Sheet8!A329)*(Deduction!$B$3:$B$501=Sheet8!B329)*(Deduction!$C$3:$C$501=Sheet8!D329),0),10)","v":0},{"$f":"INDEX(Deduction!$A$3:$K$501,MATCH(1,(Deduction!$A$3:$A$501=Sheet8!A329)*(Deduction!$B$3:$B$501=Sheet8!B329)*(Deduction!$C$3:$C$501=Sheet8!D329),0),11)","v":0},{"$error":"#DIV/0!"},{"$f":"VLOOKUP(D329,Emp_Master!$B$3:$H$501,7)","v":{"$error":"#N/A"}}]
[{"$f":"Salary_Entitlement!A331","v":0},{"$f":"Salary_Entitlement!B331","v":0},{"$f":"Salary_Entitlement!C331","v":0},{"$f":"Salary_Entitlement!D331","v":0},{"$f":"Salary_Entitlement!E331","v":{"$error":"#N/A"}},{"$f":"Salary_Entitlement!F331","v":0},{"$f":"Salary_Entitlement!G331","v":0},{"$f":"Salary_Entitlement!H331","v":0},{"$f":"Salary_Entitlement!I331","v":0},{"$f":"Salary_Entitlement!J331","v":0},{"$f":"Salary_Entitlement!K331","v":0},{"$f":"Salary_Entitlement!L331","v":0},{"$f":"Salary_Entitlement!M331","v":0},{"$f":"Salary_Entitlement!N331","v":0},{"$f":"Salary_Entitlement!O331","v":0},{"$f":"Salary_Entitlement!P331","v":0},{"$error":"#DIV/0!"},{"$error":"#DIV/0!"},{"$f":"INDEX(Deduction!$A$3:$K$501,MATCH(1,(Deduction!$A$3:$A$501=Sheet8!A330)*(Deduction!$B$3:$B$501=Sheet8!B330)*(Deduction!$C$3:$C$501=Sheet8!D330),0),5)","v":0},{"$f":"INDEX(Deduction!$A$3:$K$501,MATCH(1,(Deduction!$A$3:$A$501=Sheet8!A330)*(Deduction!$B$3:$B$501=Sheet8!B330)*(Deduction!$C$3:$C$501=Sheet8!D330),0),6)","v":0},{"$f":"INDEX(Deduction!$A$3:$K$501,MATCH(1,(Deduction!$A$3:$A$501=Sheet8!A330)*(Deduction!$B$3:$B$501=Sheet8!B330)*(Deduction!$C$3:$C$501=Sheet8!D330),0),7)","v":0},{"$f":"INDEX(Deduction!$A$3:$K$501,MATCH(1,(Deduction!$A$3:$A$501=Sheet8!A330)*(Deduction!$B$3:$B$501=Sheet8!B330)*(Deduction!$C$3:$C$501=Sheet8!D330),0),8)","v":0},{"$f":"INDEX(Deduction!$A$3:$K$501,MATCH(1,(Deduction!$A$3:$A$501=Sheet8!A330)*(Deduction!$B$3:$B$501=Sheet8!B330)*(Deduction!$C$3:$C$501=Sheet8!D330),0),9)","v":0},{"$f":"INDEX(Deduction!$A$3:$K$501,MATCH(1,(Deduction!$A$3:$A$501=Sheet8!A330)*(Deduction!$B$3:$B$501=Sheet8!B330)*(Deduction!$C$3:$C$501=Sheet8!D330),0),10)","v":0},{"$f":"INDEX(Deduction!$A$3:$K$501,MATCH(1,(Deduction!$A$3:$A$501=Sheet8!A330)*(Deduction!$B$3:$B$501=Sheet8!B330)*(Deduction!$C$3:$C$501=Sheet8!D330),0),11)","v":0},{"$error":"#DIV/0!"},{"$f":"VLOOKUP(D330,Emp_Master!$B$3:$H$501,7)","v":{"$error":"#N/A"}}]
[{"$f":"Salary_Entitlement!A332","v":0},{"$f":"Salary_Entitlement!B332","v":0},{"$f":"Salary_Entitlement!C332","v":0},{"$f":"Salary_Entitlement!D332","v":0},{"$f":"Salary_Entitlement!E332","v":{"$error":"#N/A"}},{"$f":"Salary_Entitlement!F332","v":0},{"$f":"Salary_Entitlement!G332","v":0},{"$f":"Salary_Entitlement!H332","v":0},{"$f":"Salary_Entitlement!I332","v":0},{"$f":"Salary_Entitlement!J332","v":0},{"$f":"Salary_Entitlement!K332","v":0},{"$f":"Salary_Entitlement!L332","v":0},{"$f":"Salary_Entitlement!M332","v":0},{"$f":"Salary_Entitlement!N332","v":0},{"$f":"Salary_Entitlement!O332","v":0},{"$f":"Salary_Entitlement!P332","v":0},{"$error":"#DIV/0!"},{"$error":"#DIV/0!"},{"$f":"INDEX(Deduction!$A$3:$K$501,MATCH(1,(Deduction!$A$3:$A$501=Sheet8!A331)*(Deduction!$B$3:$B$501=Sheet8!B331)*(Deduction!$C$3:$C$501=Sheet8!D331),0),5)","v":0},{"$f":"INDEX(Deduction!$A$3:$K$501,MATCH(1,(Deduction!$A$3:$A$501=Sheet8!A331)*(Deduction!$B$3:$B$501=Sheet8!B331)*(Deduction!$C$3:$C$501=Sheet8!D331),0),6)","v":0},{"$f":"INDEX(Deduction!$A$3:$K$501,MATCH(1,(Deduction!$A$3:$A$501=Sheet8!A331)*(Deduction!$B$3:$B$501=Sheet8!B331)*(Deduction!$C$3:$C$501=Sheet8!D331),0),7)","v":0},{"$f":"INDEX(Deduction!$A$3:$K$501,MATCH(1,(Deduction!$A$3:$A$501=Sheet8!A331)*(Deduction!$B$3:$B$501=Sheet8!B331)*(Deduction!$C$3:$C$501=Sheet8!D331),0),8)","v":0},{"$f":"INDEX(Deduction!$A$3:$K$501,MATCH(1,(Deduction!$A$3:$A$501=Sheet8!A331)*(Deduction!$B$3:$B$501=Sheet8!B331)*(Deduction!$C$3:$C$501=Sheet8!D331),0),9)","v":0},{"$f":"INDEX(Deduction!$A$3:$K$501,MATCH(1,(Deduction!$A$3:$A$501=Sheet8!A331)*(Deduction!$B$3:$B$501=Sheet8!B331)*(Deduction!$C$3:$C$501=Sheet8!D331),0),10)","v":0},{"$f":"INDEX(Deduction!$A$3:$K$501,MATCH(1,(Deduction!$A$3:$A$501=Sheet8!A331)*(Deduction!$B$3:$B$501=Sheet8!B331)*(Deduction!$C$3:$C$501=Sheet8!D331),0),11)","v":0},{"$error":"#DIV/0!"},{"$f":"VLOOKUP(D331,Emp_Master!$B$3:$H$501,7)","v":{"$error":"#N/A"}}]
[{"$f":"Salary_Entitlement!A333","v":0},{"$f":"Salary_Entitlement!B333","v":0},{"$f":"Salary_Entitlement!C333","v":0},{"$f":"Salary_Entitlement!D333","v":0},{"$f":"Salary_Entitlement!E333","v":{"$error":"#N/A"}},{"$f":"Salary_Entitlement!F333","v":0},{"$f":"Salary_Entitlement!G333","v":0},{"$f":"Salary_Entitlement!H333","v":0},{"$f":"Salary_Entitlement!I333","v":0},{"$f":"Salary_Entitlement!J333","v":0},{"$f":"Salary_Entitlement!K333","v":0},{"$f":"Salary_Entitlement!L333","v":0},{"$f":"Salary_Entitlement!M333","v":0},{"$f":"Salary_Entitlement!N333","v":0},{"$f":"Salary_Entitlement!O333","v":0},{"$f":"Salary_Entitlement!P333","v":0},{"$error":"#DIV/0!"},{"$error":"#DIV/0!"},{"$f":"INDEX(Deduction!$A$3:$K$501,MATCH(1,(Deduction!$A$3:$A$501=Sheet8!A332)*(Deduction!$B$3:$B$501=Sheet8!B332)*(Deduction!$C$3:$C$501=Sheet8!D332),0),5)","v":0},{"$f":"INDEX(Deduction!$A$3:$K$501,MATCH(1,(Deduction!$A$3:$A$501=Sheet8!A332)*(Deduction!$B$3:$B$501=Sheet8!B332)*(Deduction!$C$3:$C$501=Sheet8!D332),0),6)","v":0},{"$f":"INDEX(Deduction!$A$3:$K$501,MATCH(1,(Deduction!$A$3:$A$501=Sheet8!A332)*(Deduction!$B$3:$B$501=Sheet8!B332)*(Deduction!$C$3:$C$501=Sheet8!D332),0),7)","v":0},{"$f":"INDEX(Deduction!$A$3:$K$501,MATCH(1,(Deduction!$A$3:$A$501=Sheet8!A332)*(Deduction!$B$3:$B$501=Sheet8!B332)*(Deduction!$C$3:$C$501=Sheet8!D332),0),8)","v":0},{"$f":"INDEX(Deduction!$A$3:$K$501,MATCH(1,(Deduction!$A$3:$A$501=Sheet8!A332)*(Deduction!$B$3:$B$501=Sheet8!B332)*(Deduction!$C$3:$C$501=Sheet8!D332),0),9)","v":0},{"$f":"INDEX(Deduction!$A$3:$K$501,MATCH(1,(Deduction!$A$3:$A$501=Sheet8!A332)*(Deduction!$B$3:$B$501=Sheet8!B332)*(Deduction!$C$3:$C$501=Sheet8!D332),0),10)","v":0},{"$f":"INDEX(Deduction!$A$3:$K$501,MATCH(1,(Deduction!$A$3:$A$501=Sheet8!A332)*(Deduction!$B$3:$B$501=Sheet8!B332)*(Deduction!$C$3:$C$501=Sheet8!D332),0),11)","v":0},{"$error":"#DIV/0!"},{"$f":"VLOOKUP(D332,Emp_Master!$B$3:$H$501,7)","v":{"$error":"#N/A"}}]
[{"$f":"Salary_Entitlement!A334","v":0},{"$f":"Salary_Entitlement!B334","v":0},{"$f":"Salary_Entitlement!C334","v":0},{"$f":"Salary_Entitlement!D334","v":0},{"$f":"Salary_Entitlement!E334","v":{"$error":"#N/A"}},{"$f":"Salary_Entitlement!F334","v":0},{"$f":"Salary_Entitlement!G334","v":0},{"$f":"Salary_Entitlement!H334","v":0},{"$f":"Salary_Entitlement!I334","v":0},{"$f":"Salary_Entitlement!J334","v":0},{"$f":"Salary_Entitlement!K334","v":0},{"$f":"Salary_Entitlement!L334","v":0},{"$f":"Salary_Entitlement!M334","v":0},{"$f":"Salary_Entitlement!N334","v":0},{"$f":"Salary_Entitlement!O334","v":0},{"$f":"Salary_Entitlement!P334","v":0},{"$error":"#DIV/0!"},{"$error":"#DIV/0!"},{"$f":"INDEX(Deduction!$A$3:$K$501,MATCH(1,(Deduction!$A$3:$A$501=Sheet8!A333)*(Deduction!$B$3:$B$501=Sheet8!B333)*(Deduction!$C$3:$C$501=Sheet8!D333),0),5)","v":0},{"$f":"INDEX(Deduction!$A$3:$K$501,MATCH(1,(Deduction!$A$3:$A$501=Sheet8!A333)*(Deduction!$B$3:$B$501=Sheet8!B333)*(Deduction!$C$3:$C$501=Sheet8!D333),0),6)","v":0},{"$f":"INDEX(Deduction!$A$3:$K$501,MATCH(1,(Deduction!$A$3:$A$501=Sheet8!A333)*(Deduction!$B$3:$B$501=Sheet8!B333)*(Deduction!$C$3:$C$501=Sheet8!D333),0),7)","v":0},{"$f":"INDEX(Deduction!$A$3:$K$501,MATCH(1,(Deduction!$A$3:$A$501=Sheet8!A333)*(Deduction!$B$3:$B$501=Sheet8!B333)*(Deduction!$C$3:$C$501=Sheet8!D333),0),8)","v":0},{"$f":"INDEX(Deduction!$A$3:$K$501,MATCH(1,(Deduction!$A$3:$A$501=Sheet8!A333)*(Deduction!$B$3:$B$501=Sheet8!B333)*(Deduction!$C$3:$C$501=Sheet8!D333),0),9)","v":0},{"$f":"INDEX(Deduction!$A$3:$K$501,MATCH(1,(Deduction!$A$3:$A$501=Sheet8!A333)*(Deduction!$B$3:$B$501=Sheet8!B333)*(Deduction!$C$3:$C$501=Sheet8!D333),0),10)","v":0},{"$f":"INDEX(Deduction!$A$3:$K$501,MATCH(1,(Deduction!$A$3:$A$501=Sheet8!A333)*(Deduction!$B$3:$B$501=Sheet8!B333)*(Deduction!$C$3:$C$501=Sheet8!D333),0),11)","v":0},{"$error":"#DIV/0!"},{"$f":"VLOOKUP(D333,Emp_Master!$B$3:$H$501,7)","v":{"$error":"#N/A"}}]
[{"$f":"Salary_Entitlement!A335","v":0},{"$f":"Salary_Entitlement!B335","v":0},{"$f":"Salary_Entitlement!C335","v":0},{"$f":"Salary_Entitlement!D335","v":0},{"$f":"Salary_Entitlement!E335","v":{"$error":"#N/A"}},{"$f":"Salary_Entitlement!F335","v":0},{"$f":"Salary_Entitlement!G335","v":0},{"$f":"Salary_Entitlement!H335","v":0},{"$f":"Salary_Entitlement!I335","v":0},{"$f":"Salary_Entitlement!J335","v":0},{"$f":"Salary_Entitlement!K335","v":0},{"$f":"Salary_Entitlement!L335","v":0},{"$f":"Salary_Entitlement!M335","v":0},{"$f":"Salary_Entitlement!N335","v":0},{"$f":"Salary_Entitlement!O335","v":0},{"$f":"Salary_Entitlement!P335","v":0},{"$error":"#DIV/0!"},{"$error":"#DIV/0!"},{"$f":"INDEX(Deduction!$A$3:$K$501,MATCH(1,(Deduction!$A$3:$A$501=Sheet8!A334)*(Deduction!$B$3:$B$501=Sheet8!B334)*(Deduction!$C$3:$C$501=Sheet8!D334),0),5)","v":0},{"$f":"INDEX(Deduction!$A$3:$K$501,MATCH(1,(Deduction!$A$3:$A$501=Sheet8!A334)*(Deduction!$B$3:$B$501=Sheet8!B334)*(Deduction!$C$3:$C$501=Sheet8!D334),0),6)","v":0},{"$f":"INDEX(Deduction!$A$3:$K$501,MATCH(1,(Deduction!$A$3:$A$501=Sheet8!A334)*(Deduction!$B$3:$B$501=Sheet8!B334)*(Deduction!$C$3:$C$501=Sheet8!D334),0),7)","v":0},{"$f":"INDEX(Deduction!$A$3:$K$501,MATCH(1,(Deduction!$A$3:$A$501=Sheet8!A334)*(Deduction!$B$3:$B$501=Sheet8!B334)*(Deduction!$C$3:$C$501=Sheet8!D334),0),8)","v":0},{"$f":"INDEX(Deduction!$A$3:$K$501,MATCH(1,(Deduction!$A$3:$A$501=Sheet8!A334)*(Deduction!$B$3:$B$501=Sheet8!B334)*(Deduction!$C$3:$C$501=Sheet8!D334),0),9)","v":0},{"$f":"INDEX(Deduction!$A$3:$K$501,MATCH(1,(Deduction!$A$3:$A$501=Sheet8!A334)*(Deduction!$B$3:$B$501=Sheet8!B334)*(Deduction!$C$3:$C$501=Sheet8!D334),0),10)","v":0},{"$f":"INDEX(Deduction!$A$3:$K$501,MATCH(1,(Deduction!$A$3:$A$501=Sheet8!A334)*(Deduction!$B$3:$B$501=Sheet8!B334)*(Deduction!$C$3:$C$501=Sheet8!D334),0),11)","v":0},{"$error":"#DIV/0!"},{"$f":"VLOOKUP(D334,Emp_Master!$B$3:$H$501,7)","v":{"$error":"#N/A"}}]
[{"$f":"Salary_Entitlement!A336","v":0},{"$f":"Salary_Entitlement!B336","v":0},{"$f":"Salary_Entitlement!C336","v":0},{"$f":"Salary_Entitlement!D336","v":0},{"$f":"Salary_Entitlement!E336","v":{"$error":"#N/A"}},{"$f":"Salary_Entitlement!F336","v":0},{"$f":"Salary_Entitlement!G336","v":0},{"$f":"Salary_Entitlement!H336","v":0},{"$f":"Salary_Entitlement!I336","v":0},{"$f":"Salary_Entitlement!J336","v":0},{"$f":"Salary_Entitlement!K336","v":0},{"$f":"Salary_Entitlement!L336","v":0},{"$f":"Salary_Entitlement!M336","v":0},{"$f":"Salary_Entitlement!N336","v":0},{"$f":"Salary_Entitlement!O336","v":0},{"$f":"Salary_Entitlement!P336","v":0},{"$error":"#DIV/0!"},{"$error":"#DIV/0!"},{"$f":"INDEX(Deduction!$A$3:$K$501,MATCH(1,(Deduction!$A$3:$A$501=Sheet8!A335)*(Deduction!$B$3:$B$501=Sheet8!B335)*(Deduction!$C$3:$C$501=Sheet8!D335),0),5)","v":0},{"$f":"INDEX(Deduction!$A$3:$K$501,MATCH(1,(Deduction!$A$3:$A$501=Sheet8!A335)*(Deduction!$B$3:$B$501=Sheet8!B335)*(Deduction!$C$3:$C$501=Sheet8!D335),0),6)","v":0},{"$f":"INDEX(Deduction!$A$3:$K$501,MATCH(1,(Deduction!$A$3:$A$501=Sheet8!A335)*(Deduction!$B$3:$B$501=Sheet8!B335)*(Deduction!$C$3:$C$501=Sheet8!D335),0),7)","v":0},{"$f":"INDEX(Deduction!$A$3:$K$501,MATCH(1,(Deduction!$A$3:$A$501=Sheet8!A335)*(Deduction!$B$3:$B$501=Sheet8!B335)*(Deduction!$C$3:$C$501=Sheet8!D335),0),8)","v":0},{"$f":"INDEX(Deduction!$A$3:$K$501,MATCH(1,(Deduction!$A$3:$A$501=Sheet8!A335)*(Deduction!$B$3:$B$501=Sheet8!B335)*(Deduction!$C$3:$C$501=Sheet8!D335),0),9)","v":0},{"$f":"INDEX(Deduction!$A$3:$K$501,MATCH(1,(Deduction!$A$3:$A$501=Sheet8!A335)*(Deduction!$B$3:$B$501=Sheet8!B335)*(Deduction!$C$3:$C$501=Sheet8!D335),0),10)","v":0},{"$f":"INDEX(Deduction!$A$3:$K$501,MATCH(1,(Deduction!$A$3:$A$501=Sheet8!A335)*(Deduction!$B$3:$B$501=Sheet8!B335)*(Deduction!$C$3:$C$501=Sheet8!D335),0),11)","v":0},{"$error":"#DIV/0!"},{"$f":"VLOOKUP(D335,Emp_Master!$B$3:$H$501,7)","v":{"$error":"#N/A"}}]
[{"$f":"Salary_Entitlement!A337","v":0},{"$f":"Salary_Entitlement!B337","v":0},{"$f":"Salary_Entitlement!C337","v":0},{"$f":"Salary_Entitlement!D337","v":0},{"$f":"Salary_Entitlement!E337","v":{"$error":"#N/A"}},{"$f":"Salary_Entitlement!F337","v":0},{"$f":"Salary_Entitlement!G337","v":0},{"$f":"Salary_Entitlement!H337","v":0},{"$f":"Salary_Entitlement!I337","v":0},{"$f":"Salary_Entitlement!J337","v":0},{"$f":"Salary_Entitlement!K337","v":0},{"$f":"Salary_Entitlement!L337","v":0},{"$f":"Salary_Entitlement!M337","v":0},{"$f":"Salary_Entitlement!N337","v":0},{"$f":"Salary_Entitlement!O337","v":0},{"$f":"Salary_Entitlement!P337","v":0},{"$error":"#DIV/0!"},{"$error":"#DIV/0!"},{"$f":"INDEX(Deduction!$A$3:$K$501,MATCH(1,(Deduction!$A$3:$A$501=Sheet8!A336)*(Deduction!$B$3:$B$501=Sheet8!B336)*(Deduction!$C$3:$C$501=Sheet8!D336),0),5)","v":0},{"$f":"INDEX(Deduction!$A$3:$K$501,MATCH(1,(Deduction!$A$3:$A$501=Sheet8!A336)*(Deduction!$B$3:$B$501=Sheet8!B336)*(Deduction!$C$3:$C$501=Sheet8!D336),0),6)","v":0},{"$f":"INDEX(Deduction!$A$3:$K$501,MATCH(1,(Deduction!$A$3:$A$501=Sheet8!A336)*(Deduction!$B$3:$B$501=Sheet8!B336)*(Deduction!$C$3:$C$501=Sheet8!D336),0),7)","v":0},{"$f":"INDEX(Deduction!$A$3:$K$501,MATCH(1,(Deduction!$A$3:$A$501=Sheet8!A336)*(Deduction!$B$3:$B$501=Sheet8!B336)*(Deduction!$C$3:$C$501=Sheet8!D336),0),8)","v":0},{"$f":"INDEX(Deduction!$A$3:$K$501,MATCH(1,(Deduction!$A$3:$A$501=Sheet8!A336)*(Deduction!$B$3:$B$501=Sheet8!B336)*(Deduction!$C$3:$C$501=Sheet8!D336),0),9)","v":0},{"$f":"INDEX(Deduction!$A$3:$K$501,MATCH(1,(Deduction!$A$3:$A$501=Sheet8!A336)*(Deduction!$B$3:$B$501=Sheet8!B336)*(Deduction!$C$3:$C$501=Sheet8!D336),0),10)","v":0},{"$f":"INDEX(Deduction!$A$3:$K$501,MATCH(1,(Deduction!$A$3:$A$501=Sheet8!A336)*(Deduction!$B$3:$B$501=Sheet8!B336)*(Deduction!$C$3:$C$501=Sheet8!D336),0),11)","v":0},{"$error":"#DIV/0!"},{"$f":"VLOOKUP(D336,Emp_Master!$B$3:$H$501,7)","v":{"$error":"#N/A"}}]
[{"$f":"Salary_Entitlement!A338","v":0},{"$f":"Salary_Entitlement!B338","v":0},{"$f":"Salary_Entitlement!C338","v":0},{"$f":"Salary_Entitlement!D338","v":0},{"$f":"Salary_Entitlement!E338","v":{"$error":"#N/A"}},{"$f":"Salary_Entitlement!F338","v":0},{"$f":"Salary_Entitlement!G338","v":0},{"$f":"Salary_Entitlement!H338","v":0},{"$f":"Salary_Entitlement!I338","v":0},{"$f":"Salary_Entitlement!J338","v":0},{"$f":"Salary_Entitlement!K338","v":0},{"$f":"Salary_Entitlement!L338","v":0},{"$f":"Salary_Entitlement!M338","v":0},{"$f":"Salary_Entitlement!N338","v":0},{"$f":"Salary_Entitlement!O338","v":0},{"$f":"Salary_Entitlement!P338","v":0},{"$error":"#DIV/0!"},{"$error":"#DIV/0!"},{"$f":"INDEX(Deduction!$A$3:$K$501,MATCH(1,(Deduction!$A$3:$A$501=Sheet8!A337)*(Deduction!$B$3:$B$501=Sheet8!B337)*(Deduction!$C$3:$C$501=Sheet8!D337),0),5)","v":0},{"$f":"INDEX(Deduction!$A$3:$K$501,MATCH(1,(Deduction!$A$3:$A$501=Sheet8!A337)*(Deduction!$B$3:$B$501=Sheet8!B337)*(Deduction!$C$3:$C$501=Sheet8!D337),0),6)","v":0},{"$f":"INDEX(Deduction!$A$3:$K$501,MATCH(1,(Deduction!$A$3:$A$501=Sheet8!A337)*(Deduction!$B$3:$B$501=Sheet8!B337)*(Deduction!$C$3:$C$501=Sheet8!D337),0),7)","v":0},{"$f":"INDEX(Deduction!$A$3:$K$501,MATCH(1,(Deduction!$A$3:$A$501=Sheet8!A337)*(Deduction!$B$3:$B$501=Sheet8!B337)*(Deduction!$C$3:$C$501=Sheet8!D337),0),8)","v":0},{"$f":"INDEX(Deduction!$A$3:$K$501,MATCH(1,(Deduction!$A$3:$A$501=Sheet8!A337)*(Deduction!$B$3:$B$501=Sheet8!B337)*(Deduction!$C$3:$C$501=Sheet8!D337),0),9)","v":0},{"$f":"INDEX(Deduction!$A$3:$K$501,MATCH(1,(Deduction!$A$3:$A$501=Sheet8!A337)*(Deduction!$B$3:$B$501=Sheet8!B337)*(Deduction!$C$3:$C$501=Sheet8!D337),0),10)","v":0},{"$f":"INDEX(Deduction!$A$3:$K$501,MATCH(1,(Deduction!$A$3:$A$501=Sheet8!A337)*(Deduction!$B$3:$B$501=Sheet8!B337)*(Deduction!$C$3:$C$501=Sheet8!D337),0),11)","v":0},{"$error":"#DIV/0!"},{"$f":"VLOOKUP(D337,Emp_Master!$B$3:$H$501,7)","v":{"$error":"#N/A"}}]
[{"$f":"Salary_Entitlement!A339","v":0},{"$f":"Salary_Entitlement!B339","v":0},{"$f":"Salary_Entitlement!C339","v":0},{"$f":"Salary_Entitlement!D339","v":0},{"$f":"Salary_Entitlement!E339","v":{"$error":"#N/A"}},{"$f":"Salary_Entitlement!F339","v":0},{"$f":"Salary_Entitlement!G339","v":0},{"$f":"Salary_Entitlement!H339","v":0},{"$f":"Salary_Entitlement!I339","v":0},{"$f":"Salary_Entitlement!J339","v":0},{"$f":"Salary_Entitlement!K339","v":0},{"$f":"Salary_Entitlement!L339","v":0},{"$f":"Salary_Entitlement!M339","v":0},{"$f":"Salary_Entitlement!N339","v":0},{"$f":"Salary_Entitlement!O339","v":0},{"$f":"Salary_Entitlement!P339","v":0},{"$error":"#DIV/0!"},{"$error":"#DIV/0!"},{"$f":"INDEX(Deduction!$A$3:$K$501,MATCH(1,(Deduction!$A$3:$A$501=Sheet8!A338)*(Deduction!$B$3:$B$501=Sheet8!B338)*(Deduction!$C$3:$C$501=Sheet8!D338),0),5)","v":0},{"$f":"INDEX(Deduction!$A$3:$K$501,MATCH(1,(Deduction!$A$3:$A$501=Sheet8!A338)*(Deduction!$B$3:$B$501=Sheet8!B338)*(Deduction!$C$3:$C$501=Sheet8!D338),0),6)","v":0},{"$f":"INDEX(Deduction!$A$3:$K$501,MATCH(1,(Deduction!$A$3:$A$501=Sheet8!A338)*(Deduction!$B$3:$B$501=Sheet8!B338)*(Deduction!$C$3:$C$501=Sheet8!D338),0),7)","v":0},{"$f":"INDEX(Deduction!$A$3:$K$501,MATCH(1,(Deduction!$A$3:$A$501=Sheet8!A338)*(Deduction!$B$3:$B$501=Sheet8!B338)*(Deduction!$C$3:$C$501=Sheet8!D338),0),8)","v":0},{"$f":"INDEX(Deduction!$A$3:$K$501,MATCH(1,(Deduction!$A$3:$A$501=Sheet8!A338)*(Deduction!$B$3:$B$501=Sheet8!B338)*(Deduction!$C$3:$C$501=Sheet8!D338),0),9)","v":0},{"$f":"INDEX(Deduction!$A$3:$K$501,MATCH(1,(Deduction!$A$3:$A$501=Sheet8!A338)*(Deduction!$B$3:$B$501=Sheet8!B338)*(Deduction!$C$3:$C$501=Sheet8!D338),0),10)","v":0},{"$f":"INDEX(Deduction!$A$3:$K$501,MATCH(1,(Deduction!$A$3:$A$501=Sheet8!A338)*(Deduction!$B$3:$B$501=Sheet8!B338)*(Deduction!$C$3:$C$501=Sheet8!D338),0),11)","v":0},{"$error":"#DIV/0!"},{"$f":"VLOOKUP(D338,Emp_Master!$B$3:$H$501,7)","v":{"$error":"#N/A"}}]
[{"$f":"Salary_Entitlement!A340","v":0},{"$f":"Salary_Entitlement!B340","v":0},{"$f":"Salary_Entitlement!C340","v":0},{"$f":"Salary_Entitlement!D340","v":0},{"$f":"Salary_Entitlement!E340","v":{"$error":"#N/A"}},{"$f":"Salary_Entitlement!F340","v":0},{"$f":"Salary_Entitlement!G340","v":0},{"$f":"Salary_Entitlement!H340","v":0},{"$f":"Salary_Entitlement!I340","v":0},{"$f":"Salary_Entitlement!J340","v":0},{"$f":"Salary_Entitlement!K340","v":0},{"$f":"Salary_Entitlement!L340","v":0},{"$f":"Salary_Entitlement!M340","v":0},{"$f":"Salary_Entitlement!N340","v":0},{"$f":"Salary_Entitlement!O340","v":0},{"$f":"Salary_Entitlement!P340","v":0},{"$error":"#DIV/0!"},{"$error":"#DIV/0!"},{"$f":"INDEX(Deduction!$A$3:$K$501,MATCH(1,(Deduction!$A$3:$A$501=Sheet8!A339)*(Deduction!$B$3:$B$501=Sheet8!B339)*(Deduction!$C$3:$C$501=Sheet8!D339),0),5)","v":0},{"$f":"INDEX(Deduction!$A$3:$K$501,MATCH(1,(Deduction!$A$3:$A$501=Sheet8!A339)*(Deduction!$B$3:$B$501=Sheet8!B339)*(Deduction!$C$3:$C$501=Sheet8!D339),0),6)","v":0},{"$f":"INDEX(Deduction!$A$3:$K$501,MATCH(1,(Deduction!$A$3:$A$501=Sheet8!A339)*(Deduction!$B$3:$B$501=Sheet8!B339)*(Deduction!$C$3:$C$501=Sheet8!D339),0),7)","v":0},{"$f":"INDEX(Deduction!$A$3:$K$501,MATCH(1,(Deduction!$A$3:$A$501=Sheet8!A339)*(Deduction!$B$3:$B$501=Sheet8!B339)*(Deduction!$C$3:$C$501=Sheet8!D339),0),8)","v":0},{"$f":"INDEX(Deduction!$A$3:$K$501,MATCH(1,(Deduction!$A$3:$A$501=Sheet8!A339)*(Deduction!$B$3:$B$501=Sheet8!B339)*(Deduction!$C$3:$C$501=Sheet8!D339),0),9)","v":0},{"$f":"INDEX(Deduction!$A$3:$K$501,MATCH(1,(Deduction!$A$3:$A$501=Sheet8!A339)*(Deduction!$B$3:$B$501=Sheet8!B339)*(Deduction!$C$3:$C$501=Sheet8!D339),0),10)","v":0},{"$f":"INDEX(Deduction!$A$3:$K$501,MATCH(1,(Deduction!$A$3:$A$501=Sheet8!A339)*(Deduction!$B$3:$B$501=Sheet8!B339)*(Deduction!$C$3:$C$501=Sheet8!D339),0),11)","v":0},{"$error":"#DIV/0!"},{"$f":"VLOOKUP(D339,Emp_Master!$B$3:$H$501,7)","v":{"$error":"#N/A"}}]
[{"$f":"Salary_Entitlement!A341","v":0},{"$f":"Salary_Entitlement!B341","v":0},{"$f":"Salary_Entitlement!C341","v":0},{"$f":"Salary_Entitlement!D341","v":0},{"$f":"Salary_Entitlement!E341","v":{"$error":"#N/A"}},{"$f":"Salary_Entitlement!F341","v":0},{"$f":"Salary_Entitlement!G341","v":0},{"$f":"Salary_Entitlement!H341","v":0},{"$f":"Salary_Entitlement!I341","v":0},{"$f":"Salary_Entitlement!J341","v":0},{"$f":"Salary_Entitlement!K341","v":0},{"$f":"Salary_Entitlement!L341","v":0},{"$f":"Salary_Entitlement!M341","v":0},{"$f":"Salary_Entitlement!N341","v":0},{"$f":"Salary_Entitlement!O341","v":0},{"$f":"Salary_Entitlement!P341","v":0},{"$error":"#DIV/0!"},{"$error":"#DIV/0!"},{"$f":"INDEX(Deduction!$A$3:$K$501,MATCH(1,(Deduction!$A$3:$A$501=Sheet8!A340)*(Deduction!$B$3:$B$501=Sheet8!B340)*(Deduction!$C$3:$C$501=Sheet8!D340),0),5)","v":0},{"$f":"INDEX(Deduction!$A$3:$K$501,MATCH(1,(Deduction!$A$3:$A$501=Sheet8!A340)*(Deduction!$B$3:$B$501=Sheet8!B340)*(Deduction!$C$3:$C$501=Sheet8!D340),0),6)","v":0},{"$f":"INDEX(Deduction!$A$3:$K$501,MATCH(1,(Deduction!$A$3:$A$501=Sheet8!A340)*(Deduction!$B$3:$B$501=Sheet8!B340)*(Deduction!$C$3:$C$501=Sheet8!D340),0),7)","v":0},{"$f":"INDEX(Deduction!$A$3:$K$501,MATCH(1,(Deduction!$A$3:$A$501=Sheet8!A340)*(Deduction!$B$3:$B$501=Sheet8!B340)*(Deduction!$C$3:$C$501=Sheet8!D340),0),8)","v":0},{"$f":"INDEX(Deduction!$A$3:$K$501,MATCH(1,(Deduction!$A$3:$A$501=Sheet8!A340)*(Deduction!$B$3:$B$501=Sheet8!B340)*(Deduction!$C$3:$C$501=Sheet8!D340),0),9)","v":0},{"$f":"INDEX(Deduction!$A$3:$K$501,MATCH(1,(Deduction!$A$3:$A$501=Sheet8!A340)*(Deduction!$B$3:$B$501=Sheet8!B340)*(Deduction!$C$3:$C$501=Sheet8!D340),0),10)","v":0},{"$f":"INDEX(Deduction!$A$3:$K$501,MATCH(1,(Deduction!$A$3:$A$501=Sheet8!A340)*(Deduction!$B$3:$B$501=Sheet8!B340)*(Deduction!$C$3:$C$501=Sheet8!D340),0),11)","v":0},{"$error":"#DIV/0!"},{"$f":"VLOOKUP(D340,Emp_Master!$B$3:$H$501,7)","v":{"$error":"#N/A"}}]
[{"$f":"Salary_Entitlement!A342","v":0},{"$f":"Salary_Entitlement!B342","v":0},{"$f":"Salary_Entitlement!C342","v":0},{"$f":"Salary_Entitlement!D342","v":0},{"$f":"Salary_Entitlement!E342","v":{"$error":"#N/A"}},{"$f":"Salary_Entitlement!F342","v":0},{"$f":"Salary_Entitlement!G342","v":0},{"$f":"Salary_Entitlement!H342","v":0},{"$f":"Salary_Entitlement!I342","v":0},{"$f":"Salary_Entitlement!J342","v":0},{"$f":"Salary_Entitlement!K342","v":0},{"$f":"Salary_Entitlement!L342","v":0},{"$f":"Salary_Entitlement!M342","v":0},{"$f":"Salary_Entitlement!N342","v":0},{"$f":"Salary_Entitlement!O342","v":0},{"$f":"Salary_Entitlement!P342","v":0},{"$error":"#DIV/0!"},{"$error":"#DIV/0!"},{"$f":"INDEX(Deduction!$A$3:$K$501,MATCH(1,(Deduction!$A$3:$A$501=Sheet8!A341)*(Deduction!$B$3:$B$501=Sheet8!B341)*(Deduction!$C$3:$C$501=Sheet8!D341),0),5)","v":0},{"$f":"INDEX(Deduction!$A$3:$K$501,MATCH(1,(Deduction!$A$3:$A$501=Sheet8!A341)*(Deduction!$B$3:$B$501=Sheet8!B341)*(Deduction!$C$3:$C$501=Sheet8!D341),0),6)","v":0},{"$f":"INDEX(Deduction!$A$3:$K$501,MATCH(1,(Deduction!$A$3:$A$501=Sheet8!A341)*(Deduction!$B$3:$B$501=Sheet8!B341)*(Deduction!$C$3:$C$501=Sheet8!D341),0),7)","v":0},{"$f":"INDEX(Deduction!$A$3:$K$501,MATCH(1,(Deduction!$A$3:$A$501=Sheet8!A341)*(Deduction!$B$3:$B$501=Sheet8!B341)*(Deduction!$C$3:$C$501=Sheet8!D341),0),8)","v":0},{"$f":"INDEX(Deduction!$A$3:$K$501,MATCH(1,(Deduction!$A$3:$A$501=Sheet8!A341)*(Deduction!$B$3:$B$501=Sheet8!B341)*(Deduction!$C$3:$C$501=Sheet8!D341),0),9)","v":0},{"$f":"INDEX(Deduction!$A$3:$K$501,MATCH(1,(Deduction!$A$3:$A$501=Sheet8!A341)*(Deduction!$B$3:$B$501=Sheet8!B341)*(Deduction!$C$3:$C$501=Sheet8!D341),0),10)","v":0},{"$f":"INDEX(Deduction!$A$3:$K$501,MATCH(1,(Deduction!$A$3:$A$501=Sheet8!A341)*(Deduction!$B$3:$B$501=Sheet8!B341)*(Deduction!$C$3:$C$501=Sheet8!D341),0),11)","v":0},{"$error":"#DIV/0!"},{"$f":"VLOOKUP(D341,Emp_Master!$B$3:$H$501,7)","v":{"$error":"#N/A"}}]
[{"$f":"Salary_Entitlement!A343","v":0},{"$f":"Salary_Entitlement!B343","v":0},{"$f":"Salary_Entitlement!C343","v":0},{"$f":"Salary_Entitlement!D343","v":0},{"$f":"Salary_Entitlement!E343","v":{"$error":"#N/A"}},{"$f":"Salary_Entitlement!F343","v":0},{"$f":"Salary_Entitlement!G343","v":0},{"$f":"Salary_Entitlement!H343","v":0},{"$f":"Salary_Entitlement!I343","v":0},{"$f":"Salary_Entitlement!J343","v":0},{"$f":"Salary_Entitlement!K343","v":0},{"$f":"Salary_Entitlement!L343","v":0},{"$f":"Salary_Entitlement!M343","v":0},{"$f":"Salary_Entitlement!N343","v":0},{"$f":"Salary_Entitlement!O343","v":0},{"$f":"Salary_Entitlement!P343","v":0},{"$error":"#DIV/0!"},{"$error":"#DIV/0!"},{"$f":"INDEX(Deduction!$A$3:$K$501,MATCH(1,(Deduction!$A$3:$A$501=Sheet8!A342)*(Deduction!$B$3:$B$501=Sheet8!B342)*(Deduction!$C$3:$C$501=Sheet8!D342),0),5)","v":0},{"$f":"INDEX(Deduction!$A$3:$K$501,MATCH(1,(Deduction!$A$3:$A$501=Sheet8!A342)*(Deduction!$B$3:$B$501=Sheet8!B342)*(Deduction!$C$3:$C$501=Sheet8!D342),0),6)","v":0},{"$f":"INDEX(Deduction!$A$3:$K$501,MATCH(1,(Deduction!$A$3:$A$501=Sheet8!A342)*(Deduction!$B$3:$B$501=Sheet8!B342)*(Deduction!$C$3:$C$501=Sheet8!D342),0),7)","v":0},{"$f":"INDEX(Deduction!$A$3:$K$501,MATCH(1,(Deduction!$A$3:$A$501=Sheet8!A342)*(Deduction!$B$3:$B$501=Sheet8!B342)*(Deduction!$C$3:$C$501=Sheet8!D342),0),8)","v":0},{"$f":"INDEX(Deduction!$A$3:$K$501,MATCH(1,(Deduction!$A$3:$A$501=Sheet8!A342)*(Deduction!$B$3:$B$501=Sheet8!B342)*(Deduction!$C$3:$C$501=Sheet8!D342),0),9)","v":0},{"$f":"INDEX(Deduction!$A$3:$K$501,MATCH(1,(Deduction!$A$3:$A$501=Sheet8!A342)*(Deduction!$B$3:$B$501=Sheet8!B342)*(Deduction!$C$3:$C$501=Sheet8!D342),0),10)","v":0},{"$f":"INDEX(Deduction!$A$3:$K$501,MATCH(1,(Deduction!$A$3:$A$501=Sheet8!A342)*(Deduction!$B$3:$B$501=Sheet8!B342)*(Deduction!$C$3:$C$501=Sheet8!D342),0),11)","v":0},{"$error":"#DIV/0!"},{"$f":"VLOOKUP(D342,Emp_Master!$B$3:$H$501,7)","v":{"$error":"#N/A"}}]
[{"$f":"Salary_Entitlement!A344","v":0},{"$f":"Salary_Entitlement!B344","v":0},{"$f":"Salary_Entitlement!C344","v":0},{"$f":"Salary_Entitlement!D344","v":0},{"$f":"Salary_Entitlement!E344","v":{"$error":"#N/A"}},{"$f":"Salary_Entitlement!F344","v":0},{"$f":"Salary_Entitlement!G344","v":0},{"$f":"Salary_Entitlement!H344","v":0},{"$f":"Salary_Entitlement!I344","v":0},{"$f":"Salary_Entitlement!J344","v":0},{"$f":"Salary_Entitlement!K344","v":0},{"$f":"Salary_Entitlement!L344","v":0},{"$f":"Salary_Entitlement!M344","v":0},{"$f":"Salary_Entitlement!N344","v":0},{"$f":"Salary_Entitlement!O344","v":0},{"$f":"Salary_Entitlement!P344","v":0},{"$error":"#DIV/0!"},{"$error":"#DIV/0!"},{"$f":"INDEX(Deduction!$A$3:$K$501,MATCH(1,(Deduction!$A$3:$A$501=Sheet8!A343)*(Deduction!$B$3:$B$501=Sheet8!B343)*(Deduction!$C$3:$C$501=Sheet8!D343),0),5)","v":0},{"$f":"INDEX(Deduction!$A$3:$K$501,MATCH(1,(Deduction!$A$3:$A$501=Sheet8!A343)*(Deduction!$B$3:$B$501=Sheet8!B343)*(Deduction!$C$3:$C$501=Sheet8!D343),0),6)","v":0},{"$f":"INDEX(Deduction!$A$3:$K$501,MATCH(1,(Deduction!$A$3:$A$501=Sheet8!A343)*(Deduction!$B$3:$B$501=Sheet8!B343)*(Deduction!$C$3:$C$501=Sheet8!D343),0),7)","v":0},{"$f":"INDEX(Deduction!$A$3:$K$501,MATCH(1,(Deduction!$A$3:$A$501=Sheet8!A343)*(Deduction!$B$3:$B$501=Sheet8!B343)*(Deduction!$C$3:$C$501=Sheet8!D343),0),8)","v":0},{"$f":"INDEX(Deduction!$A$3:$K$501,MATCH(1,(Deduction!$A$3:$A$501=Sheet8!A343)*(Deduction!$B$3:$B$501=Sheet8!B343)*(Deduction!$C$3:$C$501=Sheet8!D343),0),9)","v":0},{"$f":"INDEX(Deduction!$A$3:$K$501,MATCH(1,(Deduction!$A$3:$A$501=Sheet8!A343)*(Deduction!$B$3:$B$501=Sheet8!B343)*(Deduction!$C$3:$C$501=Sheet8!D343),0),10)","v":0},{"$f":"INDEX(Deduction!$A$3:$K$501,MATCH(1,(Deduction!$A$3:$A$501=Sheet8!A343)*(Deduction!$B$3:$B$501=Sheet8!B343)*(Deduction!$C$3:$C$501=Sheet8!D343),0),11)","v":0},{"$error":"#DIV/0!"},{"$f":"VLOOKUP(D343,Emp_Master!$B$3:$H$501,7)","v":{"$error":"#N/A"}}]
[{"$f":"Salary_Entitlement!A345","v":0},{"$f":"Salary_Entitlement!B345","v":0},{"$f":"Salary_Entitlement!C345","v":0},{"$f":"Salary_Entitlement!D345","v":0},{"$f":"Salary_Entitlement!E345","v":{"$error":"#N/A"}},{"$f":"Salary_Entitlement!F345","v":0},{"$f":"Salary_Entitlement!G345","v":0},{"$f":"Salary_Entitlement!H345","v":0},{"$f":"Salary_Entitlement!I345","v":0},{"$f":"Salary_Entitlement!J345","v":0},{"$f":"Salary_Entitlement!K345","v":0},{"$f":"Salary_Entitlement!L345","v":0},{"$f":"Salary_Entitlement!M345","v":0},{"$f":"Salary_Entitlement!N345","v":0},{"$f":"Salary_Entitlement!O345","v":0},{"$f":"Salary_Entitlement!P345","v":0},{"$f":"F344/M344*(M344-N344)","v":{"$error":"#DIV/0!"}},{"$f":"SUM(F344:L344)-Q344","v":{"$error":"#DIV/0!"}},{"$f":"INDEX(Deduction!$A$3:$K$501,MATCH(1,(Deduction!$A$3:$A$501=Sheet8!A344)*(Deduction!$B$3:$B$501=Sheet8!B344)*(Deduction!$C$3:$C$501=Sheet8!D344),0),5)","v":0},{"$f":"INDEX(Deduction!$A$3:$K$501,MATCH(1,(Deduction!$A$3:$A$501=Sheet8!A344)*(Deduction!$B$3:$B$501=Sheet8!B344)*(Deduction!$C$3:$C$501=Sheet8!D344),0),6)","v":0},{"$f":"INDEX(Deduction!$A$3:$K$501,MATCH(1,(Deduction!$A$3:$A$501=Sheet8!A344)*(Deduction!$B$3:$B$501=Sheet8!B344)*(Deduction!$C$3:$C$501=Sheet8!D344),0),7)","v":0},{"$f":"INDEX(Deduction!$A$3:$K$501,MATCH(1,(Deduction!$A$3:$A$501=Sheet8!A344)*(Deduction!$B$3:$B$501=Sheet8!B344)*(Deduction!$C$3:$C$501=Sheet8!D344),0),8)","v":0},{"$f":"INDEX(Deduction!$A$3:$K$501,MATCH(1,(Deduction!$A$3:$A$501=Sheet8!A344)*(Deduction!$B$3:$B$501=Sheet8!B344)*(Deduction!$C$3:$C$501=Sheet8!D344),0),9)","v":0},{"$f":"INDEX(Deduction!$A$3:$K$501,MATCH(1,(Deduction!$A$3:$A$501=Sheet8!A344)*(Deduction!$B$3:$B$501=Sheet8!B344)*(Deduction!$C$3:$C$501=Sheet8!D344),0),10)","v":0},{"$f":"INDEX(Deduction!$A$3:$K$501,MATCH(1,(Deduction!$A$3:$A$501=Sheet8!A344)*(Deduction!$B$3:$B$501=Sheet8!B344)*(Deduction!$C$3:$C$501=Sheet8!D344),0),11)","v":0},{"$error":"#DIV/0!"},{"$f":"VLOOKUP(D344,Emp_Master!$B$3:$H$501,7)","v":{"$error":"#N/A"}}]
[{"$f":"Salary_Entitlement!A346","v":0},{"$f":"Salary_Entitlement!B346","v":0},{"$f":"Salary_Entitlement!C346","v":0},{"$f":"Salary_Entitlement!D346","v":0},{"$f":"Salary_Entitlement!E346","v":{"$error":"#N/A"}},{"$f":"Salary_Entitlement!F346","v":0},{"$f":"Salary_Entitlement!G346","v":0},{"$f":"Salary_Entitlement!H346","v":0},{"$f":"Salary_Entitlement!I346","v":0},{"$f":"Salary_Entitlement!J346","v":0},{"$f":"Salary_Entitlement!K346","v":0},{"$f":"Salary_Entitlement!L346","v":0},{"$f":"Salary_Entitlement!M346","v":0},{"$f":"Salary_Entitlement!N346","v":0},{"$f":"Salary_Entitlement!O346","v":0},{"$f":"Salary_Entitlement!P346","v":0},{"$error":"#DIV/0!"},{"$error":"#DIV/0!"},{"$f":"INDEX(Deduction!$A$3:$K$501,MATCH(1,(Deduction!$A$3:$A$501=Sheet8!A345)*(Deduction!$B$3:$B$501=Sheet8!B345)*(Deduction!$C$3:$C$501=Sheet8!D345),0),5)","v":0},{"$f":"INDEX(Deduction!$A$3:$K$501,MATCH(1,(Deduction!$A$3:$A$501=Sheet8!A345)*(Deduction!$B$3:$B$501=Sheet8!B345)*(Deduction!$C$3:$C$501=Sheet8!D345),0),6)","v":0},{"$f":"INDEX(Deduction!$A$3:$K$501,MATCH(1,(Deduction!$A$3:$A$501=Sheet8!A345)*(Deduction!$B$3:$B$501=Sheet8!B345)*(Deduction!$C$3:$C$501=Sheet8!D345),0),7)","v":0},{"$f":"INDEX(Deduction!$A$3:$K$501,MATCH(1,(Deduction!$A$3:$A$501=Sheet8!A345)*(Deduction!$B$3:$B$501=Sheet8!B345)*(Deduction!$C$3:$C$501=Sheet8!D345),0),8)","v":0},{"$f":"INDEX(Deduction!$A$3:$K$501,MATCH(1,(Deduction!$A$3:$A$501=Sheet8!A345)*(Deduction!$B$3:$B$501=Sheet8!B345)*(Deduction!$C$3:$C$501=Sheet8!D345),0),9)","v":0},{"$f":"INDEX(Deduction!$A$3:$K$501,MATCH(1,(Deduction!$A$3:$A$501=Sheet8!A345)*(Deduction!$B$3:$B$501=Sheet8!B345)*(Deduction!$C$3:$C$501=Sheet8!D345),0),10)","v":0},{"$f":"INDEX(Deduction!$A$3:$K$501,MATCH(1,(Deduction!$A$3:$A$501=Sheet8!A345)*(Deduction!$B$3:$B$501=Sheet8!B345)*(Deduction!$C$3:$C$501=Sheet8!D345),0),11)","v":0},{"$error":"#DIV/0!"},{"$f":"VLOOKUP(D345,Emp_Master!$B$3:$H$501,7)","v":{"$error":"#N/A"}}]
[{"$f":"Salary_Entitlement!A347","v":0},{"$f":"Salary_Entitlement!B347","v":0},{"$f":"Salary_Entitlement!C347","v":0},{"$f":"Salary_Entitlement!D347","v":0},{"$f":"Salary_Entitlement!E347","v":{"$error":"#N/A"}},{"$f":"Salary_Entitlement!F347","v":0},{"$f":"Salary_Entitlement!G347","v":0},{"$f":"Salary_Entitlement!H347","v":0},{"$f":"Salary_Entitlement!I347","v":0},{"$f":"Salary_Entitlement!J347","v":0},{"$f":"Salary_Entitlement!K347","v":0},{"$f":"Salary_Entitlement!L347","v":0},{"$f":"Salary_Entitlement!M347","v":0},{"$f":"Salary_Entitlement!N347","v":0},{"$f":"Salary_Entitlement!O347","v":0},{"$f":"Salary_Entitlement!P347","v":0},{"$error":"#DIV/0!"},{"$error":"#DIV/0!"},{"$f":"INDEX(Deduction!$A$3:$K$501,MATCH(1,(Deduction!$A$3:$A$501=Sheet8!A346)*(Deduction!$B$3:$B$501=Sheet8!B346)*(Deduction!$C$3:$C$501=Sheet8!D346),0),5)","v":0},{"$f":"INDEX(Deduction!$A$3:$K$501,MATCH(1,(Deduction!$A$3:$A$501=Sheet8!A346)*(Deduction!$B$3:$B$501=Sheet8!B346)*(Deduction!$C$3:$C$501=Sheet8!D346),0),6)","v":0},{"$f":"INDEX(Deduction!$A$3:$K$501,MATCH(1,(Deduction!$A$3:$A$501=Sheet8!A346)*(Deduction!$B$3:$B$501=Sheet8!B346)*(Deduction!$C$3:$C$501=Sheet8!D346),0),7)","v":0},{"$f":"INDEX(Deduction!$A$3:$K$501,MATCH(1,(Deduction!$A$3:$A$501=Sheet8!A346)*(Deduction!$B$3:$B$501=Sheet8!B346)*(Deduction!$C$3:$C$501=Sheet8!D346),0),8)","v":0},{"$f":"INDEX(Deduction!$A$3:$K$501,MATCH(1,(Deduction!$A$3:$A$501=Sheet8!A346)*(Deduction!$B$3:$B$501=Sheet8!B346)*(Deduction!$C$3:$C$501=Sheet8!D346),0),9)","v":0},{"$f":"INDEX(Deduction!$A$3:$K$501,MATCH(1,(Deduction!$A$3:$A$501=Sheet8!A346)*(Deduction!$B$3:$B$501=Sheet8!B346)*(Deduction!$C$3:$C$501=Sheet8!D346),0),10)","v":0},{"$f":"INDEX(Deduction!$A$3:$K$501,MATCH(1,(Deduction!$A$3:$A$501=Sheet8!A346)*(Deduction!$B$3:$B$501=Sheet8!B346)*(Deduction!$C$3:$C$501=Sheet8!D346),0),11)","v":0},{"$error":"#DIV/0!"},{"$f":"VLOOKUP(D346,Emp_Master!$B$3:$H$501,7)","v":{"$error":"#N/A"}}]
[{"$f":"Salary_Entitlement!A348","v":0},{"$f":"Salary_Entitlement!B348","v":0},{"$f":"Salary_Entitlement!C348","v":0},{"$f":"Salary_Entitlement!D348","v":0},{"$f":"Salary_Entitlement!E348","v":{"$error":"#N/A"}},{"$f":"Salary_Entitlement!F348","v":0},{"$f":"Salary_Entitlement!G348","v":0},{"$f":"Salary_Entitlement!H348","v":0},{"$f":"Salary_Entitlement!I348","v":0},{"$f":"Salary_Entitlement!J348","v":0},{"$f":"Salary_Entitlement!K348","v":0},{"$f":"Salary_Entitlement!L348","v":0},{"$f":"Salary_Entitlement!M348","v":0},{"$f":"Salary_Entitlement!N348","v":0},{"$f":"Salary_Entitlement!O348","v":0},{"$f":"Salary_Entitlement!P348","v":0},{"$error":"#DIV/0!"},{"$error":"#DIV/0!"},{"$f":"INDEX(Deduction!$A$3:$K$501,MATCH(1,(Deduction!$A$3:$A$501=Sheet8!A347)*(Deduction!$B$3:$B$501=Sheet8!B347)*(Deduction!$C$3:$C$501=Sheet8!D347),0),5)","v":0},{"$f":"INDEX(Deduction!$A$3:$K$501,MATCH(1,(Deduction!$A$3:$A$501=Sheet8!A347)*(Deduction!$B$3:$B$501=Sheet8!B347)*(Deduction!$C$3:$C$501=Sheet8!D347),0),6)","v":0},{"$f":"INDEX(Deduction!$A$3:$K$501,MATCH(1,(Deduction!$A$3:$A$501=Sheet8!A347)*(Deduction!$B$3:$B$501=Sheet8!B347)*(Deduction!$C$3:$C$501=Sheet8!D347),0),7)","v":0},{"$f":"INDEX(Deduction!$A$3:$K$501,MATCH(1,(Deduction!$A$3:$A$501=Sheet8!A347)*(Deduction!$B$3:$B$501=Sheet8!B347)*(Deduction!$C$3:$C$501=Sheet8!D347),0),8)","v":0},{"$f":"INDEX(Deduction!$A$3:$K$501,MATCH(1,(Deduction!$A$3:$A$501=Sheet8!A347)*(Deduction!$B$3:$B$501=Sheet8!B347)*(Deduction!$C$3:$C$501=Sheet8!D347),0),9)","v":0},{"$f":"INDEX(Deduction!$A$3:$K$501,MATCH(1,(Deduction!$A$3:$A$501=Sheet8!A347)*(Deduction!$B$3:$B$501=Sheet8!B347)*(Deduction!$C$3:$C$501=Sheet8!D347),0),10)","v":0},{"$f":"INDEX(Deduction!$A$3:$K$501,MATCH(1,(Deduction!$A$3:$A$501=Sheet8!A347)*(Deduction!$B$3:$B$501=Sheet8!B347)*(Deduction!$C$3:$C$501=Sheet8!D347),0),11)","v":0},{"$error":"#DIV/0!"},{"$f":"VLOOKUP(D347,Emp_Master!$B$3:$H$501,7)","v":{"$error":"#N/A"}}]
[{"$f":"Salary_Entitlement!A349","v":0},{"$f":"Salary_Entitlement!B349","v":0},{"$f":"Salary_Entitlement!C349","v":0},{"$f":"Salary_Entitlement!D349","v":0},{"$f":"Salary_Entitlement!E349","v":{"$error":"#N/A"}},{"$f":"Salary_Entitlement!F349","v":0},{"$f":"Salary_Entitlement!G349","v":0},{"$f":"Salary_Entitlement!H349","v":0},{"$f":"Salary_Entitlement!I349","v":0},{"$f":"Salary_Entitlement!J349","v":0},{"$f":"Salary_Entitlement!K349","v":0},{"$f":"Salary_Entitlement!L349","v":0},{"$f":"Salary_Entitlement!M349","v":0},{"$f":"Salary_Entitlement!N349","v":0},{"$f":"Salary_Entitlement!O349","v":0},{"$f":"Salary_Entitlement!P349","v":0},{"$error":"#DIV/0!"},{"$error":"#DIV/0!"},{"$f":"INDEX(Deduction!$A$3:$K$501,MATCH(1,(Deduction!$A$3:$A$501=Sheet8!A348)*(Deduction!$B$3:$B$501=Sheet8!B348)*(Deduction!$C$3:$C$501=Sheet8!D348),0),5)","v":0},{"$f":"INDEX(Deduction!$A$3:$K$501,MATCH(1,(Deduction!$A$3:$A$501=Sheet8!A348)*(Deduction!$B$3:$B$501=Sheet8!B348)*(Deduction!$C$3:$C$501=Sheet8!D348),0),6)","v":0},{"$f":"INDEX(Deduction!$A$3:$K$501,MATCH(1,(Deduction!$A$3:$A$501=Sheet8!A348)*(Deduction!$B$3:$B$501=Sheet8!B348)*(Deduction!$C$3:$C$501=Sheet8!D348),0),7)","v":0},{"$f":"INDEX(Deduction!$A$3:$K$501,MATCH(1,(Deduction!$A$3:$A$501=Sheet8!A348)*(Deduction!$B$3:$B$501=Sheet8!B348)*(Deduction!$C$3:$C$501=Sheet8!D348),0),8)","v":0},{"$f":"INDEX(Deduction!$A$3:$K$501,MATCH(1,(Deduction!$A$3:$A$501=Sheet8!A348)*(Deduction!$B$3:$B$501=Sheet8!B348)*(Deduction!$C$3:$C$501=Sheet8!D348),0),9)","v":0},{"$f":"INDEX(Deduction!$A$3:$K$501,MATCH(1,(Deduction!$A$3:$A$501=Sheet8!A348)*(Deduction!$B$3:$B$501=Sheet8!B348)*(Deduction!$C$3:$C$501=Sheet8!D348),0),10)","v":0},{"$f":"INDEX(Deduction!$A$3:$K$501,MATCH(1,(Deduction!$A$3:$A$501=Sheet8!A348)*(Deduction!$B$3:$B$501=Sheet8!B348)*(Deduction!$C$3:$C$501=Sheet8!D348),0),11)","v":0},{"$error":"#DIV/0!"},{"$f":"VLOOKUP(D348,Emp_Master!$B$3:$H$501,7)","v":{"$error":"#N/A"}}]
[{"$f":"Salary_Entitlement!A350","v":0},{"$f":"Salary_Entitlement!B350","v":0},{"$f":"Salary_Entitlement!C350","v":0},{"$f":"Salary_Entitlement!D350","v":0},{"$f":"Salary_Entitlement!E350","v":{"$error":"#N/A"}},{"$f":"Salary_Entitlement!F350","v":0},{"$f":"Salary_Entitlement!G350","v":0},{"$f":"Salary_Entitlement!H350","v":0},{"$f":"Salary_Entitlement!I350","v":0},{"$f":"Salary_Entitlement!J350","v":0},{"$f":"Salary_Entitlement!K350","v":0},{"$f":"Salary_Entitlement!L350","v":0},{"$f":"Salary_Entitlement!M350","v":0},{"$f":"Salary_Entitlement!N350","v":0},{"$f":"Salary_Entitlement!O350","v":0},{"$f":"Salary_Entitlement!P350","v":0},{"$error":"#DIV/0!"},{"$error":"#DIV/0!"},{"$f":"INDEX(Deduction!$A$3:$K$501,MATCH(1,(Deduction!$A$3:$A$501=Sheet8!A349)*(Deduction!$B$3:$B$501=Sheet8!B349)*(Deduction!$C$3:$C$501=Sheet8!D349),0),5)","v":0},{"$f":"INDEX(Deduction!$A$3:$K$501,MATCH(1,(Deduction!$A$3:$A$501=Sheet8!A349)*(Deduction!$B$3:$B$501=Sheet8!B349)*(Deduction!$C$3:$C$501=Sheet8!D349),0),6)","v":0},{"$f":"INDEX(Deduction!$A$3:$K$501,MATCH(1,(Deduction!$A$3:$A$501=Sheet8!A349)*(Deduction!$B$3:$B$501=Sheet8!B349)*(Deduction!$C$3:$C$501=Sheet8!D349),0),7)","v":0},{"$f":"INDEX(Deduction!$A$3:$K$501,MATCH(1,(Deduction!$A$3:$A$501=Sheet8!A349)*(Deduction!$B$3:$B$501=Sheet8!B349)*(Deduction!$C$3:$C$501=Sheet8!D349),0),8)","v":0},{"$f":"INDEX(Deduction!$A$3:$K$501,MATCH(1,(Deduction!$A$3:$A$501=Sheet8!A349)*(Deduction!$B$3:$B$501=Sheet8!B349)*(Deduction!$C$3:$C$501=Sheet8!D349),0),9)","v":0},{"$f":"INDEX(Deduction!$A$3:$K$501,MATCH(1,(Deduction!$A$3:$A$501=Sheet8!A349)*(Deduction!$B$3:$B$501=Sheet8!B349)*(Deduction!$C$3:$C$501=Sheet8!D349),0),10)","v":0},{"$f":"INDEX(Deduction!$A$3:$K$501,MATCH(1,(Deduction!$A$3:$A$501=Sheet8!A349)*(Deduction!$B$3:$B$501=Sheet8!B349)*(Deduction!$C$3:$C$501=Sheet8!D349),0),11)","v":0},{"$error":"#DIV/0!"},{"$f":"VLOOKUP(D349,Emp_Master!$B$3:$H$501,7)","v":{"$error":"#N/A"}}]
[{"$f":"Salary_Entitlement!A351","v":0},{"$f":"Salary_Entitlement!B351","v":0},{"$f":"Salary_Entitlement!C351","v":0},{"$f":"Salary_Entitlement!D351","v":0},{"$f":"Salary_Entitlement!E351","v":{"$error":"#N/A"}},{"$f":"Salary_Entitlement!F351","v":0},{"$f":"Salary_Entitlement!G351","v":0},{"$f":"Salary_Entitlement!H351","v":0},{"$f":"Salary_Entitlement!I351","v":0},{"$f":"Salary_Entitlement!J351","v":0},{"$f":"Salary_Entitlement!K351","v":0},{"$f":"Salary_Entitlement!L351","v":0},{"$f":"Salary_Entitlement!M351","v":0},{"$f":"Salary_Entitlement!N351","v":0},{"$f":"Salary_Entitlement!O351","v":0},{"$f":"Salary_Entitlement!P351","v":0},{"$error":"#DIV/0!"},{"$error":"#DIV/0!"},{"$f":"INDEX(Deduction!$A$3:$K$501,MATCH(1,(Deduction!$A$3:$A$501=Sheet8!A350)*(Deduction!$B$3:$B$501=Sheet8!B350)*(Deduction!$C$3:$C$501=Sheet8!D350),0),5)","v":0},{"$f":"INDEX(Deduction!$A$3:$K$501,MATCH(1,(Deduction!$A$3:$A$501=Sheet8!A350)*(Deduction!$B$3:$B$501=Sheet8!B350)*(Deduction!$C$3:$C$501=Sheet8!D350),0),6)","v":0},{"$f":"INDEX(Deduction!$A$3:$K$501,MATCH(1,(Deduction!$A$3:$A$501=Sheet8!A350)*(Deduction!$B$3:$B$501=Sheet8!B350)*(Deduction!$C$3:$C$501=Sheet8!D350),0),7)","v":0},{"$f":"INDEX(Deduction!$A$3:$K$501,MATCH(1,(Deduction!$A$3:$A$501=Sheet8!A350)*(Deduction!$B$3:$B$501=Sheet8!B350)*(Deduction!$C$3:$C$501=Sheet8!D350),0),8)","v":0},{"$f":"INDEX(Deduction!$A$3:$K$501,MATCH(1,(Deduction!$A$3:$A$501=Sheet8!A350)*(Deduction!$B$3:$B$501=Sheet8!B350)*(Deduction!$C$3:$C$501=Sheet8!D350),0),9)","v":0},{"$f":"INDEX(Deduction!$A$3:$K$501,MATCH(1,(Deduction!$A$3:$A$501=Sheet8!A350)*(Deduction!$B$3:$B$501=Sheet8!B350)*(Deduction!$C$3:$C$501=Sheet8!D350),0),10)","v":0},{"$f":"INDEX(Deduction!$A$3:$K$501,MATCH(1,(Deduction!$A$3:$A$501=Sheet8!A350)*(Deduction!$B$3:$B$501=Sheet8!B350)*(Deduction!$C$3:$C$501=Sheet8!D350),0),11)","v":0},{"$error":"#DIV/0!"},{"$f":"VLOOKUP(D350,Emp_Master!$B$3:$H$501,7)","v":{"$error":"#N/A"}}]
[{"$f":"Salary_Entitlement!A352","v":0},{"$f":"Salary_Entitlement!B352","v":0},{"$f":"Salary_Entitlement!C352","v":0},{"$f":"Salary_Entitlement!D352","v":0},{"$f":"Salary_Entitlement!E352","v":{"$error":"#N/A"}},{"$f":"Salary_Entitlement!F352","v":0},{"$f":"Salary_Entitlement!G352","v":0},{"$f":"Salary_Entitlement!H352","v":0},{"$f":"Salary_Entitlement!I352","v":0},{"$f":"Salary_Entitlement!J352","v":0},{"$f":"Salary_Entitlement!K352","v":0},{"$f":"Salary_Entitlement!L352","v":0},{"$f":"Salary_Entitlement!M352","v":0},{"$f":"Salary_Entitlement!N352","v":0},{"$f":"Salary_Entitlement!O352","v":0},{"$f":"Salary_Entitlement!P352","v":0},{"$error":"#DIV/0!"},{"$error":"#DIV/0!"},{"$f":"INDEX(Deduction!$A$3:$K$501,MATCH(1,(Deduction!$A$3:$A$501=Sheet8!A351)*(Deduction!$B$3:$B$501=Sheet8!B351)*(Deduction!$C$3:$C$501=Sheet8!D351),0),5)","v":0},{"$f":"INDEX(Deduction!$A$3:$K$501,MATCH(1,(Deduction!$A$3:$A$501=Sheet8!A351)*(Deduction!$B$3:$B$501=Sheet8!B351)*(Deduction!$C$3:$C$501=Sheet8!D351),0),6)","v":0},{"$f":"INDEX(Deduction!$A$3:$K$501,MATCH(1,(Deduction!$A$3:$A$501=Sheet8!A351)*(Deduction!$B$3:$B$501=Sheet8!B351)*(Deduction!$C$3:$C$501=Sheet8!D351),0),7)","v":0},{"$f":"INDEX(Deduction!$A$3:$K$501,MATCH(1,(Deduction!$A$3:$A$501=Sheet8!A351)*(Deduction!$B$3:$B$501=Sheet8!B351)*(Deduction!$C$3:$C$501=Sheet8!D351),0),8)","v":0},{"$f":"INDEX(Deduction!$A$3:$K$501,MATCH(1,(Deduction!$A$3:$A$501=Sheet8!A351)*(Deduction!$B$3:$B$501=Sheet8!B351)*(Deduction!$C$3:$C$501=Sheet8!D351),0),9)","v":0},{"$f":"INDEX(Deduction!$A$3:$K$501,MATCH(1,(Deduction!$A$3:$A$501=Sheet8!A351)*(Deduction!$B$3:$B$501=Sheet8!B351)*(Deduction!$C$3:$C$501=Sheet8!D351),0),10)","v":0},{"$f":"INDEX(Deduction!$A$3:$K$501,MATCH(1,(Deduction!$A$3:$A$501=Sheet8!A351)*(Deduction!$B$3:$B$501=Sheet8!B351)*(Deduction!$C$3:$C$501=Sheet8!D351),0),11)","v":0},{"$error":"#DIV/0!"},{"$f":"VLOOKUP(D351,Emp_Master!$B$3:$H$501,7)","v":{"$error":"#N/A"}}]
[{"$f":"Salary_Entitlement!A353","v":0},{"$f":"Salary_Entitlement!B353","v":0},{"$f":"Salary_Entitlement!C353","v":0},{"$f":"Salary_Entitlement!D353","v":0},{"$f":"Salary_Entitlement!E353","v":{"$error":"#N/A"}},{"$f":"Salary_Entitlement!F353","v":0},{"$f":"Salary_Entitlement!G353","v":0},{"$f":"Salary_Entitlement!H353","v":0},{"$f":"Salary_Entitlement!I353","v":0},{"$f":"Salary_Entitlement!J353","v":0},{"$f":"Salary_Entitlement!K353","v":0},{"$f":"Salary_Entitlement!L353","v":0},{"$f":"Salary_Entitlement!M353","v":0},{"$f":"Salary_Entitlement!N353","v":0},{"$f":"Salary_Entitlement!O353","v":0},{"$f":"Salary_Entitlement!P353","v":0},{"$error":"#DIV/0!"},{"$error":"#DIV/0!"},{"$f":"INDEX(Deduction!$A$3:$K$501,MATCH(1,(Deduction!$A$3:$A$501=Sheet8!A352)*(Deduction!$B$3:$B$501=Sheet8!B352)*(Deduction!$C$3:$C$501=Sheet8!D352),0),5)","v":0},{"$f":"INDEX(Deduction!$A$3:$K$501,MATCH(1,(Deduction!$A$3:$A$501=Sheet8!A352)*(Deduction!$B$3:$B$501=Sheet8!B352)*(Deduction!$C$3:$C$501=Sheet8!D352),0),6)","v":0},{"$f":"INDEX(Deduction!$A$3:$K$501,MATCH(1,(Deduction!$A$3:$A$501=Sheet8!A352)*(Deduction!$B$3:$B$501=Sheet8!B352)*(Deduction!$C$3:$C$501=Sheet8!D352),0),7)","v":0},{"$f":"INDEX(Deduction!$A$3:$K$501,MATCH(1,(Deduction!$A$3:$A$501=Sheet8!A352)*(Deduction!$B$3:$B$501=Sheet8!B352)*(Deduction!$C$3:$C$501=Sheet8!D352),0),8)","v":0},{"$f":"INDEX(Deduction!$A$3:$K$501,MATCH(1,(Deduction!$A$3:$A$501=Sheet8!A352)*(Deduction!$B$3:$B$501=Sheet8!B352)*(Deduction!$C$3:$C$501=Sheet8!D352),0),9)","v":0},{"$f":"INDEX(Deduction!$A$3:$K$501,MATCH(1,(Deduction!$A$3:$A$501=Sheet8!A352)*(Deduction!$B$3:$B$501=Sheet8!B352)*(Deduction!$C$3:$C$501=Sheet8!D352),0),10)","v":0},{"$f":"INDEX(Deduction!$A$3:$K$501,MATCH(1,(Deduction!$A$3:$A$501=Sheet8!A352)*(Deduction!$B$3:$B$501=Sheet8!B352)*(Deduction!$C$3:$C$501=Sheet8!D352),0),11)","v":0},{"$error":"#DIV/0!"},{"$f":"VLOOKUP(D352,Emp_Master!$B$3:$H$501,7)","v":{"$error":"#N/A"}}]
[{"$f":"Salary_Entitlement!A354","v":0},{"$f":"Salary_Entitlement!B354","v":0},{"$f":"Salary_Entitlement!C354","v":0},{"$f":"Salary_Entitlement!D354","v":0},{"$f":"Salary_Entitlement!E354","v":{"$error":"#N/A"}},{"$f":"Salary_Entitlement!F354","v":0},{"$f":"Salary_Entitlement!G354","v":0},{"$f":"Salary_Entitlement!H354","v":0},{"$f":"Salary_Entitlement!I354","v":0},{"$f":"Salary_Entitlement!J354","v":0},{"$f":"Salary_Entitlement!K354","v":0},{"$f":"Salary_Entitlement!L354","v":0},{"$f":"Salary_Entitlement!M354","v":0},{"$f":"Salary_Entitlement!N354","v":0},{"$f":"Salary_Entitlement!O354","v":0},{"$f":"Salary_Entitlement!P354","v":0},{"$error":"#DIV/0!"},{"$error":"#DIV/0!"},{"$f":"INDEX(Deduction!$A$3:$K$501,MATCH(1,(Deduction!$A$3:$A$501=Sheet8!A353)*(Deduction!$B$3:$B$501=Sheet8!B353)*(Deduction!$C$3:$C$501=Sheet8!D353),0),5)","v":0},{"$f":"INDEX(Deduction!$A$3:$K$501,MATCH(1,(Deduction!$A$3:$A$501=Sheet8!A353)*(Deduction!$B$3:$B$501=Sheet8!B353)*(Deduction!$C$3:$C$501=Sheet8!D353),0),6)","v":0},{"$f":"INDEX(Deduction!$A$3:$K$501,MATCH(1,(Deduction!$A$3:$A$501=Sheet8!A353)*(Deduction!$B$3:$B$501=Sheet8!B353)*(Deduction!$C$3:$C$501=Sheet8!D353),0),7)","v":0},{"$f":"INDEX(Deduction!$A$3:$K$501,MATCH(1,(Deduction!$A$3:$A$501=Sheet8!A353)*(Deduction!$B$3:$B$501=Sheet8!B353)*(Deduction!$C$3:$C$501=Sheet8!D353),0),8)","v":0},{"$f":"INDEX(Deduction!$A$3:$K$501,MATCH(1,(Deduction!$A$3:$A$501=Sheet8!A353)*(Deduction!$B$3:$B$501=Sheet8!B353)*(Deduction!$C$3:$C$501=Sheet8!D353),0),9)","v":0},{"$f":"INDEX(Deduction!$A$3:$K$501,MATCH(1,(Deduction!$A$3:$A$501=Sheet8!A353)*(Deduction!$B$3:$B$501=Sheet8!B353)*(Deduction!$C$3:$C$501=Sheet8!D353),0),10)","v":0},{"$f":"INDEX(Deduction!$A$3:$K$501,MATCH(1,(Deduction!$A$3:$A$501=Sheet8!A353)*(Deduction!$B$3:$B$501=Sheet8!B353)*(Deduction!$C$3:$C$501=Sheet8!D353),0),11)","v":0},{"$error":"#DIV/0!"},{"$f":"VLOOKUP(D353,Emp_Master!$B$3:$H$501,7)","v":{"$error":"#N/A"}}]
[{"$f":"Salary_Entitlement!A355","v":0},{"$f":"Salary_Entitlement!B355","v":0},{"$f":"Salary_Entitlement!C355","v":0},{"$f":"Salary_Entitlement!D355","v":0},{"$f":"Salary_Entitlement!E355","v":{"$error":"#N/A"}},{"$f":"Salary_Entitlement!F355","v":0},{"$f":"Salary_Entitlement!G355","v":0},{"$f":"Salary_Entitlement!H355","v":0},{"$f":"Salary_Entitlement!I355","v":0},{"$f":"Salary_Entitlement!J355","v":0},{"$f":"Salary_Entitlement!K355","v":0},{"$f":"Salary_Entitlement!L355","v":0},{"$f":"Salary_Entitlement!M355","v":0},{"$f":"Salary_Entitlement!N355","v":0},{"$f":"Salary_Entitlement!O355","v":0},{"$f":"Salary_Entitlement!P355","v":0},{"$error":"#DIV/0!"},{"$error":"#DIV/0!"},{"$f":"INDEX(Deduction!$A$3:$K$501,MATCH(1,(Deduction!$A$3:$A$501=Sheet8!A354)*(Deduction!$B$3:$B$501=Sheet8!B354)*(Deduction!$C$3:$C$501=Sheet8!D354),0),5)","v":0},{"$f":"INDEX(Deduction!$A$3:$K$501,MATCH(1,(Deduction!$A$3:$A$501=Sheet8!A354)*(Deduction!$B$3:$B$501=Sheet8!B354)*(Deduction!$C$3:$C$501=Sheet8!D354),0),6)","v":0},{"$f":"INDEX(Deduction!$A$3:$K$501,MATCH(1,(Deduction!$A$3:$A$501=Sheet8!A354)*(Deduction!$B$3:$B$501=Sheet8!B354)*(Deduction!$C$3:$C$501=Sheet8!D354),0),7)","v":0},{"$f":"INDEX(Deduction!$A$3:$K$501,MATCH(1,(Deduction!$A$3:$A$501=Sheet8!A354)*(Deduction!$B$3:$B$501=Sheet8!B354)*(Deduction!$C$3:$C$501=Sheet8!D354),0),8)","v":0},{"$f":"INDEX(Deduction!$A$3:$K$501,MATCH(1,(Deduction!$A$3:$A$501=Sheet8!A354)*(Deduction!$B$3:$B$501=Sheet8!B354)*(Deduction!$C$3:$C$501=Sheet8!D354),0),9)","v":0},{"$f":"INDEX(Deduction!$A$3:$K$501,MATCH(1,(Deduction!$A$3:$A$501=Sheet8!A354)*(Deduction!$B$3:$B$501=Sheet8!B354)*(Deduction!$C$3:$C$501=Sheet8!D354),0),10)","v":0},{"$f":"INDEX(Deduction!$A$3:$K$501,MATCH(1,(Deduction!$A$3:$A$501=Sheet8!A354)*(Deduction!$B$3:$B$501=Sheet8!B354)*(Deduction!$C$3:$C$501=Sheet8!D354),0),11)","v":0},{"$error":"#DIV/0!"},{"$f":"VLOOKUP(D354,Emp_Master!$B$3:$H$501,7)","v":{"$error":"#N/A"}}]
[{"$f":"Salary_Entitlement!A356","v":0},{"$f":"Salary_Entitlement!B356","v":0},{"$f":"Salary_Entitlement!C356","v":0},{"$f":"Salary_Entitlement!D356","v":0},{"$f":"Salary_Entitlement!E356","v":{"$error":"#N/A"}},{"$f":"Salary_Entitlement!F356","v":0},{"$f":"Salary_Entitlement!G356","v":0},{"$f":"Salary_Entitlement!H356","v":0},{"$f":"Salary_Entitlement!I356","v":0},{"$f":"Salary_Entitlement!J356","v":0},{"$f":"Salary_Entitlement!K356","v":0},{"$f":"Salary_Entitlement!L356","v":0},{"$f":"Salary_Entitlement!M356","v":0},{"$f":"Salary_Entitlement!N356","v":0},{"$f":"Salary_Entitlement!O356","v":0},{"$f":"Salary_Entitlement!P356","v":0},{"$error":"#DIV/0!"},{"$error":"#DIV/0!"},{"$f":"INDEX(Deduction!$A$3:$K$501,MATCH(1,(Deduction!$A$3:$A$501=Sheet8!A355)*(Deduction!$B$3:$B$501=Sheet8!B355)*(Deduction!$C$3:$C$501=Sheet8!D355),0),5)","v":0},{"$f":"INDEX(Deduction!$A$3:$K$501,MATCH(1,(Deduction!$A$3:$A$501=Sheet8!A355)*(Deduction!$B$3:$B$501=Sheet8!B355)*(Deduction!$C$3:$C$501=Sheet8!D355),0),6)","v":0},{"$f":"INDEX(Deduction!$A$3:$K$501,MATCH(1,(Deduction!$A$3:$A$501=Sheet8!A355)*(Deduction!$B$3:$B$501=Sheet8!B355)*(Deduction!$C$3:$C$501=Sheet8!D355),0),7)","v":0},{"$f":"INDEX(Deduction!$A$3:$K$501,MATCH(1,(Deduction!$A$3:$A$501=Sheet8!A355)*(Deduction!$B$3:$B$501=Sheet8!B355)*(Deduction!$C$3:$C$501=Sheet8!D355),0),8)","v":0},{"$f":"INDEX(Deduction!$A$3:$K$501,MATCH(1,(Deduction!$A$3:$A$501=Sheet8!A355)*(Deduction!$B$3:$B$501=Sheet8!B355)*(Deduction!$C$3:$C$501=Sheet8!D355),0),9)","v":0},{"$f":"INDEX(Deduction!$A$3:$K$501,MATCH(1,(Deduction!$A$3:$A$501=Sheet8!A355)*(Deduction!$B$3:$B$501=Sheet8!B355)*(Deduction!$C$3:$C$501=Sheet8!D355),0),10)","v":0},{"$f":"INDEX(Deduction!$A$3:$K$501,MATCH(1,(Deduction!$A$3:$A$501=Sheet8!A355)*(Deduction!$B$3:$B$501=Sheet8!B355)*(Deduction!$C$3:$C$501=Sheet8!D355),0),11)","v":0},{"$error":"#DIV/0!"},{"$f":"VLOOKUP(D355,Emp_Master!$B$3:$H$501,7)","v":{"$error":"#N/A"}}]
[{"$f":"Salary_Entitlement!A357","v":0},{"$f":"Salary_Entitlement!B357","v":0},{"$f":"Salary_Entitlement!C357","v":0},{"$f":"Salary_Entitlement!D357","v":0},{"$f":"Salary_Entitlement!E357","v":{"$error":"#N/A"}},{"$f":"Salary_Entitlement!F357","v":0},{"$f":"Salary_Entitlement!G357","v":0},{"$f":"Salary_Entitlement!H357","v":0},{"$f":"Salary_Entitlement!I357","v":0},{"$f":"Salary_Entitlement!J357","v":0},{"$f":"Salary_Entitlement!K357","v":0},{"$f":"Salary_Entitlement!L357","v":0},{"$f":"Salary_Entitlement!M357","v":0},{"$f":"Salary_Entitlement!N357","v":0},{"$f":"Salary_Entitlement!O357","v":0},{"$f":"Salary_Entitlement!P357","v":0},{"$error":"#DIV/0!"},{"$error":"#DIV/0!"},{"$f":"INDEX(Deduction!$A$3:$K$501,MATCH(1,(Deduction!$A$3:$A$501=Sheet8!A356)*(Deduction!$B$3:$B$501=Sheet8!B356)*(Deduction!$C$3:$C$501=Sheet8!D356),0),5)","v":0},{"$f":"INDEX(Deduction!$A$3:$K$501,MATCH(1,(Deduction!$A$3:$A$501=Sheet8!A356)*(Deduction!$B$3:$B$501=Sheet8!B356)*(Deduction!$C$3:$C$501=Sheet8!D356),0),6)","v":0},{"$f":"INDEX(Deduction!$A$3:$K$501,MATCH(1,(Deduction!$A$3:$A$501=Sheet8!A356)*(Deduction!$B$3:$B$501=Sheet8!B356)*(Deduction!$C$3:$C$501=Sheet8!D356),0),7)","v":0},{"$f":"INDEX(Deduction!$A$3:$K$501,MATCH(1,(Deduction!$A$3:$A$501=Sheet8!A356)*(Deduction!$B$3:$B$501=Sheet8!B356)*(Deduction!$C$3:$C$501=Sheet8!D356),0),8)","v":0},{"$f":"INDEX(Deduction!$A$3:$K$501,MATCH(1,(Deduction!$A$3:$A$501=Sheet8!A356)*(Deduction!$B$3:$B$501=Sheet8!B356)*(Deduction!$C$3:$C$501=Sheet8!D356),0),9)","v":0},{"$f":"INDEX(Deduction!$A$3:$K$501,MATCH(1,(Deduction!$A$3:$A$501=Sheet8!A356)*(Deduction!$B$3:$B$501=Sheet8!B356)*(Deduction!$C$3:$C$501=Sheet8!D356),0),10)","v":0},{"$f":"INDEX(Deduction!$A$3:$K$501,MATCH(1,(Deduction!$A$3:$A$501=Sheet8!A356)*(Deduction!$B$3:$B$501=Sheet8!B356)*(Deduction!$C$3:$C$501=Sheet8!D356),0),11)","v":0},{"$error":"#DIV/0!"},{"$f":"VLOOKUP(D356,Emp_Master!$B$3:$H$501,7)","v":{"$error":"#N/A"}}]
[{"$f":"Salary_Entitlement!A358","v":0},{"$f":"Salary_Entitlement!B358","v":0},{"$f":"Salary_Entitlement!C358","v":0},{"$f":"Salary_Entitlement!D358","v":0},{"$f":"Salary_Entitlement!E358","v":{"$error":"#N/A"}},{"$f":"Salary_Entitlement!F358","v":0},{"$f":"Salary_Entitlement!G358","v":0},{"$f":"Salary_Entitlement!H358","v":0},{"$f":"Salary_Entitlement!I358","v":0},{"$f":"Salary_Entitlement!J358","v":0},{"$f":"Salary_Entitlement!K358","v":0},{"$f":"Salary_Entitlement!L358","v":0},{"$f":"Salary_Entitlement!M358","v":0},{"$f":"Salary_Entitlement!N358","v":0},{"$f":"Salary_Entitlement!O358","v":0},{"$f":"Salary_Entitlement!P358","v":0},{"$error":"#DIV/0!"},{"$error":"#DIV/0!"},{"$f":"INDEX(Deduction!$A$3:$K$501,MATCH(1,(Deduction!$A$3:$A$501=Sheet8!A357)*(Deduction!$B$3:$B$501=Sheet8!B357)*(Deduction!$C$3:$C$501=Sheet8!D357),0),5)","v":0},{"$f":"INDEX(Deduction!$A$3:$K$501,MATCH(1,(Deduction!$A$3:$A$501=Sheet8!A357)*(Deduction!$B$3:$B$501=Sheet8!B357)*(Deduction!$C$3:$C$501=Sheet8!D357),0),6)","v":0},{"$f":"INDEX(Deduction!$A$3:$K$501,MATCH(1,(Deduction!$A$3:$A$501=Sheet8!A357)*(Deduction!$B$3:$B$501=Sheet8!B357)*(Deduction!$C$3:$C$501=Sheet8!D357),0),7)","v":0},{"$f":"INDEX(Deduction!$A$3:$K$501,MATCH(1,(Deduction!$A$3:$A$501=Sheet8!A357)*(Deduction!$B$3:$B$501=Sheet8!B357)*(Deduction!$C$3:$C$501=Sheet8!D357),0),8)","v":0},{"$f":"INDEX(Deduction!$A$3:$K$501,MATCH(1,(Deduction!$A$3:$A$501=Sheet8!A357)*(Deduction!$B$3:$B$501=Sheet8!B357)*(Deduction!$C$3:$C$501=Sheet8!D357),0),9)","v":0},{"$f":"INDEX(Deduction!$A$3:$K$501,MATCH(1,(Deduction!$A$3:$A$501=Sheet8!A357)*(Deduction!$B$3:$B$501=Sheet8!B357)*(Deduction!$C$3:$C$501=Sheet8!D357),0),10)","v":0},{"$f":"INDEX(Deduction!$A$3:$K$501,MATCH(1,(Deduction!$A$3:$A$501=Sheet8!A357)*(Deduction!$B$3:$B$501=Sheet8!B357)*(Deduction!$C$3:$C$501=Sheet8!D357),0),11)","v":0},{"$error":"#DIV/0!"},{"$f":"VLOOKUP(D357,Emp_Master!$B$3:$H$501,7)","v":{"$error":"#N/A"}}]
[{"$f":"Salary_Entitlement!A359","v":0},{"$f":"Salary_Entitlement!B359","v":0},{"$f":"Salary_Entitlement!C359","v":0},{"$f":"Salary_Entitlement!D359","v":0},{"$f":"Salary_Entitlement!E359","v":{"$error":"#N/A"}},{"$f":"Salary_Entitlement!F359","v":0},{"$f":"Salary_Entitlement!G359","v":0},{"$f":"Salary_Entitlement!H359","v":0},{"$f":"Salary_Entitlement!I359","v":0},{"$f":"Salary_Entitlement!J359","v":0},{"$f":"Salary_Entitlement!K359","v":0},{"$f":"Salary_Entitlement!L359","v":0},{"$f":"Salary_Entitlement!M359","v":0},{"$f":"Salary_Entitlement!N359","v":0},{"$f":"Salary_Entitlement!O359","v":0},{"$f":"Salary_Entitlement!P359","v":0},{"$error":"#DIV/0!"},{"$error":"#DIV/0!"},{"$f":"INDEX(Deduction!$A$3:$K$501,MATCH(1,(Deduction!$A$3:$A$501=Sheet8!A358)*(Deduction!$B$3:$B$501=Sheet8!B358)*(Deduction!$C$3:$C$501=Sheet8!D358),0),5)","v":0},{"$f":"INDEX(Deduction!$A$3:$K$501,MATCH(1,(Deduction!$A$3:$A$501=Sheet8!A358)*(Deduction!$B$3:$B$501=Sheet8!B358)*(Deduction!$C$3:$C$501=Sheet8!D358),0),6)","v":0},{"$f":"INDEX(Deduction!$A$3:$K$501,MATCH(1,(Deduction!$A$3:$A$501=Sheet8!A358)*(Deduction!$B$3:$B$501=Sheet8!B358)*(Deduction!$C$3:$C$501=Sheet8!D358),0),7)","v":0},{"$f":"INDEX(Deduction!$A$3:$K$501,MATCH(1,(Deduction!$A$3:$A$501=Sheet8!A358)*(Deduction!$B$3:$B$501=Sheet8!B358)*(Deduction!$C$3:$C$501=Sheet8!D358),0),8)","v":0},{"$f":"INDEX(Deduction!$A$3:$K$501,MATCH(1,(Deduction!$A$3:$A$501=Sheet8!A358)*(Deduction!$B$3:$B$501=Sheet8!B358)*(Deduction!$C$3:$C$501=Sheet8!D358),0),9)","v":0},{"$f":"INDEX(Deduction!$A$3:$K$501,MATCH(1,(Deduction!$A$3:$A$501=Sheet8!A358)*(Deduction!$B$3:$B$501=Sheet8!B358)*(Deduction!$C$3:$C$501=Sheet8!D358),0),10)","v":0},{"$f":"INDEX(Deduction!$A$3:$K$501,MATCH(1,(Deduction!$A$3:$A$501=Sheet8!A358)*(Deduction!$B$3:$B$501=Sheet8!B358)*(Deduction!$C$3:$C$501=Sheet8!D358),0),11)","v":0},{"$error":"#DIV/0!"},{"$f":"VLOOKUP(D358,Emp_Master!$B$3:$H$501,7)","v":{"$error":"#N/A"}}]
[{"$f":"Salary_Entitlement!A360","v":0},{"$f":"Salary_Entitlement!B360","v":0},{"$f":"Salary_Entitlement!C360","v":0},{"$f":"Salary_Entitlement!D360","v":0},{"$f":"Salary_Entitlement!E360","v":{"$error":"#N/A"}},{"$f":"Salary_Entitlement!F360","v":0},{"$f":"Salary_Entitlement!G360","v":0},{"$f":"Salary_Entitlement!H360","v":0},{"$f":"Salary_Entitlement!I360","v":0},{"$f":"Salary_Entitlement!J360","v":0},{"$f":"Salary_Entitlement!K360","v":0},{"$f":"Salary_Entitlement!L360","v":0},{"$f":"Salary_Entitlement!M360","v":0},{"$f":"Salary_Entitlement!N360","v":0},{"$f":"Salary_Entitlement!O360","v":0},{"$f":"Salary_Entitlement!P360","v":0},{"$error":"#DIV/0!"},{"$error":"#DIV/0!"},{"$f":"INDEX(Deduction!$A$3:$K$501,MATCH(1,(Deduction!$A$3:$A$501=Sheet8!A359)*(Deduction!$B$3:$B$501=Sheet8!B359)*(Deduction!$C$3:$C$501=Sheet8!D359),0),5)","v":0},{"$f":"INDEX(Deduction!$A$3:$K$501,MATCH(1,(Deduction!$A$3:$A$501=Sheet8!A359)*(Deduction!$B$3:$B$501=Sheet8!B359)*(Deduction!$C$3:$C$501=Sheet8!D359),0),6)","v":0},{"$f":"INDEX(Deduction!$A$3:$K$501,MATCH(1,(Deduction!$A$3:$A$501=Sheet8!A359)*(Deduction!$B$3:$B$501=Sheet8!B359)*(Deduction!$C$3:$C$501=Sheet8!D359),0),7)","v":0},{"$f":"INDEX(Deduction!$A$3:$K$501,MATCH(1,(Deduction!$A$3:$A$501=Sheet8!A359)*(Deduction!$B$3:$B$501=Sheet8!B359)*(Deduction!$C$3:$C$501=Sheet8!D359),0),8)","v":0},{"$f":"INDEX(Deduction!$A$3:$K$501,MATCH(1,(Deduction!$A$3:$A$501=Sheet8!A359)*(Deduction!$B$3:$B$501=Sheet8!B359)*(Deduction!$C$3:$C$501=Sheet8!D359),0),9)","v":0},{"$f":"INDEX(Deduction!$A$3:$K$501,MATCH(1,(Deduction!$A$3:$A$501=Sheet8!A359)*(Deduction!$B$3:$B$501=Sheet8!B359)*(Deduction!$C$3:$C$501=Sheet8!D359),0),10)","v":0},{"$f":"INDEX(Deduction!$A$3:$K$501,MATCH(1,(Deduction!$A$3:$A$501=Sheet8!A359)*(Deduction!$B$3:$B$501=Sheet8!B359)*(Deduction!$C$3:$C$501=Sheet8!D359),0),11)","v":0},{"$error":"#DIV/0!"},{"$f":"VLOOKUP(D359,Emp_Master!$B$3:$H$501,7)","v":{"$error":"#N/A"}}]
[{"$f":"Salary_Entitlement!A361","v":0},{"$f":"Salary_Entitlement!B361","v":0},{"$f":"Salary_Entitlement!C361","v":0},{"$f":"Salary_Entitlement!D361","v":0},{"$f":"Salary_Entitlement!E361","v":{"$error":"#N/A"}},{"$f":"Salary_Entitlement!F361","v":0},{"$f":"Salary_Entitlement!G361","v":0},{"$f":"Salary_Entitlement!H361","v":0},{"$f":"Salary_Entitlement!I361","v":0},{"$f":"Salary_Entitlement!J361","v":0},{"$f":"Salary_Entitlement!K361","v":0},{"$f":"Salary_Entitlement!L361","v":0},{"$f":"Salary_Entitlement!M361","v":0},{"$f":"Salary_Entitlement!N361","v":0},{"$f":"Salary_Entitlement!O361","v":0},{"$f":"Salary_Entitlement!P361","v":0},{"$error":"#DIV/0!"},{"$error":"#DIV/0!"},{"$f":"INDEX(Deduction!$A$3:$K$501,MATCH(1,(Deduction!$A$3:$A$501=Sheet8!A360)*(Deduction!$B$3:$B$501=Sheet8!B360)*(Deduction!$C$3:$C$501=Sheet8!D360),0),5)","v":0},{"$f":"INDEX(Deduction!$A$3:$K$501,MATCH(1,(Deduction!$A$3:$A$501=Sheet8!A360)*(Deduction!$B$3:$B$501=Sheet8!B360)*(Deduction!$C$3:$C$501=Sheet8!D360),0),6)","v":0},{"$f":"INDEX(Deduction!$A$3:$K$501,MATCH(1,(Deduction!$A$3:$A$501=Sheet8!A360)*(Deduction!$B$3:$B$501=Sheet8!B360)*(Deduction!$C$3:$C$501=Sheet8!D360),0),7)","v":0},{"$f":"INDEX(Deduction!$A$3:$K$501,MATCH(1,(Deduction!$A$3:$A$501=Sheet8!A360)*(Deduction!$B$3:$B$501=Sheet8!B360)*(Deduction!$C$3:$C$501=Sheet8!D360),0),8)","v":0},{"$f":"INDEX(Deduction!$A$3:$K$501,MATCH(1,(Deduction!$A$3:$A$501=Sheet8!A360)*(Deduction!$B$3:$B$501=Sheet8!B360)*(Deduction!$C$3:$C$501=Sheet8!D360),0),9)","v":0},{"$f":"INDEX(Deduction!$A$3:$K$501,MATCH(1,(Deduction!$A$3:$A$501=Sheet8!A360)*(Deduction!$B$3:$B$501=Sheet8!B360)*(Deduction!$C$3:$C$501=Sheet8!D360),0),10)","v":0},{"$f":"INDEX(Deduction!$A$3:$K$501,MATCH(1,(Deduction!$A$3:$A$501=Sheet8!A360)*(Deduction!$B$3:$B$501=Sheet8!B360)*(Deduction!$C$3:$C$501=Sheet8!D360),0),11)","v":0},{"$error":"#DIV/0!"},{"$f":"VLOOKUP(D360,Emp_Master!$B$3:$H$501,7)","v":{"$error":"#N/A"}}]
[{"$f":"Salary_Entitlement!A362","v":0},{"$f":"Salary_Entitlement!B362","v":0},{"$f":"Salary_Entitlement!C362","v":0},{"$f":"Salary_Entitlement!D362","v":0},{"$f":"Salary_Entitlement!E362","v":{"$error":"#N/A"}},{"$f":"Salary_Entitlement!F362","v":0},{"$f":"Salary_Entitlement!G362","v":0},{"$f":"Salary_Entitlement!H362","v":0},{"$f":"Salary_Entitlement!I362","v":0},{"$f":"Salary_Entitlement!J362","v":0},{"$f":"Salary_Entitlement!K362","v":0},{"$f":"Salary_Entitlement!L362","v":0},{"$f":"Salary_Entitlement!M362","v":0},{"$f":"Salary_Entitlement!N362","v":0},{"$f":"Salary_Entitlement!O362","v":0},{"$f":"Salary_Entitlement!P362","v":0},{"$error":"#DIV/0!"},{"$error":"#DIV/0!"},{"$f":"INDEX(Deduction!$A$3:$K$501,MATCH(1,(Deduction!$A$3:$A$501=Sheet8!A361)*(Deduction!$B$3:$B$501=Sheet8!B361)*(Deduction!$C$3:$C$501=Sheet8!D361),0),5)","v":0},{"$f":"INDEX(Deduction!$A$3:$K$501,MATCH(1,(Deduction!$A$3:$A$501=Sheet8!A361)*(Deduction!$B$3:$B$501=Sheet8!B361)*(Deduction!$C$3:$C$501=Sheet8!D361),0),6)","v":0},{"$f":"INDEX(Deduction!$A$3:$K$501,MATCH(1,(Deduction!$A$3:$A$501=Sheet8!A361)*(Deduction!$B$3:$B$501=Sheet8!B361)*(Deduction!$C$3:$C$501=Sheet8!D361),0),7)","v":0},{"$f":"INDEX(Deduction!$A$3:$K$501,MATCH(1,(Deduction!$A$3:$A$501=Sheet8!A361)*(Deduction!$B$3:$B$501=Sheet8!B361)*(Deduction!$C$3:$C$501=Sheet8!D361),0),8)","v":0},{"$f":"INDEX(Deduction!$A$3:$K$501,MATCH(1,(Deduction!$A$3:$A$501=Sheet8!A361)*(Deduction!$B$3:$B$501=Sheet8!B361)*(Deduction!$C$3:$C$501=Sheet8!D361),0),9)","v":0},{"$f":"INDEX(Deduction!$A$3:$K$501,MATCH(1,(Deduction!$A$3:$A$501=Sheet8!A361)*(Deduction!$B$3:$B$501=Sheet8!B361)*(Deduction!$C$3:$C$501=Sheet8!D361),0),10)","v":0},{"$f":"INDEX(Deduction!$A$3:$K$501,MATCH(1,(Deduction!$A$3:$A$501=Sheet8!A361)*(Deduction!$B$3:$B$501=Sheet8!B361)*(Deduction!$C$3:$C$501=Sheet8!D361),0),11)","v":0},{"$error":"#DIV/0!"},{"$f":"VLOOKUP(D361,Emp_Master!$B$3:$H$501,7)","v":{"$error":"#N/A"}}]
[{"$f":"Salary_Entitlement!A363","v":0},{"$f":"Salary_Entitlement!B363","v":0},{"$f":"Salary_Entitlement!C363","v":0},{"$f":"Salary_Entitlement!D363","v":0},{"$f":"Salary_Entitlement!E363","v":{"$error":"#N/A"}},{"$f":"Salary_Entitlement!F363","v":0},{"$f":"Salary_Entitlement!G363","v":0},{"$f":"Salary_Entitlement!H363","v":0},{"$f":"Salary_Entitlement!I363","v":0},{"$f":"Salary_Entitlement!J363","v":0},{"$f":"Salary_Entitlement!K363","v":0},{"$f":"Salary_Entitlement!L363","v":0},{"$f":"Salary_Entitlement!M363","v":0},{"$f":"Salary_Entitlement!N363","v":0},{"$f":"Salary_Entitlement!O363","v":0},{"$f":"Salary_Entitlement!P363","v":0},{"$error":"#DIV/0!"},{"$error":"#DIV/0!"},{"$f":"INDEX(Deduction!$A$3:$K$501,MATCH(1,(Deduction!$A$3:$A$501=Sheet8!A362)*(Deduction!$B$3:$B$501=Sheet8!B362)*(Deduction!$C$3:$C$501=Sheet8!D362),0),5)","v":0},{"$f":"INDEX(Deduction!$A$3:$K$501,MATCH(1,(Deduction!$A$3:$A$501=Sheet8!A362)*(Deduction!$B$3:$B$501=Sheet8!B362)*(Deduction!$C$3:$C$501=Sheet8!D362),0),6)","v":0},{"$f":"INDEX(Deduction!$A$3:$K$501,MATCH(1,(Deduction!$A$3:$A$501=Sheet8!A362)*(Deduction!$B$3:$B$501=Sheet8!B362)*(Deduction!$C$3:$C$501=Sheet8!D362),0),7)","v":0},{"$f":"INDEX(Deduction!$A$3:$K$501,MATCH(1,(Deduction!$A$3:$A$501=Sheet8!A362)*(Deduction!$B$3:$B$501=Sheet8!B362)*(Deduction!$C$3:$C$501=Sheet8!D362),0),8)","v":0},{"$f":"INDEX(Deduction!$A$3:$K$501,MATCH(1,(Deduction!$A$3:$A$501=Sheet8!A362)*(Deduction!$B$3:$B$501=Sheet8!B362)*(Deduction!$C$3:$C$501=Sheet8!D362),0),9)","v":0},{"$f":"INDEX(Deduction!$A$3:$K$501,MATCH(1,(Deduction!$A$3:$A$501=Sheet8!A362)*(Deduction!$B$3:$B$501=Sheet8!B362)*(Deduction!$C$3:$C$501=Sheet8!D362),0),10)","v":0},{"$f":"INDEX(Deduction!$A$3:$K$501,MATCH(1,(Deduction!$A$3:$A$501=Sheet8!A362)*(Deduction!$B$3:$B$501=Sheet8!B362)*(Deduction!$C$3:$C$501=Sheet8!D362),0),11)","v":0},{"$error":"#DIV/0!"},{"$f":"VLOOKUP(D362,Emp_Master!$B$3:$H$501,7)","v":{"$error":"#N/A"}}]
[{"$f":"Salary_Entitlement!A364","v":0},{"$f":"Salary_Entitlement!B364","v":0},{"$f":"Salary_Entitlement!C364","v":0},{"$f":"Salary_Entitlement!D364","v":0},{"$f":"Salary_Entitlement!E364","v":{"$error":"#N/A"}},{"$f":"Salary_Entitlement!F364","v":0},{"$f":"Salary_Entitlement!G364","v":0},{"$f":"Salary_Entitlement!H364","v":0},{"$f":"Salary_Entitlement!I364","v":0},{"$f":"Salary_Entitlement!J364","v":0},{"$f":"Salary_Entitlement!K364","v":0},{"$f":"Salary_Entitlement!L364","v":0},{"$f":"Salary_Entitlement!M364","v":0},{"$f":"Salary_Entitlement!N364","v":0},{"$f":"Salary_Entitlement!O364","v":0},{"$f":"Salary_Entitlement!P364","v":0},{"$error":"#DIV/0!"},{"$error":"#DIV/0!"},{"$f":"INDEX(Deduction!$A$3:$K$501,MATCH(1,(Deduction!$A$3:$A$501=Sheet8!A363)*(Deduction!$B$3:$B$501=Sheet8!B363)*(Deduction!$C$3:$C$501=Sheet8!D363),0),5)","v":0},{"$f":"INDEX(Deduction!$A$3:$K$501,MATCH(1,(Deduction!$A$3:$A$501=Sheet8!A363)*(Deduction!$B$3:$B$501=Sheet8!B363)*(Deduction!$C$3:$C$501=Sheet8!D363),0),6)","v":0},{"$f":"INDEX(Deduction!$A$3:$K$501,MATCH(1,(Deduction!$A$3:$A$501=Sheet8!A363)*(Deduction!$B$3:$B$501=Sheet8!B363)*(Deduction!$C$3:$C$501=Sheet8!D363),0),7)","v":0},{"$f":"INDEX(Deduction!$A$3:$K$501,MATCH(1,(Deduction!$A$3:$A$501=Sheet8!A363)*(Deduction!$B$3:$B$501=Sheet8!B363)*(Deduction!$C$3:$C$501=Sheet8!D363),0),8)","v":0},{"$f":"INDEX(Deduction!$A$3:$K$501,MATCH(1,(Deduction!$A$3:$A$501=Sheet8!A363)*(Deduction!$B$3:$B$501=Sheet8!B363)*(Deduction!$C$3:$C$501=Sheet8!D363),0),9)","v":0},{"$f":"INDEX(Deduction!$A$3:$K$501,MATCH(1,(Deduction!$A$3:$A$501=Sheet8!A363)*(Deduction!$B$3:$B$501=Sheet8!B363)*(Deduction!$C$3:$C$501=Sheet8!D363),0),10)","v":0},{"$f":"INDEX(Deduction!$A$3:$K$501,MATCH(1,(Deduction!$A$3:$A$501=Sheet8!A363)*(Deduction!$B$3:$B$501=Sheet8!B363)*(Deduction!$C$3:$C$501=Sheet8!D363),0),11)","v":0},{"$error":"#DIV/0!"},{"$f":"VLOOKUP(D363,Emp_Master!$B$3:$H$501,7)","v":{"$error":"#N/A"}}]
[{"$f":"Salary_Entitlement!A365","v":0},{"$f":"Salary_Entitlement!B365","v":0},{"$f":"Salary_Entitlement!C365","v":0},{"$f":"Salary_Entitlement!D365","v":0},{"$f":"Salary_Entitlement!E365","v":{"$error":"#N/A"}},{"$f":"Salary_Entitlement!F365","v":0},{"$f":"Salary_Entitlement!G365","v":0},{"$f":"Salary_Entitlement!H365","v":0},{"$f":"Salary_Entitlement!I365","v":0},{"$f":"Salary_Entitlement!J365","v":0},{"$f":"Salary_Entitlement!K365","v":0},{"$f":"Salary_Entitlement!L365","v":0},{"$f":"Salary_Entitlement!M365","v":0},{"$f":"Salary_Entitlement!N365","v":0},{"$f":"Salary_Entitlement!O365","v":0},{"$f":"Salary_Entitlement!P365","v":0},{"$error":"#DIV/0!"},{"$error":"#DIV/0!"},{"$f":"INDEX(Deduction!$A$3:$K$501,MATCH(1,(Deduction!$A$3:$A$501=Sheet8!A364)*(Deduction!$B$3:$B$501=Sheet8!B364)*(Deduction!$C$3:$C$501=Sheet8!D364),0),5)","v":0},{"$f":"INDEX(Deduction!$A$3:$K$501,MATCH(1,(Deduction!$A$3:$A$501=Sheet8!A364)*(Deduction!$B$3:$B$501=Sheet8!B364)*(Deduction!$C$3:$C$501=Sheet8!D364),0),6)","v":0},{"$f":"INDEX(Deduction!$A$3:$K$501,MATCH(1,(Deduction!$A$3:$A$501=Sheet8!A364)*(Deduction!$B$3:$B$501=Sheet8!B364)*(Deduction!$C$3:$C$501=Sheet8!D364),0),7)","v":0},{"$f":"INDEX(Deduction!$A$3:$K$501,MATCH(1,(Deduction!$A$3:$A$501=Sheet8!A364)*(Deduction!$B$3:$B$501=Sheet8!B364)*(Deduction!$C$3:$C$501=Sheet8!D364),0),8)","v":0},{"$f":"INDEX(Deduction!$A$3:$K$501,MATCH(1,(Deduction!$A$3:$A$501=Sheet8!A364)*(Deduction!$B$3:$B$501=Sheet8!B364)*(Deduction!$C$3:$C$501=Sheet8!D364),0),9)","v":0},{"$f":"INDEX(Deduction!$A$3:$K$501,MATCH(1,(Deduction!$A$3:$A$501=Sheet8!A364)*(Deduction!$B$3:$B$501=Sheet8!B364)*(Deduction!$C$3:$C$501=Sheet8!D364),0),10)","v":0},{"$f":"INDEX(Deduction!$A$3:$K$501,MATCH(1,(Deduction!$A$3:$A$501=Sheet8!A364)*(Deduction!$B$3:$B$501=Sheet8!B364)*(Deduction!$C$3:$C$501=Sheet8!D364),0),11)","v":0},{"$error":"#DIV/0!"},{"$f":"VLOOKUP(D364,Emp_Master!$B$3:$H$501,7)","v":{"$error":"#N/A"}}]
[{"$f":"Salary_Entitlement!A366","v":0},{"$f":"Salary_Entitlement!B366","v":0},{"$f":"Salary_Entitlement!C366","v":0},{"$f":"Salary_Entitlement!D366","v":0},{"$f":"Salary_Entitlement!E366","v":{"$error":"#N/A"}},{"$f":"Salary_Entitlement!F366","v":0},{"$f":"Salary_Entitlement!G366","v":0},{"$f":"Salary_Entitlement!H366","v":0},{"$f":"Salary_Entitlement!I366","v":0},{"$f":"Salary_Entitlement!J366","v":0},{"$f":"Salary_Entitlement!K366","v":0},{"$f":"Salary_Entitlement!L366","v":0},{"$f":"Salary_Entitlement!M366","v":0},{"$f":"Salary_Entitlement!N366","v":0},{"$f":"Salary_Entitlement!O366","v":0},{"$f":"Salary_Entitlement!P366","v":0},{"$error":"#DIV/0!"},{"$error":"#DIV/0!"},{"$f":"INDEX(Deduction!$A$3:$K$501,MATCH(1,(Deduction!$A$3:$A$501=Sheet8!A365)*(Deduction!$B$3:$B$501=Sheet8!B365)*(Deduction!$C$3:$C$501=Sheet8!D365),0),5)","v":0},{"$f":"INDEX(Deduction!$A$3:$K$501,MATCH(1,(Deduction!$A$3:$A$501=Sheet8!A365)*(Deduction!$B$3:$B$501=Sheet8!B365)*(Deduction!$C$3:$C$501=Sheet8!D365),0),6)","v":0},{"$f":"INDEX(Deduction!$A$3:$K$501,MATCH(1,(Deduction!$A$3:$A$501=Sheet8!A365)*(Deduction!$B$3:$B$501=Sheet8!B365)*(Deduction!$C$3:$C$501=Sheet8!D365),0),7)","v":0},{"$f":"INDEX(Deduction!$A$3:$K$501,MATCH(1,(Deduction!$A$3:$A$501=Sheet8!A365)*(Deduction!$B$3:$B$501=Sheet8!B365)*(Deduction!$C$3:$C$501=Sheet8!D365),0),8)","v":0},{"$f":"INDEX(Deduction!$A$3:$K$501,MATCH(1,(Deduction!$A$3:$A$501=Sheet8!A365)*(Deduction!$B$3:$B$501=Sheet8!B365)*(Deduction!$C$3:$C$501=Sheet8!D365),0),9)","v":0},{"$f":"INDEX(Deduction!$A$3:$K$501,MATCH(1,(Deduction!$A$3:$A$501=Sheet8!A365)*(Deduction!$B$3:$B$501=Sheet8!B365)*(Deduction!$C$3:$C$501=Sheet8!D365),0),10)","v":0},{"$f":"INDEX(Deduction!$A$3:$K$501,MATCH(1,(Deduction!$A$3:$A$501=Sheet8!A365)*(Deduction!$B$3:$B$501=Sheet8!B365)*(Deduction!$C$3:$C$501=Sheet8!D365),0),11)","v":0},{"$error":"#DIV/0!"},{"$f":"VLOOKUP(D365,Emp_Master!$B$3:$H$501,7)","v":{"$error":"#N/A"}}]
[{"$f":"Salary_Entitlement!A367","v":0},{"$f":"Salary_Entitlement!B367","v":0},{"$f":"Salary_Entitlement!C367","v":0},{"$f":"Salary_Entitlement!D367","v":0},{"$f":"Salary_Entitlement!E367","v":{"$error":"#N/A"}},{"$f":"Salary_Entitlement!F367","v":0},{"$f":"Salary_Entitlement!G367","v":0},{"$f":"Salary_Entitlement!H367","v":0},{"$f":"Salary_Entitlement!I367","v":0},{"$f":"Salary_Entitlement!J367","v":0},{"$f":"Salary_Entitlement!K367","v":0},{"$f":"Salary_Entitlement!L367","v":0},{"$f":"Salary_Entitlement!M367","v":0},{"$f":"Salary_Entitlement!N367","v":0},{"$f":"Salary_Entitlement!O367","v":0},{"$f":"Salary_Entitlement!P367","v":0},{"$error":"#DIV/0!"},{"$error":"#DIV/0!"},{"$f":"INDEX(Deduction!$A$3:$K$501,MATCH(1,(Deduction!$A$3:$A$501=Sheet8!A366)*(Deduction!$B$3:$B$501=Sheet8!B366)*(Deduction!$C$3:$C$501=Sheet8!D366),0),5)","v":0},{"$f":"INDEX(Deduction!$A$3:$K$501,MATCH(1,(Deduction!$A$3:$A$501=Sheet8!A366)*(Deduction!$B$3:$B$501=Sheet8!B366)*(Deduction!$C$3:$C$501=Sheet8!D366),0),6)","v":0},{"$f":"INDEX(Deduction!$A$3:$K$501,MATCH(1,(Deduction!$A$3:$A$501=Sheet8!A366)*(Deduction!$B$3:$B$501=Sheet8!B366)*(Deduction!$C$3:$C$501=Sheet8!D366),0),7)","v":0},{"$f":"INDEX(Deduction!$A$3:$K$501,MATCH(1,(Deduction!$A$3:$A$501=Sheet8!A366)*(Deduction!$B$3:$B$501=Sheet8!B366)*(Deduction!$C$3:$C$501=Sheet8!D366),0),8)","v":0},{"$f":"INDEX(Deduction!$A$3:$K$501,MATCH(1,(Deduction!$A$3:$A$501=Sheet8!A366)*(Deduction!$B$3:$B$501=Sheet8!B366)*(Deduction!$C$3:$C$501=Sheet8!D366),0),9)","v":0},{"$f":"INDEX(Deduction!$A$3:$K$501,MATCH(1,(Deduction!$A$3:$A$501=Sheet8!A366)*(Deduction!$B$3:$B$501=Sheet8!B366)*(Deduction!$C$3:$C$501=Sheet8!D366),0),10)","v":0},{"$f":"INDEX(Deduction!$A$3:$K$501,MATCH(1,(Deduction!$A$3:$A$501=Sheet8!A366)*(Deduction!$B$3:$B$501=Sheet8!B366)*(Deduction!$C$3:$C$501=Sheet8!D366),0),11)","v":0},{"$error":"#DIV/0!"},{"$f":"VLOOKUP(D366,Emp_Master!$B$3:$H$501,7)","v":{"$error":"#N/A"}}]
[{"$f":"Salary_Entitlement!A368","v":0},{"$f":"Salary_Entitlement!B368","v":0},{"$f":"Salary_Entitlement!C368","v":0},{"$f":"Salary_Entitlement!D368","v":0},{"$f":"Salary_Entitlement!E368","v":{"$error":"#N/A"}},{"$f":"Salary_Entitlement!F368","v":0},{"$f":"Salary_Entitlement!G368","v":0},{"$f":"Salary_Entitlement!H368","v":0},{"$f":"Salary_Entitlement!I368","v":0},{"$f":"Salary_Entitlement!J368","v":0},{"$f":"Salary_Entitlement!K368","v":0},{"$f":"Salary_Entitlement!L368","v":0},{"$f":"Salary_Entitlement!M368","v":0},{"$f":"Salary_Entitlement!N368","v":0},{"$f":"Salary_Entitlement!O368","v":0},{"$f":"Salary_Entitlement!P368","v":0},{"$error":"#DIV/0!"},{"$error":"#DIV/0!"},{"$f":"INDEX(Deduction!$A$3:$K$501,MATCH(1,(Deduction!$A$3:$A$501=Sheet8!A367)*(Deduction!$B$3:$B$501=Sheet8!B367)*(Deduction!$C$3:$C$501=Sheet8!D367),0),5)","v":0},{"$f":"INDEX(Deduction!$A$3:$K$501,MATCH(1,(Deduction!$A$3:$A$501=Sheet8!A367)*(Deduction!$B$3:$B$501=Sheet8!B367)*(Deduction!$C$3:$C$501=Sheet8!D367),0),6)","v":0},{"$f":"INDEX(Deduction!$A$3:$K$501,MATCH(1,(Deduction!$A$3:$A$501=Sheet8!A367)*(Deduction!$B$3:$B$501=Sheet8!B367)*(Deduction!$C$3:$C$501=Sheet8!D367),0),7)","v":0},{"$f":"INDEX(Deduction!$A$3:$K$501,MATCH(1,(Deduction!$A$3:$A$501=Sheet8!A367)*(Deduction!$B$3:$B$501=Sheet8!B367)*(Deduction!$C$3:$C$501=Sheet8!D367),0),8)","v":0},{"$f":"INDEX(Deduction!$A$3:$K$501,MATCH(1,(Deduction!$A$3:$A$501=Sheet8!A367)*(Deduction!$B$3:$B$501=Sheet8!B367)*(Deduction!$C$3:$C$501=Sheet8!D367),0),9)","v":0},{"$f":"INDEX(Deduction!$A$3:$K$501,MATCH(1,(Deduction!$A$3:$A$501=Sheet8!A367)*(Deduction!$B$3:$B$501=Sheet8!B367)*(Deduction!$C$3:$C$501=Sheet8!D367),0),10)","v":0},{"$f":"INDEX(Deduction!$A$3:$K$501,MATCH(1,(Deduction!$A$3:$A$501=Sheet8!A367)*(Deduction!$B$3:$B$501=Sheet8!B367)*(Deduction!$C$3:$C$501=Sheet8!D367),0),11)","v":0},{"$error":"#DIV/0!"},{"$f":"VLOOKUP(D367,Emp_Master!$B$3:$H$501,7)","v":{"$error":"#N/A"}}]
[{"$f":"Salary_Entitlement!A369","v":0},{"$f":"Salary_Entitlement!B369","v":0},{"$f":"Salary_Entitlement!C369","v":0},{"$f":"Salary_Entitlement!D369","v":0},{"$f":"Salary_Entitlement!E369","v":{"$error":"#N/A"}},{"$f":"Salary_Entitlement!F369","v":0},{"$f":"Salary_Entitlement!G369","v":0},{"$f":"Salary_Entitlement!H369","v":0},{"$f":"Salary_Entitlement!I369","v":0},{"$f":"Salary_Entitlement!J369","v":0},{"$f":"Salary_Entitlement!K369","v":0},{"$f":"Salary_Entitlement!L369","v":0},{"$f":"Salary_Entitlement!M369","v":0},{"$f":"Salary_Entitlement!N369","v":0},{"$f":"Salary_Entitlement!O369","v":0},{"$f":"Salary_Entitlement!P369","v":0},{"$error":"#DIV/0!"},{"$error":"#DIV/0!"},{"$f":"INDEX(Deduction!$A$3:$K$501,MATCH(1,(Deduction!$A$3:$A$501=Sheet8!A368)*(Deduction!$B$3:$B$501=Sheet8!B368)*(Deduction!$C$3:$C$501=Sheet8!D368),0),5)","v":0},{"$f":"INDEX(Deduction!$A$3:$K$501,MATCH(1,(Deduction!$A$3:$A$501=Sheet8!A368)*(Deduction!$B$3:$B$501=Sheet8!B368)*(Deduction!$C$3:$C$501=Sheet8!D368),0),6)","v":0},{"$f":"INDEX(Deduction!$A$3:$K$501,MATCH(1,(Deduction!$A$3:$A$501=Sheet8!A368)*(Deduction!$B$3:$B$501=Sheet8!B368)*(Deduction!$C$3:$C$501=Sheet8!D368),0),7)","v":0},{"$f":"INDEX(Deduction!$A$3:$K$501,MATCH(1,(Deduction!$A$3:$A$501=Sheet8!A368)*(Deduction!$B$3:$B$501=Sheet8!B368)*(Deduction!$C$3:$C$501=Sheet8!D368),0),8)","v":0},{"$f":"INDEX(Deduction!$A$3:$K$501,MATCH(1,(Deduction!$A$3:$A$501=Sheet8!A368)*(Deduction!$B$3:$B$501=Sheet8!B368)*(Deduction!$C$3:$C$501=Sheet8!D368),0),9)","v":0},{"$f":"INDEX(Deduction!$A$3:$K$501,MATCH(1,(Deduction!$A$3:$A$501=Sheet8!A368)*(Deduction!$B$3:$B$501=Sheet8!B368)*(Deduction!$C$3:$C$501=Sheet8!D368),0),10)","v":0},{"$f":"INDEX(Deduction!$A$3:$K$501,MATCH(1,(Deduction!$A$3:$A$501=Sheet8!A368)*(Deduction!$B$3:$B$501=Sheet8!B368)*(Deduction!$C$3:$C$501=Sheet8!D368),0),11)","v":0},{"$error":"#DIV/0!"},{"$f":"VLOOKUP(D368,Emp_Master!$B$3:$H$501,7)","v":{"$error":"#N/A"}}]
[{"$f":"Salary_Entitlement!A370","v":0},{"$f":"Salary_Entitlement!B370","v":0},{"$f":"Salary_Entitlement!C370","v":0},{"$f":"Salary_Entitlement!D370","v":0},{"$f":"Salary_Entitlement!E370","v":{"$error":"#N/A"}},{"$f":"Salary_Entitlement!F370","v":0},{"$f":"Salary_Entitlement!G370","v":0},{"$f":"Salary_Entitlement!H370","v":0},{"$f":"Salary_Entitlement!I370","v":0},{"$f":"Salary_Entitlement!J370","v":0},{"$f":"Salary_Entitlement!K370","v":0},{"$f":"Salary_Entitlement!L370","v":0},{"$f":"Salary_Entitlement!M370","v":0},{"$f":"Salary_Entitlement!N370","v":0},{"$f":"Salary_Entitlement!O370","v":0},{"$f":"Salary_Entitlement!P370","v":0},{"$error":"#DIV/0!"},{"$error":"#DIV/0!"},{"$f":"INDEX(Deduction!$A$3:$K$501,MATCH(1,(Deduction!$A$3:$A$501=Sheet8!A369)*(Deduction!$B$3:$B$501=Sheet8!B369)*(Deduction!$C$3:$C$501=Sheet8!D369),0),5)","v":0},{"$f":"INDEX(Deduction!$A$3:$K$501,MATCH(1,(Deduction!$A$3:$A$501=Sheet8!A369)*(Deduction!$B$3:$B$501=Sheet8!B369)*(Deduction!$C$3:$C$501=Sheet8!D369),0),6)","v":0},{"$f":"INDEX(Deduction!$A$3:$K$501,MATCH(1,(Deduction!$A$3:$A$501=Sheet8!A369)*(Deduction!$B$3:$B$501=Sheet8!B369)*(Deduction!$C$3:$C$501=Sheet8!D369),0),7)","v":0},{"$f":"INDEX(Deduction!$A$3:$K$501,MATCH(1,(Deduction!$A$3:$A$501=Sheet8!A369)*(Deduction!$B$3:$B$501=Sheet8!B369)*(Deduction!$C$3:$C$501=Sheet8!D369),0),8)","v":0},{"$f":"INDEX(Deduction!$A$3:$K$501,MATCH(1,(Deduction!$A$3:$A$501=Sheet8!A369)*(Deduction!$B$3:$B$501=Sheet8!B369)*(Deduction!$C$3:$C$501=Sheet8!D369),0),9)","v":0},{"$f":"INDEX(Deduction!$A$3:$K$501,MATCH(1,(Deduction!$A$3:$A$501=Sheet8!A369)*(Deduction!$B$3:$B$501=Sheet8!B369)*(Deduction!$C$3:$C$501=Sheet8!D369),0),10)","v":0},{"$f":"INDEX(Deduction!$A$3:$K$501,MATCH(1,(Deduction!$A$3:$A$501=Sheet8!A369)*(Deduction!$B$3:$B$501=Sheet8!B369)*(Deduction!$C$3:$C$501=Sheet8!D369),0),11)","v":0},{"$error":"#DIV/0!"},{"$f":"VLOOKUP(D369,Emp_Master!$B$3:$H$501,7)","v":{"$error":"#N/A"}}]
[{"$f":"Salary_Entitlement!A371","v":0},{"$f":"Salary_Entitlement!B371","v":0},{"$f":"Salary_Entitlement!C371","v":0},{"$f":"Salary_Entitlement!D371","v":0},{"$f":"Salary_Entitlement!E371","v":{"$error":"#N/A"}},{"$f":"Salary_Entitlement!F371","v":0},{"$f":"Salary_Entitlement!G371","v":0},{"$f":"Salary_Entitlement!H371","v":0},{"$f":"Salary_Entitlement!I371","v":0},{"$f":"Salary_Entitlement!J371","v":0},{"$f":"Salary_Entitlement!K371","v":0},{"$f":"Salary_Entitlement!L371","v":0},{"$f":"Salary_Entitlement!M371","v":0},{"$f":"Salary_Entitlement!N371","v":0},{"$f":"Salary_Entitlement!O371","v":0},{"$f":"Salary_Entitlement!P371","v":0},{"$error":"#DIV/0!"},{"$error":"#DIV/0!"},{"$f":"INDEX(Deduction!$A$3:$K$501,MATCH(1,(Deduction!$A$3:$A$501=Sheet8!A370)*(Deduction!$B$3:$B$501=Sheet8!B370)*(Deduction!$C$3:$C$501=Sheet8!D370),0),5)","v":0},{"$f":"INDEX(Deduction!$A$3:$K$501,MATCH(1,(Deduction!$A$3:$A$501=Sheet8!A370)*(Deduction!$B$3:$B$501=Sheet8!B370)*(Deduction!$C$3:$C$501=Sheet8!D370),0),6)","v":0},{"$f":"INDEX(Deduction!$A$3:$K$501,MATCH(1,(Deduction!$A$3:$A$501=Sheet8!A370)*(Deduction!$B$3:$B$501=Sheet8!B370)*(Deduction!$C$3:$C$501=Sheet8!D370),0),7)","v":0},{"$f":"INDEX(Deduction!$A$3:$K$501,MATCH(1,(Deduction!$A$3:$A$501=Sheet8!A370)*(Deduction!$B$3:$B$501=Sheet8!B370)*(Deduction!$C$3:$C$501=Sheet8!D370),0),8)","v":0},{"$f":"INDEX(Deduction!$A$3:$K$501,MATCH(1,(Deduction!$A$3:$A$501=Sheet8!A370)*(Deduction!$B$3:$B$501=Sheet8!B370)*(Deduction!$C$3:$C$501=Sheet8!D370),0),9)","v":0},{"$f":"INDEX(Deduction!$A$3:$K$501,MATCH(1,(Deduction!$A$3:$A$501=Sheet8!A370)*(Deduction!$B$3:$B$501=Sheet8!B370)*(Deduction!$C$3:$C$501=Sheet8!D370),0),10)","v":0},{"$f":"INDEX(Deduction!$A$3:$K$501,MATCH(1,(Deduction!$A$3:$A$501=Sheet8!A370)*(Deduction!$B$3:$B$501=Sheet8!B370)*(Deduction!$C$3:$C$501=Sheet8!D370),0),11)","v":0},{"$error":"#DIV/0!"},{"$f":"VLOOKUP(D370,Emp_Master!$B$3:$H$501,7)","v":{"$error":"#N/A"}}]
[{"$f":"Salary_Entitlement!A372","v":0},{"$f":"Salary_Entitlement!B372","v":0},{"$f":"Salary_Entitlement!C372","v":0},{"$f":"Salary_Entitlement!D372","v":0},{"$f":"Salary_Entitlement!E372","v":{"$error":"#N/A"}},{"$f":"Salary_Entitlement!F372","v":0},{"$f":"Salary_Entitlement!G372","v":0},{"$f":"Salary_Entitlement!H372","v":0},{"$f":"Salary_Entitlement!I372","v":0},{"$f":"Salary_Entitlement!J372","v":0},{"$f":"Salary_Entitlement!K372","v":0},{"$f":"Salary_Entitlement!L372","v":0},{"$f":"Salary_Entitlement!M372","v":0},{"$f":"Salary_Entitlement!N372","v":0},{"$f":"Salary_Entitlement!O372","v":0},{"$f":"Salary_Entitlement!P372","v":0},{"$error":"#DIV/0!"},{"$error":"#DIV/0!"},{"$f":"INDEX(Deduction!$A$3:$K$501,MATCH(1,(Deduction!$A$3:$A$501=Sheet8!A371)*(Deduction!$B$3:$B$501=Sheet8!B371)*(Deduction!$C$3:$C$501=Sheet8!D371),0),5)","v":0},{"$f":"INDEX(Deduction!$A$3:$K$501,MATCH(1,(Deduction!$A$3:$A$501=Sheet8!A371)*(Deduction!$B$3:$B$501=Sheet8!B371)*(Deduction!$C$3:$C$501=Sheet8!D371),0),6)","v":0},{"$f":"INDEX(Deduction!$A$3:$K$501,MATCH(1,(Deduction!$A$3:$A$501=Sheet8!A371)*(Deduction!$B$3:$B$501=Sheet8!B371)*(Deduction!$C$3:$C$501=Sheet8!D371),0),7)","v":0},{"$f":"INDEX(Deduction!$A$3:$K$501,MATCH(1,(Deduction!$A$3:$A$501=Sheet8!A371)*(Deduction!$B$3:$B$501=Sheet8!B371)*(Deduction!$C$3:$C$501=Sheet8!D371),0),8)","v":0},{"$f":"INDEX(Deduction!$A$3:$K$501,MATCH(1,(Deduction!$A$3:$A$501=Sheet8!A371)*(Deduction!$B$3:$B$501=Sheet8!B371)*(Deduction!$C$3:$C$501=Sheet8!D371),0),9)","v":0},{"$f":"INDEX(Deduction!$A$3:$K$501,MATCH(1,(Deduction!$A$3:$A$501=Sheet8!A371)*(Deduction!$B$3:$B$501=Sheet8!B371)*(Deduction!$C$3:$C$501=Sheet8!D371),0),10)","v":0},{"$f":"INDEX(Deduction!$A$3:$K$501,MATCH(1,(Deduction!$A$3:$A$501=Sheet8!A371)*(Deduction!$B$3:$B$501=Sheet8!B371)*(Deduction!$C$3:$C$501=Sheet8!D371),0),11)","v":0},{"$error":"#DIV/0!"},{"$f":"VLOOKUP(D371,Emp_Master!$B$3:$H$501,7)","v":{"$error":"#N/A"}}]
[{"$f":"Salary_Entitlement!A373","v":0},{"$f":"Salary_Entitlement!B373","v":0},{"$f":"Salary_Entitlement!C373","v":0},{"$f":"Salary_Entitlement!D373","v":0},{"$f":"Salary_Entitlement!E373","v":{"$error":"#N/A"}},{"$f":"Salary_Entitlement!F373","v":0},{"$f":"Salary_Entitlement!G373","v":0},{"$f":"Salary_Entitlement!H373","v":0},{"$f":"Salary_Entitlement!I373","v":0},{"$f":"Salary_Entitlement!J373","v":0},{"$f":"Salary_Entitlement!K373","v":0},{"$f":"Salary_Entitlement!L373","v":0},{"$f":"Salary_Entitlement!M373","v":0},{"$f":"Salary_Entitlement!N373","v":0},{"$f":"Salary_Entitlement!O373","v":0},{"$f":"Salary_Entitlement!P373","v":0},{"$error":"#DIV/0!"},{"$error":"#DIV/0!"},{"$f":"INDEX(Deduction!$A$3:$K$501,MATCH(1,(Deduction!$A$3:$A$501=Sheet8!A372)*(Deduction!$B$3:$B$501=Sheet8!B372)*(Deduction!$C$3:$C$501=Sheet8!D372),0),5)","v":0},{"$f":"INDEX(Deduction!$A$3:$K$501,MATCH(1,(Deduction!$A$3:$A$501=Sheet8!A372)*(Deduction!$B$3:$B$501=Sheet8!B372)*(Deduction!$C$3:$C$501=Sheet8!D372),0),6)","v":0},{"$f":"INDEX(Deduction!$A$3:$K$501,MATCH(1,(Deduction!$A$3:$A$501=Sheet8!A372)*(Deduction!$B$3:$B$501=Sheet8!B372)*(Deduction!$C$3:$C$501=Sheet8!D372),0),7)","v":0},{"$f":"INDEX(Deduction!$A$3:$K$501,MATCH(1,(Deduction!$A$3:$A$501=Sheet8!A372)*(Deduction!$B$3:$B$501=Sheet8!B372)*(Deduction!$C$3:$C$501=Sheet8!D372),0),8)","v":0},{"$f":"INDEX(Deduction!$A$3:$K$501,MATCH(1,(Deduction!$A$3:$A$501=Sheet8!A372)*(Deduction!$B$3:$B$501=Sheet8!B372)*(Deduction!$C$3:$C$501=Sheet8!D372),0),9)","v":0},{"$f":"INDEX(Deduction!$A$3:$K$501,MATCH(1,(Deduction!$A$3:$A$501=Sheet8!A372)*(Deduction!$B$3:$B$501=Sheet8!B372)*(Deduction!$C$3:$C$501=Sheet8!D372),0),10)","v":0},{"$f":"INDEX(Deduction!$A$3:$K$501,MATCH(1,(Deduction!$A$3:$A$501=Sheet8!A372)*(Deduction!$B$3:$B$501=Sheet8!B372)*(Deduction!$C$3:$C$501=Sheet8!D372),0),11)","v":0},{"$error":"#DIV/0!"},{"$f":"VLOOKUP(D372,Emp_Master!$B$3:$H$501,7)","v":{"$error":"#N/A"}}]
[{"$f":"Salary_Entitlement!A374","v":0},{"$f":"Salary_Entitlement!B374","v":0},{"$f":"Salary_Entitlement!C374","v":0},{"$f":"Salary_Entitlement!D374","v":0},{"$f":"Salary_Entitlement!E374","v":{"$error":"#N/A"}},{"$f":"Salary_Entitlement!F374","v":0},{"$f":"Salary_Entitlement!G374","v":0},{"$f":"Salary_Entitlement!H374","v":0},{"$f":"Salary_Entitlement!I374","v":0},{"$f":"Salary_Entitlement!J374","v":0},{"$f":"Salary_Entitlement!K374","v":0},{"$f":"Salary_Entitlement!L374","v":0},{"$f":"Salary_Entitlement!M374","v":0},{"$f":"Salary_Entitlement!N374","v":0},{"$f":"Salary_Entitlement!O374","v":0},{"$f":"Salary_Entitlement!P374","v":0},{"$error":"#DIV/0!"},{"$error":"#DIV/0!"},{"$f":"INDEX(Deduction!$A$3:$K$501,MATCH(1,(Deduction!$A$3:$A$501=Sheet8!A373)*(Deduction!$B$3:$B$501=Sheet8!B373)*(Deduction!$C$3:$C$501=Sheet8!D373),0),5)","v":0},{"$f":"INDEX(Deduction!$A$3:$K$501,MATCH(1,(Deduction!$A$3:$A$501=Sheet8!A373)*(Deduction!$B$3:$B$501=Sheet8!B373)*(Deduction!$C$3:$C$501=Sheet8!D373),0),6)","v":0},{"$f":"INDEX(Deduction!$A$3:$K$501,MATCH(1,(Deduction!$A$3:$A$501=Sheet8!A373)*(Deduction!$B$3:$B$501=Sheet8!B373)*(Deduction!$C$3:$C$501=Sheet8!D373),0),7)","v":0},{"$f":"INDEX(Deduction!$A$3:$K$501,MATCH(1,(Deduction!$A$3:$A$501=Sheet8!A373)*(Deduction!$B$3:$B$501=Sheet8!B373)*(Deduction!$C$3:$C$501=Sheet8!D373),0),8)","v":0},{"$f":"INDEX(Deduction!$A$3:$K$501,MATCH(1,(Deduction!$A$3:$A$501=Sheet8!A373)*(Deduction!$B$3:$B$501=Sheet8!B373)*(Deduction!$C$3:$C$501=Sheet8!D373),0),9)","v":0},{"$f":"INDEX(Deduction!$A$3:$K$501,MATCH(1,(Deduction!$A$3:$A$501=Sheet8!A373)*(Deduction!$B$3:$B$501=Sheet8!B373)*(Deduction!$C$3:$C$501=Sheet8!D373),0),10)","v":0},{"$f":"INDEX(Deduction!$A$3:$K$501,MATCH(1,(Deduction!$A$3:$A$501=Sheet8!A373)*(Deduction!$B$3:$B$501=Sheet8!B373)*(Deduction!$C$3:$C$501=Sheet8!D373),0),11)","v":0},{"$error":"#DIV/0!"},{"$f":"VLOOKUP(D373,Emp_Master!$B$3:$H$501,7)","v":{"$error":"#N/A"}}]
[{"$f":"Salary_Entitlement!A375","v":0},{"$f":"Salary_Entitlement!B375","v":0},{"$f":"Salary_Entitlement!C375","v":0},{"$f":"Salary_Entitlement!D375","v":0},{"$f":"Salary_Entitlement!E375","v":{"$error":"#N/A"}},{"$f":"Salary_Entitlement!F375","v":0},{"$f":"Salary_Entitlement!G375","v":0},{"$f":"Salary_Entitlement!H375","v":0},{"$f":"Salary_Entitlement!I375","v":0},{"$f":"Salary_Entitlement!J375","v":0},{"$f":"Salary_Entitlement!K375","v":0},{"$f":"Salary_Entitlement!L375","v":0},{"$f":"Salary_Entitlement!M375","v":0},{"$f":"Salary_Entitlement!N375","v":0},{"$f":"Salary_Entitlement!O375","v":0},{"$f":"Salary_Entitlement!P375","v":0},{"$error":"#DIV/0!"},{"$error":"#DIV/0!"},{"$f":"INDEX(Deduction!$A$3:$K$501,MATCH(1,(Deduction!$A$3:$A$501=Sheet8!A374)*(Deduction!$B$3:$B$501=Sheet8!B374)*(Deduction!$C$3:$C$501=Sheet8!D374),0),5)","v":0},{"$f":"INDEX(Deduction!$A$3:$K$501,MATCH(1,(Deduction!$A$3:$A$501=Sheet8!A374)*(Deduction!$B$3:$B$501=Sheet8!B374)*(Deduction!$C$3:$C$501=Sheet8!D374),0),6)","v":0},{"$f":"INDEX(Deduction!$A$3:$K$501,MATCH(1,(Deduction!$A$3:$A$501=Sheet8!A374)*(Deduction!$B$3:$B$501=Sheet8!B374)*(Deduction!$C$3:$C$501=Sheet8!D374),0),7)","v":0},{"$f":"INDEX(Deduction!$A$3:$K$501,MATCH(1,(Deduction!$A$3:$A$501=Sheet8!A374)*(Deduction!$B$3:$B$501=Sheet8!B374)*(Deduction!$C$3:$C$501=Sheet8!D374),0),8)","v":0},{"$f":"INDEX(Deduction!$A$3:$K$501,MATCH(1,(Deduction!$A$3:$A$501=Sheet8!A374)*(Deduction!$B$3:$B$501=Sheet8!B374)*(Deduction!$C$3:$C$501=Sheet8!D374),0),9)","v":0},{"$f":"INDEX(Deduction!$A$3:$K$501,MATCH(1,(Deduction!$A$3:$A$501=Sheet8!A374)*(Deduction!$B$3:$B$501=Sheet8!B374)*(Deduction!$C$3:$C$501=Sheet8!D374),0),10)","v":0},{"$f":"INDEX(Deduction!$A$3:$K$501,MATCH(1,(Deduction!$A$3:$A$501=Sheet8!A374)*(Deduction!$B$3:$B$501=Sheet8!B374)*(Deduction!$C$3:$C$501=Sheet8!D374),0),11)","v":0},{"$error":"#DIV/0!"},{"$f":"VLOOKUP(D374,Emp_Master!$B$3:$H$501,7)","v":{"$error":"#N/A"}}]
[{"$f":"Salary_Entitlement!A376","v":0},{"$f":"Salary_Entitlement!B376","v":0},{"$f":"Salary_Entitlement!C376","v":0},{"$f":"Salary_Entitlement!D376","v":0},{"$f":"Salary_Entitlement!E376","v":{"$error":"#N/A"}},{"$f":"Salary_Entitlement!F376","v":0},{"$f":"Salary_Entitlement!G376","v":0},{"$f":"Salary_Entitlement!H376","v":0},{"$f":"Salary_Entitlement!I376","v":0},{"$f":"Salary_Entitlement!J376","v":0},{"$f":"Salary_Entitlement!K376","v":0},{"$f":"Salary_Entitlement!L376","v":0},{"$f":"Salary_Entitlement!M376","v":0},{"$f":"Salary_Entitlement!N376","v":0},{"$f":"Salary_Entitlement!O376","v":0},{"$f":"Salary_Entitlement!P376","v":0},{"$error":"#DIV/0!"},{"$error":"#DIV/0!"},{"$f":"INDEX(Deduction!$A$3:$K$501,MATCH(1,(Deduction!$A$3:$A$501=Sheet8!A375)*(Deduction!$B$3:$B$501=Sheet8!B375)*(Deduction!$C$3:$C$501=Sheet8!D375),0),5)","v":0},{"$f":"INDEX(Deduction!$A$3:$K$501,MATCH(1,(Deduction!$A$3:$A$501=Sheet8!A375)*(Deduction!$B$3:$B$501=Sheet8!B375)*(Deduction!$C$3:$C$501=Sheet8!D375),0),6)","v":0},{"$f":"INDEX(Deduction!$A$3:$K$501,MATCH(1,(Deduction!$A$3:$A$501=Sheet8!A375)*(Deduction!$B$3:$B$501=Sheet8!B375)*(Deduction!$C$3:$C$501=Sheet8!D375),0),7)","v":0},{"$f":"INDEX(Deduction!$A$3:$K$501,MATCH(1,(Deduction!$A$3:$A$501=Sheet8!A375)*(Deduction!$B$3:$B$501=Sheet8!B375)*(Deduction!$C$3:$C$501=Sheet8!D375),0),8)","v":0},{"$f":"INDEX(Deduction!$A$3:$K$501,MATCH(1,(Deduction!$A$3:$A$501=Sheet8!A375)*(Deduction!$B$3:$B$501=Sheet8!B375)*(Deduction!$C$3:$C$501=Sheet8!D375),0),9)","v":0},{"$f":"INDEX(Deduction!$A$3:$K$501,MATCH(1,(Deduction!$A$3:$A$501=Sheet8!A375)*(Deduction!$B$3:$B$501=Sheet8!B375)*(Deduction!$C$3:$C$501=Sheet8!D375),0),10)","v":0},{"$f":"INDEX(Deduction!$A$3:$K$501,MATCH(1,(Deduction!$A$3:$A$501=Sheet8!A375)*(Deduction!$B$3:$B$501=Sheet8!B375)*(Deduction!$C$3:$C$501=Sheet8!D375),0),11)","v":0},{"$error":"#DIV/0!"},{"$f":"VLOOKUP(D375,Emp_Master!$B$3:$H$501,7)","v":{"$error":"#N/A"}}]
[{"$f":"Salary_Entitlement!A377","v":0},{"$f":"Salary_Entitlement!B377","v":0},{"$f":"Salary_Entitlement!C377","v":0},{"$f":"Salary_Entitlement!D377","v":0},{"$f":"Salary_Entitlement!E377","v":{"$error":"#N/A"}},{"$f":"Salary_Entitlement!F377","v":0},{"$f":"Salary_Entitlement!G377","v":0},{"$f":"Salary_Entitlement!H377","v":0},{"$f":"Salary_Entitlement!I377","v":0},{"$f":"Salary_Entitlement!J377","v":0},{"$f":"Salary_Entitlement!K377","v":0},{"$f":"Salary_Entitlement!L377","v":0},{"$f":"Salary_Entitlement!M377","v":0},{"$f":"Salary_Entitlement!N377","v":0},{"$f":"Salary_Entitlement!O377","v":0},{"$f":"Salary_Entitlement!P377","v":0},{"$error":"#DIV/0!"},{"$error":"#DIV/0!"},{"$f":"INDEX(Deduction!$A$3:$K$501,MATCH(1,(Deduction!$A$3:$A$501=Sheet8!A376)*(Deduction!$B$3:$B$501=Sheet8!B376)*(Deduction!$C$3:$C$501=Sheet8!D376),0),5)","v":0},{"$f":"INDEX(Deduction!$A$3:$K$501,MATCH(1,(Deduction!$A$3:$A$501=Sheet8!A376)*(Deduction!$B$3:$B$501=Sheet8!B376)*(Deduction!$C$3:$C$501=Sheet8!D376),0),6)","v":0},{"$f":"INDEX(Deduction!$A$3:$K$501,MATCH(1,(Deduction!$A$3:$A$501=Sheet8!A376)*(Deduction!$B$3:$B$501=Sheet8!B376)*(Deduction!$C$3:$C$501=Sheet8!D376),0),7)","v":0},{"$f":"INDEX(Deduction!$A$3:$K$501,MATCH(1,(Deduction!$A$3:$A$501=Sheet8!A376)*(Deduction!$B$3:$B$501=Sheet8!B376)*(Deduction!$C$3:$C$501=Sheet8!D376),0),8)","v":0},{"$f":"INDEX(Deduction!$A$3:$K$501,MATCH(1,(Deduction!$A$3:$A$501=Sheet8!A376)*(Deduction!$B$3:$B$501=Sheet8!B376)*(Deduction!$C$3:$C$501=Sheet8!D376),0),9)","v":0},{"$f":"INDEX(Deduction!$A$3:$K$501,MATCH(1,(Deduction!$A$3:$A$501=Sheet8!A376)*(Deduction!$B$3:$B$501=Sheet8!B376)*(Deduction!$C$3:$C$501=Sheet8!D376),0),10)","v":0},{"$f":"INDEX(Deduction!$A$3:$K$501,MATCH(1,(Deduction!$A$3:$A$501=Sheet8!A376)*(Deduction!$B$3:$B$501=Sheet8!B376)*(Deduction!$C$3:$C$501=Sheet8!D376),0),11)","v":0},{"$error":"#DIV/0!"},{"$f":"VLOOKUP(D376,Emp_Master!$B$3:$H$501,7)","v":{"$error":"#N/A"}}]
[{"$f":"Salary_Entitlement!A378","v":0},{"$f":"Salary_Entitlement!B378","v":0},{"$f":"Salary_Entitlement!C378","v":0},{"$f":"Salary_Entitlement!D378","v":0},{"$f":"Salary_Entitlement!E378","v":{"$error":"#N/A"}},{"$f":"Salary_Entitlement!F378","v":0},{"$f":"Salary_Entitlement!G378","v":0},{"$f":"Salary_Entitlement!H378","v":0},{"$f":"Salary_Entitlement!I378","v":0},{"$f":"Salary_Entitlement!J378","v":0},{"$f":"Salary_Entitlement!K378","v":0},{"$f":"Salary_Entitlement!L378","v":0},{"$f":"Salary_Entitlement!M378","v":0},{"$f":"Salary_Entitlement!N378","v":0},{"$f":"Salary_Entitlement!O378","v":0},{"$f":"Salary_Entitlement!P378","v":0},{"$error":"#DIV/0!"},{"$error":"#DIV/0!"},{"$f":"INDEX(Deduction!$A$3:$K$501,MATCH(1,(Deduction!$A$3:$A$501=Sheet8!A377)*(Deduction!$B$3:$B$501=Sheet8!B377)*(Deduction!$C$3:$C$501=Sheet8!D377),0),5)","v":0},{"$f":"INDEX(Deduction!$A$3:$K$501,MATCH(1,(Deduction!$A$3:$A$501=Sheet8!A377)*(Deduction!$B$3:$B$501=Sheet8!B377)*(Deduction!$C$3:$C$501=Sheet8!D377),0),6)","v":0},{"$f":"INDEX(Deduction!$A$3:$K$501,MATCH(1,(Deduction!$A$3:$A$501=Sheet8!A377)*(Deduction!$B$3:$B$501=Sheet8!B377)*(Deduction!$C$3:$C$501=Sheet8!D377),0),7)","v":0},{"$f":"INDEX(Deduction!$A$3:$K$501,MATCH(1,(Deduction!$A$3:$A$501=Sheet8!A377)*(Deduction!$B$3:$B$501=Sheet8!B377)*(Deduction!$C$3:$C$501=Sheet8!D377),0),8)","v":0},{"$f":"INDEX(Deduction!$A$3:$K$501,MATCH(1,(Deduction!$A$3:$A$501=Sheet8!A377)*(Deduction!$B$3:$B$501=Sheet8!B377)*(Deduction!$C$3:$C$501=Sheet8!D377),0),9)","v":0},{"$f":"INDEX(Deduction!$A$3:$K$501,MATCH(1,(Deduction!$A$3:$A$501=Sheet8!A377)*(Deduction!$B$3:$B$501=Sheet8!B377)*(Deduction!$C$3:$C$501=Sheet8!D377),0),10)","v":0},{"$f":"INDEX(Deduction!$A$3:$K$501,MATCH(1,(Deduction!$A$3:$A$501=Sheet8!A377)*(Deduction!$B$3:$B$501=Sheet8!B377)*(Deduction!$C$3:$C$501=Sheet8!D377),0),11)","v":0},{"$error":"#DIV/0!"},{"$f":"VLOOKUP(D377,Emp_Master!$B$3:$H$501,7)","v":{"$error":"#N/A"}}]
[{"$f":"Salary_Entitlement!A379","v":0},{"$f":"Salary_Entitlement!B379","v":0},{"$f":"Salary_Entitlement!C379","v":0},{"$f":"Salary_Entitlement!D379","v":0},{"$f":"Salary_Entitlement!E379","v":{"$error":"#N/A"}},{"$f":"Salary_Entitlement!F379","v":0},{"$f":"Salary_Entitlement!G379","v":0},{"$f":"Salary_Entitlement!H379","v":0},{"$f":"Salary_Entitlement!I379","v":0},{"$f":"Salary_Entitlement!J379","v":0},{"$f":"Salary_Entitlement!K379","v":0},{"$f":"Salary_Entitlement!L379","v":0},{"$f":"Salary_Entitlement!M379","v":0},{"$f":"Salary_Entitlement!N379","v":0},{"$f":"Salary_Entitlement!O379","v":0},{"$f":"Salary_Entitlement!P379","v":0},{"$error":"#DIV/0!"},{"$error":"#DIV/0!"},{"$f":"INDEX(Deduction!$A$3:$K$501,MATCH(1,(Deduction!$A$3:$A$501=Sheet8!A378)*(Deduction!$B$3:$B$501=Sheet8!B378)*(Deduction!$C$3:$C$501=Sheet8!D378),0),5)","v":0},{"$f":"INDEX(Deduction!$A$3:$K$501,MATCH(1,(Deduction!$A$3:$A$501=Sheet8!A378)*(Deduction!$B$3:$B$501=Sheet8!B378)*(Deduction!$C$3:$C$501=Sheet8!D378),0),6)","v":0},{"$f":"INDEX(Deduction!$A$3:$K$501,MATCH(1,(Deduction!$A$3:$A$501=Sheet8!A378)*(Deduction!$B$3:$B$501=Sheet8!B378)*(Deduction!$C$3:$C$501=Sheet8!D378),0),7)","v":0},{"$f":"INDEX(Deduction!$A$3:$K$501,MATCH(1,(Deduction!$A$3:$A$501=Sheet8!A378)*(Deduction!$B$3:$B$501=Sheet8!B378)*(Deduction!$C$3:$C$501=Sheet8!D378),0),8)","v":0},{"$f":"INDEX(Deduction!$A$3:$K$501,MATCH(1,(Deduction!$A$3:$A$501=Sheet8!A378)*(Deduction!$B$3:$B$501=Sheet8!B378)*(Deduction!$C$3:$C$501=Sheet8!D378),0),9)","v":0},{"$f":"INDEX(Deduction!$A$3:$K$501,MATCH(1,(Deduction!$A$3:$A$501=Sheet8!A378)*(Deduction!$B$3:$B$501=Sheet8!B378)*(Deduction!$C$3:$C$501=Sheet8!D378),0),10)","v":0},{"$f":"INDEX(Deduction!$A$3:$K$501,MATCH(1,(Deduction!$A$3:$A$501=Sheet8!A378)*(Deduction!$B$3:$B$501=Sheet8!B378)*(Deduction!$C$3:$C$501=Sheet8!D378),0),11)","v":0},{"$error":"#DIV/0!"},{"$f":"VLOOKUP(D378,Emp_Master!$B$3:$H$501,7)","v":{"$error":"#N/A"}}]
[{"$f":"Salary_Entitlement!A380","v":0},{"$f":"Salary_Entitlement!B380","v":0},{"$f":"Salary_Entitlement!C380","v":0},{"$f":"Salary_Entitlement!D380","v":0},{"$f":"Salary_Entitlement!E380","v":{"$error":"#N/A"}},{"$f":"Salary_Entitlement!F380","v":0},{"$f":"Salary_Entitlement!G380","v":0},{"$f":"Salary_Entitlement!H380","v":0},{"$f":"Salary_Entitlement!I380","v":0},{"$f":"Salary_Entitlement!J380","v":0},{"$f":"Salary_Entitlement!K380","v":0},{"$f":"Salary_Entitlement!L380","v":0},{"$f":"Salary_Entitlement!M380","v":0},{"$f":"Salary_Entitlement!N380","v":0},{"$f":"Salary_Entitlement!O380","v":0},{"$f":"Salary_Entitlement!P380","v":0},{"$error":"#DIV/0!"},{"$error":"#DIV/0!"},{"$f":"INDEX(Deduction!$A$3:$K$501,MATCH(1,(Deduction!$A$3:$A$501=Sheet8!A379)*(Deduction!$B$3:$B$501=Sheet8!B379)*(Deduction!$C$3:$C$501=Sheet8!D379),0),5)","v":0},{"$f":"INDEX(Deduction!$A$3:$K$501,MATCH(1,(Deduction!$A$3:$A$501=Sheet8!A379)*(Deduction!$B$3:$B$501=Sheet8!B379)*(Deduction!$C$3:$C$501=Sheet8!D379),0),6)","v":0},{"$f":"INDEX(Deduction!$A$3:$K$501,MATCH(1,(Deduction!$A$3:$A$501=Sheet8!A379)*(Deduction!$B$3:$B$501=Sheet8!B379)*(Deduction!$C$3:$C$501=Sheet8!D379),0),7)","v":0},{"$f":"INDEX(Deduction!$A$3:$K$501,MATCH(1,(Deduction!$A$3:$A$501=Sheet8!A379)*(Deduction!$B$3:$B$501=Sheet8!B379)*(Deduction!$C$3:$C$501=Sheet8!D379),0),8)","v":0},{"$f":"INDEX(Deduction!$A$3:$K$501,MATCH(1,(Deduction!$A$3:$A$501=Sheet8!A379)*(Deduction!$B$3:$B$501=Sheet8!B379)*(Deduction!$C$3:$C$501=Sheet8!D379),0),9)","v":0},{"$f":"INDEX(Deduction!$A$3:$K$501,MATCH(1,(Deduction!$A$3:$A$501=Sheet8!A379)*(Deduction!$B$3:$B$501=Sheet8!B379)*(Deduction!$C$3:$C$501=Sheet8!D379),0),10)","v":0},{"$f":"INDEX(Deduction!$A$3:$K$501,MATCH(1,(Deduction!$A$3:$A$501=Sheet8!A379)*(Deduction!$B$3:$B$501=Sheet8!B379)*(Deduction!$C$3:$C$501=Sheet8!D379),0),11)","v":0},{"$error":"#DIV/0!"},{"$f":"VLOOKUP(D379,Emp_Master!$B$3:$H$501,7)","v":{"$error":"#N/A"}}]
[{"$f":"Salary_Entitlement!A381","v":0},{"$f":"Salary_Entitlement!B381","v":0},{"$f":"Salary_Entitlement!C381","v":0},{"$f":"Salary_Entitlement!D381","v":0},{"$f":"Salary_Entitlement!E381","v":{"$error":"#N/A"}},{"$f":"Salary_Entitlement!F381","v":0},{"$f":"Salary_Entitlement!G381","v":0},{"$f":"Salary_Entitlement!H381","v":0},{"$f":"Salary_Entitlement!I381","v":0},{"$f":"Salary_Entitlement!J381","v":0},{"$f":"Salary_Entitlement!K381","v":0},{"$f":"Salary_Entitlement!L381","v":0},{"$f":"Salary_Entitlement!M381","v":0},{"$f":"Salary_Entitlement!N381","v":0},{"$f":"Salary_Entitlement!O381","v":0},{"$f":"Salary_Entitlement!P381","v":0},{"$error":"#DIV/0!"},{"$error":"#DIV/0!"},{"$f":"INDEX(Deduction!$A$3:$K$501,MATCH(1,(Deduction!$A$3:$A$501=Sheet8!A380)*(Deduction!$B$3:$B$501=Sheet8!B380)*(Deduction!$C$3:$C$501=Sheet8!D380),0),5)","v":0},{"$f":"INDEX(Deduction!$A$3:$K$501,MATCH(1,(Deduction!$A$3:$A$501=Sheet8!A380)*(Deduction!$B$3:$B$501=Sheet8!B380)*(Deduction!$C$3:$C$501=Sheet8!D380),0),6)","v":0},{"$f":"INDEX(Deduction!$A$3:$K$501,MATCH(1,(Deduction!$A$3:$A$501=Sheet8!A380)*(Deduction!$B$3:$B$501=Sheet8!B380)*(Deduction!$C$3:$C$501=Sheet8!D380),0),7)","v":0},{"$f":"INDEX(Deduction!$A$3:$K$501,MATCH(1,(Deduction!$A$3:$A$501=Sheet8!A380)*(Deduction!$B$3:$B$501=Sheet8!B380)*(Deduction!$C$3:$C$501=Sheet8!D380),0),8)","v":0},{"$f":"INDEX(Deduction!$A$3:$K$501,MATCH(1,(Deduction!$A$3:$A$501=Sheet8!A380)*(Deduction!$B$3:$B$501=Sheet8!B380)*(Deduction!$C$3:$C$501=Sheet8!D380),0),9)","v":0},{"$f":"INDEX(Deduction!$A$3:$K$501,MATCH(1,(Deduction!$A$3:$A$501=Sheet8!A380)*(Deduction!$B$3:$B$501=Sheet8!B380)*(Deduction!$C$3:$C$501=Sheet8!D380),0),10)","v":0},{"$f":"INDEX(Deduction!$A$3:$K$501,MATCH(1,(Deduction!$A$3:$A$501=Sheet8!A380)*(Deduction!$B$3:$B$501=Sheet8!B380)*(Deduction!$C$3:$C$501=Sheet8!D380),0),11)","v":0},{"$error":"#DIV/0!"},{"$f":"VLOOKUP(D380,Emp_Master!$B$3:$H$501,7)","v":{"$error":"#N/A"}}]
[{"$f":"Salary_Entitlement!A382","v":0},{"$f":"Salary_Entitlement!B382","v":0},{"$f":"Salary_Entitlement!C382","v":0},{"$f":"Salary_Entitlement!D382","v":0},{"$f":"Salary_Entitlement!E382","v":{"$error":"#N/A"}},{"$f":"Salary_Entitlement!F382","v":0},{"$f":"Salary_Entitlement!G382","v":0},{"$f":"Salary_Entitlement!H382","v":0},{"$f":"Salary_Entitlement!I382","v":0},{"$f":"Salary_Entitlement!J382","v":0},{"$f":"Salary_Entitlement!K382","v":0},{"$f":"Salary_Entitlement!L382","v":0},{"$f":"Salary_Entitlement!M382","v":0},{"$f":"Salary_Entitlement!N382","v":0},{"$f":"Salary_Entitlement!O382","v":0},{"$f":"Salary_Entitlement!P382","v":0},{"$error":"#DIV/0!"},{"$error":"#DIV/0!"},{"$f":"INDEX(Deduction!$A$3:$K$501,MATCH(1,(Deduction!$A$3:$A$501=Sheet8!A381)*(Deduction!$B$3:$B$501=Sheet8!B381)*(Deduction!$C$3:$C$501=Sheet8!D381),0),5)","v":0},{"$f":"INDEX(Deduction!$A$3:$K$501,MATCH(1,(Deduction!$A$3:$A$501=Sheet8!A381)*(Deduction!$B$3:$B$501=Sheet8!B381)*(Deduction!$C$3:$C$501=Sheet8!D381),0),6)","v":0},{"$f":"INDEX(Deduction!$A$3:$K$501,MATCH(1,(Deduction!$A$3:$A$501=Sheet8!A381)*(Deduction!$B$3:$B$501=Sheet8!B381)*(Deduction!$C$3:$C$501=Sheet8!D381),0),7)","v":0},{"$f":"INDEX(Deduction!$A$3:$K$501,MATCH(1,(Deduction!$A$3:$A$501=Sheet8!A381)*(Deduction!$B$3:$B$501=Sheet8!B381)*(Deduction!$C$3:$C$501=Sheet8!D381),0),8)","v":0},{"$f":"INDEX(Deduction!$A$3:$K$501,MATCH(1,(Deduction!$A$3:$A$501=Sheet8!A381)*(Deduction!$B$3:$B$501=Sheet8!B381)*(Deduction!$C$3:$C$501=Sheet8!D381),0),9)","v":0},{"$f":"INDEX(Deduction!$A$3:$K$501,MATCH(1,(Deduction!$A$3:$A$501=Sheet8!A381)*(Deduction!$B$3:$B$501=Sheet8!B381)*(Deduction!$C$3:$C$501=Sheet8!D381),0),10)","v":0},{"$f":"INDEX(Deduction!$A$3:$K$501,MATCH(1,(Deduction!$A$3:$A$501=Sheet8!A381)*(Deduction!$B$3:$B$501=Sheet8!B381)*(Deduction!$C$3:$C$501=Sheet8!D381),0),11)","v":0},{"$error":"#DIV/0!"},{"$f":"VLOOKUP(D381,Emp_Master!$B$3:$H$501,7)","v":{"$error":"#N/A"}}]
[{"$f":"Salary_Entitlement!A383","v":0},{"$f":"Salary_Entitlement!B383","v":0},{"$f":"Salary_Entitlement!C383","v":0},{"$f":"Salary_Entitlement!D383","v":0},{"$f":"Salary_Entitlement!E383","v":{"$error":"#N/A"}},{"$f":"Salary_Entitlement!F383","v":0},{"$f":"Salary_Entitlement!G383","v":0},{"$f":"Salary_Entitlement!H383","v":0},{"$f":"Salary_Entitlement!I383","v":0},{"$f":"Salary_Entitlement!J383","v":0},{"$f":"Salary_Entitlement!K383","v":0},{"$f":"Salary_Entitlement!L383","v":0},{"$f":"Salary_Entitlement!M383","v":0},{"$f":"Salary_Entitlement!N383","v":0},{"$f":"Salary_Entitlement!O383","v":0},{"$f":"Salary_Entitlement!P383","v":0},{"$error":"#DIV/0!"},{"$error":"#DIV/0!"},{"$f":"INDEX(Deduction!$A$3:$K$501,MATCH(1,(Deduction!$A$3:$A$501=Sheet8!A382)*(Deduction!$B$3:$B$501=Sheet8!B382)*(Deduction!$C$3:$C$501=Sheet8!D382),0),5)","v":0},{"$f":"INDEX(Deduction!$A$3:$K$501,MATCH(1,(Deduction!$A$3:$A$501=Sheet8!A382)*(Deduction!$B$3:$B$501=Sheet8!B382)*(Deduction!$C$3:$C$501=Sheet8!D382),0),6)","v":0},{"$f":"INDEX(Deduction!$A$3:$K$501,MATCH(1,(Deduction!$A$3:$A$501=Sheet8!A382)*(Deduction!$B$3:$B$501=Sheet8!B382)*(Deduction!$C$3:$C$501=Sheet8!D382),0),7)","v":0},{"$f":"INDEX(Deduction!$A$3:$K$501,MATCH(1,(Deduction!$A$3:$A$501=Sheet8!A382)*(Deduction!$B$3:$B$501=Sheet8!B382)*(Deduction!$C$3:$C$501=Sheet8!D382),0),8)","v":0},{"$f":"INDEX(Deduction!$A$3:$K$501,MATCH(1,(Deduction!$A$3:$A$501=Sheet8!A382)*(Deduction!$B$3:$B$501=Sheet8!B382)*(Deduction!$C$3:$C$501=Sheet8!D382),0),9)","v":0},{"$f":"INDEX(Deduction!$A$3:$K$501,MATCH(1,(Deduction!$A$3:$A$501=Sheet8!A382)*(Deduction!$B$3:$B$501=Sheet8!B382)*(Deduction!$C$3:$C$501=Sheet8!D382),0),10)","v":0},{"$f":"INDEX(Deduction!$A$3:$K$501,MATCH(1,(Deduction!$A$3:$A$501=Sheet8!A382)*(Deduction!$B$3:$B$501=Sheet8!B382)*(Deduction!$C$3:$C$501=Sheet8!D382),0),11)","v":0},{"$error":"#DIV/0!"},{"$f":"VLOOKUP(D382,Emp_Master!$B$3:$H$501,7)","v":{"$error":"#N/A"}}]
[{"$f":"Salary_Entitlement!A384","v":0},{"$f":"Salary_Entitlement!B384","v":0},{"$f":"Salary_Entitlement!C384","v":0},{"$f":"Salary_Entitlement!D384","v":0},{"$f":"Salary_Entitlement!E384","v":{"$error":"#N/A"}},{"$f":"Salary_Entitlement!F384","v":0},{"$f":"Salary_Entitlement!G384","v":0},{"$f":"Salary_Entitlement!H384","v":0},{"$f":"Salary_Entitlement!I384","v":0},{"$f":"Salary_Entitlement!J384","v":0},{"$f":"Salary_Entitlement!K384","v":0},{"$f":"Salary_Entitlement!L384","v":0},{"$f":"Salary_Entitlement!M384","v":0},{"$f":"Salary_Entitlement!N384","v":0},{"$f":"Salary_Entitlement!O384","v":0},{"$f":"Salary_Entitlement!P384","v":0},{"$error":"#DIV/0!"},{"$error":"#DIV/0!"},{"$f":"INDEX(Deduction!$A$3:$K$501,MATCH(1,(Deduction!$A$3:$A$501=Sheet8!A383)*(Deduction!$B$3:$B$501=Sheet8!B383)*(Deduction!$C$3:$C$501=Sheet8!D383),0),5)","v":0},{"$f":"INDEX(Deduction!$A$3:$K$501,MATCH(1,(Deduction!$A$3:$A$501=Sheet8!A383)*(Deduction!$B$3:$B$501=Sheet8!B383)*(Deduction!$C$3:$C$501=Sheet8!D383),0),6)","v":0},{"$f":"INDEX(Deduction!$A$3:$K$501,MATCH(1,(Deduction!$A$3:$A$501=Sheet8!A383)*(Deduction!$B$3:$B$501=Sheet8!B383)*(Deduction!$C$3:$C$501=Sheet8!D383),0),7)","v":0},{"$f":"INDEX(Deduction!$A$3:$K$501,MATCH(1,(Deduction!$A$3:$A$501=Sheet8!A383)*(Deduction!$B$3:$B$501=Sheet8!B383)*(Deduction!$C$3:$C$501=Sheet8!D383),0),8)","v":0},{"$f":"INDEX(Deduction!$A$3:$K$501,MATCH(1,(Deduction!$A$3:$A$501=Sheet8!A383)*(Deduction!$B$3:$B$501=Sheet8!B383)*(Deduction!$C$3:$C$501=Sheet8!D383),0),9)","v":0},{"$f":"INDEX(Deduction!$A$3:$K$501,MATCH(1,(Deduction!$A$3:$A$501=Sheet8!A383)*(Deduction!$B$3:$B$501=Sheet8!B383)*(Deduction!$C$3:$C$501=Sheet8!D383),0),10)","v":0},{"$f":"INDEX(Deduction!$A$3:$K$501,MATCH(1,(Deduction!$A$3:$A$501=Sheet8!A383)*(Deduction!$B$3:$B$501=Sheet8!B383)*(Deduction!$C$3:$C$501=Sheet8!D383),0),11)","v":0},{"$error":"#DIV/0!"},{"$f":"VLOOKUP(D383,Emp_Master!$B$3:$H$501,7)","v":{"$error":"#N/A"}}]
[{"$f":"Salary_Entitlement!A385","v":0},{"$f":"Salary_Entitlement!B385","v":0},{"$f":"Salary_Entitlement!C385","v":0},{"$f":"Salary_Entitlement!D385","v":0},{"$f":"Salary_Entitlement!E385","v":{"$error":"#N/A"}},{"$f":"Salary_Entitlement!F385","v":0},{"$f":"Salary_Entitlement!G385","v":0},{"$f":"Salary_Entitlement!H385","v":0},{"$f":"Salary_Entitlement!I385","v":0},{"$f":"Salary_Entitlement!J385","v":0},{"$f":"Salary_Entitlement!K385","v":0},{"$f":"Salary_Entitlement!L385","v":0},{"$f":"Salary_Entitlement!M385","v":0},{"$f":"Salary_Entitlement!N385","v":0},{"$f":"Salary_Entitlement!O385","v":0},{"$f":"Salary_Entitlement!P385","v":0},{"$error":"#DIV/0!"},{"$error":"#DIV/0!"},{"$f":"INDEX(Deduction!$A$3:$K$501,MATCH(1,(Deduction!$A$3:$A$501=Sheet8!A384)*(Deduction!$B$3:$B$501=Sheet8!B384)*(Deduction!$C$3:$C$501=Sheet8!D384),0),5)","v":0},{"$f":"INDEX(Deduction!$A$3:$K$501,MATCH(1,(Deduction!$A$3:$A$501=Sheet8!A384)*(Deduction!$B$3:$B$501=Sheet8!B384)*(Deduction!$C$3:$C$501=Sheet8!D384),0),6)","v":0},{"$f":"INDEX(Deduction!$A$3:$K$501,MATCH(1,(Deduction!$A$3:$A$501=Sheet8!A384)*(Deduction!$B$3:$B$501=Sheet8!B384)*(Deduction!$C$3:$C$501=Sheet8!D384),0),7)","v":0},{"$f":"INDEX(Deduction!$A$3:$K$501,MATCH(1,(Deduction!$A$3:$A$501=Sheet8!A384)*(Deduction!$B$3:$B$501=Sheet8!B384)*(Deduction!$C$3:$C$501=Sheet8!D384),0),8)","v":0},{"$f":"INDEX(Deduction!$A$3:$K$501,MATCH(1,(Deduction!$A$3:$A$501=Sheet8!A384)*(Deduction!$B$3:$B$501=Sheet8!B384)*(Deduction!$C$3:$C$501=Sheet8!D384),0),9)","v":0},{"$f":"INDEX(Deduction!$A$3:$K$501,MATCH(1,(Deduction!$A$3:$A$501=Sheet8!A384)*(Deduction!$B$3:$B$501=Sheet8!B384)*(Deduction!$C$3:$C$501=Sheet8!D384),0),10)","v":0},{"$f":"INDEX(Deduction!$A$3:$K$501,MATCH(1,(Deduction!$A$3:$A$501=Sheet8!A384)*(Deduction!$B$3:$B$501=Sheet8!B384)*(Deduction!$C$3:$C$501=Sheet8!D384),0),11)","v":0},{"$error":"#DIV/0!"},{"$f":"VLOOKUP(D384,Emp_Master!$B$3:$H$501,7)","v":{"$error":"#N/A"}}]
[{"$f":"Salary_Entitlement!A386","v":0},{"$f":"Salary_Entitlement!B386","v":0},{"$f":"Salary_Entitlement!C386","v":0},{"$f":"Salary_Entitlement!D386","v":0},{"$f":"Salary_Entitlement!E386","v":{"$error":"#N/A"}},{"$f":"Salary_Entitlement!F386","v":0},{"$f":"Salary_Entitlement!G386","v":0},{"$f":"Salary_Entitlement!H386","v":0},{"$f":"Salary_Entitlement!I386","v":0},{"$f":"Salary_Entitlement!J386","v":0},{"$f":"Salary_Entitlement!K386","v":0},{"$f":"Salary_Entitlement!L386","v":0},{"$f":"Salary_Entitlement!M386","v":0},{"$f":"Salary_Entitlement!N386","v":0},{"$f":"Salary_Entitlement!O386","v":0},{"$f":"Salary_Entitlement!P386","v":0},{"$error":"#DIV/0!"},{"$error":"#DIV/0!"},{"$f":"INDEX(Deduction!$A$3:$K$501,MATCH(1,(Deduction!$A$3:$A$501=Sheet8!A385)*(Deduction!$B$3:$B$501=Sheet8!B385)*(Deduction!$C$3:$C$501=Sheet8!D385),0),5)","v":0},{"$f":"INDEX(Deduction!$A$3:$K$501,MATCH(1,(Deduction!$A$3:$A$501=Sheet8!A385)*(Deduction!$B$3:$B$501=Sheet8!B385)*(Deduction!$C$3:$C$501=Sheet8!D385),0),6)","v":0},{"$f":"INDEX(Deduction!$A$3:$K$501,MATCH(1,(Deduction!$A$3:$A$501=Sheet8!A385)*(Deduction!$B$3:$B$501=Sheet8!B385)*(Deduction!$C$3:$C$501=Sheet8!D385),0),7)","v":0},{"$f":"INDEX(Deduction!$A$3:$K$501,MATCH(1,(Deduction!$A$3:$A$501=Sheet8!A385)*(Deduction!$B$3:$B$501=Sheet8!B385)*(Deduction!$C$3:$C$501=Sheet8!D385),0),8)","v":0},{"$f":"INDEX(Deduction!$A$3:$K$501,MATCH(1,(Deduction!$A$3:$A$501=Sheet8!A385)*(Deduction!$B$3:$B$501=Sheet8!B385)*(Deduction!$C$3:$C$501=Sheet8!D385),0),9)","v":0},{"$f":"INDEX(Deduction!$A$3:$K$501,MATCH(1,(Deduction!$A$3:$A$501=Sheet8!A385)*(Deduction!$B$3:$B$501=Sheet8!B385)*(Deduction!$C$3:$C$501=Sheet8!D385),0),10)","v":0},{"$f":"INDEX(Deduction!$A$3:$K$501,MATCH(1,(Deduction!$A$3:$A$501=Sheet8!A385)*(Deduction!$B$3:$B$501=Sheet8!B385)*(Deduction!$C$3:$C$501=Sheet8!D385),0),11)","v":0},{"$error":"#DIV/0!"},{"$f":"VLOOKUP(D385,Emp_Master!$B$3:$H$501,7)","v":{"$error":"#N/A"}}]
[{"$f":"Salary_Entitlement!A387","v":0},{"$f":"Salary_Entitlement!B387","v":0},{"$f":"Salary_Entitlement!C387","v":0},{"$f":"Salary_Entitlement!D387","v":0},{"$f":"Salary_Entitlement!E387","v":{"$error":"#N/A"}},{"$f":"Salary_Entitlement!F387","v":0},{"$f":"Salary_Entitlement!G387","v":0},{"$f":"Salary_Entitlement!H387","v":0},{"$f":"Salary_Entitlement!I387","v":0},{"$f":"Salary_Entitlement!J387","v":0},{"$f":"Salary_Entitlement!K387","v":0},{"$f":"Salary_Entitlement!L387","v":0},{"$f":"Salary_Entitlement!M387","v":0},{"$f":"Salary_Entitlement!N387","v":0},{"$f":"Salary_Entitlement!O387","v":0},{"$f":"Salary_Entitlement!P387","v":0},{"$error":"#DIV/0!"},{"$error":"#DIV/0!"},{"$f":"INDEX(Deduction!$A$3:$K$501,MATCH(1,(Deduction!$A$3:$A$501=Sheet8!A386)*(Deduction!$B$3:$B$501=Sheet8!B386)*(Deduction!$C$3:$C$501=Sheet8!D386),0),5)","v":0},{"$f":"INDEX(Deduction!$A$3:$K$501,MATCH(1,(Deduction!$A$3:$A$501=Sheet8!A386)*(Deduction!$B$3:$B$501=Sheet8!B386)*(Deduction!$C$3:$C$501=Sheet8!D386),0),6)","v":0},{"$f":"INDEX(Deduction!$A$3:$K$501,MATCH(1,(Deduction!$A$3:$A$501=Sheet8!A386)*(Deduction!$B$3:$B$501=Sheet8!B386)*(Deduction!$C$3:$C$501=Sheet8!D386),0),7)","v":0},{"$f":"INDEX(Deduction!$A$3:$K$501,MATCH(1,(Deduction!$A$3:$A$501=Sheet8!A386)*(Deduction!$B$3:$B$501=Sheet8!B386)*(Deduction!$C$3:$C$501=Sheet8!D386),0),8)","v":0},{"$f":"INDEX(Deduction!$A$3:$K$501,MATCH(1,(Deduction!$A$3:$A$501=Sheet8!A386)*(Deduction!$B$3:$B$501=Sheet8!B386)*(Deduction!$C$3:$C$501=Sheet8!D386),0),9)","v":0},{"$f":"INDEX(Deduction!$A$3:$K$501,MATCH(1,(Deduction!$A$3:$A$501=Sheet8!A386)*(Deduction!$B$3:$B$501=Sheet8!B386)*(Deduction!$C$3:$C$501=Sheet8!D386),0),10)","v":0},{"$f":"INDEX(Deduction!$A$3:$K$501,MATCH(1,(Deduction!$A$3:$A$501=Sheet8!A386)*(Deduction!$B$3:$B$501=Sheet8!B386)*(Deduction!$C$3:$C$501=Sheet8!D386),0),11)","v":0},{"$error":"#DIV/0!"},{"$f":"VLOOKUP(D386,Emp_Master!$B$3:$H$501,7)","v":{"$error":"#N/A"}}]
[{"$f":"Salary_Entitlement!A388","v":0},{"$f":"Salary_Entitlement!B388","v":0},{"$f":"Salary_Entitlement!C388","v":0},{"$f":"Salary_Entitlement!D388","v":0},{"$f":"Salary_Entitlement!E388","v":{"$error":"#N/A"}},{"$f":"Salary_Entitlement!F388","v":0},{"$f":"Salary_Entitlement!G388","v":0},{"$f":"Salary_Entitlement!H388","v":0},{"$f":"Salary_Entitlement!I388","v":0},{"$f":"Salary_Entitlement!J388","v":0},{"$f":"Salary_Entitlement!K388","v":0},{"$f":"Salary_Entitlement!L388","v":0},{"$f":"Salary_Entitlement!M388","v":0},{"$f":"Salary_Entitlement!N388","v":0},{"$f":"Salary_Entitlement!O388","v":0},{"$f":"Salary_Entitlement!P388","v":0},{"$error":"#DIV/0!"},{"$error":"#DIV/0!"},{"$f":"INDEX(Deduction!$A$3:$K$501,MATCH(1,(Deduction!$A$3:$A$501=Sheet8!A387)*(Deduction!$B$3:$B$501=Sheet8!B387)*(Deduction!$C$3:$C$501=Sheet8!D387),0),5)","v":0},{"$f":"INDEX(Deduction!$A$3:$K$501,MATCH(1,(Deduction!$A$3:$A$501=Sheet8!A387)*(Deduction!$B$3:$B$501=Sheet8!B387)*(Deduction!$C$3:$C$501=Sheet8!D387),0),6)","v":0},{"$f":"INDEX(Deduction!$A$3:$K$501,MATCH(1,(Deduction!$A$3:$A$501=Sheet8!A387)*(Deduction!$B$3:$B$501=Sheet8!B387)*(Deduction!$C$3:$C$501=Sheet8!D387),0),7)","v":0},{"$f":"INDEX(Deduction!$A$3:$K$501,MATCH(1,(Deduction!$A$3:$A$501=Sheet8!A387)*(Deduction!$B$3:$B$501=Sheet8!B387)*(Deduction!$C$3:$C$501=Sheet8!D387),0),8)","v":0},{"$f":"INDEX(Deduction!$A$3:$K$501,MATCH(1,(Deduction!$A$3:$A$501=Sheet8!A387)*(Deduction!$B$3:$B$501=Sheet8!B387)*(Deduction!$C$3:$C$501=Sheet8!D387),0),9)","v":0},{"$f":"INDEX(Deduction!$A$3:$K$501,MATCH(1,(Deduction!$A$3:$A$501=Sheet8!A387)*(Deduction!$B$3:$B$501=Sheet8!B387)*(Deduction!$C$3:$C$501=Sheet8!D387),0),10)","v":0},{"$f":"INDEX(Deduction!$A$3:$K$501,MATCH(1,(Deduction!$A$3:$A$501=Sheet8!A387)*(Deduction!$B$3:$B$501=Sheet8!B387)*(Deduction!$C$3:$C$501=Sheet8!D387),0),11)","v":0},{"$error":"#DIV/0!"},{"$f":"VLOOKUP(D387,Emp_Master!$B$3:$H$501,7)","v":{"$error":"#N/A"}}]
[{"$f":"Salary_Entitlement!A389","v":0},{"$f":"Salary_Entitlement!B389","v":0},{"$f":"Salary_Entitlement!C389","v":0},{"$f":"Salary_Entitlement!D389","v":0},{"$f":"Salary_Entitlement!E389","v":{"$error":"#N/A"}},{"$f":"Salary_Entitlement!F389","v":0},{"$f":"Salary_Entitlement!G389","v":0},{"$f":"Salary_Entitlement!H389","v":0},{"$f":"Salary_Entitlement!I389","v":0},{"$f":"Salary_Entitlement!J389","v":0},{"$f":"Salary_Entitlement!K389","v":0},{"$f":"Salary_Entitlement!L389","v":0},{"$f":"Salary_Entitlement!M389","v":0},{"$f":"Salary_Entitlement!N389","v":0},{"$f":"Salary_Entitlement!O389","v":0},{"$f":"Salary_Entitlement!P389","v":0},{"$error":"#DIV/0!"},{"$error":"#DIV/0!"},{"$f":"INDEX(Deduction!$A$3:$K$501,MATCH(1,(Deduction!$A$3:$A$501=Sheet8!A388)*(Deduction!$B$3:$B$501=Sheet8!B388)*(Deduction!$C$3:$C$501=Sheet8!D388),0),5)","v":0},{"$f":"INDEX(Deduction!$A$3:$K$501,MATCH(1,(Deduction!$A$3:$A$501=Sheet8!A388)*(Deduction!$B$3:$B$501=Sheet8!B388)*(Deduction!$C$3:$C$501=Sheet8!D388),0),6)","v":0},{"$f":"INDEX(Deduction!$A$3:$K$501,MATCH(1,(Deduction!$A$3:$A$501=Sheet8!A388)*(Deduction!$B$3:$B$501=Sheet8!B388)*(Deduction!$C$3:$C$501=Sheet8!D388),0),7)","v":0},{"$f":"INDEX(Deduction!$A$3:$K$501,MATCH(1,(Deduction!$A$3:$A$501=Sheet8!A388)*(Deduction!$B$3:$B$501=Sheet8!B388)*(Deduction!$C$3:$C$501=Sheet8!D388),0),8)","v":0},{"$f":"INDEX(Deduction!$A$3:$K$501,MATCH(1,(Deduction!$A$3:$A$501=Sheet8!A388)*(Deduction!$B$3:$B$501=Sheet8!B388)*(Deduction!$C$3:$C$501=Sheet8!D388),0),9)","v":0},{"$f":"INDEX(Deduction!$A$3:$K$501,MATCH(1,(Deduction!$A$3:$A$501=Sheet8!A388)*(Deduction!$B$3:$B$501=Sheet8!B388)*(Deduction!$C$3:$C$501=Sheet8!D388),0),10)","v":0},{"$f":"INDEX(Deduction!$A$3:$K$501,MATCH(1,(Deduction!$A$3:$A$501=Sheet8!A388)*(Deduction!$B$3:$B$501=Sheet8!B388)*(Deduction!$C$3:$C$501=Sheet8!D388),0),11)","v":0},{"$f":"+R388-SUM(S388:Y388)","v":{"$error":"#DIV/0!"}},{"$f":"VLOOKUP(D388,Emp_Master!$B$3:$H$501,7)","v":{"$error":"#N/A"}}]
[{"$f":"Salary_Entitlement!A390","v":0},{"$f":"Salary_Entitlement!B390","v":0},{"$f":"Salary_Entitlement!C390","v":0},{"$f":"Salary_Entitlement!D390","v":0},{"$f":"Salary_Entitlement!E390","v":{"$error":"#N/A"}},{"$f":"Salary_Entitlement!F390","v":0},{"$f":"Salary_Entitlement!G390","v":0},{"$f":"Salary_Entitlement!H390","v":0},{"$f":"Salary_Entitlement!I390","v":0},{"$f":"Salary_Entitlement!J390","v":0},{"$f":"Salary_Entitlement!K390","v":0},{"$f":"Salary_Entitlement!L390","v":0},{"$f":"Salary_Entitlement!M390","v":0},{"$f":"Salary_Entitlement!N390","v":0},{"$f":"Salary_Entitlement!O390","v":0},{"$f":"Salary_Entitlement!P390","v":0},{"$error":"#DIV/0!"},{"$error":"#DIV/0!"},{"$f":"INDEX(Deduction!$A$3:$K$501,MATCH(1,(Deduction!$A$3:$A$501=Sheet8!A389)*(Deduction!$B$3:$B$501=Sheet8!B389)*(Deduction!$C$3:$C$501=Sheet8!D389),0),5)","v":0},{"$f":"INDEX(Deduction!$A$3:$K$501,MATCH(1,(Deduction!$A$3:$A$501=Sheet8!A389)*(Deduction!$B$3:$B$501=Sheet8!B389)*(Deduction!$C$3:$C$501=Sheet8!D389),0),6)","v":0},{"$f":"INDEX(Deduction!$A$3:$K$501,MATCH(1,(Deduction!$A$3:$A$501=Sheet8!A389)*(Deduction!$B$3:$B$501=Sheet8!B389)*(Deduction!$C$3:$C$501=Sheet8!D389),0),7)","v":0},{"$f":"INDEX(Deduction!$A$3:$K$501,MATCH(1,(Deduction!$A$3:$A$501=Sheet8!A389)*(Deduction!$B$3:$B$501=Sheet8!B389)*(Deduction!$C$3:$C$501=Sheet8!D389),0),8)","v":0},{"$f":"INDEX(Deduction!$A$3:$K$501,MATCH(1,(Deduction!$A$3:$A$501=Sheet8!A389)*(Deduction!$B$3:$B$501=Sheet8!B389)*(Deduction!$C$3:$C$501=Sheet8!D389),0),9)","v":0},{"$f":"INDEX(Deduction!$A$3:$K$501,MATCH(1,(Deduction!$A$3:$A$501=Sheet8!A389)*(Deduction!$B$3:$B$501=Sheet8!B389)*(Deduction!$C$3:$C$501=Sheet8!D389),0),10)","v":0},{"$f":"INDEX(Deduction!$A$3:$K$501,MATCH(1,(Deduction!$A$3:$A$501=Sheet8!A389)*(Deduction!$B$3:$B$501=Sheet8!B389)*(Deduction!$C$3:$C$501=Sheet8!D389),0),11)","v":0},{"$error":"#DIV/0!"},{"$f":"VLOOKUP(D389,Emp_Master!$B$3:$H$501,7)","v":{"$error":"#N/A"}}]
[{"$f":"Salary_Entitlement!A391","v":0},{"$f":"Salary_Entitlement!B391","v":0},{"$f":"Salary_Entitlement!C391","v":0},{"$f":"Salary_Entitlement!D391","v":0},{"$f":"Salary_Entitlement!E391","v":{"$error":"#N/A"}},{"$f":"Salary_Entitlement!F391","v":0},{"$f":"Salary_Entitlement!G391","v":0},{"$f":"Salary_Entitlement!H391","v":0},{"$f":"Salary_Entitlement!I391","v":0},{"$f":"Salary_Entitlement!J391","v":0},{"$f":"Salary_Entitlement!K391","v":0},{"$f":"Salary_Entitlement!L391","v":0},{"$f":"Salary_Entitlement!M391","v":0},{"$f":"Salary_Entitlement!N391","v":0},{"$f":"Salary_Entitlement!O391","v":0},{"$f":"Salary_Entitlement!P391","v":0},{"$error":"#DIV/0!"},{"$error":"#DIV/0!"},{"$f":"INDEX(Deduction!$A$3:$K$501,MATCH(1,(Deduction!$A$3:$A$501=Sheet8!A390)*(Deduction!$B$3:$B$501=Sheet8!B390)*(Deduction!$C$3:$C$501=Sheet8!D390),0),5)","v":0},{"$f":"INDEX(Deduction!$A$3:$K$501,MATCH(1,(Deduction!$A$3:$A$501=Sheet8!A390)*(Deduction!$B$3:$B$501=Sheet8!B390)*(Deduction!$C$3:$C$501=Sheet8!D390),0),6)","v":0},{"$f":"INDEX(Deduction!$A$3:$K$501,MATCH(1,(Deduction!$A$3:$A$501=Sheet8!A390)*(Deduction!$B$3:$B$501=Sheet8!B390)*(Deduction!$C$3:$C$501=Sheet8!D390),0),7)","v":0},{"$f":"INDEX(Deduction!$A$3:$K$501,MATCH(1,(Deduction!$A$3:$A$501=Sheet8!A390)*(Deduction!$B$3:$B$501=Sheet8!B390)*(Deduction!$C$3:$C$501=Sheet8!D390),0),8)","v":0},{"$f":"INDEX(Deduction!$A$3:$K$501,MATCH(1,(Deduction!$A$3:$A$501=Sheet8!A390)*(Deduction!$B$3:$B$501=Sheet8!B390)*(Deduction!$C$3:$C$501=Sheet8!D390),0),9)","v":0},{"$f":"INDEX(Deduction!$A$3:$K$501,MATCH(1,(Deduction!$A$3:$A$501=Sheet8!A390)*(Deduction!$B$3:$B$501=Sheet8!B390)*(Deduction!$C$3:$C$501=Sheet8!D390),0),10)","v":0},{"$f":"INDEX(Deduction!$A$3:$K$501,MATCH(1,(Deduction!$A$3:$A$501=Sheet8!A390)*(Deduction!$B$3:$B$501=Sheet8!B390)*(Deduction!$C$3:$C$501=Sheet8!D390),0),11)","v":0},{"$error":"#DIV/0!"},{"$f":"VLOOKUP(D390,Emp_Master!$B$3:$H$501,7)","v":{"$error":"#N/A"}}]
[{"$f":"Salary_Entitlement!A392","v":0},{"$f":"Salary_Entitlement!B392","v":0},{"$f":"Salary_Entitlement!C392","v":0},{"$f":"Salary_Entitlement!D392","v":0},{"$f":"Salary_Entitlement!E392","v":{"$error":"#N/A"}},{"$f":"Salary_Entitlement!F392","v":0},{"$f":"Salary_Entitlement!G392","v":0},{"$f":"Salary_Entitlement!H392","v":0},{"$f":"Salary_Entitlement!I392","v":0},{"$f":"Salary_Entitlement!J392","v":0},{"$f":"Salary_Entitlement!K392","v":0},{"$f":"Salary_Entitlement!L392","v":0},{"$f":"Salary_Entitlement!M392","v":0},{"$f":"Salary_Entitlement!N392","v":0},{"$f":"Salary_Entitlement!O392","v":0},{"$f":"Salary_Entitlement!P392","v":0},{"$error":"#DIV/0!"},{"$error":"#DIV/0!"},{"$f":"INDEX(Deduction!$A$3:$K$501,MATCH(1,(Deduction!$A$3:$A$501=Sheet8!A391)*(Deduction!$B$3:$B$501=Sheet8!B391)*(Deduction!$C$3:$C$501=Sheet8!D391),0),5)","v":0},{"$f":"INDEX(Deduction!$A$3:$K$501,MATCH(1,(Deduction!$A$3:$A$501=Sheet8!A391)*(Deduction!$B$3:$B$501=Sheet8!B391)*(Deduction!$C$3:$C$501=Sheet8!D391),0),6)","v":0},{"$f":"INDEX(Deduction!$A$3:$K$501,MATCH(1,(Deduction!$A$3:$A$501=Sheet8!A391)*(Deduction!$B$3:$B$501=Sheet8!B391)*(Deduction!$C$3:$C$501=Sheet8!D391),0),7)","v":0},{"$f":"INDEX(Deduction!$A$3:$K$501,MATCH(1,(Deduction!$A$3:$A$501=Sheet8!A391)*(Deduction!$B$3:$B$501=Sheet8!B391)*(Deduction!$C$3:$C$501=Sheet8!D391),0),8)","v":0},{"$f":"INDEX(Deduction!$A$3:$K$501,MATCH(1,(Deduction!$A$3:$A$501=Sheet8!A391)*(Deduction!$B$3:$B$501=Sheet8!B391)*(Deduction!$C$3:$C$501=Sheet8!D391),0),9)","v":0},{"$f":"INDEX(Deduction!$A$3:$K$501,MATCH(1,(Deduction!$A$3:$A$501=Sheet8!A391)*(Deduction!$B$3:$B$501=Sheet8!B391)*(Deduction!$C$3:$C$501=Sheet8!D391),0),10)","v":0},{"$f":"INDEX(Deduction!$A$3:$K$501,MATCH(1,(Deduction!$A$3:$A$501=Sheet8!A391)*(Deduction!$B$3:$B$501=Sheet8!B391)*(Deduction!$C$3:$C$501=Sheet8!D391),0),11)","v":0},{"$error":"#DIV/0!"},{"$f":"VLOOKUP(D391,Emp_Master!$B$3:$H$501,7)","v":{"$error":"#N/A"}}]
[{"$f":"Salary_Entitlement!A393","v":0},{"$f":"Salary_Entitlement!B393","v":0},{"$f":"Salary_Entitlement!C393","v":0},{"$f":"Salary_Entitlement!D393","v":0},{"$f":"Salary_Entitlement!E393","v":{"$error":"#N/A"}},{"$f":"Salary_Entitlement!F393","v":0},{"$f":"Salary_Entitlement!G393","v":0},{"$f":"Salary_Entitlement!H393","v":0},{"$f":"Salary_Entitlement!I393","v":0},{"$f":"Salary_Entitlement!J393","v":0},{"$f":"Salary_Entitlement!K393","v":0},{"$f":"Salary_Entitlement!L393","v":0},{"$f":"Salary_Entitlement!M393","v":0},{"$f":"Salary_Entitlement!N393","v":0},{"$f":"Salary_Entitlement!O393","v":0},{"$f":"Salary_Entitlement!P393","v":0},{"$error":"#DIV/0!"},{"$error":"#DIV/0!"},{"$f":"INDEX(Deduction!$A$3:$K$501,MATCH(1,(Deduction!$A$3:$A$501=Sheet8!A392)*(Deduction!$B$3:$B$501=Sheet8!B392)*(Deduction!$C$3:$C$501=Sheet8!D392),0),5)","v":0},{"$f":"INDEX(Deduction!$A$3:$K$501,MATCH(1,(Deduction!$A$3:$A$501=Sheet8!A392)*(Deduction!$B$3:$B$501=Sheet8!B392)*(Deduction!$C$3:$C$501=Sheet8!D392),0),6)","v":0},{"$f":"INDEX(Deduction!$A$3:$K$501,MATCH(1,(Deduction!$A$3:$A$501=Sheet8!A392)*(Deduction!$B$3:$B$501=Sheet8!B392)*(Deduction!$C$3:$C$501=Sheet8!D392),0),7)","v":0},{"$f":"INDEX(Deduction!$A$3:$K$501,MATCH(1,(Deduction!$A$3:$A$501=Sheet8!A392)*(Deduction!$B$3:$B$501=Sheet8!B392)*(Deduction!$C$3:$C$501=Sheet8!D392),0),8)","v":0},{"$f":"INDEX(Deduction!$A$3:$K$501,MATCH(1,(Deduction!$A$3:$A$501=Sheet8!A392)*(Deduction!$B$3:$B$501=Sheet8!B392)*(Deduction!$C$3:$C$501=Sheet8!D392),0),9)","v":0},{"$f":"INDEX(Deduction!$A$3:$K$501,MATCH(1,(Deduction!$A$3:$A$501=Sheet8!A392)*(Deduction!$B$3:$B$501=Sheet8!B392)*(Deduction!$C$3:$C$501=Sheet8!D392),0),10)","v":0},{"$f":"INDEX(Deduction!$A$3:$K$501,MATCH(1,(Deduction!$A$3:$A$501=Sheet8!A392)*(Deduction!$B$3:$B$501=Sheet8!B392)*(Deduction!$C$3:$C$501=Sheet8!D392),0),11)","v":0},{"$error":"#DIV/0!"},{"$f":"VLOOKUP(D392,Emp_Master!$B$3:$H$501,7)","v":{"$error":"#N/A"}}]
[{"$f":"Salary_Entitlement!A394","v":0},{"$f":"Salary_Entitlement!B394","v":0},{"$f":"Salary_Entitlement!C394","v":0},{"$f":"Salary_Entitlement!D394","v":0},{"$f":"Salary_Entitlement!E394","v":{"$error":"#N/A"}},{"$f":"Salary_Entitlement!F394","v":0},{"$f":"Salary_Entitlement!G394","v":0},{"$f":"Salary_Entitlement!H394","v":0},{"$f":"Salary_Entitlement!I394","v":0},{"$f":"Salary_Entitlement!J394","v":0},{"$f":"Salary_Entitlement!K394","v":0},{"$f":"Salary_Entitlement!L394","v":0},{"$f":"Salary_Entitlement!M394","v":0},{"$f":"Salary_Entitlement!N394","v":0},{"$f":"Salary_Entitlement!O394","v":0},{"$f":"Salary_Entitlement!P394","v":0},{"$error":"#DIV/0!"},{"$error":"#DIV/0!"},{"$f":"INDEX(Deduction!$A$3:$K$501,MATCH(1,(Deduction!$A$3:$A$501=Sheet8!A393)*(Deduction!$B$3:$B$501=Sheet8!B393)*(Deduction!$C$3:$C$501=Sheet8!D393),0),5)","v":0},{"$f":"INDEX(Deduction!$A$3:$K$501,MATCH(1,(Deduction!$A$3:$A$501=Sheet8!A393)*(Deduction!$B$3:$B$501=Sheet8!B393)*(Deduction!$C$3:$C$501=Sheet8!D393),0),6)","v":0},{"$f":"INDEX(Deduction!$A$3:$K$501,MATCH(1,(Deduction!$A$3:$A$501=Sheet8!A393)*(Deduction!$B$3:$B$501=Sheet8!B393)*(Deduction!$C$3:$C$501=Sheet8!D393),0),7)","v":0},{"$f":"INDEX(Deduction!$A$3:$K$501,MATCH(1,(Deduction!$A$3:$A$501=Sheet8!A393)*(Deduction!$B$3:$B$501=Sheet8!B393)*(Deduction!$C$3:$C$501=Sheet8!D393),0),8)","v":0},{"$f":"INDEX(Deduction!$A$3:$K$501,MATCH(1,(Deduction!$A$3:$A$501=Sheet8!A393)*(Deduction!$B$3:$B$501=Sheet8!B393)*(Deduction!$C$3:$C$501=Sheet8!D393),0),9)","v":0},{"$f":"INDEX(Deduction!$A$3:$K$501,MATCH(1,(Deduction!$A$3:$A$501=Sheet8!A393)*(Deduction!$B$3:$B$501=Sheet8!B393)*(Deduction!$C$3:$C$501=Sheet8!D393),0),10)","v":0},{"$f":"INDEX(Deduction!$A$3:$K$501,MATCH(1,(Deduction!$A$3:$A$501=Sheet8!A393)*(Deduction!$B$3:$B$501=Sheet8!B393)*(Deduction!$C$3:$C$501=Sheet8!D393),0),11)","v":0},{"$error":"#DIV/0!"},{"$f":"VLOOKUP(D393,Emp_Master!$B$3:$H$501,7)","v":{"$error":"#N/A"}}]
[{"$f":"Salary_Entitlement!A395","v":0},{"$f":"Salary_Entitlement!B395","v":0},{"$f":"Salary_Entitlement!C395","v":0},{"$f":"Salary_Entitlement!D395","v":0},{"$f":"Salary_Entitlement!E395","v":{"$error":"#N/A"}},{"$f":"Salary_Entitlement!F395","v":0},{"$f":"Salary_Entitlement!G395","v":0},{"$f":"Salary_Entitlement!H395","v":0},{"$f":"Salary_Entitlement!I395","v":0},{"$f":"Salary_Entitlement!J395","v":0},{"$f":"Salary_Entitlement!K395","v":0},{"$f":"Salary_Entitlement!L395","v":0},{"$f":"Salary_Entitlement!M395","v":0},{"$f":"Salary_Entitlement!N395","v":0},{"$f":"Salary_Entitlement!O395","v":0},{"$f":"Salary_Entitlement!P395","v":0},{"$error":"#DIV/0!"},{"$error":"#DIV/0!"},{"$f":"INDEX(Deduction!$A$3:$K$501,MATCH(1,(Deduction!$A$3:$A$501=Sheet8!A394)*(Deduction!$B$3:$B$501=Sheet8!B394)*(Deduction!$C$3:$C$501=Sheet8!D394),0),5)","v":0},{"$f":"INDEX(Deduction!$A$3:$K$501,MATCH(1,(Deduction!$A$3:$A$501=Sheet8!A394)*(Deduction!$B$3:$B$501=Sheet8!B394)*(Deduction!$C$3:$C$501=Sheet8!D394),0),6)","v":0},{"$f":"INDEX(Deduction!$A$3:$K$501,MATCH(1,(Deduction!$A$3:$A$501=Sheet8!A394)*(Deduction!$B$3:$B$501=Sheet8!B394)*(Deduction!$C$3:$C$501=Sheet8!D394),0),7)","v":0},{"$f":"INDEX(Deduction!$A$3:$K$501,MATCH(1,(Deduction!$A$3:$A$501=Sheet8!A394)*(Deduction!$B$3:$B$501=Sheet8!B394)*(Deduction!$C$3:$C$501=Sheet8!D394),0),8)","v":0},{"$f":"INDEX(Deduction!$A$3:$K$501,MATCH(1,(Deduction!$A$3:$A$501=Sheet8!A394)*(Deduction!$B$3:$B$501=Sheet8!B394)*(Deduction!$C$3:$C$501=Sheet8!D394),0),9)","v":0},{"$f":"INDEX(Deduction!$A$3:$K$501,MATCH(1,(Deduction!$A$3:$A$501=Sheet8!A394)*(Deduction!$B$3:$B$501=Sheet8!B394)*(Deduction!$C$3:$C$501=Sheet8!D394),0),10)","v":0},{"$f":"INDEX(Deduction!$A$3:$K$501,MATCH(1,(Deduction!$A$3:$A$501=Sheet8!A394)*(Deduction!$B$3:$B$501=Sheet8!B394)*(Deduction!$C$3:$C$501=Sheet8!D394),0),11)","v":0},{"$error":"#DIV/0!"},{"$f":"VLOOKUP(D394,Emp_Master!$B$3:$H$501,7)","v":{"$error":"#N/A"}}]
[{"$f":"Salary_Entitlement!A396","v":0},{"$f":"Salary_Entitlement!B396","v":0},{"$f":"Salary_Entitlement!C396","v":0},{"$f":"Salary_Entitlement!D396","v":0},{"$f":"Salary_Entitlement!E396","v":{"$error":"#N/A"}},{"$f":"Salary_Entitlement!F396","v":0},{"$f":"Salary_Entitlement!G396","v":0},{"$f":"Salary_Entitlement!H396","v":0},{"$f":"Salary_Entitlement!I396","v":0},{"$f":"Salary_Entitlement!J396","v":0},{"$f":"Salary_Entitlement!K396","v":0},{"$f":"Salary_Entitlement!L396","v":0},{"$f":"Salary_Entitlement!M396","v":0},{"$f":"Salary_Entitlement!N396","v":0},{"$f":"Salary_Entitlement!O396","v":0},{"$f":"Salary_Entitlement!P396","v":0},{"$error":"#DIV/0!"},{"$error":"#DIV/0!"},{"$f":"INDEX(Deduction!$A$3:$K$501,MATCH(1,(Deduction!$A$3:$A$501=Sheet8!A395)*(Deduction!$B$3:$B$501=Sheet8!B395)*(Deduction!$C$3:$C$501=Sheet8!D395),0),5)","v":0},{"$f":"INDEX(Deduction!$A$3:$K$501,MATCH(1,(Deduction!$A$3:$A$501=Sheet8!A395)*(Deduction!$B$3:$B$501=Sheet8!B395)*(Deduction!$C$3:$C$501=Sheet8!D395),0),6)","v":0},{"$f":"INDEX(Deduction!$A$3:$K$501,MATCH(1,(Deduction!$A$3:$A$501=Sheet8!A395)*(Deduction!$B$3:$B$501=Sheet8!B395)*(Deduction!$C$3:$C$501=Sheet8!D395),0),7)","v":0},{"$f":"INDEX(Deduction!$A$3:$K$501,MATCH(1,(Deduction!$A$3:$A$501=Sheet8!A395)*(Deduction!$B$3:$B$501=Sheet8!B395)*(Deduction!$C$3:$C$501=Sheet8!D395),0),8)","v":0},{"$f":"INDEX(Deduction!$A$3:$K$501,MATCH(1,(Deduction!$A$3:$A$501=Sheet8!A395)*(Deduction!$B$3:$B$501=Sheet8!B395)*(Deduction!$C$3:$C$501=Sheet8!D395),0),9)","v":0},{"$f":"INDEX(Deduction!$A$3:$K$501,MATCH(1,(Deduction!$A$3:$A$501=Sheet8!A395)*(Deduction!$B$3:$B$501=Sheet8!B395)*(Deduction!$C$3:$C$501=Sheet8!D395),0),10)","v":0},{"$f":"INDEX(Deduction!$A$3:$K$501,MATCH(1,(Deduction!$A$3:$A$501=Sheet8!A395)*(Deduction!$B$3:$B$501=Sheet8!B395)*(Deduction!$C$3:$C$501=Sheet8!D395),0),11)","v":0},{"$error":"#DIV/0!"},{"$f":"VLOOKUP(D395,Emp_Master!$B$3:$H$501,7)","v":{"$error":"#N/A"}}]
[{"$f":"Salary_Entitlement!A397","v":0},{"$f":"Salary_Entitlement!B397","v":0},{"$f":"Salary_Entitlement!C397","v":0},{"$f":"Salary_Entitlement!D397","v":0},{"$f":"Salary_Entitlement!E397","v":{"$error":"#N/A"}},{"$f":"Salary_Entitlement!F397","v":0},{"$f":"Salary_Entitlement!G397","v":0},{"$f":"Salary_Entitlement!H397","v":0},{"$f":"Salary_Entitlement!I397","v":0},{"$f":"Salary_Entitlement!J397","v":0},{"$f":"Salary_Entitlement!K397","v":0},{"$f":"Salary_Entitlement!L397","v":0},{"$f":"Salary_Entitlement!M397","v":0},{"$f":"Salary_Entitlement!N397","v":0},{"$f":"Salary_Entitlement!O397","v":0},{"$f":"Salary_Entitlement!P397","v":0},{"$error":"#DIV/0!"},{"$error":"#DIV/0!"},{"$f":"INDEX(Deduction!$A$3:$K$501,MATCH(1,(Deduction!$A$3:$A$501=Sheet8!A396)*(Deduction!$B$3:$B$501=Sheet8!B396)*(Deduction!$C$3:$C$501=Sheet8!D396),0),5)","v":0},{"$f":"INDEX(Deduction!$A$3:$K$501,MATCH(1,(Deduction!$A$3:$A$501=Sheet8!A396)*(Deduction!$B$3:$B$501=Sheet8!B396)*(Deduction!$C$3:$C$501=Sheet8!D396),0),6)","v":0},{"$f":"INDEX(Deduction!$A$3:$K$501,MATCH(1,(Deduction!$A$3:$A$501=Sheet8!A396)*(Deduction!$B$3:$B$501=Sheet8!B396)*(Deduction!$C$3:$C$501=Sheet8!D396),0),7)","v":0},{"$f":"INDEX(Deduction!$A$3:$K$501,MATCH(1,(Deduction!$A$3:$A$501=Sheet8!A396)*(Deduction!$B$3:$B$501=Sheet8!B396)*(Deduction!$C$3:$C$501=Sheet8!D396),0),8)","v":0},{"$f":"INDEX(Deduction!$A$3:$K$501,MATCH(1,(Deduction!$A$3:$A$501=Sheet8!A396)*(Deduction!$B$3:$B$501=Sheet8!B396)*(Deduction!$C$3:$C$501=Sheet8!D396),0),9)","v":0},{"$f":"INDEX(Deduction!$A$3:$K$501,MATCH(1,(Deduction!$A$3:$A$501=Sheet8!A396)*(Deduction!$B$3:$B$501=Sheet8!B396)*(Deduction!$C$3:$C$501=Sheet8!D396),0),10)","v":0},{"$f":"INDEX(Deduction!$A$3:$K$501,MATCH(1,(Deduction!$A$3:$A$501=Sheet8!A396)*(Deduction!$B$3:$B$501=Sheet8!B396)*(Deduction!$C$3:$C$501=Sheet8!D396),0),11)","v":0},{"$error":"#DIV/0!"},{"$f":"VLOOKUP(D396,Emp_Master!$B$3:$H$501,7)","v":{"$error":"#N/A"}}]
[{"$f":"Salary_Entitlement!A398","v":0},{"$f":"Salary_Entitlement!B398","v":0},{"$f":"Salary_Entitlement!C398","v":0},{"$f":"Salary_Entitlement!D398","v":0},{"$f":"Salary_Entitlement!E398","v":{"$error":"#N/A"}},{"$f":"Salary_Entitlement!F398","v":0},{"$f":"Salary_Entitlement!G398","v":0},{"$f":"Salary_Entitlement!H398","v":0},{"$f":"Salary_Entitlement!I398","v":0},{"$f":"Salary_Entitlement!J398","v":0},{"$f":"Salary_Entitlement!K398","v":0},{"$f":"Salary_Entitlement!L398","v":0},{"$f":"Salary_Entitlement!M398","v":0},{"$f":"Salary_Entitlement!N398","v":0},{"$f":"Salary_Entitlement!O398","v":0},{"$f":"Salary_Entitlement!P398","v":0},{"$error":"#DIV/0!"},{"$error":"#DIV/0!"},{"$f":"INDEX(Deduction!$A$3:$K$501,MATCH(1,(Deduction!$A$3:$A$501=Sheet8!A397)*(Deduction!$B$3:$B$501=Sheet8!B397)*(Deduction!$C$3:$C$501=Sheet8!D397),0),5)","v":0},{"$f":"INDEX(Deduction!$A$3:$K$501,MATCH(1,(Deduction!$A$3:$A$501=Sheet8!A397)*(Deduction!$B$3:$B$501=Sheet8!B397)*(Deduction!$C$3:$C$501=Sheet8!D397),0),6)","v":0},{"$f":"INDEX(Deduction!$A$3:$K$501,MATCH(1,(Deduction!$A$3:$A$501=Sheet8!A397)*(Deduction!$B$3:$B$501=Sheet8!B397)*(Deduction!$C$3:$C$501=Sheet8!D397),0),7)","v":0},{"$f":"INDEX(Deduction!$A$3:$K$501,MATCH(1,(Deduction!$A$3:$A$501=Sheet8!A397)*(Deduction!$B$3:$B$501=Sheet8!B397)*(Deduction!$C$3:$C$501=Sheet8!D397),0),8)","v":0},{"$f":"INDEX(Deduction!$A$3:$K$501,MATCH(1,(Deduction!$A$3:$A$501=Sheet8!A397)*(Deduction!$B$3:$B$501=Sheet8!B397)*(Deduction!$C$3:$C$501=Sheet8!D397),0),9)","v":0},{"$f":"INDEX(Deduction!$A$3:$K$501,MATCH(1,(Deduction!$A$3:$A$501=Sheet8!A397)*(Deduction!$B$3:$B$501=Sheet8!B397)*(Deduction!$C$3:$C$501=Sheet8!D397),0),10)","v":0},{"$f":"INDEX(Deduction!$A$3:$K$501,MATCH(1,(Deduction!$A$3:$A$501=Sheet8!A397)*(Deduction!$B$3:$B$501=Sheet8!B397)*(Deduction!$C$3:$C$501=Sheet8!D397),0),11)","v":0},{"$error":"#DIV/0!"},{"$f":"VLOOKUP(D397,Emp_Master!$B$3:$H$501,7)","v":{"$error":"#N/A"}}]
[{"$f":"Salary_Entitlement!A399","v":0},{"$f":"Salary_Entitlement!B399","v":0},{"$f":"Salary_Entitlement!C399","v":0},{"$f":"Salary_Entitlement!D399","v":0},{"$f":"Salary_Entitlement!E399","v":{"$error":"#N/A"}},{"$f":"Salary_Entitlement!F399","v":0},{"$f":"Salary_Entitlement!G399","v":0},{"$f":"Salary_Entitlement!H399","v":0},{"$f":"Salary_Entitlement!I399","v":0},{"$f":"Salary_Entitlement!J399","v":0},{"$f":"Salary_Entitlement!K399","v":0},{"$f":"Salary_Entitlement!L399","v":0},{"$f":"Salary_Entitlement!M399","v":0},{"$f":"Salary_Entitlement!N399","v":0},{"$f":"Salary_Entitlement!O399","v":0},{"$f":"Salary_Entitlement!P399","v":0},{"$error":"#DIV/0!"},{"$error":"#DIV/0!"},{"$f":"INDEX(Deduction!$A$3:$K$501,MATCH(1,(Deduction!$A$3:$A$501=Sheet8!A398)*(Deduction!$B$3:$B$501=Sheet8!B398)*(Deduction!$C$3:$C$501=Sheet8!D398),0),5)","v":0},{"$f":"INDEX(Deduction!$A$3:$K$501,MATCH(1,(Deduction!$A$3:$A$501=Sheet8!A398)*(Deduction!$B$3:$B$501=Sheet8!B398)*(Deduction!$C$3:$C$501=Sheet8!D398),0),6)","v":0},{"$f":"INDEX(Deduction!$A$3:$K$501,MATCH(1,(Deduction!$A$3:$A$501=Sheet8!A398)*(Deduction!$B$3:$B$501=Sheet8!B398)*(Deduction!$C$3:$C$501=Sheet8!D398),0),7)","v":0},{"$f":"INDEX(Deduction!$A$3:$K$501,MATCH(1,(Deduction!$A$3:$A$501=Sheet8!A398)*(Deduction!$B$3:$B$501=Sheet8!B398)*(Deduction!$C$3:$C$501=Sheet8!D398),0),8)","v":0},{"$f":"INDEX(Deduction!$A$3:$K$501,MATCH(1,(Deduction!$A$3:$A$501=Sheet8!A398)*(Deduction!$B$3:$B$501=Sheet8!B398)*(Deduction!$C$3:$C$501=Sheet8!D398),0),9)","v":0},{"$f":"INDEX(Deduction!$A$3:$K$501,MATCH(1,(Deduction!$A$3:$A$501=Sheet8!A398)*(Deduction!$B$3:$B$501=Sheet8!B398)*(Deduction!$C$3:$C$501=Sheet8!D398),0),10)","v":0},{"$f":"INDEX(Deduction!$A$3:$K$501,MATCH(1,(Deduction!$A$3:$A$501=Sheet8!A398)*(Deduction!$B$3:$B$501=Sheet8!B398)*(Deduction!$C$3:$C$501=Sheet8!D398),0),11)","v":0},{"$error":"#DIV/0!"},{"$f":"VLOOKUP(D398,Emp_Master!$B$3:$H$501,7)","v":{"$error":"#N/A"}}]
[{"$f":"Salary_Entitlement!A400","v":0},{"$f":"Salary_Entitlement!B400","v":0},{"$f":"Salary_Entitlement!C400","v":0},{"$f":"Salary_Entitlement!D400","v":0},{"$f":"Salary_Entitlement!E400","v":{"$error":"#N/A"}},{"$f":"Salary_Entitlement!F400","v":0},{"$f":"Salary_Entitlement!G400","v":0},{"$f":"Salary_Entitlement!H400","v":0},{"$f":"Salary_Entitlement!I400","v":0},{"$f":"Salary_Entitlement!J400","v":0},{"$f":"Salary_Entitlement!K400","v":0},{"$f":"Salary_Entitlement!L400","v":0},{"$f":"Salary_Entitlement!M400","v":0},{"$f":"Salary_Entitlement!N400","v":0},{"$f":"Salary_Entitlement!O400","v":0},{"$f":"Salary_Entitlement!P400","v":0},{"$error":"#DIV/0!"},{"$error":"#DIV/0!"},{"$f":"INDEX(Deduction!$A$3:$K$501,MATCH(1,(Deduction!$A$3:$A$501=Sheet8!A399)*(Deduction!$B$3:$B$501=Sheet8!B399)*(Deduction!$C$3:$C$501=Sheet8!D399),0),5)","v":0},{"$f":"INDEX(Deduction!$A$3:$K$501,MATCH(1,(Deduction!$A$3:$A$501=Sheet8!A399)*(Deduction!$B$3:$B$501=Sheet8!B399)*(Deduction!$C$3:$C$501=Sheet8!D399),0),6)","v":0},{"$f":"INDEX(Deduction!$A$3:$K$501,MATCH(1,(Deduction!$A$3:$A$501=Sheet8!A399)*(Deduction!$B$3:$B$501=Sheet8!B399)*(Deduction!$C$3:$C$501=Sheet8!D399),0),7)","v":0},{"$f":"INDEX(Deduction!$A$3:$K$501,MATCH(1,(Deduction!$A$3:$A$501=Sheet8!A399)*(Deduction!$B$3:$B$501=Sheet8!B399)*(Deduction!$C$3:$C$501=Sheet8!D399),0),8)","v":0},{"$f":"INDEX(Deduction!$A$3:$K$501,MATCH(1,(Deduction!$A$3:$A$501=Sheet8!A399)*(Deduction!$B$3:$B$501=Sheet8!B399)*(Deduction!$C$3:$C$501=Sheet8!D399),0),9)","v":0},{"$f":"INDEX(Deduction!$A$3:$K$501,MATCH(1,(Deduction!$A$3:$A$501=Sheet8!A399)*(Deduction!$B$3:$B$501=Sheet8!B399)*(Deduction!$C$3:$C$501=Sheet8!D399),0),10)","v":0},{"$f":"INDEX(Deduction!$A$3:$K$501,MATCH(1,(Deduction!$A$3:$A$501=Sheet8!A399)*(Deduction!$B$3:$B$501=Sheet8!B399)*(Deduction!$C$3:$C$501=Sheet8!D399),0),11)","v":0},{"$error":"#DIV/0!"},{"$f":"VLOOKUP(D399,Emp_Master!$B$3:$H$501,7)","v":{"$error":"#N/A"}}]
[{"$f":"Salary_Entitlement!A401","v":0},{"$f":"Salary_Entitlement!B401","v":0},{"$f":"Salary_Entitlement!C401","v":0},{"$f":"Salary_Entitlement!D401","v":0},{"$f":"Salary_Entitlement!E401","v":{"$error":"#N/A"}},{"$f":"Salary_Entitlement!F401","v":0},{"$f":"Salary_Entitlement!G401","v":0},{"$f":"Salary_Entitlement!H401","v":0},{"$f":"Salary_Entitlement!I401","v":0},{"$f":"Salary_Entitlement!J401","v":0},{"$f":"Salary_Entitlement!K401","v":0},{"$f":"Salary_Entitlement!L401","v":0},{"$f":"Salary_Entitlement!M401","v":0},{"$f":"Salary_Entitlement!N401","v":0},{"$f":"Salary_Entitlement!O401","v":0},{"$f":"Salary_Entitlement!P401","v":0},{"$error":"#DIV/0!"},{"$error":"#DIV/0!"},{"$f":"INDEX(Deduction!$A$3:$K$501,MATCH(1,(Deduction!$A$3:$A$501=Sheet8!A400)*(Deduction!$B$3:$B$501=Sheet8!B400)*(Deduction!$C$3:$C$501=Sheet8!D400),0),5)","v":0},{"$f":"INDEX(Deduction!$A$3:$K$501,MATCH(1,(Deduction!$A$3:$A$501=Sheet8!A400)*(Deduction!$B$3:$B$501=Sheet8!B400)*(Deduction!$C$3:$C$501=Sheet8!D400),0),6)","v":0},{"$f":"INDEX(Deduction!$A$3:$K$501,MATCH(1,(Deduction!$A$3:$A$501=Sheet8!A400)*(Deduction!$B$3:$B$501=Sheet8!B400)*(Deduction!$C$3:$C$501=Sheet8!D400),0),7)","v":0},{"$f":"INDEX(Deduction!$A$3:$K$501,MATCH(1,(Deduction!$A$3:$A$501=Sheet8!A400)*(Deduction!$B$3:$B$501=Sheet8!B400)*(Deduction!$C$3:$C$501=Sheet8!D400),0),8)","v":0},{"$f":"INDEX(Deduction!$A$3:$K$501,MATCH(1,(Deduction!$A$3:$A$501=Sheet8!A400)*(Deduction!$B$3:$B$501=Sheet8!B400)*(Deduction!$C$3:$C$501=Sheet8!D400),0),9)","v":0},{"$f":"INDEX(Deduction!$A$3:$K$501,MATCH(1,(Deduction!$A$3:$A$501=Sheet8!A400)*(Deduction!$B$3:$B$501=Sheet8!B400)*(Deduction!$C$3:$C$501=Sheet8!D400),0),10)","v":0},{"$f":"INDEX(Deduction!$A$3:$K$501,MATCH(1,(Deduction!$A$3:$A$501=Sheet8!A400)*(Deduction!$B$3:$B$501=Sheet8!B400)*(Deduction!$C$3:$C$501=Sheet8!D400),0),11)","v":0},{"$error":"#DIV/0!"},{"$f":"VLOOKUP(D400,Emp_Master!$B$3:$H$501,7)","v":{"$error":"#N/A"}}]
[{"$f":"Salary_Entitlement!A402","v":0},{"$f":"Salary_Entitlement!B402","v":0},{"$f":"Salary_Entitlement!C402","v":0},{"$f":"Salary_Entitlement!D402","v":0},{"$f":"Salary_Entitlement!E402","v":{"$error":"#N/A"}},{"$f":"Salary_Entitlement!F402","v":0},{"$f":"Salary_Entitlement!G402","v":0},{"$f":"Salary_Entitlement!H402","v":0},{"$f":"Salary_Entitlement!I402","v":0},{"$f":"Salary_Entitlement!J402","v":0},{"$f":"Salary_Entitlement!K402","v":0},{"$f":"Salary_Entitlement!L402","v":0},{"$f":"Salary_Entitlement!M402","v":0},{"$f":"Salary_Entitlement!N402","v":0},{"$f":"Salary_Entitlement!O402","v":0},{"$f":"Salary_Entitlement!P402","v":0},{"$error":"#DIV/0!"},{"$error":"#DIV/0!"},{"$f":"INDEX(Deduction!$A$3:$K$501,MATCH(1,(Deduction!$A$3:$A$501=Sheet8!A401)*(Deduction!$B$3:$B$501=Sheet8!B401)*(Deduction!$C$3:$C$501=Sheet8!D401),0),5)","v":0},{"$f":"INDEX(Deduction!$A$3:$K$501,MATCH(1,(Deduction!$A$3:$A$501=Sheet8!A401)*(Deduction!$B$3:$B$501=Sheet8!B401)*(Deduction!$C$3:$C$501=Sheet8!D401),0),6)","v":0},{"$f":"INDEX(Deduction!$A$3:$K$501,MATCH(1,(Deduction!$A$3:$A$501=Sheet8!A401)*(Deduction!$B$3:$B$501=Sheet8!B401)*(Deduction!$C$3:$C$501=Sheet8!D401),0),7)","v":0},{"$f":"INDEX(Deduction!$A$3:$K$501,MATCH(1,(Deduction!$A$3:$A$501=Sheet8!A401)*(Deduction!$B$3:$B$501=Sheet8!B401)*(Deduction!$C$3:$C$501=Sheet8!D401),0),8)","v":0},{"$f":"INDEX(Deduction!$A$3:$K$501,MATCH(1,(Deduction!$A$3:$A$501=Sheet8!A401)*(Deduction!$B$3:$B$501=Sheet8!B401)*(Deduction!$C$3:$C$501=Sheet8!D401),0),9)","v":0},{"$f":"INDEX(Deduction!$A$3:$K$501,MATCH(1,(Deduction!$A$3:$A$501=Sheet8!A401)*(Deduction!$B$3:$B$501=Sheet8!B401)*(Deduction!$C$3:$C$501=Sheet8!D401),0),10)","v":0},{"$f":"INDEX(Deduction!$A$3:$K$501,MATCH(1,(Deduction!$A$3:$A$501=Sheet8!A401)*(Deduction!$B$3:$B$501=Sheet8!B401)*(Deduction!$C$3:$C$501=Sheet8!D401),0),11)","v":0},{"$error":"#DIV/0!"},{"$f":"VLOOKUP(D401,Emp_Master!$B$3:$H$501,7)","v":{"$error":"#N/A"}}]
[{"$f":"Salary_Entitlement!A403","v":0},{"$f":"Salary_Entitlement!B403","v":0},{"$f":"Salary_Entitlement!C403","v":0},{"$f":"Salary_Entitlement!D403","v":0},{"$f":"Salary_Entitlement!E403","v":{"$error":"#N/A"}},{"$f":"Salary_Entitlement!F403","v":0},{"$f":"Salary_Entitlement!G403","v":0},{"$f":"Salary_Entitlement!H403","v":0},{"$f":"Salary_Entitlement!I403","v":0},{"$f":"Salary_Entitlement!J403","v":0},{"$f":"Salary_Entitlement!K403","v":0},{"$f":"Salary_Entitlement!L403","v":0},{"$f":"Salary_Entitlement!M403","v":0},{"$f":"Salary_Entitlement!N403","v":0},{"$f":"Salary_Entitlement!O403","v":0},{"$f":"Salary_Entitlement!P403","v":0},{"$error":"#DIV/0!"},{"$error":"#DIV/0!"},{"$f":"INDEX(Deduction!$A$3:$K$501,MATCH(1,(Deduction!$A$3:$A$501=Sheet8!A402)*(Deduction!$B$3:$B$501=Sheet8!B402)*(Deduction!$C$3:$C$501=Sheet8!D402),0),5)","v":0},{"$f":"INDEX(Deduction!$A$3:$K$501,MATCH(1,(Deduction!$A$3:$A$501=Sheet8!A402)*(Deduction!$B$3:$B$501=Sheet8!B402)*(Deduction!$C$3:$C$501=Sheet8!D402),0),6)","v":0},{"$f":"INDEX(Deduction!$A$3:$K$501,MATCH(1,(Deduction!$A$3:$A$501=Sheet8!A402)*(Deduction!$B$3:$B$501=Sheet8!B402)*(Deduction!$C$3:$C$501=Sheet8!D402),0),7)","v":0},{"$f":"INDEX(Deduction!$A$3:$K$501,MATCH(1,(Deduction!$A$3:$A$501=Sheet8!A402)*(Deduction!$B$3:$B$501=Sheet8!B402)*(Deduction!$C$3:$C$501=Sheet8!D402),0),8)","v":0},{"$f":"INDEX(Deduction!$A$3:$K$501,MATCH(1,(Deduction!$A$3:$A$501=Sheet8!A402)*(Deduction!$B$3:$B$501=Sheet8!B402)*(Deduction!$C$3:$C$501=Sheet8!D402),0),9)","v":0},{"$f":"INDEX(Deduction!$A$3:$K$501,MATCH(1,(Deduction!$A$3:$A$501=Sheet8!A402)*(Deduction!$B$3:$B$501=Sheet8!B402)*(Deduction!$C$3:$C$501=Sheet8!D402),0),10)","v":0},{"$f":"INDEX(Deduction!$A$3:$K$501,MATCH(1,(Deduction!$A$3:$A$501=Sheet8!A402)*(Deduction!$B$3:$B$501=Sheet8!B402)*(Deduction!$C$3:$C$501=Sheet8!D402),0),11)","v":0},{"$error":"#DIV/0!"},{"$f":"VLOOKUP(D402,Emp_Master!$B$3:$H$501,7)","v":{"$error":"#N/A"}}]
[{"$f":"Salary_Entitlement!A404","v":0},{"$f":"Salary_Entitlement!B404","v":0},{"$f":"Salary_Entitlement!C404","v":0},{"$f":"Salary_Entitlement!D404","v":0},{"$f":"Salary_Entitlement!E404","v":{"$error":"#N/A"}},{"$f":"Salary_Entitlement!F404","v":0},{"$f":"Salary_Entitlement!G404","v":0},{"$f":"Salary_Entitlement!H404","v":0},{"$f":"Salary_Entitlement!I404","v":0},{"$f":"Salary_Entitlement!J404","v":0},{"$f":"Salary_Entitlement!K404","v":0},{"$f":"Salary_Entitlement!L404","v":0},{"$f":"Salary_Entitlement!M404","v":0},{"$f":"Salary_Entitlement!N404","v":0},{"$f":"Salary_Entitlement!O404","v":0},{"$f":"Salary_Entitlement!P404","v":0},{"$error":"#DIV/0!"},{"$error":"#DIV/0!"},{"$f":"INDEX(Deduction!$A$3:$K$501,MATCH(1,(Deduction!$A$3:$A$501=Sheet8!A403)*(Deduction!$B$3:$B$501=Sheet8!B403)*(Deduction!$C$3:$C$501=Sheet8!D403),0),5)","v":0},{"$f":"INDEX(Deduction!$A$3:$K$501,MATCH(1,(Deduction!$A$3:$A$501=Sheet8!A403)*(Deduction!$B$3:$B$501=Sheet8!B403)*(Deduction!$C$3:$C$501=Sheet8!D403),0),6)","v":0},{"$f":"INDEX(Deduction!$A$3:$K$501,MATCH(1,(Deduction!$A$3:$A$501=Sheet8!A403)*(Deduction!$B$3:$B$501=Sheet8!B403)*(Deduction!$C$3:$C$501=Sheet8!D403),0),7)","v":0},{"$f":"INDEX(Deduction!$A$3:$K$501,MATCH(1,(Deduction!$A$3:$A$501=Sheet8!A403)*(Deduction!$B$3:$B$501=Sheet8!B403)*(Deduction!$C$3:$C$501=Sheet8!D403),0),8)","v":0},{"$f":"INDEX(Deduction!$A$3:$K$501,MATCH(1,(Deduction!$A$3:$A$501=Sheet8!A403)*(Deduction!$B$3:$B$501=Sheet8!B403)*(Deduction!$C$3:$C$501=Sheet8!D403),0),9)","v":0},{"$f":"INDEX(Deduction!$A$3:$K$501,MATCH(1,(Deduction!$A$3:$A$501=Sheet8!A403)*(Deduction!$B$3:$B$501=Sheet8!B403)*(Deduction!$C$3:$C$501=Sheet8!D403),0),10)","v":0},{"$f":"INDEX(Deduction!$A$3:$K$501,MATCH(1,(Deduction!$A$3:$A$501=Sheet8!A403)*(Deduction!$B$3:$B$501=Sheet8!B403)*(Deduction!$C$3:$C$501=Sheet8!D403),0),11)","v":0},{"$error":"#DIV/0!"},{"$f":"VLOOKUP(D403,Emp_Master!$B$3:$H$501,7)","v":{"$error":"#N/A"}}]
[{"$f":"Salary_Entitlement!A405","v":0},{"$f":"Salary_Entitlement!B405","v":0},{"$f":"Salary_Entitlement!C405","v":0},{"$f":"Salary_Entitlement!D405","v":0},{"$f":"Salary_Entitlement!E405","v":{"$error":"#N/A"}},{"$f":"Salary_Entitlement!F405","v":0},{"$f":"Salary_Entitlement!G405","v":0},{"$f":"Salary_Entitlement!H405","v":0},{"$f":"Salary_Entitlement!I405","v":0},{"$f":"Salary_Entitlement!J405","v":0},{"$f":"Salary_Entitlement!K405","v":0},{"$f":"Salary_Entitlement!L405","v":0},{"$f":"Salary_Entitlement!M405","v":0},{"$f":"Salary_Entitlement!N405","v":0},{"$f":"Salary_Entitlement!O405","v":0},{"$f":"Salary_Entitlement!P405","v":0},{"$error":"#DIV/0!"},{"$error":"#DIV/0!"},{"$f":"INDEX(Deduction!$A$3:$K$501,MATCH(1,(Deduction!$A$3:$A$501=Sheet8!A404)*(Deduction!$B$3:$B$501=Sheet8!B404)*(Deduction!$C$3:$C$501=Sheet8!D404),0),5)","v":0},{"$f":"INDEX(Deduction!$A$3:$K$501,MATCH(1,(Deduction!$A$3:$A$501=Sheet8!A404)*(Deduction!$B$3:$B$501=Sheet8!B404)*(Deduction!$C$3:$C$501=Sheet8!D404),0),6)","v":0},{"$f":"INDEX(Deduction!$A$3:$K$501,MATCH(1,(Deduction!$A$3:$A$501=Sheet8!A404)*(Deduction!$B$3:$B$501=Sheet8!B404)*(Deduction!$C$3:$C$501=Sheet8!D404),0),7)","v":0},{"$f":"INDEX(Deduction!$A$3:$K$501,MATCH(1,(Deduction!$A$3:$A$501=Sheet8!A404)*(Deduction!$B$3:$B$501=Sheet8!B404)*(Deduction!$C$3:$C$501=Sheet8!D404),0),8)","v":0},{"$f":"INDEX(Deduction!$A$3:$K$501,MATCH(1,(Deduction!$A$3:$A$501=Sheet8!A404)*(Deduction!$B$3:$B$501=Sheet8!B404)*(Deduction!$C$3:$C$501=Sheet8!D404),0),9)","v":0},{"$f":"INDEX(Deduction!$A$3:$K$501,MATCH(1,(Deduction!$A$3:$A$501=Sheet8!A404)*(Deduction!$B$3:$B$501=Sheet8!B404)*(Deduction!$C$3:$C$501=Sheet8!D404),0),10)","v":0},{"$f":"INDEX(Deduction!$A$3:$K$501,MATCH(1,(Deduction!$A$3:$A$501=Sheet8!A404)*(Deduction!$B$3:$B$501=Sheet8!B404)*(Deduction!$C$3:$C$501=Sheet8!D404),0),11)","v":0},{"$error":"#DIV/0!"},{"$f":"VLOOKUP(D404,Emp_Master!$B$3:$H$501,7)","v":{"$error":"#N/A"}}]
[{"$f":"Salary_Entitlement!A406","v":0},{"$f":"Salary_Entitlement!B406","v":0},{"$f":"Salary_Entitlement!C406","v":0},{"$f":"Salary_Entitlement!D406","v":0},{"$f":"Salary_Entitlement!E406","v":{"$error":"#N/A"}},{"$f":"Salary_Entitlement!F406","v":0},{"$f":"Salary_Entitlement!G406","v":0},{"$f":"Salary_Entitlement!H406","v":0},{"$f":"Salary_Entitlement!I406","v":0},{"$f":"Salary_Entitlement!J406","v":0},{"$f":"Salary_Entitlement!K406","v":0},{"$f":"Salary_Entitlement!L406","v":0},{"$f":"Salary_Entitlement!M406","v":0},{"$f":"Salary_Entitlement!N406","v":0},{"$f":"Salary_Entitlement!O406","v":0},{"$f":"Salary_Entitlement!P406","v":0},{"$error":"#DIV/0!"},{"$error":"#DIV/0!"},{"$f":"INDEX(Deduction!$A$3:$K$501,MATCH(1,(Deduction!$A$3:$A$501=Sheet8!A405)*(Deduction!$B$3:$B$501=Sheet8!B405)*(Deduction!$C$3:$C$501=Sheet8!D405),0),5)","v":0},{"$f":"INDEX(Deduction!$A$3:$K$501,MATCH(1,(Deduction!$A$3:$A$501=Sheet8!A405)*(Deduction!$B$3:$B$501=Sheet8!B405)*(Deduction!$C$3:$C$501=Sheet8!D405),0),6)","v":0},{"$f":"INDEX(Deduction!$A$3:$K$501,MATCH(1,(Deduction!$A$3:$A$501=Sheet8!A405)*(Deduction!$B$3:$B$501=Sheet8!B405)*(Deduction!$C$3:$C$501=Sheet8!D405),0),7)","v":0},{"$f":"INDEX(Deduction!$A$3:$K$501,MATCH(1,(Deduction!$A$3:$A$501=Sheet8!A405)*(Deduction!$B$3:$B$501=Sheet8!B405)*(Deduction!$C$3:$C$501=Sheet8!D405),0),8)","v":0},{"$f":"INDEX(Deduction!$A$3:$K$501,MATCH(1,(Deduction!$A$3:$A$501=Sheet8!A405)*(Deduction!$B$3:$B$501=Sheet8!B405)*(Deduction!$C$3:$C$501=Sheet8!D405),0),9)","v":0},{"$f":"INDEX(Deduction!$A$3:$K$501,MATCH(1,(Deduction!$A$3:$A$501=Sheet8!A405)*(Deduction!$B$3:$B$501=Sheet8!B405)*(Deduction!$C$3:$C$501=Sheet8!D405),0),10)","v":0},{"$f":"INDEX(Deduction!$A$3:$K$501,MATCH(1,(Deduction!$A$3:$A$501=Sheet8!A405)*(Deduction!$B$3:$B$501=Sheet8!B405)*(Deduction!$C$3:$C$501=Sheet8!D405),0),11)","v":0},{"$error":"#DIV/0!"},{"$f":"VLOOKUP(D405,Emp_Master!$B$3:$H$501,7)","v":{"$error":"#N/A"}}]
[{"$f":"Salary_Entitlement!A407","v":0},{"$f":"Salary_Entitlement!B407","v":0},{"$f":"Salary_Entitlement!C407","v":0},{"$f":"Salary_Entitlement!D407","v":0},{"$f":"Salary_Entitlement!E407","v":{"$error":"#N/A"}},{"$f":"Salary_Entitlement!F407","v":0},{"$f":"Salary_Entitlement!G407","v":0},{"$f":"Salary_Entitlement!H407","v":0},{"$f":"Salary_Entitlement!I407","v":0},{"$f":"Salary_Entitlement!J407","v":0},{"$f":"Salary_Entitlement!K407","v":0},{"$f":"Salary_Entitlement!L407","v":0},{"$f":"Salary_Entitlement!M407","v":0},{"$f":"Salary_Entitlement!N407","v":0},{"$f":"Salary_Entitlement!O407","v":0},{"$f":"Salary_Entitlement!P407","v":0},{"$error":"#DIV/0!"},{"$error":"#DIV/0!"},{"$f":"INDEX(Deduction!$A$3:$K$501,MATCH(1,(Deduction!$A$3:$A$501=Sheet8!A406)*(Deduction!$B$3:$B$501=Sheet8!B406)*(Deduction!$C$3:$C$501=Sheet8!D406),0),5)","v":0},{"$f":"INDEX(Deduction!$A$3:$K$501,MATCH(1,(Deduction!$A$3:$A$501=Sheet8!A406)*(Deduction!$B$3:$B$501=Sheet8!B406)*(Deduction!$C$3:$C$501=Sheet8!D406),0),6)","v":0},{"$f":"INDEX(Deduction!$A$3:$K$501,MATCH(1,(Deduction!$A$3:$A$501=Sheet8!A406)*(Deduction!$B$3:$B$501=Sheet8!B406)*(Deduction!$C$3:$C$501=Sheet8!D406),0),7)","v":0},{"$f":"INDEX(Deduction!$A$3:$K$501,MATCH(1,(Deduction!$A$3:$A$501=Sheet8!A406)*(Deduction!$B$3:$B$501=Sheet8!B406)*(Deduction!$C$3:$C$501=Sheet8!D406),0),8)","v":0},{"$f":"INDEX(Deduction!$A$3:$K$501,MATCH(1,(Deduction!$A$3:$A$501=Sheet8!A406)*(Deduction!$B$3:$B$501=Sheet8!B406)*(Deduction!$C$3:$C$501=Sheet8!D406),0),9)","v":0},{"$f":"INDEX(Deduction!$A$3:$K$501,MATCH(1,(Deduction!$A$3:$A$501=Sheet8!A406)*(Deduction!$B$3:$B$501=Sheet8!B406)*(Deduction!$C$3:$C$501=Sheet8!D406),0),10)","v":0},{"$f":"INDEX(Deduction!$A$3:$K$501,MATCH(1,(Deduction!$A$3:$A$501=Sheet8!A406)*(Deduction!$B$3:$B$501=Sheet8!B406)*(Deduction!$C$3:$C$501=Sheet8!D406),0),11)","v":0},{"$error":"#DIV/0!"},{"$f":"VLOOKUP(D406,Emp_Master!$B$3:$H$501,7)","v":{"$error":"#N/A"}}]
[{"$f":"Salary_Entitlement!A408","v":0},{"$f":"Salary_Entitlement!B408","v":0},{"$f":"Salary_Entitlement!C408","v":0},{"$f":"Salary_Entitlement!D408","v":0},{"$f":"Salary_Entitlement!E408","v":{"$error":"#N/A"}},{"$f":"Salary_Entitlement!F408","v":0},{"$f":"Salary_Entitlement!G408","v":0},{"$f":"Salary_Entitlement!H408","v":0},{"$f":"Salary_Entitlement!I408","v":0},{"$f":"Salary_Entitlement!J408","v":0},{"$f":"Salary_Entitlement!K408","v":0},{"$f":"Salary_Entitlement!L408","v":0},{"$f":"Salary_Entitlement!M408","v":0},{"$f":"Salary_Entitlement!N408","v":0},{"$f":"Salary_Entitlement!O408","v":0},{"$f":"Salary_Entitlement!P408","v":0},{"$error":"#DIV/0!"},{"$error":"#DIV/0!"},{"$f":"INDEX(Deduction!$A$3:$K$501,MATCH(1,(Deduction!$A$3:$A$501=Sheet8!A407)*(Deduction!$B$3:$B$501=Sheet8!B407)*(Deduction!$C$3:$C$501=Sheet8!D407),0),5)","v":0},{"$f":"INDEX(Deduction!$A$3:$K$501,MATCH(1,(Deduction!$A$3:$A$501=Sheet8!A407)*(Deduction!$B$3:$B$501=Sheet8!B407)*(Deduction!$C$3:$C$501=Sheet8!D407),0),6)","v":0},{"$f":"INDEX(Deduction!$A$3:$K$501,MATCH(1,(Deduction!$A$3:$A$501=Sheet8!A407)*(Deduction!$B$3:$B$501=Sheet8!B407)*(Deduction!$C$3:$C$501=Sheet8!D407),0),7)","v":0},{"$f":"INDEX(Deduction!$A$3:$K$501,MATCH(1,(Deduction!$A$3:$A$501=Sheet8!A407)*(Deduction!$B$3:$B$501=Sheet8!B407)*(Deduction!$C$3:$C$501=Sheet8!D407),0),8)","v":0},{"$f":"INDEX(Deduction!$A$3:$K$501,MATCH(1,(Deduction!$A$3:$A$501=Sheet8!A407)*(Deduction!$B$3:$B$501=Sheet8!B407)*(Deduction!$C$3:$C$501=Sheet8!D407),0),9)","v":0},{"$f":"INDEX(Deduction!$A$3:$K$501,MATCH(1,(Deduction!$A$3:$A$501=Sheet8!A407)*(Deduction!$B$3:$B$501=Sheet8!B407)*(Deduction!$C$3:$C$501=Sheet8!D407),0),10)","v":0},{"$f":"INDEX(Deduction!$A$3:$K$501,MATCH(1,(Deduction!$A$3:$A$501=Sheet8!A407)*(Deduction!$B$3:$B$501=Sheet8!B407)*(Deduction!$C$3:$C$501=Sheet8!D407),0),11)","v":0},{"$error":"#DIV/0!"},{"$f":"VLOOKUP(D407,Emp_Master!$B$3:$H$501,7)","v":{"$error":"#N/A"}}]
[{"$f":"Salary_Entitlement!A409","v":0},{"$f":"Salary_Entitlement!B409","v":0},{"$f":"Salary_Entitlement!C409","v":0},{"$f":"Salary_Entitlement!D409","v":0},{"$f":"Salary_Entitlement!E409","v":{"$error":"#N/A"}},{"$f":"Salary_Entitlement!F409","v":0},{"$f":"Salary_Entitlement!G409","v":0},{"$f":"Salary_Entitlement!H409","v":0},{"$f":"Salary_Entitlement!I409","v":0},{"$f":"Salary_Entitlement!J409","v":0},{"$f":"Salary_Entitlement!K409","v":0},{"$f":"Salary_Entitlement!L409","v":0},{"$f":"Salary_Entitlement!M409","v":0},{"$f":"Salary_Entitlement!N409","v":0},{"$f":"Salary_Entitlement!O409","v":0},{"$f":"Salary_Entitlement!P409","v":0},{"$f":"F408/M408*(M408-N408)","v":{"$error":"#DIV/0!"}},{"$f":"SUM(F408:L408)-Q408","v":{"$error":"#DIV/0!"}},{"$f":"INDEX(Deduction!$A$3:$K$501,MATCH(1,(Deduction!$A$3:$A$501=Sheet8!A408)*(Deduction!$B$3:$B$501=Sheet8!B408)*(Deduction!$C$3:$C$501=Sheet8!D408),0),5)","v":0},{"$f":"INDEX(Deduction!$A$3:$K$501,MATCH(1,(Deduction!$A$3:$A$501=Sheet8!A408)*(Deduction!$B$3:$B$501=Sheet8!B408)*(Deduction!$C$3:$C$501=Sheet8!D408),0),6)","v":0},{"$f":"INDEX(Deduction!$A$3:$K$501,MATCH(1,(Deduction!$A$3:$A$501=Sheet8!A408)*(Deduction!$B$3:$B$501=Sheet8!B408)*(Deduction!$C$3:$C$501=Sheet8!D408),0),7)","v":0},{"$f":"INDEX(Deduction!$A$3:$K$501,MATCH(1,(Deduction!$A$3:$A$501=Sheet8!A408)*(Deduction!$B$3:$B$501=Sheet8!B408)*(Deduction!$C$3:$C$501=Sheet8!D408),0),8)","v":0},{"$f":"INDEX(Deduction!$A$3:$K$501,MATCH(1,(Deduction!$A$3:$A$501=Sheet8!A408)*(Deduction!$B$3:$B$501=Sheet8!B408)*(Deduction!$C$3:$C$501=Sheet8!D408),0),9)","v":0},{"$f":"INDEX(Deduction!$A$3:$K$501,MATCH(1,(Deduction!$A$3:$A$501=Sheet8!A408)*(Deduction!$B$3:$B$501=Sheet8!B408)*(Deduction!$C$3:$C$501=Sheet8!D408),0),10)","v":0},{"$f":"INDEX(Deduction!$A$3:$K$501,MATCH(1,(Deduction!$A$3:$A$501=Sheet8!A408)*(Deduction!$B$3:$B$501=Sheet8!B408)*(Deduction!$C$3:$C$501=Sheet8!D408),0),11)","v":0},{"$error":"#DIV/0!"},{"$f":"VLOOKUP(D408,Emp_Master!$B$3:$H$501,7)","v":{"$error":"#N/A"}}]
[{"$f":"Salary_Entitlement!A410","v":0},{"$f":"Salary_Entitlement!B410","v":0},{"$f":"Salary_Entitlement!C410","v":0},{"$f":"Salary_Entitlement!D410","v":0},{"$f":"Salary_Entitlement!E410","v":{"$error":"#N/A"}},{"$f":"Salary_Entitlement!F410","v":0},{"$f":"Salary_Entitlement!G410","v":0},{"$f":"Salary_Entitlement!H410","v":0},{"$f":"Salary_Entitlement!I410","v":0},{"$f":"Salary_Entitlement!J410","v":0},{"$f":"Salary_Entitlement!K410","v":0},{"$f":"Salary_Entitlement!L410","v":0},{"$f":"Salary_Entitlement!M410","v":0},{"$f":"Salary_Entitlement!N410","v":0},{"$f":"Salary_Entitlement!O410","v":0},{"$f":"Salary_Entitlement!P410","v":0},{"$error":"#DIV/0!"},{"$error":"#DIV/0!"},{"$f":"INDEX(Deduction!$A$3:$K$501,MATCH(1,(Deduction!$A$3:$A$501=Sheet8!A409)*(Deduction!$B$3:$B$501=Sheet8!B409)*(Deduction!$C$3:$C$501=Sheet8!D409),0),5)","v":0},{"$f":"INDEX(Deduction!$A$3:$K$501,MATCH(1,(Deduction!$A$3:$A$501=Sheet8!A409)*(Deduction!$B$3:$B$501=Sheet8!B409)*(Deduction!$C$3:$C$501=Sheet8!D409),0),6)","v":0},{"$f":"INDEX(Deduction!$A$3:$K$501,MATCH(1,(Deduction!$A$3:$A$501=Sheet8!A409)*(Deduction!$B$3:$B$501=Sheet8!B409)*(Deduction!$C$3:$C$501=Sheet8!D409),0),7)","v":0},{"$f":"INDEX(Deduction!$A$3:$K$501,MATCH(1,(Deduction!$A$3:$A$501=Sheet8!A409)*(Deduction!$B$3:$B$501=Sheet8!B409)*(Deduction!$C$3:$C$501=Sheet8!D409),0),8)","v":0},{"$f":"INDEX(Deduction!$A$3:$K$501,MATCH(1,(Deduction!$A$3:$A$501=Sheet8!A409)*(Deduction!$B$3:$B$501=Sheet8!B409)*(Deduction!$C$3:$C$501=Sheet8!D409),0),9)","v":0},{"$f":"INDEX(Deduction!$A$3:$K$501,MATCH(1,(Deduction!$A$3:$A$501=Sheet8!A409)*(Deduction!$B$3:$B$501=Sheet8!B409)*(Deduction!$C$3:$C$501=Sheet8!D409),0),10)","v":0},{"$f":"INDEX(Deduction!$A$3:$K$501,MATCH(1,(Deduction!$A$3:$A$501=Sheet8!A409)*(Deduction!$B$3:$B$501=Sheet8!B409)*(Deduction!$C$3:$C$501=Sheet8!D409),0),11)","v":0},{"$error":"#DIV/0!"},{"$f":"VLOOKUP(D409,Emp_Master!$B$3:$H$501,7)","v":{"$error":"#N/A"}}]
[{"$f":"Salary_Entitlement!A411","v":0},{"$f":"Salary_Entitlement!B411","v":0},{"$f":"Salary_Entitlement!C411","v":0},{"$f":"Salary_Entitlement!D411","v":0},{"$f":"Salary_Entitlement!E411","v":{"$error":"#N/A"}},{"$f":"Salary_Entitlement!F411","v":0},{"$f":"Salary_Entitlement!G411","v":0},{"$f":"Salary_Entitlement!H411","v":0},{"$f":"Salary_Entitlement!I411","v":0},{"$f":"Salary_Entitlement!J411","v":0},{"$f":"Salary_Entitlement!K411","v":0},{"$f":"Salary_Entitlement!L411","v":0},{"$f":"Salary_Entitlement!M411","v":0},{"$f":"Salary_Entitlement!N411","v":0},{"$f":"Salary_Entitlement!O411","v":0},{"$f":"Salary_Entitlement!P411","v":0},{"$error":"#DIV/0!"},{"$error":"#DIV/0!"},{"$f":"INDEX(Deduction!$A$3:$K$501,MATCH(1,(Deduction!$A$3:$A$501=Sheet8!A410)*(Deduction!$B$3:$B$501=Sheet8!B410)*(Deduction!$C$3:$C$501=Sheet8!D410),0),5)","v":0},{"$f":"INDEX(Deduction!$A$3:$K$501,MATCH(1,(Deduction!$A$3:$A$501=Sheet8!A410)*(Deduction!$B$3:$B$501=Sheet8!B410)*(Deduction!$C$3:$C$501=Sheet8!D410),0),6)","v":0},{"$f":"INDEX(Deduction!$A$3:$K$501,MATCH(1,(Deduction!$A$3:$A$501=Sheet8!A410)*(Deduction!$B$3:$B$501=Sheet8!B410)*(Deduction!$C$3:$C$501=Sheet8!D410),0),7)","v":0},{"$f":"INDEX(Deduction!$A$3:$K$501,MATCH(1,(Deduction!$A$3:$A$501=Sheet8!A410)*(Deduction!$B$3:$B$501=Sheet8!B410)*(Deduction!$C$3:$C$501=Sheet8!D410),0),8)","v":0},{"$f":"INDEX(Deduction!$A$3:$K$501,MATCH(1,(Deduction!$A$3:$A$501=Sheet8!A410)*(Deduction!$B$3:$B$501=Sheet8!B410)*(Deduction!$C$3:$C$501=Sheet8!D410),0),9)","v":0},{"$f":"INDEX(Deduction!$A$3:$K$501,MATCH(1,(Deduction!$A$3:$A$501=Sheet8!A410)*(Deduction!$B$3:$B$501=Sheet8!B410)*(Deduction!$C$3:$C$501=Sheet8!D410),0),10)","v":0},{"$f":"INDEX(Deduction!$A$3:$K$501,MATCH(1,(Deduction!$A$3:$A$501=Sheet8!A410)*(Deduction!$B$3:$B$501=Sheet8!B410)*(Deduction!$C$3:$C$501=Sheet8!D410),0),11)","v":0},{"$error":"#DIV/0!"},{"$f":"VLOOKUP(D410,Emp_Master!$B$3:$H$501,7)","v":{"$error":"#N/A"}}]
[{"$f":"Salary_Entitlement!A412","v":0},{"$f":"Salary_Entitlement!B412","v":0},{"$f":"Salary_Entitlement!C412","v":0},{"$f":"Salary_Entitlement!D412","v":0},{"$f":"Salary_Entitlement!E412","v":{"$error":"#N/A"}},{"$f":"Salary_Entitlement!F412","v":0},{"$f":"Salary_Entitlement!G412","v":0},{"$f":"Salary_Entitlement!H412","v":0},{"$f":"Salary_Entitlement!I412","v":0},{"$f":"Salary_Entitlement!J412","v":0},{"$f":"Salary_Entitlement!K412","v":0},{"$f":"Salary_Entitlement!L412","v":0},{"$f":"Salary_Entitlement!M412","v":0},{"$f":"Salary_Entitlement!N412","v":0},{"$f":"Salary_Entitlement!O412","v":0},{"$f":"Salary_Entitlement!P412","v":0},{"$error":"#DIV/0!"},{"$error":"#DIV/0!"},{"$f":"INDEX(Deduction!$A$3:$K$501,MATCH(1,(Deduction!$A$3:$A$501=Sheet8!A411)*(Deduction!$B$3:$B$501=Sheet8!B411)*(Deduction!$C$3:$C$501=Sheet8!D411),0),5)","v":0},{"$f":"INDEX(Deduction!$A$3:$K$501,MATCH(1,(Deduction!$A$3:$A$501=Sheet8!A411)*(Deduction!$B$3:$B$501=Sheet8!B411)*(Deduction!$C$3:$C$501=Sheet8!D411),0),6)","v":0},{"$f":"INDEX(Deduction!$A$3:$K$501,MATCH(1,(Deduction!$A$3:$A$501=Sheet8!A411)*(Deduction!$B$3:$B$501=Sheet8!B411)*(Deduction!$C$3:$C$501=Sheet8!D411),0),7)","v":0},{"$f":"INDEX(Deduction!$A$3:$K$501,MATCH(1,(Deduction!$A$3:$A$501=Sheet8!A411)*(Deduction!$B$3:$B$501=Sheet8!B411)*(Deduction!$C$3:$C$501=Sheet8!D411),0),8)","v":0},{"$f":"INDEX(Deduction!$A$3:$K$501,MATCH(1,(Deduction!$A$3:$A$501=Sheet8!A411)*(Deduction!$B$3:$B$501=Sheet8!B411)*(Deduction!$C$3:$C$501=Sheet8!D411),0),9)","v":0},{"$f":"INDEX(Deduction!$A$3:$K$501,MATCH(1,(Deduction!$A$3:$A$501=Sheet8!A411)*(Deduction!$B$3:$B$501=Sheet8!B411)*(Deduction!$C$3:$C$501=Sheet8!D411),0),10)","v":0},{"$f":"INDEX(Deduction!$A$3:$K$501,MATCH(1,(Deduction!$A$3:$A$501=Sheet8!A411)*(Deduction!$B$3:$B$501=Sheet8!B411)*(Deduction!$C$3:$C$501=Sheet8!D411),0),11)","v":0},{"$error":"#DIV/0!"},{"$f":"VLOOKUP(D411,Emp_Master!$B$3:$H$501,7)","v":{"$error":"#N/A"}}]
[{"$f":"Salary_Entitlement!A413","v":0},{"$f":"Salary_Entitlement!B413","v":0},{"$f":"Salary_Entitlement!C413","v":0},{"$f":"Salary_Entitlement!D413","v":0},{"$f":"Salary_Entitlement!E413","v":{"$error":"#N/A"}},{"$f":"Salary_Entitlement!F413","v":0},{"$f":"Salary_Entitlement!G413","v":0},{"$f":"Salary_Entitlement!H413","v":0},{"$f":"Salary_Entitlement!I413","v":0},{"$f":"Salary_Entitlement!J413","v":0},{"$f":"Salary_Entitlement!K413","v":0},{"$f":"Salary_Entitlement!L413","v":0},{"$f":"Salary_Entitlement!M413","v":0},{"$f":"Salary_Entitlement!N413","v":0},{"$f":"Salary_Entitlement!O413","v":0},{"$f":"Salary_Entitlement!P413","v":0},{"$error":"#DIV/0!"},{"$error":"#DIV/0!"},{"$f":"INDEX(Deduction!$A$3:$K$501,MATCH(1,(Deduction!$A$3:$A$501=Sheet8!A412)*(Deduction!$B$3:$B$501=Sheet8!B412)*(Deduction!$C$3:$C$501=Sheet8!D412),0),5)","v":0},{"$f":"INDEX(Deduction!$A$3:$K$501,MATCH(1,(Deduction!$A$3:$A$501=Sheet8!A412)*(Deduction!$B$3:$B$501=Sheet8!B412)*(Deduction!$C$3:$C$501=Sheet8!D412),0),6)","v":0},{"$f":"INDEX(Deduction!$A$3:$K$501,MATCH(1,(Deduction!$A$3:$A$501=Sheet8!A412)*(Deduction!$B$3:$B$501=Sheet8!B412)*(Deduction!$C$3:$C$501=Sheet8!D412),0),7)","v":0},{"$f":"INDEX(Deduction!$A$3:$K$501,MATCH(1,(Deduction!$A$3:$A$501=Sheet8!A412)*(Deduction!$B$3:$B$501=Sheet8!B412)*(Deduction!$C$3:$C$501=Sheet8!D412),0),8)","v":0},{"$f":"INDEX(Deduction!$A$3:$K$501,MATCH(1,(Deduction!$A$3:$A$501=Sheet8!A412)*(Deduction!$B$3:$B$501=Sheet8!B412)*(Deduction!$C$3:$C$501=Sheet8!D412),0),9)","v":0},{"$f":"INDEX(Deduction!$A$3:$K$501,MATCH(1,(Deduction!$A$3:$A$501=Sheet8!A412)*(Deduction!$B$3:$B$501=Sheet8!B412)*(Deduction!$C$3:$C$501=Sheet8!D412),0),10)","v":0},{"$f":"INDEX(Deduction!$A$3:$K$501,MATCH(1,(Deduction!$A$3:$A$501=Sheet8!A412)*(Deduction!$B$3:$B$501=Sheet8!B412)*(Deduction!$C$3:$C$501=Sheet8!D412),0),11)","v":0},{"$error":"#DIV/0!"},{"$f":"VLOOKUP(D412,Emp_Master!$B$3:$H$501,7)","v":{"$error":"#N/A"}}]
[{"$f":"Salary_Entitlement!A414","v":0},{"$f":"Salary_Entitlement!B414","v":0},{"$f":"Salary_Entitlement!C414","v":0},{"$f":"Salary_Entitlement!D414","v":0},{"$f":"Salary_Entitlement!E414","v":{"$error":"#N/A"}},{"$f":"Salary_Entitlement!F414","v":0},{"$f":"Salary_Entitlement!G414","v":0},{"$f":"Salary_Entitlement!H414","v":0},{"$f":"Salary_Entitlement!I414","v":0},{"$f":"Salary_Entitlement!J414","v":0},{"$f":"Salary_Entitlement!K414","v":0},{"$f":"Salary_Entitlement!L414","v":0},{"$f":"Salary_Entitlement!M414","v":0},{"$f":"Salary_Entitlement!N414","v":0},{"$f":"Salary_Entitlement!O414","v":0},{"$f":"Salary_Entitlement!P414","v":0},{"$error":"#DIV/0!"},{"$error":"#DIV/0!"},{"$f":"INDEX(Deduction!$A$3:$K$501,MATCH(1,(Deduction!$A$3:$A$501=Sheet8!A413)*(Deduction!$B$3:$B$501=Sheet8!B413)*(Deduction!$C$3:$C$501=Sheet8!D413),0),5)","v":0},{"$f":"INDEX(Deduction!$A$3:$K$501,MATCH(1,(Deduction!$A$3:$A$501=Sheet8!A413)*(Deduction!$B$3:$B$501=Sheet8!B413)*(Deduction!$C$3:$C$501=Sheet8!D413),0),6)","v":0},{"$f":"INDEX(Deduction!$A$3:$K$501,MATCH(1,(Deduction!$A$3:$A$501=Sheet8!A413)*(Deduction!$B$3:$B$501=Sheet8!B413)*(Deduction!$C$3:$C$501=Sheet8!D413),0),7)","v":0},{"$f":"INDEX(Deduction!$A$3:$K$501,MATCH(1,(Deduction!$A$3:$A$501=Sheet8!A413)*(Deduction!$B$3:$B$501=Sheet8!B413)*(Deduction!$C$3:$C$501=Sheet8!D413),0),8)","v":0},{"$f":"INDEX(Deduction!$A$3:$K$501,MATCH(1,(Deduction!$A$3:$A$501=Sheet8!A413)*(Deduction!$B$3:$B$501=Sheet8!B413)*(Deduction!$C$3:$C$501=Sheet8!D413),0),9)","v":0},{"$f":"INDEX(Deduction!$A$3:$K$501,MATCH(1,(Deduction!$A$3:$A$501=Sheet8!A413)*(Deduction!$B$3:$B$501=Sheet8!B413)*(Deduction!$C$3:$C$501=Sheet8!D413),0),10)","v":0},{"$f":"INDEX(Deduction!$A$3:$K$501,MATCH(1,(Deduction!$A$3:$A$501=Sheet8!A413)*(Deduction!$B$3:$B$501=Sheet8!B413)*(Deduction!$C$3:$C$501=Sheet8!D413),0),11)","v":0},{"$error":"#DIV/0!"},{"$f":"VLOOKUP(D413,Emp_Master!$B$3:$H$501,7)","v":{"$error":"#N/A"}}]
[{"$f":"Salary_Entitlement!A415","v":0},{"$f":"Salary_Entitlement!B415","v":0},{"$f":"Salary_Entitlement!C415","v":0},{"$f":"Salary_Entitlement!D415","v":0},{"$f":"Salary_Entitlement!E415","v":{"$error":"#N/A"}},{"$f":"Salary_Entitlement!F415","v":0},{"$f":"Salary_Entitlement!G415","v":0},{"$f":"Salary_Entitlement!H415","v":0},{"$f":"Salary_Entitlement!I415","v":0},{"$f":"Salary_Entitlement!J415","v":0},{"$f":"Salary_Entitlement!K415","v":0},{"$f":"Salary_Entitlement!L415","v":0},{"$f":"Salary_Entitlement!M415","v":0},{"$f":"Salary_Entitlement!N415","v":0},{"$f":"Salary_Entitlement!O415","v":0},{"$f":"Salary_Entitlement!P415","v":0},{"$error":"#DIV/0!"},{"$error":"#DIV/0!"},{"$f":"INDEX(Deduction!$A$3:$K$501,MATCH(1,(Deduction!$A$3:$A$501=Sheet8!A414)*(Deduction!$B$3:$B$501=Sheet8!B414)*(Deduction!$C$3:$C$501=Sheet8!D414),0),5)","v":0},{"$f":"INDEX(Deduction!$A$3:$K$501,MATCH(1,(Deduction!$A$3:$A$501=Sheet8!A414)*(Deduction!$B$3:$B$501=Sheet8!B414)*(Deduction!$C$3:$C$501=Sheet8!D414),0),6)","v":0},{"$f":"INDEX(Deduction!$A$3:$K$501,MATCH(1,(Deduction!$A$3:$A$501=Sheet8!A414)*(Deduction!$B$3:$B$501=Sheet8!B414)*(Deduction!$C$3:$C$501=Sheet8!D414),0),7)","v":0},{"$f":"INDEX(Deduction!$A$3:$K$501,MATCH(1,(Deduction!$A$3:$A$501=Sheet8!A414)*(Deduction!$B$3:$B$501=Sheet8!B414)*(Deduction!$C$3:$C$501=Sheet8!D414),0),8)","v":0},{"$f":"INDEX(Deduction!$A$3:$K$501,MATCH(1,(Deduction!$A$3:$A$501=Sheet8!A414)*(Deduction!$B$3:$B$501=Sheet8!B414)*(Deduction!$C$3:$C$501=Sheet8!D414),0),9)","v":0},{"$f":"INDEX(Deduction!$A$3:$K$501,MATCH(1,(Deduction!$A$3:$A$501=Sheet8!A414)*(Deduction!$B$3:$B$501=Sheet8!B414)*(Deduction!$C$3:$C$501=Sheet8!D414),0),10)","v":0},{"$f":"INDEX(Deduction!$A$3:$K$501,MATCH(1,(Deduction!$A$3:$A$501=Sheet8!A414)*(Deduction!$B$3:$B$501=Sheet8!B414)*(Deduction!$C$3:$C$501=Sheet8!D414),0),11)","v":0},{"$error":"#DIV/0!"},{"$f":"VLOOKUP(D414,Emp_Master!$B$3:$H$501,7)","v":{"$error":"#N/A"}}]
[{"$f":"Salary_Entitlement!A416","v":0},{"$f":"Salary_Entitlement!B416","v":0},{"$f":"Salary_Entitlement!C416","v":0},{"$f":"Salary_Entitlement!D416","v":0},{"$f":"Salary_Entitlement!E416","v":{"$error":"#N/A"}},{"$f":"Salary_Entitlement!F416","v":0},{"$f":"Salary_Entitlement!G416","v":0},{"$f":"Salary_Entitlement!H416","v":0},{"$f":"Salary_Entitlement!I416","v":0},{"$f":"Salary_Entitlement!J416","v":0},{"$f":"Salary_Entitlement!K416","v":0},{"$f":"Salary_Entitlement!L416","v":0},{"$f":"Salary_Entitlement!M416","v":0},{"$f":"Salary_Entitlement!N416","v":0},{"$f":"Salary_Entitlement!O416","v":0},{"$f":"Salary_Entitlement!P416","v":0},{"$error":"#DIV/0!"},{"$error":"#DIV/0!"},{"$f":"INDEX(Deduction!$A$3:$K$501,MATCH(1,(Deduction!$A$3:$A$501=Sheet8!A415)*(Deduction!$B$3:$B$501=Sheet8!B415)*(Deduction!$C$3:$C$501=Sheet8!D415),0),5)","v":0},{"$f":"INDEX(Deduction!$A$3:$K$501,MATCH(1,(Deduction!$A$3:$A$501=Sheet8!A415)*(Deduction!$B$3:$B$501=Sheet8!B415)*(Deduction!$C$3:$C$501=Sheet8!D415),0),6)","v":0},{"$f":"INDEX(Deduction!$A$3:$K$501,MATCH(1,(Deduction!$A$3:$A$501=Sheet8!A415)*(Deduction!$B$3:$B$501=Sheet8!B415)*(Deduction!$C$3:$C$501=Sheet8!D415),0),7)","v":0},{"$f":"INDEX(Deduction!$A$3:$K$501,MATCH(1,(Deduction!$A$3:$A$501=Sheet8!A415)*(Deduction!$B$3:$B$501=Sheet8!B415)*(Deduction!$C$3:$C$501=Sheet8!D415),0),8)","v":0},{"$f":"INDEX(Deduction!$A$3:$K$501,MATCH(1,(Deduction!$A$3:$A$501=Sheet8!A415)*(Deduction!$B$3:$B$501=Sheet8!B415)*(Deduction!$C$3:$C$501=Sheet8!D415),0),9)","v":0},{"$f":"INDEX(Deduction!$A$3:$K$501,MATCH(1,(Deduction!$A$3:$A$501=Sheet8!A415)*(Deduction!$B$3:$B$501=Sheet8!B415)*(Deduction!$C$3:$C$501=Sheet8!D415),0),10)","v":0},{"$f":"INDEX(Deduction!$A$3:$K$501,MATCH(1,(Deduction!$A$3:$A$501=Sheet8!A415)*(Deduction!$B$3:$B$501=Sheet8!B415)*(Deduction!$C$3:$C$501=Sheet8!D415),0),11)","v":0},{"$error":"#DIV/0!"},{"$f":"VLOOKUP(D415,Emp_Master!$B$3:$H$501,7)","v":{"$error":"#N/A"}}]
[{"$f":"Salary_Entitlement!A417","v":0},{"$f":"Salary_Entitlement!B417","v":0},{"$f":"Salary_Entitlement!C417","v":0},{"$f":"Salary_Entitlement!D417","v":0},{"$f":"Salary_Entitlement!E417","v":{"$error":"#N/A"}},{"$f":"Salary_Entitlement!F417","v":0},{"$f":"Salary_Entitlement!G417","v":0},{"$f":"Salary_Entitlement!H417","v":0},{"$f":"Salary_Entitlement!I417","v":0},{"$f":"Salary_Entitlement!J417","v":0},{"$f":"Salary_Entitlement!K417","v":0},{"$f":"Salary_Entitlement!L417","v":0},{"$f":"Salary_Entitlement!M417","v":0},{"$f":"Salary_Entitlement!N417","v":0},{"$f":"Salary_Entitlement!O417","v":0},{"$f":"Salary_Entitlement!P417","v":0},{"$error":"#DIV/0!"},{"$error":"#DIV/0!"},{"$f":"INDEX(Deduction!$A$3:$K$501,MATCH(1,(Deduction!$A$3:$A$501=Sheet8!A416)*(Deduction!$B$3:$B$501=Sheet8!B416)*(Deduction!$C$3:$C$501=Sheet8!D416),0),5)","v":0},{"$f":"INDEX(Deduction!$A$3:$K$501,MATCH(1,(Deduction!$A$3:$A$501=Sheet8!A416)*(Deduction!$B$3:$B$501=Sheet8!B416)*(Deduction!$C$3:$C$501=Sheet8!D416),0),6)","v":0},{"$f":"INDEX(Deduction!$A$3:$K$501,MATCH(1,(Deduction!$A$3:$A$501=Sheet8!A416)*(Deduction!$B$3:$B$501=Sheet8!B416)*(Deduction!$C$3:$C$501=Sheet8!D416),0),7)","v":0},{"$f":"INDEX(Deduction!$A$3:$K$501,MATCH(1,(Deduction!$A$3:$A$501=Sheet8!A416)*(Deduction!$B$3:$B$501=Sheet8!B416)*(Deduction!$C$3:$C$501=Sheet8!D416),0),8)","v":0},{"$f":"INDEX(Deduction!$A$3:$K$501,MATCH(1,(Deduction!$A$3:$A$501=Sheet8!A416)*(Deduction!$B$3:$B$501=Sheet8!B416)*(Deduction!$C$3:$C$501=Sheet8!D416),0),9)","v":0},{"$f":"INDEX(Deduction!$A$3:$K$501,MATCH(1,(Deduction!$A$3:$A$501=Sheet8!A416)*(Deduction!$B$3:$B$501=Sheet8!B416)*(Deduction!$C$3:$C$501=Sheet8!D416),0),10)","v":0},{"$f":"INDEX(Deduction!$A$3:$K$501,MATCH(1,(Deduction!$A$3:$A$501=Sheet8!A416)*(Deduction!$B$3:$B$501=Sheet8!B416)*(Deduction!$C$3:$C$501=Sheet8!D416),0),11)","v":0},{"$error":"#DIV/0!"},{"$f":"VLOOKUP(D416,Emp_Master!$B$3:$H$501,7)","v":{"$error":"#N/A"}}]
[{"$f":"Salary_Entitlement!A418","v":0},{"$f":"Salary_Entitlement!B418","v":0},{"$f":"Salary_Entitlement!C418","v":0},{"$f":"Salary_Entitlement!D418","v":0},{"$f":"Salary_Entitlement!E418","v":{"$error":"#N/A"}},{"$f":"Salary_Entitlement!F418","v":0},{"$f":"Salary_Entitlement!G418","v":0},{"$f":"Salary_Entitlement!H418","v":0},{"$f":"Salary_Entitlement!I418","v":0},{"$f":"Salary_Entitlement!J418","v":0},{"$f":"Salary_Entitlement!K418","v":0},{"$f":"Salary_Entitlement!L418","v":0},{"$f":"Salary_Entitlement!M418","v":0},{"$f":"Salary_Entitlement!N418","v":0},{"$f":"Salary_Entitlement!O418","v":0},{"$f":"Salary_Entitlement!P418","v":0},{"$error":"#DIV/0!"},{"$error":"#DIV/0!"},{"$f":"INDEX(Deduction!$A$3:$K$501,MATCH(1,(Deduction!$A$3:$A$501=Sheet8!A417)*(Deduction!$B$3:$B$501=Sheet8!B417)*(Deduction!$C$3:$C$501=Sheet8!D417),0),5)","v":0},{"$f":"INDEX(Deduction!$A$3:$K$501,MATCH(1,(Deduction!$A$3:$A$501=Sheet8!A417)*(Deduction!$B$3:$B$501=Sheet8!B417)*(Deduction!$C$3:$C$501=Sheet8!D417),0),6)","v":0},{"$f":"INDEX(Deduction!$A$3:$K$501,MATCH(1,(Deduction!$A$3:$A$501=Sheet8!A417)*(Deduction!$B$3:$B$501=Sheet8!B417)*(Deduction!$C$3:$C$501=Sheet8!D417),0),7)","v":0},{"$f":"INDEX(Deduction!$A$3:$K$501,MATCH(1,(Deduction!$A$3:$A$501=Sheet8!A417)*(Deduction!$B$3:$B$501=Sheet8!B417)*(Deduction!$C$3:$C$501=Sheet8!D417),0),8)","v":0},{"$f":"INDEX(Deduction!$A$3:$K$501,MATCH(1,(Deduction!$A$3:$A$501=Sheet8!A417)*(Deduction!$B$3:$B$501=Sheet8!B417)*(Deduction!$C$3:$C$501=Sheet8!D417),0),9)","v":0},{"$f":"INDEX(Deduction!$A$3:$K$501,MATCH(1,(Deduction!$A$3:$A$501=Sheet8!A417)*(Deduction!$B$3:$B$501=Sheet8!B417)*(Deduction!$C$3:$C$501=Sheet8!D417),0),10)","v":0},{"$f":"INDEX(Deduction!$A$3:$K$501,MATCH(1,(Deduction!$A$3:$A$501=Sheet8!A417)*(Deduction!$B$3:$B$501=Sheet8!B417)*(Deduction!$C$3:$C$501=Sheet8!D417),0),11)","v":0},{"$error":"#DIV/0!"},{"$f":"VLOOKUP(D417,Emp_Master!$B$3:$H$501,7)","v":{"$error":"#N/A"}}]
[{"$f":"Salary_Entitlement!A419","v":0},{"$f":"Salary_Entitlement!B419","v":0},{"$f":"Salary_Entitlement!C419","v":0},{"$f":"Salary_Entitlement!D419","v":0},{"$f":"Salary_Entitlement!E419","v":{"$error":"#N/A"}},{"$f":"Salary_Entitlement!F419","v":0},{"$f":"Salary_Entitlement!G419","v":0},{"$f":"Salary_Entitlement!H419","v":0},{"$f":"Salary_Entitlement!I419","v":0},{"$f":"Salary_Entitlement!J419","v":0},{"$f":"Salary_Entitlement!K419","v":0},{"$f":"Salary_Entitlement!L419","v":0},{"$f":"Salary_Entitlement!M419","v":0},{"$f":"Salary_Entitlement!N419","v":0},{"$f":"Salary_Entitlement!O419","v":0},{"$f":"Salary_Entitlement!P419","v":0},{"$error":"#DIV/0!"},{"$error":"#DIV/0!"},{"$f":"INDEX(Deduction!$A$3:$K$501,MATCH(1,(Deduction!$A$3:$A$501=Sheet8!A418)*(Deduction!$B$3:$B$501=Sheet8!B418)*(Deduction!$C$3:$C$501=Sheet8!D418),0),5)","v":0},{"$f":"INDEX(Deduction!$A$3:$K$501,MATCH(1,(Deduction!$A$3:$A$501=Sheet8!A418)*(Deduction!$B$3:$B$501=Sheet8!B418)*(Deduction!$C$3:$C$501=Sheet8!D418),0),6)","v":0},{"$f":"INDEX(Deduction!$A$3:$K$501,MATCH(1,(Deduction!$A$3:$A$501=Sheet8!A418)*(Deduction!$B$3:$B$501=Sheet8!B418)*(Deduction!$C$3:$C$501=Sheet8!D418),0),7)","v":0},{"$f":"INDEX(Deduction!$A$3:$K$501,MATCH(1,(Deduction!$A$3:$A$501=Sheet8!A418)*(Deduction!$B$3:$B$501=Sheet8!B418)*(Deduction!$C$3:$C$501=Sheet8!D418),0),8)","v":0},{"$f":"INDEX(Deduction!$A$3:$K$501,MATCH(1,(Deduction!$A$3:$A$501=Sheet8!A418)*(Deduction!$B$3:$B$501=Sheet8!B418)*(Deduction!$C$3:$C$501=Sheet8!D418),0),9)","v":0},{"$f":"INDEX(Deduction!$A$3:$K$501,MATCH(1,(Deduction!$A$3:$A$501=Sheet8!A418)*(Deduction!$B$3:$B$501=Sheet8!B418)*(Deduction!$C$3:$C$501=Sheet8!D418),0),10)","v":0},{"$f":"INDEX(Deduction!$A$3:$K$501,MATCH(1,(Deduction!$A$3:$A$501=Sheet8!A418)*(Deduction!$B$3:$B$501=Sheet8!B418)*(Deduction!$C$3:$C$501=Sheet8!D418),0),11)","v":0},{"$error":"#DIV/0!"},{"$f":"VLOOKUP(D418,Emp_Master!$B$3:$H$501,7)","v":{"$error":"#N/A"}}]
[{"$f":"Salary_Entitlement!A420","v":0},{"$f":"Salary_Entitlement!B420","v":0},{"$f":"Salary_Entitlement!C420","v":0},{"$f":"Salary_Entitlement!D420","v":0},{"$f":"Salary_Entitlement!E420","v":{"$error":"#N/A"}},{"$f":"Salary_Entitlement!F420","v":0},{"$f":"Salary_Entitlement!G420","v":0},{"$f":"Salary_Entitlement!H420","v":0},{"$f":"Salary_Entitlement!I420","v":0},{"$f":"Salary_Entitlement!J420","v":0},{"$f":"Salary_Entitlement!K420","v":0},{"$f":"Salary_Entitlement!L420","v":0},{"$f":"Salary_Entitlement!M420","v":0},{"$f":"Salary_Entitlement!N420","v":0},{"$f":"Salary_Entitlement!O420","v":0},{"$f":"Salary_Entitlement!P420","v":0},{"$error":"#DIV/0!"},{"$error":"#DIV/0!"},{"$f":"INDEX(Deduction!$A$3:$K$501,MATCH(1,(Deduction!$A$3:$A$501=Sheet8!A419)*(Deduction!$B$3:$B$501=Sheet8!B419)*(Deduction!$C$3:$C$501=Sheet8!D419),0),5)","v":0},{"$f":"INDEX(Deduction!$A$3:$K$501,MATCH(1,(Deduction!$A$3:$A$501=Sheet8!A419)*(Deduction!$B$3:$B$501=Sheet8!B419)*(Deduction!$C$3:$C$501=Sheet8!D419),0),6)","v":0},{"$f":"INDEX(Deduction!$A$3:$K$501,MATCH(1,(Deduction!$A$3:$A$501=Sheet8!A419)*(Deduction!$B$3:$B$501=Sheet8!B419)*(Deduction!$C$3:$C$501=Sheet8!D419),0),7)","v":0},{"$f":"INDEX(Deduction!$A$3:$K$501,MATCH(1,(Deduction!$A$3:$A$501=Sheet8!A419)*(Deduction!$B$3:$B$501=Sheet8!B419)*(Deduction!$C$3:$C$501=Sheet8!D419),0),8)","v":0},{"$f":"INDEX(Deduction!$A$3:$K$501,MATCH(1,(Deduction!$A$3:$A$501=Sheet8!A419)*(Deduction!$B$3:$B$501=Sheet8!B419)*(Deduction!$C$3:$C$501=Sheet8!D419),0),9)","v":0},{"$f":"INDEX(Deduction!$A$3:$K$501,MATCH(1,(Deduction!$A$3:$A$501=Sheet8!A419)*(Deduction!$B$3:$B$501=Sheet8!B419)*(Deduction!$C$3:$C$501=Sheet8!D419),0),10)","v":0},{"$f":"INDEX(Deduction!$A$3:$K$501,MATCH(1,(Deduction!$A$3:$A$501=Sheet8!A419)*(Deduction!$B$3:$B$501=Sheet8!B419)*(Deduction!$C$3:$C$501=Sheet8!D419),0),11)","v":0},{"$error":"#DIV/0!"},{"$f":"VLOOKUP(D419,Emp_Master!$B$3:$H$501,7)","v":{"$error":"#N/A"}}]
[{"$f":"Salary_Entitlement!A421","v":0},{"$f":"Salary_Entitlement!B421","v":0},{"$f":"Salary_Entitlement!C421","v":0},{"$f":"Salary_Entitlement!D421","v":0},{"$f":"Salary_Entitlement!E421","v":{"$error":"#N/A"}},{"$f":"Salary_Entitlement!F421","v":0},{"$f":"Salary_Entitlement!G421","v":0},{"$f":"Salary_Entitlement!H421","v":0},{"$f":"Salary_Entitlement!I421","v":0},{"$f":"Salary_Entitlement!J421","v":0},{"$f":"Salary_Entitlement!K421","v":0},{"$f":"Salary_Entitlement!L421","v":0},{"$f":"Salary_Entitlement!M421","v":0},{"$f":"Salary_Entitlement!N421","v":0},{"$f":"Salary_Entitlement!O421","v":0},{"$f":"Salary_Entitlement!P421","v":0},{"$error":"#DIV/0!"},{"$error":"#DIV/0!"},{"$f":"INDEX(Deduction!$A$3:$K$501,MATCH(1,(Deduction!$A$3:$A$501=Sheet8!A420)*(Deduction!$B$3:$B$501=Sheet8!B420)*(Deduction!$C$3:$C$501=Sheet8!D420),0),5)","v":0},{"$f":"INDEX(Deduction!$A$3:$K$501,MATCH(1,(Deduction!$A$3:$A$501=Sheet8!A420)*(Deduction!$B$3:$B$501=Sheet8!B420)*(Deduction!$C$3:$C$501=Sheet8!D420),0),6)","v":0},{"$f":"INDEX(Deduction!$A$3:$K$501,MATCH(1,(Deduction!$A$3:$A$501=Sheet8!A420)*(Deduction!$B$3:$B$501=Sheet8!B420)*(Deduction!$C$3:$C$501=Sheet8!D420),0),7)","v":0},{"$f":"INDEX(Deduction!$A$3:$K$501,MATCH(1,(Deduction!$A$3:$A$501=Sheet8!A420)*(Deduction!$B$3:$B$501=Sheet8!B420)*(Deduction!$C$3:$C$501=Sheet8!D420),0),8)","v":0},{"$f":"INDEX(Deduction!$A$3:$K$501,MATCH(1,(Deduction!$A$3:$A$501=Sheet8!A420)*(Deduction!$B$3:$B$501=Sheet8!B420)*(Deduction!$C$3:$C$501=Sheet8!D420),0),9)","v":0},{"$f":"INDEX(Deduction!$A$3:$K$501,MATCH(1,(Deduction!$A$3:$A$501=Sheet8!A420)*(Deduction!$B$3:$B$501=Sheet8!B420)*(Deduction!$C$3:$C$501=Sheet8!D420),0),10)","v":0},{"$f":"INDEX(Deduction!$A$3:$K$501,MATCH(1,(Deduction!$A$3:$A$501=Sheet8!A420)*(Deduction!$B$3:$B$501=Sheet8!B420)*(Deduction!$C$3:$C$501=Sheet8!D420),0),11)","v":0},{"$error":"#DIV/0!"},{"$f":"VLOOKUP(D420,Emp_Master!$B$3:$H$501,7)","v":{"$error":"#N/A"}}]
[{"$f":"Salary_Entitlement!A422","v":0},{"$f":"Salary_Entitlement!B422","v":0},{"$f":"Salary_Entitlement!C422","v":0},{"$f":"Salary_Entitlement!D422","v":0},{"$f":"Salary_Entitlement!E422","v":{"$error":"#N/A"}},{"$f":"Salary_Entitlement!F422","v":0},{"$f":"Salary_Entitlement!G422","v":0},{"$f":"Salary_Entitlement!H422","v":0},{"$f":"Salary_Entitlement!I422","v":0},{"$f":"Salary_Entitlement!J422","v":0},{"$f":"Salary_Entitlement!K422","v":0},{"$f":"Salary_Entitlement!L422","v":0},{"$f":"Salary_Entitlement!M422","v":0},{"$f":"Salary_Entitlement!N422","v":0},{"$f":"Salary_Entitlement!O422","v":0},{"$f":"Salary_Entitlement!P422","v":0},{"$error":"#DIV/0!"},{"$error":"#DIV/0!"},{"$f":"INDEX(Deduction!$A$3:$K$501,MATCH(1,(Deduction!$A$3:$A$501=Sheet8!A421)*(Deduction!$B$3:$B$501=Sheet8!B421)*(Deduction!$C$3:$C$501=Sheet8!D421),0),5)","v":0},{"$f":"INDEX(Deduction!$A$3:$K$501,MATCH(1,(Deduction!$A$3:$A$501=Sheet8!A421)*(Deduction!$B$3:$B$501=Sheet8!B421)*(Deduction!$C$3:$C$501=Sheet8!D421),0),6)","v":0},{"$f":"INDEX(Deduction!$A$3:$K$501,MATCH(1,(Deduction!$A$3:$A$501=Sheet8!A421)*(Deduction!$B$3:$B$501=Sheet8!B421)*(Deduction!$C$3:$C$501=Sheet8!D421),0),7)","v":0},{"$f":"INDEX(Deduction!$A$3:$K$501,MATCH(1,(Deduction!$A$3:$A$501=Sheet8!A421)*(Deduction!$B$3:$B$501=Sheet8!B421)*(Deduction!$C$3:$C$501=Sheet8!D421),0),8)","v":0},{"$f":"INDEX(Deduction!$A$3:$K$501,MATCH(1,(Deduction!$A$3:$A$501=Sheet8!A421)*(Deduction!$B$3:$B$501=Sheet8!B421)*(Deduction!$C$3:$C$501=Sheet8!D421),0),9)","v":0},{"$f":"INDEX(Deduction!$A$3:$K$501,MATCH(1,(Deduction!$A$3:$A$501=Sheet8!A421)*(Deduction!$B$3:$B$501=Sheet8!B421)*(Deduction!$C$3:$C$501=Sheet8!D421),0),10)","v":0},{"$f":"INDEX(Deduction!$A$3:$K$501,MATCH(1,(Deduction!$A$3:$A$501=Sheet8!A421)*(Deduction!$B$3:$B$501=Sheet8!B421)*(Deduction!$C$3:$C$501=Sheet8!D421),0),11)","v":0},{"$error":"#DIV/0!"},{"$f":"VLOOKUP(D421,Emp_Master!$B$3:$H$501,7)","v":{"$error":"#N/A"}}]
[{"$f":"Salary_Entitlement!A423","v":0},{"$f":"Salary_Entitlement!B423","v":0},{"$f":"Salary_Entitlement!C423","v":0},{"$f":"Salary_Entitlement!D423","v":0},{"$f":"Salary_Entitlement!E423","v":{"$error":"#N/A"}},{"$f":"Salary_Entitlement!F423","v":0},{"$f":"Salary_Entitlement!G423","v":0},{"$f":"Salary_Entitlement!H423","v":0},{"$f":"Salary_Entitlement!I423","v":0},{"$f":"Salary_Entitlement!J423","v":0},{"$f":"Salary_Entitlement!K423","v":0},{"$f":"Salary_Entitlement!L423","v":0},{"$f":"Salary_Entitlement!M423","v":0},{"$f":"Salary_Entitlement!N423","v":0},{"$f":"Salary_Entitlement!O423","v":0},{"$f":"Salary_Entitlement!P423","v":0},{"$error":"#DIV/0!"},{"$error":"#DIV/0!"},{"$f":"INDEX(Deduction!$A$3:$K$501,MATCH(1,(Deduction!$A$3:$A$501=Sheet8!A422)*(Deduction!$B$3:$B$501=Sheet8!B422)*(Deduction!$C$3:$C$501=Sheet8!D422),0),5)","v":0},{"$f":"INDEX(Deduction!$A$3:$K$501,MATCH(1,(Deduction!$A$3:$A$501=Sheet8!A422)*(Deduction!$B$3:$B$501=Sheet8!B422)*(Deduction!$C$3:$C$501=Sheet8!D422),0),6)","v":0},{"$f":"INDEX(Deduction!$A$3:$K$501,MATCH(1,(Deduction!$A$3:$A$501=Sheet8!A422)*(Deduction!$B$3:$B$501=Sheet8!B422)*(Deduction!$C$3:$C$501=Sheet8!D422),0),7)","v":0},{"$f":"INDEX(Deduction!$A$3:$K$501,MATCH(1,(Deduction!$A$3:$A$501=Sheet8!A422)*(Deduction!$B$3:$B$501=Sheet8!B422)*(Deduction!$C$3:$C$501=Sheet8!D422),0),8)","v":0},{"$f":"INDEX(Deduction!$A$3:$K$501,MATCH(1,(Deduction!$A$3:$A$501=Sheet8!A422)*(Deduction!$B$3:$B$501=Sheet8!B422)*(Deduction!$C$3:$C$501=Sheet8!D422),0),9)","v":0},{"$f":"INDEX(Deduction!$A$3:$K$501,MATCH(1,(Deduction!$A$3:$A$501=Sheet8!A422)*(Deduction!$B$3:$B$501=Sheet8!B422)*(Deduction!$C$3:$C$501=Sheet8!D422),0),10)","v":0},{"$f":"INDEX(Deduction!$A$3:$K$501,MATCH(1,(Deduction!$A$3:$A$501=Sheet8!A422)*(Deduction!$B$3:$B$501=Sheet8!B422)*(Deduction!$C$3:$C$501=Sheet8!D422),0),11)","v":0},{"$error":"#DIV/0!"},{"$f":"VLOOKUP(D422,Emp_Master!$B$3:$H$501,7)","v":{"$error":"#N/A"}}]
[{"$f":"Salary_Entitlement!A424","v":0},{"$f":"Salary_Entitlement!B424","v":0},{"$f":"Salary_Entitlement!C424","v":0},{"$f":"Salary_Entitlement!D424","v":0},{"$f":"Salary_Entitlement!E424","v":{"$error":"#N/A"}},{"$f":"Salary_Entitlement!F424","v":0},{"$f":"Salary_Entitlement!G424","v":0},{"$f":"Salary_Entitlement!H424","v":0},{"$f":"Salary_Entitlement!I424","v":0},{"$f":"Salary_Entitlement!J424","v":0},{"$f":"Salary_Entitlement!K424","v":0},{"$f":"Salary_Entitlement!L424","v":0},{"$f":"Salary_Entitlement!M424","v":0},{"$f":"Salary_Entitlement!N424","v":0},{"$f":"Salary_Entitlement!O424","v":0},{"$f":"Salary_Entitlement!P424","v":0},{"$error":"#DIV/0!"},{"$error":"#DIV/0!"},{"$f":"INDEX(Deduction!$A$3:$K$501,MATCH(1,(Deduction!$A$3:$A$501=Sheet8!A423)*(Deduction!$B$3:$B$501=Sheet8!B423)*(Deduction!$C$3:$C$501=Sheet8!D423),0),5)","v":0},{"$f":"INDEX(Deduction!$A$3:$K$501,MATCH(1,(Deduction!$A$3:$A$501=Sheet8!A423)*(Deduction!$B$3:$B$501=Sheet8!B423)*(Deduction!$C$3:$C$501=Sheet8!D423),0),6)","v":0},{"$f":"INDEX(Deduction!$A$3:$K$501,MATCH(1,(Deduction!$A$3:$A$501=Sheet8!A423)*(Deduction!$B$3:$B$501=Sheet8!B423)*(Deduction!$C$3:$C$501=Sheet8!D423),0),7)","v":0},{"$f":"INDEX(Deduction!$A$3:$K$501,MATCH(1,(Deduction!$A$3:$A$501=Sheet8!A423)*(Deduction!$B$3:$B$501=Sheet8!B423)*(Deduction!$C$3:$C$501=Sheet8!D423),0),8)","v":0},{"$f":"INDEX(Deduction!$A$3:$K$501,MATCH(1,(Deduction!$A$3:$A$501=Sheet8!A423)*(Deduction!$B$3:$B$501=Sheet8!B423)*(Deduction!$C$3:$C$501=Sheet8!D423),0),9)","v":0},{"$f":"INDEX(Deduction!$A$3:$K$501,MATCH(1,(Deduction!$A$3:$A$501=Sheet8!A423)*(Deduction!$B$3:$B$501=Sheet8!B423)*(Deduction!$C$3:$C$501=Sheet8!D423),0),10)","v":0},{"$f":"INDEX(Deduction!$A$3:$K$501,MATCH(1,(Deduction!$A$3:$A$501=Sheet8!A423)*(Deduction!$B$3:$B$501=Sheet8!B423)*(Deduction!$C$3:$C$501=Sheet8!D423),0),11)","v":0},{"$error":"#DIV/0!"},{"$f":"VLOOKUP(D423,Emp_Master!$B$3:$H$501,7)","v":{"$error":"#N/A"}}]
[{"$f":"Salary_Entitlement!A425","v":0},{"$f":"Salary_Entitlement!B425","v":0},{"$f":"Salary_Entitlement!C425","v":0},{"$f":"Salary_Entitlement!D425","v":0},{"$f":"Salary_Entitlement!E425","v":{"$error":"#N/A"}},{"$f":"Salary_Entitlement!F425","v":0},{"$f":"Salary_Entitlement!G425","v":0},{"$f":"Salary_Entitlement!H425","v":0},{"$f":"Salary_Entitlement!I425","v":0},{"$f":"Salary_Entitlement!J425","v":0},{"$f":"Salary_Entitlement!K425","v":0},{"$f":"Salary_Entitlement!L425","v":0},{"$f":"Salary_Entitlement!M425","v":0},{"$f":"Salary_Entitlement!N425","v":0},{"$f":"Salary_Entitlement!O425","v":0},{"$f":"Salary_Entitlement!P425","v":0},{"$error":"#DIV/0!"},{"$error":"#DIV/0!"},{"$f":"INDEX(Deduction!$A$3:$K$501,MATCH(1,(Deduction!$A$3:$A$501=Sheet8!A424)*(Deduction!$B$3:$B$501=Sheet8!B424)*(Deduction!$C$3:$C$501=Sheet8!D424),0),5)","v":0},{"$f":"INDEX(Deduction!$A$3:$K$501,MATCH(1,(Deduction!$A$3:$A$501=Sheet8!A424)*(Deduction!$B$3:$B$501=Sheet8!B424)*(Deduction!$C$3:$C$501=Sheet8!D424),0),6)","v":0},{"$f":"INDEX(Deduction!$A$3:$K$501,MATCH(1,(Deduction!$A$3:$A$501=Sheet8!A424)*(Deduction!$B$3:$B$501=Sheet8!B424)*(Deduction!$C$3:$C$501=Sheet8!D424),0),7)","v":0},{"$f":"INDEX(Deduction!$A$3:$K$501,MATCH(1,(Deduction!$A$3:$A$501=Sheet8!A424)*(Deduction!$B$3:$B$501=Sheet8!B424)*(Deduction!$C$3:$C$501=Sheet8!D424),0),8)","v":0},{"$f":"INDEX(Deduction!$A$3:$K$501,MATCH(1,(Deduction!$A$3:$A$501=Sheet8!A424)*(Deduction!$B$3:$B$501=Sheet8!B424)*(Deduction!$C$3:$C$501=Sheet8!D424),0),9)","v":0},{"$f":"INDEX(Deduction!$A$3:$K$501,MATCH(1,(Deduction!$A$3:$A$501=Sheet8!A424)*(Deduction!$B$3:$B$501=Sheet8!B424)*(Deduction!$C$3:$C$501=Sheet8!D424),0),10)","v":0},{"$f":"INDEX(Deduction!$A$3:$K$501,MATCH(1,(Deduction!$A$3:$A$501=Sheet8!A424)*(Deduction!$B$3:$B$501=Sheet8!B424)*(Deduction!$C$3:$C$501=Sheet8!D424),0),11)","v":0},{"$error":"#DIV/0!"},{"$f":"VLOOKUP(D424,Emp_Master!$B$3:$H$501,7)","v":{"$error":"#N/A"}}]
[{"$f":"Salary_Entitlement!A426","v":0},{"$f":"Salary_Entitlement!B426","v":0},{"$f":"Salary_Entitlement!C426","v":0},{"$f":"Salary_Entitlement!D426","v":0},{"$f":"Salary_Entitlement!E426","v":{"$error":"#N/A"}},{"$f":"Salary_Entitlement!F426","v":0},{"$f":"Salary_Entitlement!G426","v":0},{"$f":"Salary_Entitlement!H426","v":0},{"$f":"Salary_Entitlement!I426","v":0},{"$f":"Salary_Entitlement!J426","v":0},{"$f":"Salary_Entitlement!K426","v":0},{"$f":"Salary_Entitlement!L426","v":0},{"$f":"Salary_Entitlement!M426","v":0},{"$f":"Salary_Entitlement!N426","v":0},{"$f":"Salary_Entitlement!O426","v":0},{"$f":"Salary_Entitlement!P426","v":0},{"$error":"#DIV/0!"},{"$error":"#DIV/0!"},{"$f":"INDEX(Deduction!$A$3:$K$501,MATCH(1,(Deduction!$A$3:$A$501=Sheet8!A425)*(Deduction!$B$3:$B$501=Sheet8!B425)*(Deduction!$C$3:$C$501=Sheet8!D425),0),5)","v":0},{"$f":"INDEX(Deduction!$A$3:$K$501,MATCH(1,(Deduction!$A$3:$A$501=Sheet8!A425)*(Deduction!$B$3:$B$501=Sheet8!B425)*(Deduction!$C$3:$C$501=Sheet8!D425),0),6)","v":0},{"$f":"INDEX(Deduction!$A$3:$K$501,MATCH(1,(Deduction!$A$3:$A$501=Sheet8!A425)*(Deduction!$B$3:$B$501=Sheet8!B425)*(Deduction!$C$3:$C$501=Sheet8!D425),0),7)","v":0},{"$f":"INDEX(Deduction!$A$3:$K$501,MATCH(1,(Deduction!$A$3:$A$501=Sheet8!A425)*(Deduction!$B$3:$B$501=Sheet8!B425)*(Deduction!$C$3:$C$501=Sheet8!D425),0),8)","v":0},{"$f":"INDEX(Deduction!$A$3:$K$501,MATCH(1,(Deduction!$A$3:$A$501=Sheet8!A425)*(Deduction!$B$3:$B$501=Sheet8!B425)*(Deduction!$C$3:$C$501=Sheet8!D425),0),9)","v":0},{"$f":"INDEX(Deduction!$A$3:$K$501,MATCH(1,(Deduction!$A$3:$A$501=Sheet8!A425)*(Deduction!$B$3:$B$501=Sheet8!B425)*(Deduction!$C$3:$C$501=Sheet8!D425),0),10)","v":0},{"$f":"INDEX(Deduction!$A$3:$K$501,MATCH(1,(Deduction!$A$3:$A$501=Sheet8!A425)*(Deduction!$B$3:$B$501=Sheet8!B425)*(Deduction!$C$3:$C$501=Sheet8!D425),0),11)","v":0},{"$error":"#DIV/0!"},{"$f":"VLOOKUP(D425,Emp_Master!$B$3:$H$501,7)","v":{"$error":"#N/A"}}]
[{"$f":"Salary_Entitlement!A427","v":0},{"$f":"Salary_Entitlement!B427","v":0},{"$f":"Salary_Entitlement!C427","v":0},{"$f":"Salary_Entitlement!D427","v":0},{"$f":"Salary_Entitlement!E427","v":{"$error":"#N/A"}},{"$f":"Salary_Entitlement!F427","v":0},{"$f":"Salary_Entitlement!G427","v":0},{"$f":"Salary_Entitlement!H427","v":0},{"$f":"Salary_Entitlement!I427","v":0},{"$f":"Salary_Entitlement!J427","v":0},{"$f":"Salary_Entitlement!K427","v":0},{"$f":"Salary_Entitlement!L427","v":0},{"$f":"Salary_Entitlement!M427","v":0},{"$f":"Salary_Entitlement!N427","v":0},{"$f":"Salary_Entitlement!O427","v":0},{"$f":"Salary_Entitlement!P427","v":0},{"$error":"#DIV/0!"},{"$error":"#DIV/0!"},{"$f":"INDEX(Deduction!$A$3:$K$501,MATCH(1,(Deduction!$A$3:$A$501=Sheet8!A426)*(Deduction!$B$3:$B$501=Sheet8!B426)*(Deduction!$C$3:$C$501=Sheet8!D426),0),5)","v":0},{"$f":"INDEX(Deduction!$A$3:$K$501,MATCH(1,(Deduction!$A$3:$A$501=Sheet8!A426)*(Deduction!$B$3:$B$501=Sheet8!B426)*(Deduction!$C$3:$C$501=Sheet8!D426),0),6)","v":0},{"$f":"INDEX(Deduction!$A$3:$K$501,MATCH(1,(Deduction!$A$3:$A$501=Sheet8!A426)*(Deduction!$B$3:$B$501=Sheet8!B426)*(Deduction!$C$3:$C$501=Sheet8!D426),0),7)","v":0},{"$f":"INDEX(Deduction!$A$3:$K$501,MATCH(1,(Deduction!$A$3:$A$501=Sheet8!A426)*(Deduction!$B$3:$B$501=Sheet8!B426)*(Deduction!$C$3:$C$501=Sheet8!D426),0),8)","v":0},{"$f":"INDEX(Deduction!$A$3:$K$501,MATCH(1,(Deduction!$A$3:$A$501=Sheet8!A426)*(Deduction!$B$3:$B$501=Sheet8!B426)*(Deduction!$C$3:$C$501=Sheet8!D426),0),9)","v":0},{"$f":"INDEX(Deduction!$A$3:$K$501,MATCH(1,(Deduction!$A$3:$A$501=Sheet8!A426)*(Deduction!$B$3:$B$501=Sheet8!B426)*(Deduction!$C$3:$C$501=Sheet8!D426),0),10)","v":0},{"$f":"INDEX(Deduction!$A$3:$K$501,MATCH(1,(Deduction!$A$3:$A$501=Sheet8!A426)*(Deduction!$B$3:$B$501=Sheet8!B426)*(Deduction!$C$3:$C$501=Sheet8!D426),0),11)","v":0},{"$error":"#DIV/0!"},{"$f":"VLOOKUP(D426,Emp_Master!$B$3:$H$501,7)","v":{"$error":"#N/A"}}]
[{"$f":"Salary_Entitlement!A428","v":0},{"$f":"Salary_Entitlement!B428","v":0},{"$f":"Salary_Entitlement!C428","v":0},{"$f":"Salary_Entitlement!D428","v":0},{"$f":"Salary_Entitlement!E428","v":{"$error":"#N/A"}},{"$f":"Salary_Entitlement!F428","v":0},{"$f":"Salary_Entitlement!G428","v":0},{"$f":"Salary_Entitlement!H428","v":0},{"$f":"Salary_Entitlement!I428","v":0},{"$f":"Salary_Entitlement!J428","v":0},{"$f":"Salary_Entitlement!K428","v":0},{"$f":"Salary_Entitlement!L428","v":0},{"$f":"Salary_Entitlement!M428","v":0},{"$f":"Salary_Entitlement!N428","v":0},{"$f":"Salary_Entitlement!O428","v":0},{"$f":"Salary_Entitlement!P428","v":0},{"$error":"#DIV/0!"},{"$error":"#DIV/0!"},{"$f":"INDEX(Deduction!$A$3:$K$501,MATCH(1,(Deduction!$A$3:$A$501=Sheet8!A427)*(Deduction!$B$3:$B$501=Sheet8!B427)*(Deduction!$C$3:$C$501=Sheet8!D427),0),5)","v":0},{"$f":"INDEX(Deduction!$A$3:$K$501,MATCH(1,(Deduction!$A$3:$A$501=Sheet8!A427)*(Deduction!$B$3:$B$501=Sheet8!B427)*(Deduction!$C$3:$C$501=Sheet8!D427),0),6)","v":0},{"$f":"INDEX(Deduction!$A$3:$K$501,MATCH(1,(Deduction!$A$3:$A$501=Sheet8!A427)*(Deduction!$B$3:$B$501=Sheet8!B427)*(Deduction!$C$3:$C$501=Sheet8!D427),0),7)","v":0},{"$f":"INDEX(Deduction!$A$3:$K$501,MATCH(1,(Deduction!$A$3:$A$501=Sheet8!A427)*(Deduction!$B$3:$B$501=Sheet8!B427)*(Deduction!$C$3:$C$501=Sheet8!D427),0),8)","v":0},{"$f":"INDEX(Deduction!$A$3:$K$501,MATCH(1,(Deduction!$A$3:$A$501=Sheet8!A427)*(Deduction!$B$3:$B$501=Sheet8!B427)*(Deduction!$C$3:$C$501=Sheet8!D427),0),9)","v":0},{"$f":"INDEX(Deduction!$A$3:$K$501,MATCH(1,(Deduction!$A$3:$A$501=Sheet8!A427)*(Deduction!$B$3:$B$501=Sheet8!B427)*(Deduction!$C$3:$C$501=Sheet8!D427),0),10)","v":0},{"$f":"INDEX(Deduction!$A$3:$K$501,MATCH(1,(Deduction!$A$3:$A$501=Sheet8!A427)*(Deduction!$B$3:$B$501=Sheet8!B427)*(Deduction!$C$3:$C$501=Sheet8!D427),0),11)","v":0},{"$error":"#DIV/0!"},{"$f":"VLOOKUP(D427,Emp_Master!$B$3:$H$501,7)","v":{"$error":"#N/A"}}]
[{"$f":"Salary_Entitlement!A429","v":0},{"$f":"Salary_Entitlement!B429","v":0},{"$f":"Salary_Entitlement!C429","v":0},{"$f":"Salary_Entitlement!D429","v":0},{"$f":"Salary_Entitlement!E429","v":{"$error":"#N/A"}},{"$f":"Salary_Entitlement!F429","v":0},{"$f":"Salary_Entitlement!G429","v":0},{"$f":"Salary_Entitlement!H429","v":0},{"$f":"Salary_Entitlement!I429","v":0},{"$f":"Salary_Entitlement!J429","v":0},{"$f":"Salary_Entitlement!K429","v":0},{"$f":"Salary_Entitlement!L429","v":0},{"$f":"Salary_Entitlement!M429","v":0},{"$f":"Salary_Entitlement!N429","v":0},{"$f":"Salary_Entitlement!O429","v":0},{"$f":"Salary_Entitlement!P429","v":0},{"$error":"#DIV/0!"},{"$error":"#DIV/0!"},{"$f":"INDEX(Deduction!$A$3:$K$501,MATCH(1,(Deduction!$A$3:$A$501=Sheet8!A428)*(Deduction!$B$3:$B$501=Sheet8!B428)*(Deduction!$C$3:$C$501=Sheet8!D428),0),5)","v":0},{"$f":"INDEX(Deduction!$A$3:$K$501,MATCH(1,(Deduction!$A$3:$A$501=Sheet8!A428)*(Deduction!$B$3:$B$501=Sheet8!B428)*(Deduction!$C$3:$C$501=Sheet8!D428),0),6)","v":0},{"$f":"INDEX(Deduction!$A$3:$K$501,MATCH(1,(Deduction!$A$3:$A$501=Sheet8!A428)*(Deduction!$B$3:$B$501=Sheet8!B428)*(Deduction!$C$3:$C$501=Sheet8!D428),0),7)","v":0},{"$f":"INDEX(Deduction!$A$3:$K$501,MATCH(1,(Deduction!$A$3:$A$501=Sheet8!A428)*(Deduction!$B$3:$B$501=Sheet8!B428)*(Deduction!$C$3:$C$501=Sheet8!D428),0),8)","v":0},{"$f":"INDEX(Deduction!$A$3:$K$501,MATCH(1,(Deduction!$A$3:$A$501=Sheet8!A428)*(Deduction!$B$3:$B$501=Sheet8!B428)*(Deduction!$C$3:$C$501=Sheet8!D428),0),9)","v":0},{"$f":"INDEX(Deduction!$A$3:$K$501,MATCH(1,(Deduction!$A$3:$A$501=Sheet8!A428)*(Deduction!$B$3:$B$501=Sheet8!B428)*(Deduction!$C$3:$C$501=Sheet8!D428),0),10)","v":0},{"$f":"INDEX(Deduction!$A$3:$K$501,MATCH(1,(Deduction!$A$3:$A$501=Sheet8!A428)*(Deduction!$B$3:$B$501=Sheet8!B428)*(Deduction!$C$3:$C$501=Sheet8!D428),0),11)","v":0},{"$error":"#DIV/0!"},{"$f":"VLOOKUP(D428,Emp_Master!$B$3:$H$501,7)","v":{"$error":"#N/A"}}]
[{"$f":"Salary_Entitlement!A430","v":0},{"$f":"Salary_Entitlement!B430","v":0},{"$f":"Salary_Entitlement!C430","v":0},{"$f":"Salary_Entitlement!D430","v":0},{"$f":"Salary_Entitlement!E430","v":{"$error":"#N/A"}},{"$f":"Salary_Entitlement!F430","v":0},{"$f":"Salary_Entitlement!G430","v":0},{"$f":"Salary_Entitlement!H430","v":0},{"$f":"Salary_Entitlement!I430","v":0},{"$f":"Salary_Entitlement!J430","v":0},{"$f":"Salary_Entitlement!K430","v":0},{"$f":"Salary_Entitlement!L430","v":0},{"$f":"Salary_Entitlement!M430","v":0},{"$f":"Salary_Entitlement!N430","v":0},{"$f":"Salary_Entitlement!O430","v":0},{"$f":"Salary_Entitlement!P430","v":0},{"$error":"#DIV/0!"},{"$error":"#DIV/0!"},{"$f":"INDEX(Deduction!$A$3:$K$501,MATCH(1,(Deduction!$A$3:$A$501=Sheet8!A429)*(Deduction!$B$3:$B$501=Sheet8!B429)*(Deduction!$C$3:$C$501=Sheet8!D429),0),5)","v":0},{"$f":"INDEX(Deduction!$A$3:$K$501,MATCH(1,(Deduction!$A$3:$A$501=Sheet8!A429)*(Deduction!$B$3:$B$501=Sheet8!B429)*(Deduction!$C$3:$C$501=Sheet8!D429),0),6)","v":0},{"$f":"INDEX(Deduction!$A$3:$K$501,MATCH(1,(Deduction!$A$3:$A$501=Sheet8!A429)*(Deduction!$B$3:$B$501=Sheet8!B429)*(Deduction!$C$3:$C$501=Sheet8!D429),0),7)","v":0},{"$f":"INDEX(Deduction!$A$3:$K$501,MATCH(1,(Deduction!$A$3:$A$501=Sheet8!A429)*(Deduction!$B$3:$B$501=Sheet8!B429)*(Deduction!$C$3:$C$501=Sheet8!D429),0),8)","v":0},{"$f":"INDEX(Deduction!$A$3:$K$501,MATCH(1,(Deduction!$A$3:$A$501=Sheet8!A429)*(Deduction!$B$3:$B$501=Sheet8!B429)*(Deduction!$C$3:$C$501=Sheet8!D429),0),9)","v":0},{"$f":"INDEX(Deduction!$A$3:$K$501,MATCH(1,(Deduction!$A$3:$A$501=Sheet8!A429)*(Deduction!$B$3:$B$501=Sheet8!B429)*(Deduction!$C$3:$C$501=Sheet8!D429),0),10)","v":0},{"$f":"INDEX(Deduction!$A$3:$K$501,MATCH(1,(Deduction!$A$3:$A$501=Sheet8!A429)*(Deduction!$B$3:$B$501=Sheet8!B429)*(Deduction!$C$3:$C$501=Sheet8!D429),0),11)","v":0},{"$error":"#DIV/0!"},{"$f":"VLOOKUP(D429,Emp_Master!$B$3:$H$501,7)","v":{"$error":"#N/A"}}]
[{"$f":"Salary_Entitlement!A431","v":0},{"$f":"Salary_Entitlement!B431","v":0},{"$f":"Salary_Entitlement!C431","v":0},{"$f":"Salary_Entitlement!D431","v":0},{"$f":"Salary_Entitlement!E431","v":{"$error":"#N/A"}},{"$f":"Salary_Entitlement!F431","v":0},{"$f":"Salary_Entitlement!G431","v":0},{"$f":"Salary_Entitlement!H431","v":0},{"$f":"Salary_Entitlement!I431","v":0},{"$f":"Salary_Entitlement!J431","v":0},{"$f":"Salary_Entitlement!K431","v":0},{"$f":"Salary_Entitlement!L431","v":0},{"$f":"Salary_Entitlement!M431","v":0},{"$f":"Salary_Entitlement!N431","v":0},{"$f":"Salary_Entitlement!O431","v":0},{"$f":"Salary_Entitlement!P431","v":0},{"$error":"#DIV/0!"},{"$error":"#DIV/0!"},{"$f":"INDEX(Deduction!$A$3:$K$501,MATCH(1,(Deduction!$A$3:$A$501=Sheet8!A430)*(Deduction!$B$3:$B$501=Sheet8!B430)*(Deduction!$C$3:$C$501=Sheet8!D430),0),5)","v":0},{"$f":"INDEX(Deduction!$A$3:$K$501,MATCH(1,(Deduction!$A$3:$A$501=Sheet8!A430)*(Deduction!$B$3:$B$501=Sheet8!B430)*(Deduction!$C$3:$C$501=Sheet8!D430),0),6)","v":0},{"$f":"INDEX(Deduction!$A$3:$K$501,MATCH(1,(Deduction!$A$3:$A$501=Sheet8!A430)*(Deduction!$B$3:$B$501=Sheet8!B430)*(Deduction!$C$3:$C$501=Sheet8!D430),0),7)","v":0},{"$f":"INDEX(Deduction!$A$3:$K$501,MATCH(1,(Deduction!$A$3:$A$501=Sheet8!A430)*(Deduction!$B$3:$B$501=Sheet8!B430)*(Deduction!$C$3:$C$501=Sheet8!D430),0),8)","v":0},{"$f":"INDEX(Deduction!$A$3:$K$501,MATCH(1,(Deduction!$A$3:$A$501=Sheet8!A430)*(Deduction!$B$3:$B$501=Sheet8!B430)*(Deduction!$C$3:$C$501=Sheet8!D430),0),9)","v":0},{"$f":"INDEX(Deduction!$A$3:$K$501,MATCH(1,(Deduction!$A$3:$A$501=Sheet8!A430)*(Deduction!$B$3:$B$501=Sheet8!B430)*(Deduction!$C$3:$C$501=Sheet8!D430),0),10)","v":0},{"$f":"INDEX(Deduction!$A$3:$K$501,MATCH(1,(Deduction!$A$3:$A$501=Sheet8!A430)*(Deduction!$B$3:$B$501=Sheet8!B430)*(Deduction!$C$3:$C$501=Sheet8!D430),0),11)","v":0},{"$error":"#DIV/0!"},{"$f":"VLOOKUP(D430,Emp_Master!$B$3:$H$501,7)","v":{"$error":"#N/A"}}]
[{"$f":"Salary_Entitlement!A432","v":0},{"$f":"Salary_Entitlement!B432","v":0},{"$f":"Salary_Entitlement!C432","v":0},{"$f":"Salary_Entitlement!D432","v":0},{"$f":"Salary_Entitlement!E432","v":{"$error":"#N/A"}},{"$f":"Salary_Entitlement!F432","v":0},{"$f":"Salary_Entitlement!G432","v":0},{"$f":"Salary_Entitlement!H432","v":0},{"$f":"Salary_Entitlement!I432","v":0},{"$f":"Salary_Entitlement!J432","v":0},{"$f":"Salary_Entitlement!K432","v":0},{"$f":"Salary_Entitlement!L432","v":0},{"$f":"Salary_Entitlement!M432","v":0},{"$f":"Salary_Entitlement!N432","v":0},{"$f":"Salary_Entitlement!O432","v":0},{"$f":"Salary_Entitlement!P432","v":0},{"$error":"#DIV/0!"},{"$error":"#DIV/0!"},{"$f":"INDEX(Deduction!$A$3:$K$501,MATCH(1,(Deduction!$A$3:$A$501=Sheet8!A431)*(Deduction!$B$3:$B$501=Sheet8!B431)*(Deduction!$C$3:$C$501=Sheet8!D431),0),5)","v":0},{"$f":"INDEX(Deduction!$A$3:$K$501,MATCH(1,(Deduction!$A$3:$A$501=Sheet8!A431)*(Deduction!$B$3:$B$501=Sheet8!B431)*(Deduction!$C$3:$C$501=Sheet8!D431),0),6)","v":0},{"$f":"INDEX(Deduction!$A$3:$K$501,MATCH(1,(Deduction!$A$3:$A$501=Sheet8!A431)*(Deduction!$B$3:$B$501=Sheet8!B431)*(Deduction!$C$3:$C$501=Sheet8!D431),0),7)","v":0},{"$f":"INDEX(Deduction!$A$3:$K$501,MATCH(1,(Deduction!$A$3:$A$501=Sheet8!A431)*(Deduction!$B$3:$B$501=Sheet8!B431)*(Deduction!$C$3:$C$501=Sheet8!D431),0),8)","v":0},{"$f":"INDEX(Deduction!$A$3:$K$501,MATCH(1,(Deduction!$A$3:$A$501=Sheet8!A431)*(Deduction!$B$3:$B$501=Sheet8!B431)*(Deduction!$C$3:$C$501=Sheet8!D431),0),9)","v":0},{"$f":"INDEX(Deduction!$A$3:$K$501,MATCH(1,(Deduction!$A$3:$A$501=Sheet8!A431)*(Deduction!$B$3:$B$501=Sheet8!B431)*(Deduction!$C$3:$C$501=Sheet8!D431),0),10)","v":0},{"$f":"INDEX(Deduction!$A$3:$K$501,MATCH(1,(Deduction!$A$3:$A$501=Sheet8!A431)*(Deduction!$B$3:$B$501=Sheet8!B431)*(Deduction!$C$3:$C$501=Sheet8!D431),0),11)","v":0},{"$error":"#DIV/0!"},{"$f":"VLOOKUP(D431,Emp_Master!$B$3:$H$501,7)","v":{"$error":"#N/A"}}]
[{"$f":"Salary_Entitlement!A433","v":0},{"$f":"Salary_Entitlement!B433","v":0},{"$f":"Salary_Entitlement!C433","v":0},{"$f":"Salary_Entitlement!D433","v":0},{"$f":"Salary_Entitlement!E433","v":{"$error":"#N/A"}},{"$f":"Salary_Entitlement!F433","v":0},{"$f":"Salary_Entitlement!G433","v":0},{"$f":"Salary_Entitlement!H433","v":0},{"$f":"Salary_Entitlement!I433","v":0},{"$f":"Salary_Entitlement!J433","v":0},{"$f":"Salary_Entitlement!K433","v":0},{"$f":"Salary_Entitlement!L433","v":0},{"$f":"Salary_Entitlement!M433","v":0},{"$f":"Salary_Entitlement!N433","v":0},{"$f":"Salary_Entitlement!O433","v":0},{"$f":"Salary_Entitlement!P433","v":0},{"$error":"#DIV/0!"},{"$error":"#DIV/0!"},{"$f":"INDEX(Deduction!$A$3:$K$501,MATCH(1,(Deduction!$A$3:$A$501=Sheet8!A432)*(Deduction!$B$3:$B$501=Sheet8!B432)*(Deduction!$C$3:$C$501=Sheet8!D432),0),5)","v":0},{"$f":"INDEX(Deduction!$A$3:$K$501,MATCH(1,(Deduction!$A$3:$A$501=Sheet8!A432)*(Deduction!$B$3:$B$501=Sheet8!B432)*(Deduction!$C$3:$C$501=Sheet8!D432),0),6)","v":0},{"$f":"INDEX(Deduction!$A$3:$K$501,MATCH(1,(Deduction!$A$3:$A$501=Sheet8!A432)*(Deduction!$B$3:$B$501=Sheet8!B432)*(Deduction!$C$3:$C$501=Sheet8!D432),0),7)","v":0},{"$f":"INDEX(Deduction!$A$3:$K$501,MATCH(1,(Deduction!$A$3:$A$501=Sheet8!A432)*(Deduction!$B$3:$B$501=Sheet8!B432)*(Deduction!$C$3:$C$501=Sheet8!D432),0),8)","v":0},{"$f":"INDEX(Deduction!$A$3:$K$501,MATCH(1,(Deduction!$A$3:$A$501=Sheet8!A432)*(Deduction!$B$3:$B$501=Sheet8!B432)*(Deduction!$C$3:$C$501=Sheet8!D432),0),9)","v":0},{"$f":"INDEX(Deduction!$A$3:$K$501,MATCH(1,(Deduction!$A$3:$A$501=Sheet8!A432)*(Deduction!$B$3:$B$501=Sheet8!B432)*(Deduction!$C$3:$C$501=Sheet8!D432),0),10)","v":0},{"$f":"INDEX(Deduction!$A$3:$K$501,MATCH(1,(Deduction!$A$3:$A$501=Sheet8!A432)*(Deduction!$B$3:$B$501=Sheet8!B432)*(Deduction!$C$3:$C$501=Sheet8!D432),0),11)","v":0},{"$error":"#DIV/0!"},{"$f":"VLOOKUP(D432,Emp_Master!$B$3:$H$501,7)","v":{"$error":"#N/A"}}]
[{"$f":"Salary_Entitlement!A434","v":0},{"$f":"Salary_Entitlement!B434","v":0},{"$f":"Salary_Entitlement!C434","v":0},{"$f":"Salary_Entitlement!D434","v":0},{"$f":"Salary_Entitlement!E434","v":{"$error":"#N/A"}},{"$f":"Salary_Entitlement!F434","v":0},{"$f":"Salary_Entitlement!G434","v":0},{"$f":"Salary_Entitlement!H434","v":0},{"$f":"Salary_Entitlement!I434","v":0},{"$f":"Salary_Entitlement!J434","v":0},{"$f":"Salary_Entitlement!K434","v":0},{"$f":"Salary_Entitlement!L434","v":0},{"$f":"Salary_Entitlement!M434","v":0},{"$f":"Salary_Entitlement!N434","v":0},{"$f":"Salary_Entitlement!O434","v":0},{"$f":"Salary_Entitlement!P434","v":0},{"$error":"#DIV/0!"},{"$error":"#DIV/0!"},{"$f":"INDEX(Deduction!$A$3:$K$501,MATCH(1,(Deduction!$A$3:$A$501=Sheet8!A433)*(Deduction!$B$3:$B$501=Sheet8!B433)*(Deduction!$C$3:$C$501=Sheet8!D433),0),5)","v":0},{"$f":"INDEX(Deduction!$A$3:$K$501,MATCH(1,(Deduction!$A$3:$A$501=Sheet8!A433)*(Deduction!$B$3:$B$501=Sheet8!B433)*(Deduction!$C$3:$C$501=Sheet8!D433),0),6)","v":0},{"$f":"INDEX(Deduction!$A$3:$K$501,MATCH(1,(Deduction!$A$3:$A$501=Sheet8!A433)*(Deduction!$B$3:$B$501=Sheet8!B433)*(Deduction!$C$3:$C$501=Sheet8!D433),0),7)","v":0},{"$f":"INDEX(Deduction!$A$3:$K$501,MATCH(1,(Deduction!$A$3:$A$501=Sheet8!A433)*(Deduction!$B$3:$B$501=Sheet8!B433)*(Deduction!$C$3:$C$501=Sheet8!D433),0),8)","v":0},{"$f":"INDEX(Deduction!$A$3:$K$501,MATCH(1,(Deduction!$A$3:$A$501=Sheet8!A433)*(Deduction!$B$3:$B$501=Sheet8!B433)*(Deduction!$C$3:$C$501=Sheet8!D433),0),9)","v":0},{"$f":"INDEX(Deduction!$A$3:$K$501,MATCH(1,(Deduction!$A$3:$A$501=Sheet8!A433)*(Deduction!$B$3:$B$501=Sheet8!B433)*(Deduction!$C$3:$C$501=Sheet8!D433),0),10)","v":0},{"$f":"INDEX(Deduction!$A$3:$K$501,MATCH(1,(Deduction!$A$3:$A$501=Sheet8!A433)*(Deduction!$B$3:$B$501=Sheet8!B433)*(Deduction!$C$3:$C$501=Sheet8!D433),0),11)","v":0},{"$error":"#DIV/0!"},{"$f":"VLOOKUP(D433,Emp_Master!$B$3:$H$501,7)","v":{"$error":"#N/A"}}]
[{"$f":"Salary_Entitlement!A435","v":0},{"$f":"Salary_Entitlement!B435","v":0},{"$f":"Salary_Entitlement!C435","v":0},{"$f":"Salary_Entitlement!D435","v":0},{"$f":"Salary_Entitlement!E435","v":{"$error":"#N/A"}},{"$f":"Salary_Entitlement!F435","v":0},{"$f":"Salary_Entitlement!G435","v":0},{"$f":"Salary_Entitlement!H435","v":0},{"$f":"Salary_Entitlement!I435","v":0},{"$f":"Salary_Entitlement!J435","v":0},{"$f":"Salary_Entitlement!K435","v":0},{"$f":"Salary_Entitlement!L435","v":0},{"$f":"Salary_Entitlement!M435","v":0},{"$f":"Salary_Entitlement!N435","v":0},{"$f":"Salary_Entitlement!O435","v":0},{"$f":"Salary_Entitlement!P435","v":0},{"$error":"#DIV/0!"},{"$error":"#DIV/0!"},{"$f":"INDEX(Deduction!$A$3:$K$501,MATCH(1,(Deduction!$A$3:$A$501=Sheet8!A434)*(Deduction!$B$3:$B$501=Sheet8!B434)*(Deduction!$C$3:$C$501=Sheet8!D434),0),5)","v":0},{"$f":"INDEX(Deduction!$A$3:$K$501,MATCH(1,(Deduction!$A$3:$A$501=Sheet8!A434)*(Deduction!$B$3:$B$501=Sheet8!B434)*(Deduction!$C$3:$C$501=Sheet8!D434),0),6)","v":0},{"$f":"INDEX(Deduction!$A$3:$K$501,MATCH(1,(Deduction!$A$3:$A$501=Sheet8!A434)*(Deduction!$B$3:$B$501=Sheet8!B434)*(Deduction!$C$3:$C$501=Sheet8!D434),0),7)","v":0},{"$f":"INDEX(Deduction!$A$3:$K$501,MATCH(1,(Deduction!$A$3:$A$501=Sheet8!A434)*(Deduction!$B$3:$B$501=Sheet8!B434)*(Deduction!$C$3:$C$501=Sheet8!D434),0),8)","v":0},{"$f":"INDEX(Deduction!$A$3:$K$501,MATCH(1,(Deduction!$A$3:$A$501=Sheet8!A434)*(Deduction!$B$3:$B$501=Sheet8!B434)*(Deduction!$C$3:$C$501=Sheet8!D434),0),9)","v":0},{"$f":"INDEX(Deduction!$A$3:$K$501,MATCH(1,(Deduction!$A$3:$A$501=Sheet8!A434)*(Deduction!$B$3:$B$501=Sheet8!B434)*(Deduction!$C$3:$C$501=Sheet8!D434),0),10)","v":0},{"$f":"INDEX(Deduction!$A$3:$K$501,MATCH(1,(Deduction!$A$3:$A$501=Sheet8!A434)*(Deduction!$B$3:$B$501=Sheet8!B434)*(Deduction!$C$3:$C$501=Sheet8!D434),0),11)","v":0},{"$error":"#DIV/0!"},{"$f":"VLOOKUP(D434,Emp_Master!$B$3:$H$501,7)","v":{"$error":"#N/A"}}]
[{"$f":"Salary_Entitlement!A436","v":0},{"$f":"Salary_Entitlement!B436","v":0},{"$f":"Salary_Entitlement!C436","v":0},{"$f":"Salary_Entitlement!D436","v":0},{"$f":"Salary_Entitlement!E436","v":{"$error":"#N/A"}},{"$f":"Salary_Entitlement!F436","v":0},{"$f":"Salary_Entitlement!G436","v":0},{"$f":"Salary_Entitlement!H436","v":0},{"$f":"Salary_Entitlement!I436","v":0},{"$f":"Salary_Entitlement!J436","v":0},{"$f":"Salary_Entitlement!K436","v":0},{"$f":"Salary_Entitlement!L436","v":0},{"$f":"Salary_Entitlement!M436","v":0},{"$f":"Salary_Entitlement!N436","v":0},{"$f":"Salary_Entitlement!O436","v":0},{"$f":"Salary_Entitlement!P436","v":0},{"$error":"#DIV/0!"},{"$error":"#DIV/0!"},{"$f":"INDEX(Deduction!$A$3:$K$501,MATCH(1,(Deduction!$A$3:$A$501=Sheet8!A435)*(Deduction!$B$3:$B$501=Sheet8!B435)*(Deduction!$C$3:$C$501=Sheet8!D435),0),5)","v":0},{"$f":"INDEX(Deduction!$A$3:$K$501,MATCH(1,(Deduction!$A$3:$A$501=Sheet8!A435)*(Deduction!$B$3:$B$501=Sheet8!B435)*(Deduction!$C$3:$C$501=Sheet8!D435),0),6)","v":0},{"$f":"INDEX(Deduction!$A$3:$K$501,MATCH(1,(Deduction!$A$3:$A$501=Sheet8!A435)*(Deduction!$B$3:$B$501=Sheet8!B435)*(Deduction!$C$3:$C$501=Sheet8!D435),0),7)","v":0},{"$f":"INDEX(Deduction!$A$3:$K$501,MATCH(1,(Deduction!$A$3:$A$501=Sheet8!A435)*(Deduction!$B$3:$B$501=Sheet8!B435)*(Deduction!$C$3:$C$501=Sheet8!D435),0),8)","v":0},{"$f":"INDEX(Deduction!$A$3:$K$501,MATCH(1,(Deduction!$A$3:$A$501=Sheet8!A435)*(Deduction!$B$3:$B$501=Sheet8!B435)*(Deduction!$C$3:$C$501=Sheet8!D435),0),9)","v":0},{"$f":"INDEX(Deduction!$A$3:$K$501,MATCH(1,(Deduction!$A$3:$A$501=Sheet8!A435)*(Deduction!$B$3:$B$501=Sheet8!B435)*(Deduction!$C$3:$C$501=Sheet8!D435),0),10)","v":0},{"$f":"INDEX(Deduction!$A$3:$K$501,MATCH(1,(Deduction!$A$3:$A$501=Sheet8!A435)*(Deduction!$B$3:$B$501=Sheet8!B435)*(Deduction!$C$3:$C$501=Sheet8!D435),0),11)","v":0},{"$error":"#DIV/0!"},{"$f":"VLOOKUP(D435,Emp_Master!$B$3:$H$501,7)","v":{"$error":"#N/A"}}]
[{"$f":"Salary_Entitlement!A437","v":0},{"$f":"Salary_Entitlement!B437","v":0},{"$f":"Salary_Entitlement!C437","v":0},{"$f":"Salary_Entitlement!D437","v":0},{"$f":"Salary_Entitlement!E437","v":{"$error":"#N/A"}},{"$f":"Salary_Entitlement!F437","v":0},{"$f":"Salary_Entitlement!G437","v":0},{"$f":"Salary_Entitlement!H437","v":0},{"$f":"Salary_Entitlement!I437","v":0},{"$f":"Salary_Entitlement!J437","v":0},{"$f":"Salary_Entitlement!K437","v":0},{"$f":"Salary_Entitlement!L437","v":0},{"$f":"Salary_Entitlement!M437","v":0},{"$f":"Salary_Entitlement!N437","v":0},{"$f":"Salary_Entitlement!O437","v":0},{"$f":"Salary_Entitlement!P437","v":0},{"$error":"#DIV/0!"},{"$error":"#DIV/0!"},{"$f":"INDEX(Deduction!$A$3:$K$501,MATCH(1,(Deduction!$A$3:$A$501=Sheet8!A436)*(Deduction!$B$3:$B$501=Sheet8!B436)*(Deduction!$C$3:$C$501=Sheet8!D436),0),5)","v":0},{"$f":"INDEX(Deduction!$A$3:$K$501,MATCH(1,(Deduction!$A$3:$A$501=Sheet8!A436)*(Deduction!$B$3:$B$501=Sheet8!B436)*(Deduction!$C$3:$C$501=Sheet8!D436),0),6)","v":0},{"$f":"INDEX(Deduction!$A$3:$K$501,MATCH(1,(Deduction!$A$3:$A$501=Sheet8!A436)*(Deduction!$B$3:$B$501=Sheet8!B436)*(Deduction!$C$3:$C$501=Sheet8!D436),0),7)","v":0},{"$f":"INDEX(Deduction!$A$3:$K$501,MATCH(1,(Deduction!$A$3:$A$501=Sheet8!A436)*(Deduction!$B$3:$B$501=Sheet8!B436)*(Deduction!$C$3:$C$501=Sheet8!D436),0),8)","v":0},{"$f":"INDEX(Deduction!$A$3:$K$501,MATCH(1,(Deduction!$A$3:$A$501=Sheet8!A436)*(Deduction!$B$3:$B$501=Sheet8!B436)*(Deduction!$C$3:$C$501=Sheet8!D436),0),9)","v":0},{"$f":"INDEX(Deduction!$A$3:$K$501,MATCH(1,(Deduction!$A$3:$A$501=Sheet8!A436)*(Deduction!$B$3:$B$501=Sheet8!B436)*(Deduction!$C$3:$C$501=Sheet8!D436),0),10)","v":0},{"$f":"INDEX(Deduction!$A$3:$K$501,MATCH(1,(Deduction!$A$3:$A$501=Sheet8!A436)*(Deduction!$B$3:$B$501=Sheet8!B436)*(Deduction!$C$3:$C$501=Sheet8!D436),0),11)","v":0},{"$error":"#DIV/0!"},{"$f":"VLOOKUP(D436,Emp_Master!$B$3:$H$501,7)","v":{"$error":"#N/A"}}]
[{"$f":"Salary_Entitlement!A438","v":0},{"$f":"Salary_Entitlement!B438","v":0},{"$f":"Salary_Entitlement!C438","v":0},{"$f":"Salary_Entitlement!D438","v":0},{"$f":"Salary_Entitlement!E438","v":{"$error":"#N/A"}},{"$f":"Salary_Entitlement!F438","v":0},{"$f":"Salary_Entitlement!G438","v":0},{"$f":"Salary_Entitlement!H438","v":0},{"$f":"Salary_Entitlement!I438","v":0},{"$f":"Salary_Entitlement!J438","v":0},{"$f":"Salary_Entitlement!K438","v":0},{"$f":"Salary_Entitlement!L438","v":0},{"$f":"Salary_Entitlement!M438","v":0},{"$f":"Salary_Entitlement!N438","v":0},{"$f":"Salary_Entitlement!O438","v":0},{"$f":"Salary_Entitlement!P438","v":0},{"$error":"#DIV/0!"},{"$error":"#DIV/0!"},{"$f":"INDEX(Deduction!$A$3:$K$501,MATCH(1,(Deduction!$A$3:$A$501=Sheet8!A437)*(Deduction!$B$3:$B$501=Sheet8!B437)*(Deduction!$C$3:$C$501=Sheet8!D437),0),5)","v":0},{"$f":"INDEX(Deduction!$A$3:$K$501,MATCH(1,(Deduction!$A$3:$A$501=Sheet8!A437)*(Deduction!$B$3:$B$501=Sheet8!B437)*(Deduction!$C$3:$C$501=Sheet8!D437),0),6)","v":0},{"$f":"INDEX(Deduction!$A$3:$K$501,MATCH(1,(Deduction!$A$3:$A$501=Sheet8!A437)*(Deduction!$B$3:$B$501=Sheet8!B437)*(Deduction!$C$3:$C$501=Sheet8!D437),0),7)","v":0},{"$f":"INDEX(Deduction!$A$3:$K$501,MATCH(1,(Deduction!$A$3:$A$501=Sheet8!A437)*(Deduction!$B$3:$B$501=Sheet8!B437)*(Deduction!$C$3:$C$501=Sheet8!D437),0),8)","v":0},{"$f":"INDEX(Deduction!$A$3:$K$501,MATCH(1,(Deduction!$A$3:$A$501=Sheet8!A437)*(Deduction!$B$3:$B$501=Sheet8!B437)*(Deduction!$C$3:$C$501=Sheet8!D437),0),9)","v":0},{"$f":"INDEX(Deduction!$A$3:$K$501,MATCH(1,(Deduction!$A$3:$A$501=Sheet8!A437)*(Deduction!$B$3:$B$501=Sheet8!B437)*(Deduction!$C$3:$C$501=Sheet8!D437),0),10)","v":0},{"$f":"INDEX(Deduction!$A$3:$K$501,MATCH(1,(Deduction!$A$3:$A$501=Sheet8!A437)*(Deduction!$B$3:$B$501=Sheet8!B437)*(Deduction!$C$3:$C$501=Sheet8!D437),0),11)","v":0},{"$error":"#DIV/0!"},{"$f":"VLOOKUP(D437,Emp_Master!$B$3:$H$501,7)","v":{"$error":"#N/A"}}]
[{"$f":"Salary_Entitlement!A439","v":0},{"$f":"Salary_Entitlement!B439","v":0},{"$f":"Salary_Entitlement!C439","v":0},{"$f":"Salary_Entitlement!D439","v":0},{"$f":"Salary_Entitlement!E439","v":{"$error":"#N/A"}},{"$f":"Salary_Entitlement!F439","v":0},{"$f":"Salary_Entitlement!G439","v":0},{"$f":"Salary_Entitlement!H439","v":0},{"$f":"Salary_Entitlement!I439","v":0},{"$f":"Salary_Entitlement!J439","v":0},{"$f":"Salary_Entitlement!K439","v":0},{"$f":"Salary_Entitlement!L439","v":0},{"$f":"Salary_Entitlement!M439","v":0},{"$f":"Salary_Entitlement!N439","v":0},{"$f":"Salary_Entitlement!O439","v":0},{"$f":"Salary_Entitlement!P439","v":0},{"$error":"#DIV/0!"},{"$error":"#DIV/0!"},{"$f":"INDEX(Deduction!$A$3:$K$501,MATCH(1,(Deduction!$A$3:$A$501=Sheet8!A438)*(Deduction!$B$3:$B$501=Sheet8!B438)*(Deduction!$C$3:$C$501=Sheet8!D438),0),5)","v":0},{"$f":"INDEX(Deduction!$A$3:$K$501,MATCH(1,(Deduction!$A$3:$A$501=Sheet8!A438)*(Deduction!$B$3:$B$501=Sheet8!B438)*(Deduction!$C$3:$C$501=Sheet8!D438),0),6)","v":0},{"$f":"INDEX(Deduction!$A$3:$K$501,MATCH(1,(Deduction!$A$3:$A$501=Sheet8!A438)*(Deduction!$B$3:$B$501=Sheet8!B438)*(Deduction!$C$3:$C$501=Sheet8!D438),0),7)","v":0},{"$f":"INDEX(Deduction!$A$3:$K$501,MATCH(1,(Deduction!$A$3:$A$501=Sheet8!A438)*(Deduction!$B$3:$B$501=Sheet8!B438)*(Deduction!$C$3:$C$501=Sheet8!D438),0),8)","v":0},{"$f":"INDEX(Deduction!$A$3:$K$501,MATCH(1,(Deduction!$A$3:$A$501=Sheet8!A438)*(Deduction!$B$3:$B$501=Sheet8!B438)*(Deduction!$C$3:$C$501=Sheet8!D438),0),9)","v":0},{"$f":"INDEX(Deduction!$A$3:$K$501,MATCH(1,(Deduction!$A$3:$A$501=Sheet8!A438)*(Deduction!$B$3:$B$501=Sheet8!B438)*(Deduction!$C$3:$C$501=Sheet8!D438),0),10)","v":0},{"$f":"INDEX(Deduction!$A$3:$K$501,MATCH(1,(Deduction!$A$3:$A$501=Sheet8!A438)*(Deduction!$B$3:$B$501=Sheet8!B438)*(Deduction!$C$3:$C$501=Sheet8!D438),0),11)","v":0},{"$error":"#DIV/0!"},{"$f":"VLOOKUP(D438,Emp_Master!$B$3:$H$501,7)","v":{"$error":"#N/A"}}]
[{"$f":"Salary_Entitlement!A440","v":0},{"$f":"Salary_Entitlement!B440","v":0},{"$f":"Salary_Entitlement!C440","v":0},{"$f":"Salary_Entitlement!D440","v":0},{"$f":"Salary_Entitlement!E440","v":{"$error":"#N/A"}},{"$f":"Salary_Entitlement!F440","v":0},{"$f":"Salary_Entitlement!G440","v":0},{"$f":"Salary_Entitlement!H440","v":0},{"$f":"Salary_Entitlement!I440","v":0},{"$f":"Salary_Entitlement!J440","v":0},{"$f":"Salary_Entitlement!K440","v":0},{"$f":"Salary_Entitlement!L440","v":0},{"$f":"Salary_Entitlement!M440","v":0},{"$f":"Salary_Entitlement!N440","v":0},{"$f":"Salary_Entitlement!O440","v":0},{"$f":"Salary_Entitlement!P440","v":0},{"$error":"#DIV/0!"},{"$error":"#DIV/0!"},{"$f":"INDEX(Deduction!$A$3:$K$501,MATCH(1,(Deduction!$A$3:$A$501=Sheet8!A439)*(Deduction!$B$3:$B$501=Sheet8!B439)*(Deduction!$C$3:$C$501=Sheet8!D439),0),5)","v":0},{"$f":"INDEX(Deduction!$A$3:$K$501,MATCH(1,(Deduction!$A$3:$A$501=Sheet8!A439)*(Deduction!$B$3:$B$501=Sheet8!B439)*(Deduction!$C$3:$C$501=Sheet8!D439),0),6)","v":0},{"$f":"INDEX(Deduction!$A$3:$K$501,MATCH(1,(Deduction!$A$3:$A$501=Sheet8!A439)*(Deduction!$B$3:$B$501=Sheet8!B439)*(Deduction!$C$3:$C$501=Sheet8!D439),0),7)","v":0},{"$f":"INDEX(Deduction!$A$3:$K$501,MATCH(1,(Deduction!$A$3:$A$501=Sheet8!A439)*(Deduction!$B$3:$B$501=Sheet8!B439)*(Deduction!$C$3:$C$501=Sheet8!D439),0),8)","v":0},{"$f":"INDEX(Deduction!$A$3:$K$501,MATCH(1,(Deduction!$A$3:$A$501=Sheet8!A439)*(Deduction!$B$3:$B$501=Sheet8!B439)*(Deduction!$C$3:$C$501=Sheet8!D439),0),9)","v":0},{"$f":"INDEX(Deduction!$A$3:$K$501,MATCH(1,(Deduction!$A$3:$A$501=Sheet8!A439)*(Deduction!$B$3:$B$501=Sheet8!B439)*(Deduction!$C$3:$C$501=Sheet8!D439),0),10)","v":0},{"$f":"INDEX(Deduction!$A$3:$K$501,MATCH(1,(Deduction!$A$3:$A$501=Sheet8!A439)*(Deduction!$B$3:$B$501=Sheet8!B439)*(Deduction!$C$3:$C$501=Sheet8!D439),0),11)","v":0},{"$error":"#DIV/0!"},{"$f":"VLOOKUP(D439,Emp_Master!$B$3:$H$501,7)","v":{"$error":"#N/A"}}]
[{"$f":"Salary_Entitlement!A441","v":0},{"$f":"Salary_Entitlement!B441","v":0},{"$f":"Salary_Entitlement!C441","v":0},{"$f":"Salary_Entitlement!D441","v":0},{"$f":"Salary_Entitlement!E441","v":{"$error":"#N/A"}},{"$f":"Salary_Entitlement!F441","v":0},{"$f":"Salary_Entitlement!G441","v":0},{"$f":"Salary_Entitlement!H441","v":0},{"$f":"Salary_Entitlement!I441","v":0},{"$f":"Salary_Entitlement!J441","v":0},{"$f":"Salary_Entitlement!K441","v":0},{"$f":"Salary_Entitlement!L441","v":0},{"$f":"Salary_Entitlement!M441","v":0},{"$f":"Salary_Entitlement!N441","v":0},{"$f":"Salary_Entitlement!O441","v":0},{"$f":"Salary_Entitlement!P441","v":0},{"$error":"#DIV/0!"},{"$error":"#DIV/0!"},{"$f":"INDEX(Deduction!$A$3:$K$501,MATCH(1,(Deduction!$A$3:$A$501=Sheet8!A440)*(Deduction!$B$3:$B$501=Sheet8!B440)*(Deduction!$C$3:$C$501=Sheet8!D440),0),5)","v":0},{"$f":"INDEX(Deduction!$A$3:$K$501,MATCH(1,(Deduction!$A$3:$A$501=Sheet8!A440)*(Deduction!$B$3:$B$501=Sheet8!B440)*(Deduction!$C$3:$C$501=Sheet8!D440),0),6)","v":0},{"$f":"INDEX(Deduction!$A$3:$K$501,MATCH(1,(Deduction!$A$3:$A$501=Sheet8!A440)*(Deduction!$B$3:$B$501=Sheet8!B440)*(Deduction!$C$3:$C$501=Sheet8!D440),0),7)","v":0},{"$f":"INDEX(Deduction!$A$3:$K$501,MATCH(1,(Deduction!$A$3:$A$501=Sheet8!A440)*(Deduction!$B$3:$B$501=Sheet8!B440)*(Deduction!$C$3:$C$501=Sheet8!D440),0),8)","v":0},{"$f":"INDEX(Deduction!$A$3:$K$501,MATCH(1,(Deduction!$A$3:$A$501=Sheet8!A440)*(Deduction!$B$3:$B$501=Sheet8!B440)*(Deduction!$C$3:$C$501=Sheet8!D440),0),9)","v":0},{"$f":"INDEX(Deduction!$A$3:$K$501,MATCH(1,(Deduction!$A$3:$A$501=Sheet8!A440)*(Deduction!$B$3:$B$501=Sheet8!B440)*(Deduction!$C$3:$C$501=Sheet8!D440),0),10)","v":0},{"$f":"INDEX(Deduction!$A$3:$K$501,MATCH(1,(Deduction!$A$3:$A$501=Sheet8!A440)*(Deduction!$B$3:$B$501=Sheet8!B440)*(Deduction!$C$3:$C$501=Sheet8!D440),0),11)","v":0},{"$error":"#DIV/0!"},{"$f":"VLOOKUP(D440,Emp_Master!$B$3:$H$501,7)","v":{"$error":"#N/A"}}]
[{"$f":"Salary_Entitlement!A442","v":0},{"$f":"Salary_Entitlement!B442","v":0},{"$f":"Salary_Entitlement!C442","v":0},{"$f":"Salary_Entitlement!D442","v":0},{"$f":"Salary_Entitlement!E442","v":{"$error":"#N/A"}},{"$f":"Salary_Entitlement!F442","v":0},{"$f":"Salary_Entitlement!G442","v":0},{"$f":"Salary_Entitlement!H442","v":0},{"$f":"Salary_Entitlement!I442","v":0},{"$f":"Salary_Entitlement!J442","v":0},{"$f":"Salary_Entitlement!K442","v":0},{"$f":"Salary_Entitlement!L442","v":0},{"$f":"Salary_Entitlement!M442","v":0},{"$f":"Salary_Entitlement!N442","v":0},{"$f":"Salary_Entitlement!O442","v":0},{"$f":"Salary_Entitlement!P442","v":0},{"$error":"#DIV/0!"},{"$error":"#DIV/0!"},{"$f":"INDEX(Deduction!$A$3:$K$501,MATCH(1,(Deduction!$A$3:$A$501=Sheet8!A441)*(Deduction!$B$3:$B$501=Sheet8!B441)*(Deduction!$C$3:$C$501=Sheet8!D441),0),5)","v":0},{"$f":"INDEX(Deduction!$A$3:$K$501,MATCH(1,(Deduction!$A$3:$A$501=Sheet8!A441)*(Deduction!$B$3:$B$501=Sheet8!B441)*(Deduction!$C$3:$C$501=Sheet8!D441),0),6)","v":0},{"$f":"INDEX(Deduction!$A$3:$K$501,MATCH(1,(Deduction!$A$3:$A$501=Sheet8!A441)*(Deduction!$B$3:$B$501=Sheet8!B441)*(Deduction!$C$3:$C$501=Sheet8!D441),0),7)","v":0},{"$f":"INDEX(Deduction!$A$3:$K$501,MATCH(1,(Deduction!$A$3:$A$501=Sheet8!A441)*(Deduction!$B$3:$B$501=Sheet8!B441)*(Deduction!$C$3:$C$501=Sheet8!D441),0),8)","v":0},{"$f":"INDEX(Deduction!$A$3:$K$501,MATCH(1,(Deduction!$A$3:$A$501=Sheet8!A441)*(Deduction!$B$3:$B$501=Sheet8!B441)*(Deduction!$C$3:$C$501=Sheet8!D441),0),9)","v":0},{"$f":"INDEX(Deduction!$A$3:$K$501,MATCH(1,(Deduction!$A$3:$A$501=Sheet8!A441)*(Deduction!$B$3:$B$501=Sheet8!B441)*(Deduction!$C$3:$C$501=Sheet8!D441),0),10)","v":0},{"$f":"INDEX(Deduction!$A$3:$K$501,MATCH(1,(Deduction!$A$3:$A$501=Sheet8!A441)*(Deduction!$B$3:$B$501=Sheet8!B441)*(Deduction!$C$3:$C$501=Sheet8!D441),0),11)","v":0},{"$error":"#DIV/0!"},{"$f":"VLOOKUP(D441,Emp_Master!$B$3:$H$501,7)","v":{"$error":"#N/A"}}]
[{"$f":"Salary_Entitlement!A443","v":0},{"$f":"Salary_Entitlement!B443","v":0},{"$f":"Salary_Entitlement!C443","v":0},{"$f":"Salary_Entitlement!D443","v":0},{"$f":"Salary_Entitlement!E443","v":{"$error":"#N/A"}},{"$f":"Salary_Entitlement!F443","v":0},{"$f":"Salary_Entitlement!G443","v":0},{"$f":"Salary_Entitlement!H443","v":0},{"$f":"Salary_Entitlement!I443","v":0},{"$f":"Salary_Entitlement!J443","v":0},{"$f":"Salary_Entitlement!K443","v":0},{"$f":"Salary_Entitlement!L443","v":0},{"$f":"Salary_Entitlement!M443","v":0},{"$f":"Salary_Entitlement!N443","v":0},{"$f":"Salary_Entitlement!O443","v":0},{"$f":"Salary_Entitlement!P443","v":0},{"$error":"#DIV/0!"},{"$error":"#DIV/0!"},{"$f":"INDEX(Deduction!$A$3:$K$501,MATCH(1,(Deduction!$A$3:$A$501=Sheet8!A442)*(Deduction!$B$3:$B$501=Sheet8!B442)*(Deduction!$C$3:$C$501=Sheet8!D442),0),5)","v":0},{"$f":"INDEX(Deduction!$A$3:$K$501,MATCH(1,(Deduction!$A$3:$A$501=Sheet8!A442)*(Deduction!$B$3:$B$501=Sheet8!B442)*(Deduction!$C$3:$C$501=Sheet8!D442),0),6)","v":0},{"$f":"INDEX(Deduction!$A$3:$K$501,MATCH(1,(Deduction!$A$3:$A$501=Sheet8!A442)*(Deduction!$B$3:$B$501=Sheet8!B442)*(Deduction!$C$3:$C$501=Sheet8!D442),0),7)","v":0},{"$f":"INDEX(Deduction!$A$3:$K$501,MATCH(1,(Deduction!$A$3:$A$501=Sheet8!A442)*(Deduction!$B$3:$B$501=Sheet8!B442)*(Deduction!$C$3:$C$501=Sheet8!D442),0),8)","v":0},{"$f":"INDEX(Deduction!$A$3:$K$501,MATCH(1,(Deduction!$A$3:$A$501=Sheet8!A442)*(Deduction!$B$3:$B$501=Sheet8!B442)*(Deduction!$C$3:$C$501=Sheet8!D442),0),9)","v":0},{"$f":"INDEX(Deduction!$A$3:$K$501,MATCH(1,(Deduction!$A$3:$A$501=Sheet8!A442)*(Deduction!$B$3:$B$501=Sheet8!B442)*(Deduction!$C$3:$C$501=Sheet8!D442),0),10)","v":0},{"$f":"INDEX(Deduction!$A$3:$K$501,MATCH(1,(Deduction!$A$3:$A$501=Sheet8!A442)*(Deduction!$B$3:$B$501=Sheet8!B442)*(Deduction!$C$3:$C$501=Sheet8!D442),0),11)","v":0},{"$error":"#DIV/0!"},{"$f":"VLOOKUP(D442,Emp_Master!$B$3:$H$501,7)","v":{"$error":"#N/A"}}]
[{"$f":"Salary_Entitlement!A444","v":0},{"$f":"Salary_Entitlement!B444","v":0},{"$f":"Salary_Entitlement!C444","v":0},{"$f":"Salary_Entitlement!D444","v":0},{"$f":"Salary_Entitlement!E444","v":{"$error":"#N/A"}},{"$f":"Salary_Entitlement!F444","v":0},{"$f":"Salary_Entitlement!G444","v":0},{"$f":"Salary_Entitlement!H444","v":0},{"$f":"Salary_Entitlement!I444","v":0},{"$f":"Salary_Entitlement!J444","v":0},{"$f":"Salary_Entitlement!K444","v":0},{"$f":"Salary_Entitlement!L444","v":0},{"$f":"Salary_Entitlement!M444","v":0},{"$f":"Salary_Entitlement!N444","v":0},{"$f":"Salary_Entitlement!O444","v":0},{"$f":"Salary_Entitlement!P444","v":0},{"$error":"#DIV/0!"},{"$error":"#DIV/0!"},{"$f":"INDEX(Deduction!$A$3:$K$501,MATCH(1,(Deduction!$A$3:$A$501=Sheet8!A443)*(Deduction!$B$3:$B$501=Sheet8!B443)*(Deduction!$C$3:$C$501=Sheet8!D443),0),5)","v":0},{"$f":"INDEX(Deduction!$A$3:$K$501,MATCH(1,(Deduction!$A$3:$A$501=Sheet8!A443)*(Deduction!$B$3:$B$501=Sheet8!B443)*(Deduction!$C$3:$C$501=Sheet8!D443),0),6)","v":0},{"$f":"INDEX(Deduction!$A$3:$K$501,MATCH(1,(Deduction!$A$3:$A$501=Sheet8!A443)*(Deduction!$B$3:$B$501=Sheet8!B443)*(Deduction!$C$3:$C$501=Sheet8!D443),0),7)","v":0},{"$f":"INDEX(Deduction!$A$3:$K$501,MATCH(1,(Deduction!$A$3:$A$501=Sheet8!A443)*(Deduction!$B$3:$B$501=Sheet8!B443)*(Deduction!$C$3:$C$501=Sheet8!D443),0),8)","v":0},{"$f":"INDEX(Deduction!$A$3:$K$501,MATCH(1,(Deduction!$A$3:$A$501=Sheet8!A443)*(Deduction!$B$3:$B$501=Sheet8!B443)*(Deduction!$C$3:$C$501=Sheet8!D443),0),9)","v":0},{"$f":"INDEX(Deduction!$A$3:$K$501,MATCH(1,(Deduction!$A$3:$A$501=Sheet8!A443)*(Deduction!$B$3:$B$501=Sheet8!B443)*(Deduction!$C$3:$C$501=Sheet8!D443),0),10)","v":0},{"$f":"INDEX(Deduction!$A$3:$K$501,MATCH(1,(Deduction!$A$3:$A$501=Sheet8!A443)*(Deduction!$B$3:$B$501=Sheet8!B443)*(Deduction!$C$3:$C$501=Sheet8!D443),0),11)","v":0},{"$error":"#DIV/0!"},{"$f":"VLOOKUP(D443,Emp_Master!$B$3:$H$501,7)","v":{"$error":"#N/A"}}]
[{"$f":"Salary_Entitlement!A445","v":0},{"$f":"Salary_Entitlement!B445","v":0},{"$f":"Salary_Entitlement!C445","v":0},{"$f":"Salary_Entitlement!D445","v":0},{"$f":"Salary_Entitlement!E445","v":{"$error":"#N/A"}},{"$f":"Salary_Entitlement!F445","v":0},{"$f":"Salary_Entitlement!G445","v":0},{"$f":"Salary_Entitlement!H445","v":0},{"$f":"Salary_Entitlement!I445","v":0},{"$f":"Salary_Entitlement!J445","v":0},{"$f":"Salary_Entitlement!K445","v":0},{"$f":"Salary_Entitlement!L445","v":0},{"$f":"Salary_Entitlement!M445","v":0},{"$f":"Salary_Entitlement!N445","v":0},{"$f":"Salary_Entitlement!O445","v":0},{"$f":"Salary_Entitlement!P445","v":0},{"$error":"#DIV/0!"},{"$error":"#DIV/0!"},{"$f":"INDEX(Deduction!$A$3:$K$501,MATCH(1,(Deduction!$A$3:$A$501=Sheet8!A444)*(Deduction!$B$3:$B$501=Sheet8!B444)*(Deduction!$C$3:$C$501=Sheet8!D444),0),5)","v":0},{"$f":"INDEX(Deduction!$A$3:$K$501,MATCH(1,(Deduction!$A$3:$A$501=Sheet8!A444)*(Deduction!$B$3:$B$501=Sheet8!B444)*(Deduction!$C$3:$C$501=Sheet8!D444),0),6)","v":0},{"$f":"INDEX(Deduction!$A$3:$K$501,MATCH(1,(Deduction!$A$3:$A$501=Sheet8!A444)*(Deduction!$B$3:$B$501=Sheet8!B444)*(Deduction!$C$3:$C$501=Sheet8!D444),0),7)","v":0},{"$f":"INDEX(Deduction!$A$3:$K$501,MATCH(1,(Deduction!$A$3:$A$501=Sheet8!A444)*(Deduction!$B$3:$B$501=Sheet8!B444)*(Deduction!$C$3:$C$501=Sheet8!D444),0),8)","v":0},{"$f":"INDEX(Deduction!$A$3:$K$501,MATCH(1,(Deduction!$A$3:$A$501=Sheet8!A444)*(Deduction!$B$3:$B$501=Sheet8!B444)*(Deduction!$C$3:$C$501=Sheet8!D444),0),9)","v":0},{"$f":"INDEX(Deduction!$A$3:$K$501,MATCH(1,(Deduction!$A$3:$A$501=Sheet8!A444)*(Deduction!$B$3:$B$501=Sheet8!B444)*(Deduction!$C$3:$C$501=Sheet8!D444),0),10)","v":0},{"$f":"INDEX(Deduction!$A$3:$K$501,MATCH(1,(Deduction!$A$3:$A$501=Sheet8!A444)*(Deduction!$B$3:$B$501=Sheet8!B444)*(Deduction!$C$3:$C$501=Sheet8!D444),0),11)","v":0},{"$error":"#DIV/0!"},{"$f":"VLOOKUP(D444,Emp_Master!$B$3:$H$501,7)","v":{"$error":"#N/A"}}]
[{"$f":"Salary_Entitlement!A446","v":0},{"$f":"Salary_Entitlement!B446","v":0},{"$f":"Salary_Entitlement!C446","v":0},{"$f":"Salary_Entitlement!D446","v":0},{"$f":"Salary_Entitlement!E446","v":{"$error":"#N/A"}},{"$f":"Salary_Entitlement!F446","v":0},{"$f":"Salary_Entitlement!G446","v":0},{"$f":"Salary_Entitlement!H446","v":0},{"$f":"Salary_Entitlement!I446","v":0},{"$f":"Salary_Entitlement!J446","v":0},{"$f":"Salary_Entitlement!K446","v":0},{"$f":"Salary_Entitlement!L446","v":0},{"$f":"Salary_Entitlement!M446","v":0},{"$f":"Salary_Entitlement!N446","v":0},{"$f":"Salary_Entitlement!O446","v":0},{"$f":"Salary_Entitlement!P446","v":0},{"$error":"#DIV/0!"},{"$error":"#DIV/0!"},{"$f":"INDEX(Deduction!$A$3:$K$501,MATCH(1,(Deduction!$A$3:$A$501=Sheet8!A445)*(Deduction!$B$3:$B$501=Sheet8!B445)*(Deduction!$C$3:$C$501=Sheet8!D445),0),5)","v":0},{"$f":"INDEX(Deduction!$A$3:$K$501,MATCH(1,(Deduction!$A$3:$A$501=Sheet8!A445)*(Deduction!$B$3:$B$501=Sheet8!B445)*(Deduction!$C$3:$C$501=Sheet8!D445),0),6)","v":0},{"$f":"INDEX(Deduction!$A$3:$K$501,MATCH(1,(Deduction!$A$3:$A$501=Sheet8!A445)*(Deduction!$B$3:$B$501=Sheet8!B445)*(Deduction!$C$3:$C$501=Sheet8!D445),0),7)","v":0},{"$f":"INDEX(Deduction!$A$3:$K$501,MATCH(1,(Deduction!$A$3:$A$501=Sheet8!A445)*(Deduction!$B$3:$B$501=Sheet8!B445)*(Deduction!$C$3:$C$501=Sheet8!D445),0),8)","v":0},{"$f":"INDEX(Deduction!$A$3:$K$501,MATCH(1,(Deduction!$A$3:$A$501=Sheet8!A445)*(Deduction!$B$3:$B$501=Sheet8!B445)*(Deduction!$C$3:$C$501=Sheet8!D445),0),9)","v":0},{"$f":"INDEX(Deduction!$A$3:$K$501,MATCH(1,(Deduction!$A$3:$A$501=Sheet8!A445)*(Deduction!$B$3:$B$501=Sheet8!B445)*(Deduction!$C$3:$C$501=Sheet8!D445),0),10)","v":0},{"$f":"INDEX(Deduction!$A$3:$K$501,MATCH(1,(Deduction!$A$3:$A$501=Sheet8!A445)*(Deduction!$B$3:$B$501=Sheet8!B445)*(Deduction!$C$3:$C$501=Sheet8!D445),0),11)","v":0},{"$error":"#DIV/0!"},{"$f":"VLOOKUP(D445,Emp_Master!$B$3:$H$501,7)","v":{"$error":"#N/A"}}]
[{"$f":"Salary_Entitlement!A447","v":0},{"$f":"Salary_Entitlement!B447","v":0},{"$f":"Salary_Entitlement!C447","v":0},{"$f":"Salary_Entitlement!D447","v":0},{"$f":"Salary_Entitlement!E447","v":{"$error":"#N/A"}},{"$f":"Salary_Entitlement!F447","v":0},{"$f":"Salary_Entitlement!G447","v":0},{"$f":"Salary_Entitlement!H447","v":0},{"$f":"Salary_Entitlement!I447","v":0},{"$f":"Salary_Entitlement!J447","v":0},{"$f":"Salary_Entitlement!K447","v":0},{"$f":"Salary_Entitlement!L447","v":0},{"$f":"Salary_Entitlement!M447","v":0},{"$f":"Salary_Entitlement!N447","v":0},{"$f":"Salary_Entitlement!O447","v":0},{"$f":"Salary_Entitlement!P447","v":0},{"$error":"#DIV/0!"},{"$error":"#DIV/0!"},{"$f":"INDEX(Deduction!$A$3:$K$501,MATCH(1,(Deduction!$A$3:$A$501=Sheet8!A446)*(Deduction!$B$3:$B$501=Sheet8!B446)*(Deduction!$C$3:$C$501=Sheet8!D446),0),5)","v":0},{"$f":"INDEX(Deduction!$A$3:$K$501,MATCH(1,(Deduction!$A$3:$A$501=Sheet8!A446)*(Deduction!$B$3:$B$501=Sheet8!B446)*(Deduction!$C$3:$C$501=Sheet8!D446),0),6)","v":0},{"$f":"INDEX(Deduction!$A$3:$K$501,MATCH(1,(Deduction!$A$3:$A$501=Sheet8!A446)*(Deduction!$B$3:$B$501=Sheet8!B446)*(Deduction!$C$3:$C$501=Sheet8!D446),0),7)","v":0},{"$f":"INDEX(Deduction!$A$3:$K$501,MATCH(1,(Deduction!$A$3:$A$501=Sheet8!A446)*(Deduction!$B$3:$B$501=Sheet8!B446)*(Deduction!$C$3:$C$501=Sheet8!D446),0),8)","v":0},{"$f":"INDEX(Deduction!$A$3:$K$501,MATCH(1,(Deduction!$A$3:$A$501=Sheet8!A446)*(Deduction!$B$3:$B$501=Sheet8!B446)*(Deduction!$C$3:$C$501=Sheet8!D446),0),9)","v":0},{"$f":"INDEX(Deduction!$A$3:$K$501,MATCH(1,(Deduction!$A$3:$A$501=Sheet8!A446)*(Deduction!$B$3:$B$501=Sheet8!B446)*(Deduction!$C$3:$C$501=Sheet8!D446),0),10)","v":0},{"$f":"INDEX(Deduction!$A$3:$K$501,MATCH(1,(Deduction!$A$3:$A$501=Sheet8!A446)*(Deduction!$B$3:$B$501=Sheet8!B446)*(Deduction!$C$3:$C$501=Sheet8!D446),0),11)","v":0},{"$error":"#DIV/0!"},{"$f":"VLOOKUP(D446,Emp_Master!$B$3:$H$501,7)","v":{"$error":"#N/A"}}]
[{"$f":"Salary_Entitlement!A448","v":0},{"$f":"Salary_Entitlement!B448","v":0},{"$f":"Salary_Entitlement!C448","v":0},{"$f":"Salary_Entitlement!D448","v":0},{"$f":"Salary_Entitlement!E448","v":{"$error":"#N/A"}},{"$f":"Salary_Entitlement!F448","v":0},{"$f":"Salary_Entitlement!G448","v":0},{"$f":"Salary_Entitlement!H448","v":0},{"$f":"Salary_Entitlement!I448","v":0},{"$f":"Salary_Entitlement!J448","v":0},{"$f":"Salary_Entitlement!K448","v":0},{"$f":"Salary_Entitlement!L448","v":0},{"$f":"Salary_Entitlement!M448","v":0},{"$f":"Salary_Entitlement!N448","v":0},{"$f":"Salary_Entitlement!O448","v":0},{"$f":"Salary_Entitlement!P448","v":0},{"$error":"#DIV/0!"},{"$error":"#DIV/0!"},{"$f":"INDEX(Deduction!$A$3:$K$501,MATCH(1,(Deduction!$A$3:$A$501=Sheet8!A447)*(Deduction!$B$3:$B$501=Sheet8!B447)*(Deduction!$C$3:$C$501=Sheet8!D447),0),5)","v":0},{"$f":"INDEX(Deduction!$A$3:$K$501,MATCH(1,(Deduction!$A$3:$A$501=Sheet8!A447)*(Deduction!$B$3:$B$501=Sheet8!B447)*(Deduction!$C$3:$C$501=Sheet8!D447),0),6)","v":0},{"$f":"INDEX(Deduction!$A$3:$K$501,MATCH(1,(Deduction!$A$3:$A$501=Sheet8!A447)*(Deduction!$B$3:$B$501=Sheet8!B447)*(Deduction!$C$3:$C$501=Sheet8!D447),0),7)","v":0},{"$f":"INDEX(Deduction!$A$3:$K$501,MATCH(1,(Deduction!$A$3:$A$501=Sheet8!A447)*(Deduction!$B$3:$B$501=Sheet8!B447)*(Deduction!$C$3:$C$501=Sheet8!D447),0),8)","v":0},{"$f":"INDEX(Deduction!$A$3:$K$501,MATCH(1,(Deduction!$A$3:$A$501=Sheet8!A447)*(Deduction!$B$3:$B$501=Sheet8!B447)*(Deduction!$C$3:$C$501=Sheet8!D447),0),9)","v":0},{"$f":"INDEX(Deduction!$A$3:$K$501,MATCH(1,(Deduction!$A$3:$A$501=Sheet8!A447)*(Deduction!$B$3:$B$501=Sheet8!B447)*(Deduction!$C$3:$C$501=Sheet8!D447),0),10)","v":0},{"$f":"INDEX(Deduction!$A$3:$K$501,MATCH(1,(Deduction!$A$3:$A$501=Sheet8!A447)*(Deduction!$B$3:$B$501=Sheet8!B447)*(Deduction!$C$3:$C$501=Sheet8!D447),0),11)","v":0},{"$error":"#DIV/0!"},{"$f":"VLOOKUP(D447,Emp_Master!$B$3:$H$501,7)","v":{"$error":"#N/A"}}]
[{"$f":"Salary_Entitlement!A449","v":0},{"$f":"Salary_Entitlement!B449","v":0},{"$f":"Salary_Entitlement!C449","v":0},{"$f":"Salary_Entitlement!D449","v":0},{"$f":"Salary_Entitlement!E449","v":{"$error":"#N/A"}},{"$f":"Salary_Entitlement!F449","v":0},{"$f":"Salary_Entitlement!G449","v":0},{"$f":"Salary_Entitlement!H449","v":0},{"$f":"Salary_Entitlement!I449","v":0},{"$f":"Salary_Entitlement!J449","v":0},{"$f":"Salary_Entitlement!K449","v":0},{"$f":"Salary_Entitlement!L449","v":0},{"$f":"Salary_Entitlement!M449","v":0},{"$f":"Salary_Entitlement!N449","v":0},{"$f":"Salary_Entitlement!O449","v":0},{"$f":"Salary_Entitlement!P449","v":0},{"$error":"#DIV/0!"},{"$error":"#DIV/0!"},{"$f":"INDEX(Deduction!$A$3:$K$501,MATCH(1,(Deduction!$A$3:$A$501=Sheet8!A448)*(Deduction!$B$3:$B$501=Sheet8!B448)*(Deduction!$C$3:$C$501=Sheet8!D448),0),5)","v":0},{"$f":"INDEX(Deduction!$A$3:$K$501,MATCH(1,(Deduction!$A$3:$A$501=Sheet8!A448)*(Deduction!$B$3:$B$501=Sheet8!B448)*(Deduction!$C$3:$C$501=Sheet8!D448),0),6)","v":0},{"$f":"INDEX(Deduction!$A$3:$K$501,MATCH(1,(Deduction!$A$3:$A$501=Sheet8!A448)*(Deduction!$B$3:$B$501=Sheet8!B448)*(Deduction!$C$3:$C$501=Sheet8!D448),0),7)","v":0},{"$f":"INDEX(Deduction!$A$3:$K$501,MATCH(1,(Deduction!$A$3:$A$501=Sheet8!A448)*(Deduction!$B$3:$B$501=Sheet8!B448)*(Deduction!$C$3:$C$501=Sheet8!D448),0),8)","v":0},{"$f":"INDEX(Deduction!$A$3:$K$501,MATCH(1,(Deduction!$A$3:$A$501=Sheet8!A448)*(Deduction!$B$3:$B$501=Sheet8!B448)*(Deduction!$C$3:$C$501=Sheet8!D448),0),9)","v":0},{"$f":"INDEX(Deduction!$A$3:$K$501,MATCH(1,(Deduction!$A$3:$A$501=Sheet8!A448)*(Deduction!$B$3:$B$501=Sheet8!B448)*(Deduction!$C$3:$C$501=Sheet8!D448),0),10)","v":0},{"$f":"INDEX(Deduction!$A$3:$K$501,MATCH(1,(Deduction!$A$3:$A$501=Sheet8!A448)*(Deduction!$B$3:$B$501=Sheet8!B448)*(Deduction!$C$3:$C$501=Sheet8!D448),0),11)","v":0},{"$error":"#DIV/0!"},{"$f":"VLOOKUP(D448,Emp_Master!$B$3:$H$501,7)","v":{"$error":"#N/A"}}]
[{"$f":"Salary_Entitlement!A450","v":0},{"$f":"Salary_Entitlement!B450","v":0},{"$f":"Salary_Entitlement!C450","v":0},{"$f":"Salary_Entitlement!D450","v":0},{"$f":"Salary_Entitlement!E450","v":{"$error":"#N/A"}},{"$f":"Salary_Entitlement!F450","v":0},{"$f":"Salary_Entitlement!G450","v":0},{"$f":"Salary_Entitlement!H450","v":0},{"$f":"Salary_Entitlement!I450","v":0},{"$f":"Salary_Entitlement!J450","v":0},{"$f":"Salary_Entitlement!K450","v":0},{"$f":"Salary_Entitlement!L450","v":0},{"$f":"Salary_Entitlement!M450","v":0},{"$f":"Salary_Entitlement!N450","v":0},{"$f":"Salary_Entitlement!O450","v":0},{"$f":"Salary_Entitlement!P450","v":0},{"$error":"#DIV/0!"},{"$error":"#DIV/0!"},{"$f":"INDEX(Deduction!$A$3:$K$501,MATCH(1,(Deduction!$A$3:$A$501=Sheet8!A449)*(Deduction!$B$3:$B$501=Sheet8!B449)*(Deduction!$C$3:$C$501=Sheet8!D449),0),5)","v":0},{"$f":"INDEX(Deduction!$A$3:$K$501,MATCH(1,(Deduction!$A$3:$A$501=Sheet8!A449)*(Deduction!$B$3:$B$501=Sheet8!B449)*(Deduction!$C$3:$C$501=Sheet8!D449),0),6)","v":0},{"$f":"INDEX(Deduction!$A$3:$K$501,MATCH(1,(Deduction!$A$3:$A$501=Sheet8!A449)*(Deduction!$B$3:$B$501=Sheet8!B449)*(Deduction!$C$3:$C$501=Sheet8!D449),0),7)","v":0},{"$f":"INDEX(Deduction!$A$3:$K$501,MATCH(1,(Deduction!$A$3:$A$501=Sheet8!A449)*(Deduction!$B$3:$B$501=Sheet8!B449)*(Deduction!$C$3:$C$501=Sheet8!D449),0),8)","v":0},{"$f":"INDEX(Deduction!$A$3:$K$501,MATCH(1,(Deduction!$A$3:$A$501=Sheet8!A449)*(Deduction!$B$3:$B$501=Sheet8!B449)*(Deduction!$C$3:$C$501=Sheet8!D449),0),9)","v":0},{"$f":"INDEX(Deduction!$A$3:$K$501,MATCH(1,(Deduction!$A$3:$A$501=Sheet8!A449)*(Deduction!$B$3:$B$501=Sheet8!B449)*(Deduction!$C$3:$C$501=Sheet8!D449),0),10)","v":0},{"$f":"INDEX(Deduction!$A$3:$K$501,MATCH(1,(Deduction!$A$3:$A$501=Sheet8!A449)*(Deduction!$B$3:$B$501=Sheet8!B449)*(Deduction!$C$3:$C$501=Sheet8!D449),0),11)","v":0},{"$error":"#DIV/0!"},{"$f":"VLOOKUP(D449,Emp_Master!$B$3:$H$501,7)","v":{"$error":"#N/A"}}]
[{"$f":"Salary_Entitlement!A451","v":0},{"$f":"Salary_Entitlement!B451","v":0},{"$f":"Salary_Entitlement!C451","v":0},{"$f":"Salary_Entitlement!D451","v":0},{"$f":"Salary_Entitlement!E451","v":{"$error":"#N/A"}},{"$f":"Salary_Entitlement!F451","v":0},{"$f":"Salary_Entitlement!G451","v":0},{"$f":"Salary_Entitlement!H451","v":0},{"$f":"Salary_Entitlement!I451","v":0},{"$f":"Salary_Entitlement!J451","v":0},{"$f":"Salary_Entitlement!K451","v":0},{"$f":"Salary_Entitlement!L451","v":0},{"$f":"Salary_Entitlement!M451","v":0},{"$f":"Salary_Entitlement!N451","v":0},{"$f":"Salary_Entitlement!O451","v":0},{"$f":"Salary_Entitlement!P451","v":0},{"$error":"#DIV/0!"},{"$error":"#DIV/0!"},{"$f":"INDEX(Deduction!$A$3:$K$501,MATCH(1,(Deduction!$A$3:$A$501=Sheet8!A450)*(Deduction!$B$3:$B$501=Sheet8!B450)*(Deduction!$C$3:$C$501=Sheet8!D450),0),5)","v":0},{"$f":"INDEX(Deduction!$A$3:$K$501,MATCH(1,(Deduction!$A$3:$A$501=Sheet8!A450)*(Deduction!$B$3:$B$501=Sheet8!B450)*(Deduction!$C$3:$C$501=Sheet8!D450),0),6)","v":0},{"$f":"INDEX(Deduction!$A$3:$K$501,MATCH(1,(Deduction!$A$3:$A$501=Sheet8!A450)*(Deduction!$B$3:$B$501=Sheet8!B450)*(Deduction!$C$3:$C$501=Sheet8!D450),0),7)","v":0},{"$f":"INDEX(Deduction!$A$3:$K$501,MATCH(1,(Deduction!$A$3:$A$501=Sheet8!A450)*(Deduction!$B$3:$B$501=Sheet8!B450)*(Deduction!$C$3:$C$501=Sheet8!D450),0),8)","v":0},{"$f":"INDEX(Deduction!$A$3:$K$501,MATCH(1,(Deduction!$A$3:$A$501=Sheet8!A450)*(Deduction!$B$3:$B$501=Sheet8!B450)*(Deduction!$C$3:$C$501=Sheet8!D450),0),9)","v":0},{"$f":"INDEX(Deduction!$A$3:$K$501,MATCH(1,(Deduction!$A$3:$A$501=Sheet8!A450)*(Deduction!$B$3:$B$501=Sheet8!B450)*(Deduction!$C$3:$C$501=Sheet8!D450),0),10)","v":0},{"$f":"INDEX(Deduction!$A$3:$K$501,MATCH(1,(Deduction!$A$3:$A$501=Sheet8!A450)*(Deduction!$B$3:$B$501=Sheet8!B450)*(Deduction!$C$3:$C$501=Sheet8!D450),0),11)","v":0},{"$error":"#DIV/0!"},{"$f":"VLOOKUP(D450,Emp_Master!$B$3:$H$501,7)","v":{"$error":"#N/A"}}]
[{"$f":"Salary_Entitlement!A452","v":0},{"$f":"Salary_Entitlement!B452","v":0},{"$f":"Salary_Entitlement!C452","v":0},{"$f":"Salary_Entitlement!D452","v":0},{"$f":"Salary_Entitlement!E452","v":{"$error":"#N/A"}},{"$f":"Salary_Entitlement!F452","v":0},{"$f":"Salary_Entitlement!G452","v":0},{"$f":"Salary_Entitlement!H452","v":0},{"$f":"Salary_Entitlement!I452","v":0},{"$f":"Salary_Entitlement!J452","v":0},{"$f":"Salary_Entitlement!K452","v":0},{"$f":"Salary_Entitlement!L452","v":0},{"$f":"Salary_Entitlement!M452","v":0},{"$f":"Salary_Entitlement!N452","v":0},{"$f":"Salary_Entitlement!O452","v":0},{"$f":"Salary_Entitlement!P452","v":0},{"$error":"#DIV/0!"},{"$error":"#DIV/0!"},{"$f":"INDEX(Deduction!$A$3:$K$501,MATCH(1,(Deduction!$A$3:$A$501=Sheet8!A451)*(Deduction!$B$3:$B$501=Sheet8!B451)*(Deduction!$C$3:$C$501=Sheet8!D451),0),5)","v":0},{"$f":"INDEX(Deduction!$A$3:$K$501,MATCH(1,(Deduction!$A$3:$A$501=Sheet8!A451)*(Deduction!$B$3:$B$501=Sheet8!B451)*(Deduction!$C$3:$C$501=Sheet8!D451),0),6)","v":0},{"$f":"INDEX(Deduction!$A$3:$K$501,MATCH(1,(Deduction!$A$3:$A$501=Sheet8!A451)*(Deduction!$B$3:$B$501=Sheet8!B451)*(Deduction!$C$3:$C$501=Sheet8!D451),0),7)","v":0},{"$f":"INDEX(Deduction!$A$3:$K$501,MATCH(1,(Deduction!$A$3:$A$501=Sheet8!A451)*(Deduction!$B$3:$B$501=Sheet8!B451)*(Deduction!$C$3:$C$501=Sheet8!D451),0),8)","v":0},{"$f":"INDEX(Deduction!$A$3:$K$501,MATCH(1,(Deduction!$A$3:$A$501=Sheet8!A451)*(Deduction!$B$3:$B$501=Sheet8!B451)*(Deduction!$C$3:$C$501=Sheet8!D451),0),9)","v":0},{"$f":"INDEX(Deduction!$A$3:$K$501,MATCH(1,(Deduction!$A$3:$A$501=Sheet8!A451)*(Deduction!$B$3:$B$501=Sheet8!B451)*(Deduction!$C$3:$C$501=Sheet8!D451),0),10)","v":0},{"$f":"INDEX(Deduction!$A$3:$K$501,MATCH(1,(Deduction!$A$3:$A$501=Sheet8!A451)*(Deduction!$B$3:$B$501=Sheet8!B451)*(Deduction!$C$3:$C$501=Sheet8!D451),0),11)","v":0},{"$error":"#DIV/0!"},{"$f":"VLOOKUP(D451,Emp_Master!$B$3:$H$501,7)","v":{"$error":"#N/A"}}]
[{"$f":"Salary_Entitlement!A453","v":0},{"$f":"Salary_Entitlement!B453","v":0},{"$f":"Salary_Entitlement!C453","v":0},{"$f":"Salary_Entitlement!D453","v":0},{"$f":"Salary_Entitlement!E453","v":{"$error":"#N/A"}},{"$f":"Salary_Entitlement!F453","v":0},{"$f":"Salary_Entitlement!G453","v":0},{"$f":"Salary_Entitlement!H453","v":0},{"$f":"Salary_Entitlement!I453","v":0},{"$f":"Salary_Entitlement!J453","v":0},{"$f":"Salary_Entitlement!K453","v":0},{"$f":"Salary_Entitlement!L453","v":0},{"$f":"Salary_Entitlement!M453","v":0},{"$f":"Salary_Entitlement!N453","v":0},{"$f":"Salary_Entitlement!O453","v":0},{"$f":"Salary_Entitlement!P453","v":0},{"$error":"#DIV/0!"},{"$error":"#DIV/0!"},{"$f":"INDEX(Deduction!$A$3:$K$501,MATCH(1,(Deduction!$A$3:$A$501=Sheet8!A452)*(Deduction!$B$3:$B$501=Sheet8!B452)*(Deduction!$C$3:$C$501=Sheet8!D452),0),5)","v":0},{"$f":"INDEX(Deduction!$A$3:$K$501,MATCH(1,(Deduction!$A$3:$A$501=Sheet8!A452)*(Deduction!$B$3:$B$501=Sheet8!B452)*(Deduction!$C$3:$C$501=Sheet8!D452),0),6)","v":0},{"$f":"INDEX(Deduction!$A$3:$K$501,MATCH(1,(Deduction!$A$3:$A$501=Sheet8!A452)*(Deduction!$B$3:$B$501=Sheet8!B452)*(Deduction!$C$3:$C$501=Sheet8!D452),0),7)","v":0},{"$f":"INDEX(Deduction!$A$3:$K$501,MATCH(1,(Deduction!$A$3:$A$501=Sheet8!A452)*(Deduction!$B$3:$B$501=Sheet8!B452)*(Deduction!$C$3:$C$501=Sheet8!D452),0),8)","v":0},{"$f":"INDEX(Deduction!$A$3:$K$501,MATCH(1,(Deduction!$A$3:$A$501=Sheet8!A452)*(Deduction!$B$3:$B$501=Sheet8!B452)*(Deduction!$C$3:$C$501=Sheet8!D452),0),9)","v":0},{"$f":"INDEX(Deduction!$A$3:$K$501,MATCH(1,(Deduction!$A$3:$A$501=Sheet8!A452)*(Deduction!$B$3:$B$501=Sheet8!B452)*(Deduction!$C$3:$C$501=Sheet8!D452),0),10)","v":0},{"$f":"INDEX(Deduction!$A$3:$K$501,MATCH(1,(Deduction!$A$3:$A$501=Sheet8!A452)*(Deduction!$B$3:$B$501=Sheet8!B452)*(Deduction!$C$3:$C$501=Sheet8!D452),0),11)","v":0},{"$f":"+R452-SUM(S452:Y452)","v":{"$error":"#DIV/0!"}},{"$f":"VLOOKUP(D452,Emp_Master!$B$3:$H$501,7)","v":{"$error":"#N/A"}}]
[{"$f":"Salary_Entitlement!A454","v":0},{"$f":"Salary_Entitlement!B454","v":0},{"$f":"Salary_Entitlement!C454","v":0},{"$f":"Salary_Entitlement!D454","v":0},{"$f":"Salary_Entitlement!E454","v":{"$error":"#N/A"}},{"$f":"Salary_Entitlement!F454","v":0},{"$f":"Salary_Entitlement!G454","v":0},{"$f":"Salary_Entitlement!H454","v":0},{"$f":"Salary_Entitlement!I454","v":0},{"$f":"Salary_Entitlement!J454","v":0},{"$f":"Salary_Entitlement!K454","v":0},{"$f":"Salary_Entitlement!L454","v":0},{"$f":"Salary_Entitlement!M454","v":0},{"$f":"Salary_Entitlement!N454","v":0},{"$f":"Salary_Entitlement!O454","v":0},{"$f":"Salary_Entitlement!P454","v":0},{"$error":"#DIV/0!"},{"$error":"#DIV/0!"},{"$f":"INDEX(Deduction!$A$3:$K$501,MATCH(1,(Deduction!$A$3:$A$501=Sheet8!A453)*(Deduction!$B$3:$B$501=Sheet8!B453)*(Deduction!$C$3:$C$501=Sheet8!D453),0),5)","v":0},{"$f":"INDEX(Deduction!$A$3:$K$501,MATCH(1,(Deduction!$A$3:$A$501=Sheet8!A453)*(Deduction!$B$3:$B$501=Sheet8!B453)*(Deduction!$C$3:$C$501=Sheet8!D453),0),6)","v":0},{"$f":"INDEX(Deduction!$A$3:$K$501,MATCH(1,(Deduction!$A$3:$A$501=Sheet8!A453)*(Deduction!$B$3:$B$501=Sheet8!B453)*(Deduction!$C$3:$C$501=Sheet8!D453),0),7)","v":0},{"$f":"INDEX(Deduction!$A$3:$K$501,MATCH(1,(Deduction!$A$3:$A$501=Sheet8!A453)*(Deduction!$B$3:$B$501=Sheet8!B453)*(Deduction!$C$3:$C$501=Sheet8!D453),0),8)","v":0},{"$f":"INDEX(Deduction!$A$3:$K$501,MATCH(1,(Deduction!$A$3:$A$501=Sheet8!A453)*(Deduction!$B$3:$B$501=Sheet8!B453)*(Deduction!$C$3:$C$501=Sheet8!D453),0),9)","v":0},{"$f":"INDEX(Deduction!$A$3:$K$501,MATCH(1,(Deduction!$A$3:$A$501=Sheet8!A453)*(Deduction!$B$3:$B$501=Sheet8!B453)*(Deduction!$C$3:$C$501=Sheet8!D453),0),10)","v":0},{"$f":"INDEX(Deduction!$A$3:$K$501,MATCH(1,(Deduction!$A$3:$A$501=Sheet8!A453)*(Deduction!$B$3:$B$501=Sheet8!B453)*(Deduction!$C$3:$C$501=Sheet8!D453),0),11)","v":0},{"$error":"#DIV/0!"},{"$f":"VLOOKUP(D453,Emp_Master!$B$3:$H$501,7)","v":{"$error":"#N/A"}}]
[{"$f":"Salary_Entitlement!A455","v":0},{"$f":"Salary_Entitlement!B455","v":0},{"$f":"Salary_Entitlement!C455","v":0},{"$f":"Salary_Entitlement!D455","v":0},{"$f":"Salary_Entitlement!E455","v":{"$error":"#N/A"}},{"$f":"Salary_Entitlement!F455","v":0},{"$f":"Salary_Entitlement!G455","v":0},{"$f":"Salary_Entitlement!H455","v":0},{"$f":"Salary_Entitlement!I455","v":0},{"$f":"Salary_Entitlement!J455","v":0},{"$f":"Salary_Entitlement!K455","v":0},{"$f":"Salary_Entitlement!L455","v":0},{"$f":"Salary_Entitlement!M455","v":0},{"$f":"Salary_Entitlement!N455","v":0},{"$f":"Salary_Entitlement!O455","v":0},{"$f":"Salary_Entitlement!P455","v":0},{"$error":"#DIV/0!"},{"$error":"#DIV/0!"},{"$f":"INDEX(Deduction!$A$3:$K$501,MATCH(1,(Deduction!$A$3:$A$501=Sheet8!A454)*(Deduction!$B$3:$B$501=Sheet8!B454)*(Deduction!$C$3:$C$501=Sheet8!D454),0),5)","v":0},{"$f":"INDEX(Deduction!$A$3:$K$501,MATCH(1,(Deduction!$A$3:$A$501=Sheet8!A454)*(Deduction!$B$3:$B$501=Sheet8!B454)*(Deduction!$C$3:$C$501=Sheet8!D454),0),6)","v":0},{"$f":"INDEX(Deduction!$A$3:$K$501,MATCH(1,(Deduction!$A$3:$A$501=Sheet8!A454)*(Deduction!$B$3:$B$501=Sheet8!B454)*(Deduction!$C$3:$C$501=Sheet8!D454),0),7)","v":0},{"$f":"INDEX(Deduction!$A$3:$K$501,MATCH(1,(Deduction!$A$3:$A$501=Sheet8!A454)*(Deduction!$B$3:$B$501=Sheet8!B454)*(Deduction!$C$3:$C$501=Sheet8!D454),0),8)","v":0},{"$f":"INDEX(Deduction!$A$3:$K$501,MATCH(1,(Deduction!$A$3:$A$501=Sheet8!A454)*(Deduction!$B$3:$B$501=Sheet8!B454)*(Deduction!$C$3:$C$501=Sheet8!D454),0),9)","v":0},{"$f":"INDEX(Deduction!$A$3:$K$501,MATCH(1,(Deduction!$A$3:$A$501=Sheet8!A454)*(Deduction!$B$3:$B$501=Sheet8!B454)*(Deduction!$C$3:$C$501=Sheet8!D454),0),10)","v":0},{"$f":"INDEX(Deduction!$A$3:$K$501,MATCH(1,(Deduction!$A$3:$A$501=Sheet8!A454)*(Deduction!$B$3:$B$501=Sheet8!B454)*(Deduction!$C$3:$C$501=Sheet8!D454),0),11)","v":0},{"$error":"#DIV/0!"},{"$f":"VLOOKUP(D454,Emp_Master!$B$3:$H$501,7)","v":{"$error":"#N/A"}}]
[{"$f":"Salary_Entitlement!A456","v":0},{"$f":"Salary_Entitlement!B456","v":0},{"$f":"Salary_Entitlement!C456","v":0},{"$f":"Salary_Entitlement!D456","v":0},{"$f":"Salary_Entitlement!E456","v":{"$error":"#N/A"}},{"$f":"Salary_Entitlement!F456","v":0},{"$f":"Salary_Entitlement!G456","v":0},{"$f":"Salary_Entitlement!H456","v":0},{"$f":"Salary_Entitlement!I456","v":0},{"$f":"Salary_Entitlement!J456","v":0},{"$f":"Salary_Entitlement!K456","v":0},{"$f":"Salary_Entitlement!L456","v":0},{"$f":"Salary_Entitlement!M456","v":0},{"$f":"Salary_Entitlement!N456","v":0},{"$f":"Salary_Entitlement!O456","v":0},{"$f":"Salary_Entitlement!P456","v":0},{"$error":"#DIV/0!"},{"$error":"#DIV/0!"},{"$f":"INDEX(Deduction!$A$3:$K$501,MATCH(1,(Deduction!$A$3:$A$501=Sheet8!A455)*(Deduction!$B$3:$B$501=Sheet8!B455)*(Deduction!$C$3:$C$501=Sheet8!D455),0),5)","v":0},{"$f":"INDEX(Deduction!$A$3:$K$501,MATCH(1,(Deduction!$A$3:$A$501=Sheet8!A455)*(Deduction!$B$3:$B$501=Sheet8!B455)*(Deduction!$C$3:$C$501=Sheet8!D455),0),6)","v":0},{"$f":"INDEX(Deduction!$A$3:$K$501,MATCH(1,(Deduction!$A$3:$A$501=Sheet8!A455)*(Deduction!$B$3:$B$501=Sheet8!B455)*(Deduction!$C$3:$C$501=Sheet8!D455),0),7)","v":0},{"$f":"INDEX(Deduction!$A$3:$K$501,MATCH(1,(Deduction!$A$3:$A$501=Sheet8!A455)*(Deduction!$B$3:$B$501=Sheet8!B455)*(Deduction!$C$3:$C$501=Sheet8!D455),0),8)","v":0},{"$f":"INDEX(Deduction!$A$3:$K$501,MATCH(1,(Deduction!$A$3:$A$501=Sheet8!A455)*(Deduction!$B$3:$B$501=Sheet8!B455)*(Deduction!$C$3:$C$501=Sheet8!D455),0),9)","v":0},{"$f":"INDEX(Deduction!$A$3:$K$501,MATCH(1,(Deduction!$A$3:$A$501=Sheet8!A455)*(Deduction!$B$3:$B$501=Sheet8!B455)*(Deduction!$C$3:$C$501=Sheet8!D455),0),10)","v":0},{"$f":"INDEX(Deduction!$A$3:$K$501,MATCH(1,(Deduction!$A$3:$A$501=Sheet8!A455)*(Deduction!$B$3:$B$501=Sheet8!B455)*(Deduction!$C$3:$C$501=Sheet8!D455),0),11)","v":0},{"$error":"#DIV/0!"},{"$f":"VLOOKUP(D455,Emp_Master!$B$3:$H$501,7)","v":{"$error":"#N/A"}}]
[{"$f":"Salary_Entitlement!A457","v":0},{"$f":"Salary_Entitlement!B457","v":0},{"$f":"Salary_Entitlement!C457","v":0},{"$f":"Salary_Entitlement!D457","v":0},{"$f":"Salary_Entitlement!E457","v":{"$error":"#N/A"}},{"$f":"Salary_Entitlement!F457","v":0},{"$f":"Salary_Entitlement!G457","v":0},{"$f":"Salary_Entitlement!H457","v":0},{"$f":"Salary_Entitlement!I457","v":0},{"$f":"Salary_Entitlement!J457","v":0},{"$f":"Salary_Entitlement!K457","v":0},{"$f":"Salary_Entitlement!L457","v":0},{"$f":"Salary_Entitlement!M457","v":0},{"$f":"Salary_Entitlement!N457","v":0},{"$f":"Salary_Entitlement!O457","v":0},{"$f":"Salary_Entitlement!P457","v":0},{"$error":"#DIV/0!"},{"$error":"#DIV/0!"},{"$f":"INDEX(Deduction!$A$3:$K$501,MATCH(1,(Deduction!$A$3:$A$501=Sheet8!A456)*(Deduction!$B$3:$B$501=Sheet8!B456)*(Deduction!$C$3:$C$501=Sheet8!D456),0),5)","v":0},{"$f":"INDEX(Deduction!$A$3:$K$501,MATCH(1,(Deduction!$A$3:$A$501=Sheet8!A456)*(Deduction!$B$3:$B$501=Sheet8!B456)*(Deduction!$C$3:$C$501=Sheet8!D456),0),6)","v":0},{"$f":"INDEX(Deduction!$A$3:$K$501,MATCH(1,(Deduction!$A$3:$A$501=Sheet8!A456)*(Deduction!$B$3:$B$501=Sheet8!B456)*(Deduction!$C$3:$C$501=Sheet8!D456),0),7)","v":0},{"$f":"INDEX(Deduction!$A$3:$K$501,MATCH(1,(Deduction!$A$3:$A$501=Sheet8!A456)*(Deduction!$B$3:$B$501=Sheet8!B456)*(Deduction!$C$3:$C$501=Sheet8!D456),0),8)","v":0},{"$f":"INDEX(Deduction!$A$3:$K$501,MATCH(1,(Deduction!$A$3:$A$501=Sheet8!A456)*(Deduction!$B$3:$B$501=Sheet8!B456)*(Deduction!$C$3:$C$501=Sheet8!D456),0),9)","v":0},{"$f":"INDEX(Deduction!$A$3:$K$501,MATCH(1,(Deduction!$A$3:$A$501=Sheet8!A456)*(Deduction!$B$3:$B$501=Sheet8!B456)*(Deduction!$C$3:$C$501=Sheet8!D456),0),10)","v":0},{"$f":"INDEX(Deduction!$A$3:$K$501,MATCH(1,(Deduction!$A$3:$A$501=Sheet8!A456)*(Deduction!$B$3:$B$501=Sheet8!B456)*(Deduction!$C$3:$C$501=Sheet8!D456),0),11)","v":0},{"$error":"#DIV/0!"},{"$f":"VLOOKUP(D456,Emp_Master!$B$3:$H$501,7)","v":{"$error":"#N/A"}}]
[{"$f":"Salary_Entitlement!A458","v":0},{"$f":"Salary_Entitlement!B458","v":0},{"$f":"Salary_Entitlement!C458","v":0},{"$f":"Salary_Entitlement!D458","v":0},{"$f":"Salary_Entitlement!E458","v":{"$error":"#N/A"}},{"$f":"Salary_Entitlement!F458","v":0},{"$f":"Salary_Entitlement!G458","v":0},{"$f":"Salary_Entitlement!H458","v":0},{"$f":"Salary_Entitlement!I458","v":0},{"$f":"Salary_Entitlement!J458","v":0},{"$f":"Salary_Entitlement!K458","v":0},{"$f":"Salary_Entitlement!L458","v":0},{"$f":"Salary_Entitlement!M458","v":0},{"$f":"Salary_Entitlement!N458","v":0},{"$f":"Salary_Entitlement!O458","v":0},{"$f":"Salary_Entitlement!P458","v":0},{"$error":"#DIV/0!"},{"$error":"#DIV/0!"},{"$f":"INDEX(Deduction!$A$3:$K$501,MATCH(1,(Deduction!$A$3:$A$501=Sheet8!A457)*(Deduction!$B$3:$B$501=Sheet8!B457)*(Deduction!$C$3:$C$501=Sheet8!D457),0),5)","v":0},{"$f":"INDEX(Deduction!$A$3:$K$501,MATCH(1,(Deduction!$A$3:$A$501=Sheet8!A457)*(Deduction!$B$3:$B$501=Sheet8!B457)*(Deduction!$C$3:$C$501=Sheet8!D457),0),6)","v":0},{"$f":"INDEX(Deduction!$A$3:$K$501,MATCH(1,(Deduction!$A$3:$A$501=Sheet8!A457)*(Deduction!$B$3:$B$501=Sheet8!B457)*(Deduction!$C$3:$C$501=Sheet8!D457),0),7)","v":0},{"$f":"INDEX(Deduction!$A$3:$K$501,MATCH(1,(Deduction!$A$3:$A$501=Sheet8!A457)*(Deduction!$B$3:$B$501=Sheet8!B457)*(Deduction!$C$3:$C$501=Sheet8!D457),0),8)","v":0},{"$f":"INDEX(Deduction!$A$3:$K$501,MATCH(1,(Deduction!$A$3:$A$501=Sheet8!A457)*(Deduction!$B$3:$B$501=Sheet8!B457)*(Deduction!$C$3:$C$501=Sheet8!D457),0),9)","v":0},{"$f":"INDEX(Deduction!$A$3:$K$501,MATCH(1,(Deduction!$A$3:$A$501=Sheet8!A457)*(Deduction!$B$3:$B$501=Sheet8!B457)*(Deduction!$C$3:$C$501=Sheet8!D457),0),10)","v":0},{"$f":"INDEX(Deduction!$A$3:$K$501,MATCH(1,(Deduction!$A$3:$A$501=Sheet8!A457)*(Deduction!$B$3:$B$501=Sheet8!B457)*(Deduction!$C$3:$C$501=Sheet8!D457),0),11)","v":0},{"$error":"#DIV/0!"},{"$f":"VLOOKUP(D457,Emp_Master!$B$3:$H$501,7)","v":{"$error":"#N/A"}}]
[{"$f":"Salary_Entitlement!A459","v":0},{"$f":"Salary_Entitlement!B459","v":0},{"$f":"Salary_Entitlement!C459","v":0},{"$f":"Salary_Entitlement!D459","v":0},{"$f":"Salary_Entitlement!E459","v":{"$error":"#N/A"}},{"$f":"Salary_Entitlement!F459","v":0},{"$f":"Salary_Entitlement!G459","v":0},{"$f":"Salary_Entitlement!H459","v":0},{"$f":"Salary_Entitlement!I459","v":0},{"$f":"Salary_Entitlement!J459","v":0},{"$f":"Salary_Entitlement!K459","v":0},{"$f":"Salary_Entitlement!L459","v":0},{"$f":"Salary_Entitlement!M459","v":0},{"$f":"Salary_Entitlement!N459","v":0},{"$f":"Salary_Entitlement!O459","v":0},{"$f":"Salary_Entitlement!P459","v":0},{"$error":"#DIV/0!"},{"$error":"#DIV/0!"},{"$f":"INDEX(Deduction!$A$3:$K$501,MATCH(1,(Deduction!$A$3:$A$501=Sheet8!A458)*(Deduction!$B$3:$B$501=Sheet8!B458)*(Deduction!$C$3:$C$501=Sheet8!D458),0),5)","v":0},{"$f":"INDEX(Deduction!$A$3:$K$501,MATCH(1,(Deduction!$A$3:$A$501=Sheet8!A458)*(Deduction!$B$3:$B$501=Sheet8!B458)*(Deduction!$C$3:$C$501=Sheet8!D458),0),6)","v":0},{"$f":"INDEX(Deduction!$A$3:$K$501,MATCH(1,(Deduction!$A$3:$A$501=Sheet8!A458)*(Deduction!$B$3:$B$501=Sheet8!B458)*(Deduction!$C$3:$C$501=Sheet8!D458),0),7)","v":0},{"$f":"INDEX(Deduction!$A$3:$K$501,MATCH(1,(Deduction!$A$3:$A$501=Sheet8!A458)*(Deduction!$B$3:$B$501=Sheet8!B458)*(Deduction!$C$3:$C$501=Sheet8!D458),0),8)","v":0},{"$f":"INDEX(Deduction!$A$3:$K$501,MATCH(1,(Deduction!$A$3:$A$501=Sheet8!A458)*(Deduction!$B$3:$B$501=Sheet8!B458)*(Deduction!$C$3:$C$501=Sheet8!D458),0),9)","v":0},{"$f":"INDEX(Deduction!$A$3:$K$501,MATCH(1,(Deduction!$A$3:$A$501=Sheet8!A458)*(Deduction!$B$3:$B$501=Sheet8!B458)*(Deduction!$C$3:$C$501=Sheet8!D458),0),10)","v":0},{"$f":"INDEX(Deduction!$A$3:$K$501,MATCH(1,(Deduction!$A$3:$A$501=Sheet8!A458)*(Deduction!$B$3:$B$501=Sheet8!B458)*(Deduction!$C$3:$C$501=Sheet8!D458),0),11)","v":0},{"$error":"#DIV/0!"},{"$f":"VLOOKUP(D458,Emp_Master!$B$3:$H$501,7)","v":{"$error":"#N/A"}}]
[{"$f":"Salary_Entitlement!A460","v":0},{"$f":"Salary_Entitlement!B460","v":0},{"$f":"Salary_Entitlement!C460","v":0},{"$f":"Salary_Entitlement!D460","v":0},{"$f":"Salary_Entitlement!E460","v":{"$error":"#N/A"}},{"$f":"Salary_Entitlement!F460","v":0},{"$f":"Salary_Entitlement!G460","v":0},{"$f":"Salary_Entitlement!H460","v":0},{"$f":"Salary_Entitlement!I460","v":0},{"$f":"Salary_Entitlement!J460","v":0},{"$f":"Salary_Entitlement!K460","v":0},{"$f":"Salary_Entitlement!L460","v":0},{"$f":"Salary_Entitlement!M460","v":0},{"$f":"Salary_Entitlement!N460","v":0},{"$f":"Salary_Entitlement!O460","v":0},{"$f":"Salary_Entitlement!P460","v":0},{"$error":"#DIV/0!"},{"$error":"#DIV/0!"},{"$f":"INDEX(Deduction!$A$3:$K$501,MATCH(1,(Deduction!$A$3:$A$501=Sheet8!A459)*(Deduction!$B$3:$B$501=Sheet8!B459)*(Deduction!$C$3:$C$501=Sheet8!D459),0),5)","v":0},{"$f":"INDEX(Deduction!$A$3:$K$501,MATCH(1,(Deduction!$A$3:$A$501=Sheet8!A459)*(Deduction!$B$3:$B$501=Sheet8!B459)*(Deduction!$C$3:$C$501=Sheet8!D459),0),6)","v":0},{"$f":"INDEX(Deduction!$A$3:$K$501,MATCH(1,(Deduction!$A$3:$A$501=Sheet8!A459)*(Deduction!$B$3:$B$501=Sheet8!B459)*(Deduction!$C$3:$C$501=Sheet8!D459),0),7)","v":0},{"$f":"INDEX(Deduction!$A$3:$K$501,MATCH(1,(Deduction!$A$3:$A$501=Sheet8!A459)*(Deduction!$B$3:$B$501=Sheet8!B459)*(Deduction!$C$3:$C$501=Sheet8!D459),0),8)","v":0},{"$f":"INDEX(Deduction!$A$3:$K$501,MATCH(1,(Deduction!$A$3:$A$501=Sheet8!A459)*(Deduction!$B$3:$B$501=Sheet8!B459)*(Deduction!$C$3:$C$501=Sheet8!D459),0),9)","v":0},{"$f":"INDEX(Deduction!$A$3:$K$501,MATCH(1,(Deduction!$A$3:$A$501=Sheet8!A459)*(Deduction!$B$3:$B$501=Sheet8!B459)*(Deduction!$C$3:$C$501=Sheet8!D459),0),10)","v":0},{"$f":"INDEX(Deduction!$A$3:$K$501,MATCH(1,(Deduction!$A$3:$A$501=Sheet8!A459)*(Deduction!$B$3:$B$501=Sheet8!B459)*(Deduction!$C$3:$C$501=Sheet8!D459),0),11)","v":0},{"$error":"#DIV/0!"},{"$f":"VLOOKUP(D459,Emp_Master!$B$3:$H$501,7)","v":{"$error":"#N/A"}}]
[{"$f":"Salary_Entitlement!A461","v":0},{"$f":"Salary_Entitlement!B461","v":0},{"$f":"Salary_Entitlement!C461","v":0},{"$f":"Salary_Entitlement!D461","v":0},{"$f":"Salary_Entitlement!E461","v":{"$error":"#N/A"}},{"$f":"Salary_Entitlement!F461","v":0},{"$f":"Salary_Entitlement!G461","v":0},{"$f":"Salary_Entitlement!H461","v":0},{"$f":"Salary_Entitlement!I461","v":0},{"$f":"Salary_Entitlement!J461","v":0},{"$f":"Salary_Entitlement!K461","v":0},{"$f":"Salary_Entitlement!L461","v":0},{"$f":"Salary_Entitlement!M461","v":0},{"$f":"Salary_Entitlement!N461","v":0},{"$f":"Salary_Entitlement!O461","v":0},{"$f":"Salary_Entitlement!P461","v":0},{"$error":"#DIV/0!"},{"$error":"#DIV/0!"},{"$f":"INDEX(Deduction!$A$3:$K$501,MATCH(1,(Deduction!$A$3:$A$501=Sheet8!A460)*(Deduction!$B$3:$B$501=Sheet8!B460)*(Deduction!$C$3:$C$501=Sheet8!D460),0),5)","v":0},{"$f":"INDEX(Deduction!$A$3:$K$501,MATCH(1,(Deduction!$A$3:$A$501=Sheet8!A460)*(Deduction!$B$3:$B$501=Sheet8!B460)*(Deduction!$C$3:$C$501=Sheet8!D460),0),6)","v":0},{"$f":"INDEX(Deduction!$A$3:$K$501,MATCH(1,(Deduction!$A$3:$A$501=Sheet8!A460)*(Deduction!$B$3:$B$501=Sheet8!B460)*(Deduction!$C$3:$C$501=Sheet8!D460),0),7)","v":0},{"$f":"INDEX(Deduction!$A$3:$K$501,MATCH(1,(Deduction!$A$3:$A$501=Sheet8!A460)*(Deduction!$B$3:$B$501=Sheet8!B460)*(Deduction!$C$3:$C$501=Sheet8!D460),0),8)","v":0},{"$f":"INDEX(Deduction!$A$3:$K$501,MATCH(1,(Deduction!$A$3:$A$501=Sheet8!A460)*(Deduction!$B$3:$B$501=Sheet8!B460)*(Deduction!$C$3:$C$501=Sheet8!D460),0),9)","v":0},{"$f":"INDEX(Deduction!$A$3:$K$501,MATCH(1,(Deduction!$A$3:$A$501=Sheet8!A460)*(Deduction!$B$3:$B$501=Sheet8!B460)*(Deduction!$C$3:$C$501=Sheet8!D460),0),10)","v":0},{"$f":"INDEX(Deduction!$A$3:$K$501,MATCH(1,(Deduction!$A$3:$A$501=Sheet8!A460)*(Deduction!$B$3:$B$501=Sheet8!B460)*(Deduction!$C$3:$C$501=Sheet8!D460),0),11)","v":0},{"$error":"#DIV/0!"},{"$f":"VLOOKUP(D460,Emp_Master!$B$3:$H$501,7)","v":{"$error":"#N/A"}}]
[{"$f":"Salary_Entitlement!A462","v":0},{"$f":"Salary_Entitlement!B462","v":0},{"$f":"Salary_Entitlement!C462","v":0},{"$f":"Salary_Entitlement!D462","v":0},{"$f":"Salary_Entitlement!E462","v":{"$error":"#N/A"}},{"$f":"Salary_Entitlement!F462","v":0},{"$f":"Salary_Entitlement!G462","v":0},{"$f":"Salary_Entitlement!H462","v":0},{"$f":"Salary_Entitlement!I462","v":0},{"$f":"Salary_Entitlement!J462","v":0},{"$f":"Salary_Entitlement!K462","v":0},{"$f":"Salary_Entitlement!L462","v":0},{"$f":"Salary_Entitlement!M462","v":0},{"$f":"Salary_Entitlement!N462","v":0},{"$f":"Salary_Entitlement!O462","v":0},{"$f":"Salary_Entitlement!P462","v":0},{"$error":"#DIV/0!"},{"$error":"#DIV/0!"},{"$f":"INDEX(Deduction!$A$3:$K$501,MATCH(1,(Deduction!$A$3:$A$501=Sheet8!A461)*(Deduction!$B$3:$B$501=Sheet8!B461)*(Deduction!$C$3:$C$501=Sheet8!D461),0),5)","v":0},{"$f":"INDEX(Deduction!$A$3:$K$501,MATCH(1,(Deduction!$A$3:$A$501=Sheet8!A461)*(Deduction!$B$3:$B$501=Sheet8!B461)*(Deduction!$C$3:$C$501=Sheet8!D461),0),6)","v":0},{"$f":"INDEX(Deduction!$A$3:$K$501,MATCH(1,(Deduction!$A$3:$A$501=Sheet8!A461)*(Deduction!$B$3:$B$501=Sheet8!B461)*(Deduction!$C$3:$C$501=Sheet8!D461),0),7)","v":0},{"$f":"INDEX(Deduction!$A$3:$K$501,MATCH(1,(Deduction!$A$3:$A$501=Sheet8!A461)*(Deduction!$B$3:$B$501=Sheet8!B461)*(Deduction!$C$3:$C$501=Sheet8!D461),0),8)","v":0},{"$f":"INDEX(Deduction!$A$3:$K$501,MATCH(1,(Deduction!$A$3:$A$501=Sheet8!A461)*(Deduction!$B$3:$B$501=Sheet8!B461)*(Deduction!$C$3:$C$501=Sheet8!D461),0),9)","v":0},{"$f":"INDEX(Deduction!$A$3:$K$501,MATCH(1,(Deduction!$A$3:$A$501=Sheet8!A461)*(Deduction!$B$3:$B$501=Sheet8!B461)*(Deduction!$C$3:$C$501=Sheet8!D461),0),10)","v":0},{"$f":"INDEX(Deduction!$A$3:$K$501,MATCH(1,(Deduction!$A$3:$A$501=Sheet8!A461)*(Deduction!$B$3:$B$501=Sheet8!B461)*(Deduction!$C$3:$C$501=Sheet8!D461),0),11)","v":0},{"$error":"#DIV/0!"},{"$f":"VLOOKUP(D461,Emp_Master!$B$3:$H$501,7)","v":{"$error":"#N/A"}}]
[{"$f":"Salary_Entitlement!A463","v":0},{"$f":"Salary_Entitlement!B463","v":0},{"$f":"Salary_Entitlement!C463","v":0},{"$f":"Salary_Entitlement!D463","v":0},{"$f":"Salary_Entitlement!E463","v":{"$error":"#N/A"}},{"$f":"Salary_Entitlement!F463","v":0},{"$f":"Salary_Entitlement!G463","v":0},{"$f":"Salary_Entitlement!H463","v":0},{"$f":"Salary_Entitlement!I463","v":0},{"$f":"Salary_Entitlement!J463","v":0},{"$f":"Salary_Entitlement!K463","v":0},{"$f":"Salary_Entitlement!L463","v":0},{"$f":"Salary_Entitlement!M463","v":0},{"$f":"Salary_Entitlement!N463","v":0},{"$f":"Salary_Entitlement!O463","v":0},{"$f":"Salary_Entitlement!P463","v":0},{"$error":"#DIV/0!"},{"$error":"#DIV/0!"},{"$f":"INDEX(Deduction!$A$3:$K$501,MATCH(1,(Deduction!$A$3:$A$501=Sheet8!A462)*(Deduction!$B$3:$B$501=Sheet8!B462)*(Deduction!$C$3:$C$501=Sheet8!D462),0),5)","v":0},{"$f":"INDEX(Deduction!$A$3:$K$501,MATCH(1,(Deduction!$A$3:$A$501=Sheet8!A462)*(Deduction!$B$3:$B$501=Sheet8!B462)*(Deduction!$C$3:$C$501=Sheet8!D462),0),6)","v":0},{"$f":"INDEX(Deduction!$A$3:$K$501,MATCH(1,(Deduction!$A$3:$A$501=Sheet8!A462)*(Deduction!$B$3:$B$501=Sheet8!B462)*(Deduction!$C$3:$C$501=Sheet8!D462),0),7)","v":0},{"$f":"INDEX(Deduction!$A$3:$K$501,MATCH(1,(Deduction!$A$3:$A$501=Sheet8!A462)*(Deduction!$B$3:$B$501=Sheet8!B462)*(Deduction!$C$3:$C$501=Sheet8!D462),0),8)","v":0},{"$f":"INDEX(Deduction!$A$3:$K$501,MATCH(1,(Deduction!$A$3:$A$501=Sheet8!A462)*(Deduction!$B$3:$B$501=Sheet8!B462)*(Deduction!$C$3:$C$501=Sheet8!D462),0),9)","v":0},{"$f":"INDEX(Deduction!$A$3:$K$501,MATCH(1,(Deduction!$A$3:$A$501=Sheet8!A462)*(Deduction!$B$3:$B$501=Sheet8!B462)*(Deduction!$C$3:$C$501=Sheet8!D462),0),10)","v":0},{"$f":"INDEX(Deduction!$A$3:$K$501,MATCH(1,(Deduction!$A$3:$A$501=Sheet8!A462)*(Deduction!$B$3:$B$501=Sheet8!B462)*(Deduction!$C$3:$C$501=Sheet8!D462),0),11)","v":0},{"$error":"#DIV/0!"},{"$f":"VLOOKUP(D462,Emp_Master!$B$3:$H$501,7)","v":{"$error":"#N/A"}}]
[{"$f":"Salary_Entitlement!A464","v":0},{"$f":"Salary_Entitlement!B464","v":0},{"$f":"Salary_Entitlement!C464","v":0},{"$f":"Salary_Entitlement!D464","v":0},{"$f":"Salary_Entitlement!E464","v":{"$error":"#N/A"}},{"$f":"Salary_Entitlement!F464","v":0},{"$f":"Salary_Entitlement!G464","v":0},{"$f":"Salary_Entitlement!H464","v":0},{"$f":"Salary_Entitlement!I464","v":0},{"$f":"Salary_Entitlement!J464","v":0},{"$f":"Salary_Entitlement!K464","v":0},{"$f":"Salary_Entitlement!L464","v":0},{"$f":"Salary_Entitlement!M464","v":0},{"$f":"Salary_Entitlement!N464","v":0},{"$f":"Salary_Entitlement!O464","v":0},{"$f":"Salary_Entitlement!P464","v":0},{"$error":"#DIV/0!"},{"$error":"#DIV/0!"},{"$f":"INDEX(Deduction!$A$3:$K$501,MATCH(1,(Deduction!$A$3:$A$501=Sheet8!A463)*(Deduction!$B$3:$B$501=Sheet8!B463)*(Deduction!$C$3:$C$501=Sheet8!D463),0),5)","v":0},{"$f":"INDEX(Deduction!$A$3:$K$501,MATCH(1,(Deduction!$A$3:$A$501=Sheet8!A463)*(Deduction!$B$3:$B$501=Sheet8!B463)*(Deduction!$C$3:$C$501=Sheet8!D463),0),6)","v":0},{"$f":"INDEX(Deduction!$A$3:$K$501,MATCH(1,(Deduction!$A$3:$A$501=Sheet8!A463)*(Deduction!$B$3:$B$501=Sheet8!B463)*(Deduction!$C$3:$C$501=Sheet8!D463),0),7)","v":0},{"$f":"INDEX(Deduction!$A$3:$K$501,MATCH(1,(Deduction!$A$3:$A$501=Sheet8!A463)*(Deduction!$B$3:$B$501=Sheet8!B463)*(Deduction!$C$3:$C$501=Sheet8!D463),0),8)","v":0},{"$f":"INDEX(Deduction!$A$3:$K$501,MATCH(1,(Deduction!$A$3:$A$501=Sheet8!A463)*(Deduction!$B$3:$B$501=Sheet8!B463)*(Deduction!$C$3:$C$501=Sheet8!D463),0),9)","v":0},{"$f":"INDEX(Deduction!$A$3:$K$501,MATCH(1,(Deduction!$A$3:$A$501=Sheet8!A463)*(Deduction!$B$3:$B$501=Sheet8!B463)*(Deduction!$C$3:$C$501=Sheet8!D463),0),10)","v":0},{"$f":"INDEX(Deduction!$A$3:$K$501,MATCH(1,(Deduction!$A$3:$A$501=Sheet8!A463)*(Deduction!$B$3:$B$501=Sheet8!B463)*(Deduction!$C$3:$C$501=Sheet8!D463),0),11)","v":0},{"$error":"#DIV/0!"},{"$f":"VLOOKUP(D463,Emp_Master!$B$3:$H$501,7)","v":{"$error":"#N/A"}}]
[{"$f":"Salary_Entitlement!A465","v":0},{"$f":"Salary_Entitlement!B465","v":0},{"$f":"Salary_Entitlement!C465","v":0},{"$f":"Salary_Entitlement!D465","v":0},{"$f":"Salary_Entitlement!E465","v":{"$error":"#N/A"}},{"$f":"Salary_Entitlement!F465","v":0},{"$f":"Salary_Entitlement!G465","v":0},{"$f":"Salary_Entitlement!H465","v":0},{"$f":"Salary_Entitlement!I465","v":0},{"$f":"Salary_Entitlement!J465","v":0},{"$f":"Salary_Entitlement!K465","v":0},{"$f":"Salary_Entitlement!L465","v":0},{"$f":"Salary_Entitlement!M465","v":0},{"$f":"Salary_Entitlement!N465","v":0},{"$f":"Salary_Entitlement!O465","v":0},{"$f":"Salary_Entitlement!P465","v":0},{"$error":"#DIV/0!"},{"$error":"#DIV/0!"},{"$f":"INDEX(Deduction!$A$3:$K$501,MATCH(1,(Deduction!$A$3:$A$501=Sheet8!A464)*(Deduction!$B$3:$B$501=Sheet8!B464)*(Deduction!$C$3:$C$501=Sheet8!D464),0),5)","v":0},{"$f":"INDEX(Deduction!$A$3:$K$501,MATCH(1,(Deduction!$A$3:$A$501=Sheet8!A464)*(Deduction!$B$3:$B$501=Sheet8!B464)*(Deduction!$C$3:$C$501=Sheet8!D464),0),6)","v":0},{"$f":"INDEX(Deduction!$A$3:$K$501,MATCH(1,(Deduction!$A$3:$A$501=Sheet8!A464)*(Deduction!$B$3:$B$501=Sheet8!B464)*(Deduction!$C$3:$C$501=Sheet8!D464),0),7)","v":0},{"$f":"INDEX(Deduction!$A$3:$K$501,MATCH(1,(Deduction!$A$3:$A$501=Sheet8!A464)*(Deduction!$B$3:$B$501=Sheet8!B464)*(Deduction!$C$3:$C$501=Sheet8!D464),0),8)","v":0},{"$f":"INDEX(Deduction!$A$3:$K$501,MATCH(1,(Deduction!$A$3:$A$501=Sheet8!A464)*(Deduction!$B$3:$B$501=Sheet8!B464)*(Deduction!$C$3:$C$501=Sheet8!D464),0),9)","v":0},{"$f":"INDEX(Deduction!$A$3:$K$501,MATCH(1,(Deduction!$A$3:$A$501=Sheet8!A464)*(Deduction!$B$3:$B$501=Sheet8!B464)*(Deduction!$C$3:$C$501=Sheet8!D464),0),10)","v":0},{"$f":"INDEX(Deduction!$A$3:$K$501,MATCH(1,(Deduction!$A$3:$A$501=Sheet8!A464)*(Deduction!$B$3:$B$501=Sheet8!B464)*(Deduction!$C$3:$C$501=Sheet8!D464),0),11)","v":0},{"$error":"#DIV/0!"},{"$f":"VLOOKUP(D464,Emp_Master!$B$3:$H$501,7)","v":{"$error":"#N/A"}}]
[{"$f":"Salary_Entitlement!A466","v":0},{"$f":"Salary_Entitlement!B466","v":0},{"$f":"Salary_Entitlement!C466","v":0},{"$f":"Salary_Entitlement!D466","v":0},{"$f":"Salary_Entitlement!E466","v":{"$error":"#N/A"}},{"$f":"Salary_Entitlement!F466","v":0},{"$f":"Salary_Entitlement!G466","v":0},{"$f":"Salary_Entitlement!H466","v":0},{"$f":"Salary_Entitlement!I466","v":0},{"$f":"Salary_Entitlement!J466","v":0},{"$f":"Salary_Entitlement!K466","v":0},{"$f":"Salary_Entitlement!L466","v":0},{"$f":"Salary_Entitlement!M466","v":0},{"$f":"Salary_Entitlement!N466","v":0},{"$f":"Salary_Entitlement!O466","v":0},{"$f":"Salary_Entitlement!P466","v":0},{"$error":"#DIV/0!"},{"$error":"#DIV/0!"},{"$f":"INDEX(Deduction!$A$3:$K$501,MATCH(1,(Deduction!$A$3:$A$501=Sheet8!A465)*(Deduction!$B$3:$B$501=Sheet8!B465)*(Deduction!$C$3:$C$501=Sheet8!D465),0),5)","v":0},{"$f":"INDEX(Deduction!$A$3:$K$501,MATCH(1,(Deduction!$A$3:$A$501=Sheet8!A465)*(Deduction!$B$3:$B$501=Sheet8!B465)*(Deduction!$C$3:$C$501=Sheet8!D465),0),6)","v":0},{"$f":"INDEX(Deduction!$A$3:$K$501,MATCH(1,(Deduction!$A$3:$A$501=Sheet8!A465)*(Deduction!$B$3:$B$501=Sheet8!B465)*(Deduction!$C$3:$C$501=Sheet8!D465),0),7)","v":0},{"$f":"INDEX(Deduction!$A$3:$K$501,MATCH(1,(Deduction!$A$3:$A$501=Sheet8!A465)*(Deduction!$B$3:$B$501=Sheet8!B465)*(Deduction!$C$3:$C$501=Sheet8!D465),0),8)","v":0},{"$f":"INDEX(Deduction!$A$3:$K$501,MATCH(1,(Deduction!$A$3:$A$501=Sheet8!A465)*(Deduction!$B$3:$B$501=Sheet8!B465)*(Deduction!$C$3:$C$501=Sheet8!D465),0),9)","v":0},{"$f":"INDEX(Deduction!$A$3:$K$501,MATCH(1,(Deduction!$A$3:$A$501=Sheet8!A465)*(Deduction!$B$3:$B$501=Sheet8!B465)*(Deduction!$C$3:$C$501=Sheet8!D465),0),10)","v":0},{"$f":"INDEX(Deduction!$A$3:$K$501,MATCH(1,(Deduction!$A$3:$A$501=Sheet8!A465)*(Deduction!$B$3:$B$501=Sheet8!B465)*(Deduction!$C$3:$C$501=Sheet8!D465),0),11)","v":0},{"$error":"#DIV/0!"},{"$f":"VLOOKUP(D465,Emp_Master!$B$3:$H$501,7)","v":{"$error":"#N/A"}}]
[{"$f":"Salary_Entitlement!A467","v":0},{"$f":"Salary_Entitlement!B467","v":0},{"$f":"Salary_Entitlement!C467","v":0},{"$f":"Salary_Entitlement!D467","v":0},{"$f":"Salary_Entitlement!E467","v":{"$error":"#N/A"}},{"$f":"Salary_Entitlement!F467","v":0},{"$f":"Salary_Entitlement!G467","v":0},{"$f":"Salary_Entitlement!H467","v":0},{"$f":"Salary_Entitlement!I467","v":0},{"$f":"Salary_Entitlement!J467","v":0},{"$f":"Salary_Entitlement!K467","v":0},{"$f":"Salary_Entitlement!L467","v":0},{"$f":"Salary_Entitlement!M467","v":0},{"$f":"Salary_Entitlement!N467","v":0},{"$f":"Salary_Entitlement!O467","v":0},{"$f":"Salary_Entitlement!P467","v":0},{"$error":"#DIV/0!"},{"$error":"#DIV/0!"},{"$f":"INDEX(Deduction!$A$3:$K$501,MATCH(1,(Deduction!$A$3:$A$501=Sheet8!A466)*(Deduction!$B$3:$B$501=Sheet8!B466)*(Deduction!$C$3:$C$501=Sheet8!D466),0),5)","v":0},{"$f":"INDEX(Deduction!$A$3:$K$501,MATCH(1,(Deduction!$A$3:$A$501=Sheet8!A466)*(Deduction!$B$3:$B$501=Sheet8!B466)*(Deduction!$C$3:$C$501=Sheet8!D466),0),6)","v":0},{"$f":"INDEX(Deduction!$A$3:$K$501,MATCH(1,(Deduction!$A$3:$A$501=Sheet8!A466)*(Deduction!$B$3:$B$501=Sheet8!B466)*(Deduction!$C$3:$C$501=Sheet8!D466),0),7)","v":0},{"$f":"INDEX(Deduction!$A$3:$K$501,MATCH(1,(Deduction!$A$3:$A$501=Sheet8!A466)*(Deduction!$B$3:$B$501=Sheet8!B466)*(Deduction!$C$3:$C$501=Sheet8!D466),0),8)","v":0},{"$f":"INDEX(Deduction!$A$3:$K$501,MATCH(1,(Deduction!$A$3:$A$501=Sheet8!A466)*(Deduction!$B$3:$B$501=Sheet8!B466)*(Deduction!$C$3:$C$501=Sheet8!D466),0),9)","v":0},{"$f":"INDEX(Deduction!$A$3:$K$501,MATCH(1,(Deduction!$A$3:$A$501=Sheet8!A466)*(Deduction!$B$3:$B$501=Sheet8!B466)*(Deduction!$C$3:$C$501=Sheet8!D466),0),10)","v":0},{"$f":"INDEX(Deduction!$A$3:$K$501,MATCH(1,(Deduction!$A$3:$A$501=Sheet8!A466)*(Deduction!$B$3:$B$501=Sheet8!B466)*(Deduction!$C$3:$C$501=Sheet8!D466),0),11)","v":0},{"$error":"#DIV/0!"},{"$f":"VLOOKUP(D466,Emp_Master!$B$3:$H$501,7)","v":{"$error":"#N/A"}}]
[{"$f":"Salary_Entitlement!A468","v":0},{"$f":"Salary_Entitlement!B468","v":0},{"$f":"Salary_Entitlement!C468","v":0},{"$f":"Salary_Entitlement!D468","v":0},{"$f":"Salary_Entitlement!E468","v":{"$error":"#N/A"}},{"$f":"Salary_Entitlement!F468","v":0},{"$f":"Salary_Entitlement!G468","v":0},{"$f":"Salary_Entitlement!H468","v":0},{"$f":"Salary_Entitlement!I468","v":0},{"$f":"Salary_Entitlement!J468","v":0},{"$f":"Salary_Entitlement!K468","v":0},{"$f":"Salary_Entitlement!L468","v":0},{"$f":"Salary_Entitlement!M468","v":0},{"$f":"Salary_Entitlement!N468","v":0},{"$f":"Salary_Entitlement!O468","v":0},{"$f":"Salary_Entitlement!P468","v":0},{"$error":"#DIV/0!"},{"$error":"#DIV/0!"},{"$f":"INDEX(Deduction!$A$3:$K$501,MATCH(1,(Deduction!$A$3:$A$501=Sheet8!A467)*(Deduction!$B$3:$B$501=Sheet8!B467)*(Deduction!$C$3:$C$501=Sheet8!D467),0),5)","v":0},{"$f":"INDEX(Deduction!$A$3:$K$501,MATCH(1,(Deduction!$A$3:$A$501=Sheet8!A467)*(Deduction!$B$3:$B$501=Sheet8!B467)*(Deduction!$C$3:$C$501=Sheet8!D467),0),6)","v":0},{"$f":"INDEX(Deduction!$A$3:$K$501,MATCH(1,(Deduction!$A$3:$A$501=Sheet8!A467)*(Deduction!$B$3:$B$501=Sheet8!B467)*(Deduction!$C$3:$C$501=Sheet8!D467),0),7)","v":0},{"$f":"INDEX(Deduction!$A$3:$K$501,MATCH(1,(Deduction!$A$3:$A$501=Sheet8!A467)*(Deduction!$B$3:$B$501=Sheet8!B467)*(Deduction!$C$3:$C$501=Sheet8!D467),0),8)","v":0},{"$f":"INDEX(Deduction!$A$3:$K$501,MATCH(1,(Deduction!$A$3:$A$501=Sheet8!A467)*(Deduction!$B$3:$B$501=Sheet8!B467)*(Deduction!$C$3:$C$501=Sheet8!D467),0),9)","v":0},{"$f":"INDEX(Deduction!$A$3:$K$501,MATCH(1,(Deduction!$A$3:$A$501=Sheet8!A467)*(Deduction!$B$3:$B$501=Sheet8!B467)*(Deduction!$C$3:$C$501=Sheet8!D467),0),10)","v":0},{"$f":"INDEX(Deduction!$A$3:$K$501,MATCH(1,(Deduction!$A$3:$A$501=Sheet8!A467)*(Deduction!$B$3:$B$501=Sheet8!B467)*(Deduction!$C$3:$C$501=Sheet8!D467),0),11)","v":0},{"$error":"#DIV/0!"},{"$f":"VLOOKUP(D467,Emp_Master!$B$3:$H$501,7)","v":{"$error":"#N/A"}}]
[{"$f":"Salary_Entitlement!A469","v":0},{"$f":"Salary_Entitlement!B469","v":0},{"$f":"Salary_Entitlement!C469","v":0},{"$f":"Salary_Entitlement!D469","v":0},{"$f":"Salary_Entitlement!E469","v":{"$error":"#N/A"}},{"$f":"Salary_Entitlement!F469","v":0},{"$f":"Salary_Entitlement!G469","v":0},{"$f":"Salary_Entitlement!H469","v":0},{"$f":"Salary_Entitlement!I469","v":0},{"$f":"Salary_Entitlement!J469","v":0},{"$f":"Salary_Entitlement!K469","v":0},{"$f":"Salary_Entitlement!L469","v":0},{"$f":"Salary_Entitlement!M469","v":0},{"$f":"Salary_Entitlement!N469","v":0},{"$f":"Salary_Entitlement!O469","v":0},{"$f":"Salary_Entitlement!P469","v":0},{"$error":"#DIV/0!"},{"$error":"#DIV/0!"},{"$f":"INDEX(Deduction!$A$3:$K$501,MATCH(1,(Deduction!$A$3:$A$501=Sheet8!A468)*(Deduction!$B$3:$B$501=Sheet8!B468)*(Deduction!$C$3:$C$501=Sheet8!D468),0),5)","v":0},{"$f":"INDEX(Deduction!$A$3:$K$501,MATCH(1,(Deduction!$A$3:$A$501=Sheet8!A468)*(Deduction!$B$3:$B$501=Sheet8!B468)*(Deduction!$C$3:$C$501=Sheet8!D468),0),6)","v":0},{"$f":"INDEX(Deduction!$A$3:$K$501,MATCH(1,(Deduction!$A$3:$A$501=Sheet8!A468)*(Deduction!$B$3:$B$501=Sheet8!B468)*(Deduction!$C$3:$C$501=Sheet8!D468),0),7)","v":0},{"$f":"INDEX(Deduction!$A$3:$K$501,MATCH(1,(Deduction!$A$3:$A$501=Sheet8!A468)*(Deduction!$B$3:$B$501=Sheet8!B468)*(Deduction!$C$3:$C$501=Sheet8!D468),0),8)","v":0},{"$f":"INDEX(Deduction!$A$3:$K$501,MATCH(1,(Deduction!$A$3:$A$501=Sheet8!A468)*(Deduction!$B$3:$B$501=Sheet8!B468)*(Deduction!$C$3:$C$501=Sheet8!D468),0),9)","v":0},{"$f":"INDEX(Deduction!$A$3:$K$501,MATCH(1,(Deduction!$A$3:$A$501=Sheet8!A468)*(Deduction!$B$3:$B$501=Sheet8!B468)*(Deduction!$C$3:$C$501=Sheet8!D468),0),10)","v":0},{"$f":"INDEX(Deduction!$A$3:$K$501,MATCH(1,(Deduction!$A$3:$A$501=Sheet8!A468)*(Deduction!$B$3:$B$501=Sheet8!B468)*(Deduction!$C$3:$C$501=Sheet8!D468),0),11)","v":0},{"$error":"#DIV/0!"},{"$f":"VLOOKUP(D468,Emp_Master!$B$3:$H$501,7)","v":{"$error":"#N/A"}}]
[{"$f":"Salary_Entitlement!A470","v":0},{"$f":"Salary_Entitlement!B470","v":0},{"$f":"Salary_Entitlement!C470","v":0},{"$f":"Salary_Entitlement!D470","v":0},{"$f":"Salary_Entitlement!E470","v":{"$error":"#N/A"}},{"$f":"Salary_Entitlement!F470","v":0},{"$f":"Salary_Entitlement!G470","v":0},{"$f":"Salary_Entitlement!H470","v":0},{"$f":"Salary_Entitlement!I470","v":0},{"$f":"Salary_Entitlement!J470","v":0},{"$f":"Salary_Entitlement!K470","v":0},{"$f":"Salary_Entitlement!L470","v":0},{"$f":"Salary_Entitlement!M470","v":0},{"$f":"Salary_Entitlement!N470","v":0},{"$f":"Salary_Entitlement!O470","v":0},{"$f":"Salary_Entitlement!P470","v":0},{"$error":"#DIV/0!"},{"$error":"#DIV/0!"},{"$f":"INDEX(Deduction!$A$3:$K$501,MATCH(1,(Deduction!$A$3:$A$501=Sheet8!A469)*(Deduction!$B$3:$B$501=Sheet8!B469)*(Deduction!$C$3:$C$501=Sheet8!D469),0),5)","v":0},{"$f":"INDEX(Deduction!$A$3:$K$501,MATCH(1,(Deduction!$A$3:$A$501=Sheet8!A469)*(Deduction!$B$3:$B$501=Sheet8!B469)*(Deduction!$C$3:$C$501=Sheet8!D469),0),6)","v":0},{"$f":"INDEX(Deduction!$A$3:$K$501,MATCH(1,(Deduction!$A$3:$A$501=Sheet8!A469)*(Deduction!$B$3:$B$501=Sheet8!B469)*(Deduction!$C$3:$C$501=Sheet8!D469),0),7)","v":0},{"$f":"INDEX(Deduction!$A$3:$K$501,MATCH(1,(Deduction!$A$3:$A$501=Sheet8!A469)*(Deduction!$B$3:$B$501=Sheet8!B469)*(Deduction!$C$3:$C$501=Sheet8!D469),0),8)","v":0},{"$f":"INDEX(Deduction!$A$3:$K$501,MATCH(1,(Deduction!$A$3:$A$501=Sheet8!A469)*(Deduction!$B$3:$B$501=Sheet8!B469)*(Deduction!$C$3:$C$501=Sheet8!D469),0),9)","v":0},{"$f":"INDEX(Deduction!$A$3:$K$501,MATCH(1,(Deduction!$A$3:$A$501=Sheet8!A469)*(Deduction!$B$3:$B$501=Sheet8!B469)*(Deduction!$C$3:$C$501=Sheet8!D469),0),10)","v":0},{"$f":"INDEX(Deduction!$A$3:$K$501,MATCH(1,(Deduction!$A$3:$A$501=Sheet8!A469)*(Deduction!$B$3:$B$501=Sheet8!B469)*(Deduction!$C$3:$C$501=Sheet8!D469),0),11)","v":0},{"$error":"#DIV/0!"},{"$f":"VLOOKUP(D469,Emp_Master!$B$3:$H$501,7)","v":{"$error":"#N/A"}}]
[{"$f":"Salary_Entitlement!A471","v":0},{"$f":"Salary_Entitlement!B471","v":0},{"$f":"Salary_Entitlement!C471","v":0},{"$f":"Salary_Entitlement!D471","v":0},{"$f":"Salary_Entitlement!E471","v":{"$error":"#N/A"}},{"$f":"Salary_Entitlement!F471","v":0},{"$f":"Salary_Entitlement!G471","v":0},{"$f":"Salary_Entitlement!H471","v":0},{"$f":"Salary_Entitlement!I471","v":0},{"$f":"Salary_Entitlement!J471","v":0},{"$f":"Salary_Entitlement!K471","v":0},{"$f":"Salary_Entitlement!L471","v":0},{"$f":"Salary_Entitlement!M471","v":0},{"$f":"Salary_Entitlement!N471","v":0},{"$f":"Salary_Entitlement!O471","v":0},{"$f":"Salary_Entitlement!P471","v":0},{"$error":"#DIV/0!"},{"$error":"#DIV/0!"},{"$f":"INDEX(Deduction!$A$3:$K$501,MATCH(1,(Deduction!$A$3:$A$501=Sheet8!A470)*(Deduction!$B$3:$B$501=Sheet8!B470)*(Deduction!$C$3:$C$501=Sheet8!D470),0),5)","v":0},{"$f":"INDEX(Deduction!$A$3:$K$501,MATCH(1,(Deduction!$A$3:$A$501=Sheet8!A470)*(Deduction!$B$3:$B$501=Sheet8!B470)*(Deduction!$C$3:$C$501=Sheet8!D470),0),6)","v":0},{"$f":"INDEX(Deduction!$A$3:$K$501,MATCH(1,(Deduction!$A$3:$A$501=Sheet8!A470)*(Deduction!$B$3:$B$501=Sheet8!B470)*(Deduction!$C$3:$C$501=Sheet8!D470),0),7)","v":0},{"$f":"INDEX(Deduction!$A$3:$K$501,MATCH(1,(Deduction!$A$3:$A$501=Sheet8!A470)*(Deduction!$B$3:$B$501=Sheet8!B470)*(Deduction!$C$3:$C$501=Sheet8!D470),0),8)","v":0},{"$f":"INDEX(Deduction!$A$3:$K$501,MATCH(1,(Deduction!$A$3:$A$501=Sheet8!A470)*(Deduction!$B$3:$B$501=Sheet8!B470)*(Deduction!$C$3:$C$501=Sheet8!D470),0),9)","v":0},{"$f":"INDEX(Deduction!$A$3:$K$501,MATCH(1,(Deduction!$A$3:$A$501=Sheet8!A470)*(Deduction!$B$3:$B$501=Sheet8!B470)*(Deduction!$C$3:$C$501=Sheet8!D470),0),10)","v":0},{"$f":"INDEX(Deduction!$A$3:$K$501,MATCH(1,(Deduction!$A$3:$A$501=Sheet8!A470)*(Deduction!$B$3:$B$501=Sheet8!B470)*(Deduction!$C$3:$C$501=Sheet8!D470),0),11)","v":0},{"$error":"#DIV/0!"},{"$f":"VLOOKUP(D470,Emp_Master!$B$3:$H$501,7)","v":{"$error":"#N/A"}}]
[{"$f":"Salary_Entitlement!A472","v":0},{"$f":"Salary_Entitlement!B472","v":0},{"$f":"Salary_Entitlement!C472","v":0},{"$f":"Salary_Entitlement!D472","v":0},{"$f":"Salary_Entitlement!E472","v":{"$error":"#N/A"}},{"$f":"Salary_Entitlement!F472","v":0},{"$f":"Salary_Entitlement!G472","v":0},{"$f":"Salary_Entitlement!H472","v":0},{"$f":"Salary_Entitlement!I472","v":0},{"$f":"Salary_Entitlement!J472","v":0},{"$f":"Salary_Entitlement!K472","v":0},{"$f":"Salary_Entitlement!L472","v":0},{"$f":"Salary_Entitlement!M472","v":0},{"$f":"Salary_Entitlement!N472","v":0},{"$f":"Salary_Entitlement!O472","v":0},{"$f":"Salary_Entitlement!P472","v":0},{"$error":"#DIV/0!"},{"$error":"#DIV/0!"},{"$f":"INDEX(Deduction!$A$3:$K$501,MATCH(1,(Deduction!$A$3:$A$501=Sheet8!A471)*(Deduction!$B$3:$B$501=Sheet8!B471)*(Deduction!$C$3:$C$501=Sheet8!D471),0),5)","v":0},{"$f":"INDEX(Deduction!$A$3:$K$501,MATCH(1,(Deduction!$A$3:$A$501=Sheet8!A471)*(Deduction!$B$3:$B$501=Sheet8!B471)*(Deduction!$C$3:$C$501=Sheet8!D471),0),6)","v":0},{"$f":"INDEX(Deduction!$A$3:$K$501,MATCH(1,(Deduction!$A$3:$A$501=Sheet8!A471)*(Deduction!$B$3:$B$501=Sheet8!B471)*(Deduction!$C$3:$C$501=Sheet8!D471),0),7)","v":0},{"$f":"INDEX(Deduction!$A$3:$K$501,MATCH(1,(Deduction!$A$3:$A$501=Sheet8!A471)*(Deduction!$B$3:$B$501=Sheet8!B471)*(Deduction!$C$3:$C$501=Sheet8!D471),0),8)","v":0},{"$f":"INDEX(Deduction!$A$3:$K$501,MATCH(1,(Deduction!$A$3:$A$501=Sheet8!A471)*(Deduction!$B$3:$B$501=Sheet8!B471)*(Deduction!$C$3:$C$501=Sheet8!D471),0),9)","v":0},{"$f":"INDEX(Deduction!$A$3:$K$501,MATCH(1,(Deduction!$A$3:$A$501=Sheet8!A471)*(Deduction!$B$3:$B$501=Sheet8!B471)*(Deduction!$C$3:$C$501=Sheet8!D471),0),10)","v":0},{"$f":"INDEX(Deduction!$A$3:$K$501,MATCH(1,(Deduction!$A$3:$A$501=Sheet8!A471)*(Deduction!$B$3:$B$501=Sheet8!B471)*(Deduction!$C$3:$C$501=Sheet8!D471),0),11)","v":0},{"$error":"#DIV/0!"},{"$f":"VLOOKUP(D471,Emp_Master!$B$3:$H$501,7)","v":{"$error":"#N/A"}}]
[{"$f":"Salary_Entitlement!A473","v":0},{"$f":"Salary_Entitlement!B473","v":0},{"$f":"Salary_Entitlement!C473","v":0},{"$f":"Salary_Entitlement!D473","v":0},{"$f":"Salary_Entitlement!E473","v":{"$error":"#N/A"}},{"$f":"Salary_Entitlement!F473","v":0},{"$f":"Salary_Entitlement!G473","v":0},{"$f":"Salary_Entitlement!H473","v":0},{"$f":"Salary_Entitlement!I473","v":0},{"$f":"Salary_Entitlement!J473","v":0},{"$f":"Salary_Entitlement!K473","v":0},{"$f":"Salary_Entitlement!L473","v":0},{"$f":"Salary_Entitlement!M473","v":0},{"$f":"Salary_Entitlement!N473","v":0},{"$f":"Salary_Entitlement!O473","v":0},{"$f":"Salary_Entitlement!P473","v":0},{"$f":"F472/M472*(M472-N472)","v":{"$error":"#DIV/0!"}},{"$f":"SUM(F472:L472)-Q472","v":{"$error":"#DIV/0!"}},{"$f":"INDEX(Deduction!$A$3:$K$501,MATCH(1,(Deduction!$A$3:$A$501=Sheet8!A472)*(Deduction!$B$3:$B$501=Sheet8!B472)*(Deduction!$C$3:$C$501=Sheet8!D472),0),5)","v":0},{"$f":"INDEX(Deduction!$A$3:$K$501,MATCH(1,(Deduction!$A$3:$A$501=Sheet8!A472)*(Deduction!$B$3:$B$501=Sheet8!B472)*(Deduction!$C$3:$C$501=Sheet8!D472),0),6)","v":0},{"$f":"INDEX(Deduction!$A$3:$K$501,MATCH(1,(Deduction!$A$3:$A$501=Sheet8!A472)*(Deduction!$B$3:$B$501=Sheet8!B472)*(Deduction!$C$3:$C$501=Sheet8!D472),0),7)","v":0},{"$f":"INDEX(Deduction!$A$3:$K$501,MATCH(1,(Deduction!$A$3:$A$501=Sheet8!A472)*(Deduction!$B$3:$B$501=Sheet8!B472)*(Deduction!$C$3:$C$501=Sheet8!D472),0),8)","v":0},{"$f":"INDEX(Deduction!$A$3:$K$501,MATCH(1,(Deduction!$A$3:$A$501=Sheet8!A472)*(Deduction!$B$3:$B$501=Sheet8!B472)*(Deduction!$C$3:$C$501=Sheet8!D472),0),9)","v":0},{"$f":"INDEX(Deduction!$A$3:$K$501,MATCH(1,(Deduction!$A$3:$A$501=Sheet8!A472)*(Deduction!$B$3:$B$501=Sheet8!B472)*(Deduction!$C$3:$C$501=Sheet8!D472),0),10)","v":0},{"$f":"INDEX(Deduction!$A$3:$K$501,MATCH(1,(Deduction!$A$3:$A$501=Sheet8!A472)*(Deduction!$B$3:$B$501=Sheet8!B472)*(Deduction!$C$3:$C$501=Sheet8!D472),0),11)","v":0},{"$error":"#DIV/0!"},{"$f":"VLOOKUP(D472,Emp_Master!$B$3:$H$501,7)","v":{"$error":"#N/A"}}]
[{"$f":"Salary_Entitlement!A474","v":0},{"$f":"Salary_Entitlement!B474","v":0},{"$f":"Salary_Entitlement!C474","v":0},{"$f":"Salary_Entitlement!D474","v":0},{"$f":"Salary_Entitlement!E474","v":{"$error":"#N/A"}},{"$f":"Salary_Entitlement!F474","v":0},{"$f":"Salary_Entitlement!G474","v":0},{"$f":"Salary_Entitlement!H474","v":0},{"$f":"Salary_Entitlement!I474","v":0},{"$f":"Salary_Entitlement!J474","v":0},{"$f":"Salary_Entitlement!K474","v":0},{"$f":"Salary_Entitlement!L474","v":0},{"$f":"Salary_Entitlement!M474","v":0},{"$f":"Salary_Entitlement!N474","v":0},{"$f":"Salary_Entitlement!O474","v":0},{"$f":"Salary_Entitlement!P474","v":0},{"$error":"#DIV/0!"},{"$error":"#DIV/0!"},{"$f":"INDEX(Deduction!$A$3:$K$501,MATCH(1,(Deduction!$A$3:$A$501=Sheet8!A473)*(Deduction!$B$3:$B$501=Sheet8!B473)*(Deduction!$C$3:$C$501=Sheet8!D473),0),5)","v":0},{"$f":"INDEX(Deduction!$A$3:$K$501,MATCH(1,(Deduction!$A$3:$A$501=Sheet8!A473)*(Deduction!$B$3:$B$501=Sheet8!B473)*(Deduction!$C$3:$C$501=Sheet8!D473),0),6)","v":0},{"$f":"INDEX(Deduction!$A$3:$K$501,MATCH(1,(Deduction!$A$3:$A$501=Sheet8!A473)*(Deduction!$B$3:$B$501=Sheet8!B473)*(Deduction!$C$3:$C$501=Sheet8!D473),0),7)","v":0},{"$f":"INDEX(Deduction!$A$3:$K$501,MATCH(1,(Deduction!$A$3:$A$501=Sheet8!A473)*(Deduction!$B$3:$B$501=Sheet8!B473)*(Deduction!$C$3:$C$501=Sheet8!D473),0),8)","v":0},{"$f":"INDEX(Deduction!$A$3:$K$501,MATCH(1,(Deduction!$A$3:$A$501=Sheet8!A473)*(Deduction!$B$3:$B$501=Sheet8!B473)*(Deduction!$C$3:$C$501=Sheet8!D473),0),9)","v":0},{"$f":"INDEX(Deduction!$A$3:$K$501,MATCH(1,(Deduction!$A$3:$A$501=Sheet8!A473)*(Deduction!$B$3:$B$501=Sheet8!B473)*(Deduction!$C$3:$C$501=Sheet8!D473),0),10)","v":0},{"$f":"INDEX(Deduction!$A$3:$K$501,MATCH(1,(Deduction!$A$3:$A$501=Sheet8!A473)*(Deduction!$B$3:$B$501=Sheet8!B473)*(Deduction!$C$3:$C$501=Sheet8!D473),0),11)","v":0},{"$error":"#DIV/0!"},{"$f":"VLOOKUP(D473,Emp_Master!$B$3:$H$501,7)","v":{"$error":"#N/A"}}]
[{"$f":"Salary_Entitlement!A475","v":0},{"$f":"Salary_Entitlement!B475","v":0},{"$f":"Salary_Entitlement!C475","v":0},{"$f":"Salary_Entitlement!D475","v":0},{"$f":"Salary_Entitlement!E475","v":{"$error":"#N/A"}},{"$f":"Salary_Entitlement!F475","v":0},{"$f":"Salary_Entitlement!G475","v":0},{"$f":"Salary_Entitlement!H475","v":0},{"$f":"Salary_Entitlement!I475","v":0},{"$f":"Salary_Entitlement!J475","v":0},{"$f":"Salary_Entitlement!K475","v":0},{"$f":"Salary_Entitlement!L475","v":0},{"$f":"Salary_Entitlement!M475","v":0},{"$f":"Salary_Entitlement!N475","v":0},{"$f":"Salary_Entitlement!O475","v":0},{"$f":"Salary_Entitlement!P475","v":0},{"$error":"#DIV/0!"},{"$error":"#DIV/0!"},{"$f":"INDEX(Deduction!$A$3:$K$501,MATCH(1,(Deduction!$A$3:$A$501=Sheet8!A474)*(Deduction!$B$3:$B$501=Sheet8!B474)*(Deduction!$C$3:$C$501=Sheet8!D474),0),5)","v":0},{"$f":"INDEX(Deduction!$A$3:$K$501,MATCH(1,(Deduction!$A$3:$A$501=Sheet8!A474)*(Deduction!$B$3:$B$501=Sheet8!B474)*(Deduction!$C$3:$C$501=Sheet8!D474),0),6)","v":0},{"$f":"INDEX(Deduction!$A$3:$K$501,MATCH(1,(Deduction!$A$3:$A$501=Sheet8!A474)*(Deduction!$B$3:$B$501=Sheet8!B474)*(Deduction!$C$3:$C$501=Sheet8!D474),0),7)","v":0},{"$f":"INDEX(Deduction!$A$3:$K$501,MATCH(1,(Deduction!$A$3:$A$501=Sheet8!A474)*(Deduction!$B$3:$B$501=Sheet8!B474)*(Deduction!$C$3:$C$501=Sheet8!D474),0),8)","v":0},{"$f":"INDEX(Deduction!$A$3:$K$501,MATCH(1,(Deduction!$A$3:$A$501=Sheet8!A474)*(Deduction!$B$3:$B$501=Sheet8!B474)*(Deduction!$C$3:$C$501=Sheet8!D474),0),9)","v":0},{"$f":"INDEX(Deduction!$A$3:$K$501,MATCH(1,(Deduction!$A$3:$A$501=Sheet8!A474)*(Deduction!$B$3:$B$501=Sheet8!B474)*(Deduction!$C$3:$C$501=Sheet8!D474),0),10)","v":0},{"$f":"INDEX(Deduction!$A$3:$K$501,MATCH(1,(Deduction!$A$3:$A$501=Sheet8!A474)*(Deduction!$B$3:$B$501=Sheet8!B474)*(Deduction!$C$3:$C$501=Sheet8!D474),0),11)","v":0},{"$error":"#DIV/0!"},{"$f":"VLOOKUP(D474,Emp_Master!$B$3:$H$501,7)","v":{"$error":"#N/A"}}]
[{"$f":"Salary_Entitlement!A476","v":0},{"$f":"Salary_Entitlement!B476","v":0},{"$f":"Salary_Entitlement!C476","v":0},{"$f":"Salary_Entitlement!D476","v":0},{"$f":"Salary_Entitlement!E476","v":{"$error":"#N/A"}},{"$f":"Salary_Entitlement!F476","v":0},{"$f":"Salary_Entitlement!G476","v":0},{"$f":"Salary_Entitlement!H476","v":0},{"$f":"Salary_Entitlement!I476","v":0},{"$f":"Salary_Entitlement!J476","v":0},{"$f":"Salary_Entitlement!K476","v":0},{"$f":"Salary_Entitlement!L476","v":0},{"$f":"Salary_Entitlement!M476","v":0},{"$f":"Salary_Entitlement!N476","v":0},{"$f":"Salary_Entitlement!O476","v":0},{"$f":"Salary_Entitlement!P476","v":0},{"$error":"#DIV/0!"},{"$error":"#DIV/0!"},{"$f":"INDEX(Deduction!$A$3:$K$501,MATCH(1,(Deduction!$A$3:$A$501=Sheet8!A475)*(Deduction!$B$3:$B$501=Sheet8!B475)*(Deduction!$C$3:$C$501=Sheet8!D475),0),5)","v":0},{"$f":"INDEX(Deduction!$A$3:$K$501,MATCH(1,(Deduction!$A$3:$A$501=Sheet8!A475)*(Deduction!$B$3:$B$501=Sheet8!B475)*(Deduction!$C$3:$C$501=Sheet8!D475),0),6)","v":0},{"$f":"INDEX(Deduction!$A$3:$K$501,MATCH(1,(Deduction!$A$3:$A$501=Sheet8!A475)*(Deduction!$B$3:$B$501=Sheet8!B475)*(Deduction!$C$3:$C$501=Sheet8!D475),0),7)","v":0},{"$f":"INDEX(Deduction!$A$3:$K$501,MATCH(1,(Deduction!$A$3:$A$501=Sheet8!A475)*(Deduction!$B$3:$B$501=Sheet8!B475)*(Deduction!$C$3:$C$501=Sheet8!D475),0),8)","v":0},{"$f":"INDEX(Deduction!$A$3:$K$501,MATCH(1,(Deduction!$A$3:$A$501=Sheet8!A475)*(Deduction!$B$3:$B$501=Sheet8!B475)*(Deduction!$C$3:$C$501=Sheet8!D475),0),9)","v":0},{"$f":"INDEX(Deduction!$A$3:$K$501,MATCH(1,(Deduction!$A$3:$A$501=Sheet8!A475)*(Deduction!$B$3:$B$501=Sheet8!B475)*(Deduction!$C$3:$C$501=Sheet8!D475),0),10)","v":0},{"$f":"INDEX(Deduction!$A$3:$K$501,MATCH(1,(Deduction!$A$3:$A$501=Sheet8!A475)*(Deduction!$B$3:$B$501=Sheet8!B475)*(Deduction!$C$3:$C$501=Sheet8!D475),0),11)","v":0},{"$error":"#DIV/0!"},{"$f":"VLOOKUP(D475,Emp_Master!$B$3:$H$501,7)","v":{"$error":"#N/A"}}]
[{"$f":"Salary_Entitlement!A477","v":0},{"$f":"Salary_Entitlement!B477","v":0},{"$f":"Salary_Entitlement!C477","v":0},{"$f":"Salary_Entitlement!D477","v":0},{"$f":"Salary_Entitlement!E477","v":{"$error":"#N/A"}},{"$f":"Salary_Entitlement!F477","v":0},{"$f":"Salary_Entitlement!G477","v":0},{"$f":"Salary_Entitlement!H477","v":0},{"$f":"Salary_Entitlement!I477","v":0},{"$f":"Salary_Entitlement!J477","v":0},{"$f":"Salary_Entitlement!K477","v":0},{"$f":"Salary_Entitlement!L477","v":0},{"$f":"Salary_Entitlement!M477","v":0},{"$f":"Salary_Entitlement!N477","v":0},{"$f":"Salary_Entitlement!O477","v":0},{"$f":"Salary_Entitlement!P477","v":0},{"$error":"#DIV/0!"},{"$error":"#DIV/0!"},{"$f":"INDEX(Deduction!$A$3:$K$501,MATCH(1,(Deduction!$A$3:$A$501=Sheet8!A476)*(Deduction!$B$3:$B$501=Sheet8!B476)*(Deduction!$C$3:$C$501=Sheet8!D476),0),5)","v":0},{"$f":"INDEX(Deduction!$A$3:$K$501,MATCH(1,(Deduction!$A$3:$A$501=Sheet8!A476)*(Deduction!$B$3:$B$501=Sheet8!B476)*(Deduction!$C$3:$C$501=Sheet8!D476),0),6)","v":0},{"$f":"INDEX(Deduction!$A$3:$K$501,MATCH(1,(Deduction!$A$3:$A$501=Sheet8!A476)*(Deduction!$B$3:$B$501=Sheet8!B476)*(Deduction!$C$3:$C$501=Sheet8!D476),0),7)","v":0},{"$f":"INDEX(Deduction!$A$3:$K$501,MATCH(1,(Deduction!$A$3:$A$501=Sheet8!A476)*(Deduction!$B$3:$B$501=Sheet8!B476)*(Deduction!$C$3:$C$501=Sheet8!D476),0),8)","v":0},{"$f":"INDEX(Deduction!$A$3:$K$501,MATCH(1,(Deduction!$A$3:$A$501=Sheet8!A476)*(Deduction!$B$3:$B$501=Sheet8!B476)*(Deduction!$C$3:$C$501=Sheet8!D476),0),9)","v":0},{"$f":"INDEX(Deduction!$A$3:$K$501,MATCH(1,(Deduction!$A$3:$A$501=Sheet8!A476)*(Deduction!$B$3:$B$501=Sheet8!B476)*(Deduction!$C$3:$C$501=Sheet8!D476),0),10)","v":0},{"$f":"INDEX(Deduction!$A$3:$K$501,MATCH(1,(Deduction!$A$3:$A$501=Sheet8!A476)*(Deduction!$B$3:$B$501=Sheet8!B476)*(Deduction!$C$3:$C$501=Sheet8!D476),0),11)","v":0},{"$error":"#DIV/0!"},{"$f":"VLOOKUP(D476,Emp_Master!$B$3:$H$501,7)","v":{"$error":"#N/A"}}]
[{"$f":"Salary_Entitlement!A478","v":0},{"$f":"Salary_Entitlement!B478","v":0},{"$f":"Salary_Entitlement!C478","v":0},{"$f":"Salary_Entitlement!D478","v":0},{"$f":"Salary_Entitlement!E478","v":{"$error":"#N/A"}},{"$f":"Salary_Entitlement!F478","v":0},{"$f":"Salary_Entitlement!G478","v":0},{"$f":"Salary_Entitlement!H478","v":0},{"$f":"Salary_Entitlement!I478","v":0},{"$f":"Salary_Entitlement!J478","v":0},{"$f":"Salary_Entitlement!K478","v":0},{"$f":"Salary_Entitlement!L478","v":0},{"$f":"Salary_Entitlement!M478","v":0},{"$f":"Salary_Entitlement!N478","v":0},{"$f":"Salary_Entitlement!O478","v":0},{"$f":"Salary_Entitlement!P478","v":0},{"$error":"#DIV/0!"},{"$error":"#DIV/0!"},{"$f":"INDEX(Deduction!$A$3:$K$501,MATCH(1,(Deduction!$A$3:$A$501=Sheet8!A477)*(Deduction!$B$3:$B$501=Sheet8!B477)*(Deduction!$C$3:$C$501=Sheet8!D477),0),5)","v":0},{"$f":"INDEX(Deduction!$A$3:$K$501,MATCH(1,(Deduction!$A$3:$A$501=Sheet8!A477)*(Deduction!$B$3:$B$501=Sheet8!B477)*(Deduction!$C$3:$C$501=Sheet8!D477),0),6)","v":0},{"$f":"INDEX(Deduction!$A$3:$K$501,MATCH(1,(Deduction!$A$3:$A$501=Sheet8!A477)*(Deduction!$B$3:$B$501=Sheet8!B477)*(Deduction!$C$3:$C$501=Sheet8!D477),0),7)","v":0},{"$f":"INDEX(Deduction!$A$3:$K$501,MATCH(1,(Deduction!$A$3:$A$501=Sheet8!A477)*(Deduction!$B$3:$B$501=Sheet8!B477)*(Deduction!$C$3:$C$501=Sheet8!D477),0),8)","v":0},{"$f":"INDEX(Deduction!$A$3:$K$501,MATCH(1,(Deduction!$A$3:$A$501=Sheet8!A477)*(Deduction!$B$3:$B$501=Sheet8!B477)*(Deduction!$C$3:$C$501=Sheet8!D477),0),9)","v":0},{"$f":"INDEX(Deduction!$A$3:$K$501,MATCH(1,(Deduction!$A$3:$A$501=Sheet8!A477)*(Deduction!$B$3:$B$501=Sheet8!B477)*(Deduction!$C$3:$C$501=Sheet8!D477),0),10)","v":0},{"$f":"INDEX(Deduction!$A$3:$K$501,MATCH(1,(Deduction!$A$3:$A$501=Sheet8!A477)*(Deduction!$B$3:$B$501=Sheet8!B477)*(Deduction!$C$3:$C$501=Sheet8!D477),0),11)","v":0},{"$error":"#DIV/0!"},{"$f":"VLOOKUP(D477,Emp_Master!$B$3:$H$501,7)","v":{"$error":"#N/A"}}]
[{"$f":"Salary_Entitlement!A479","v":0},{"$f":"Salary_Entitlement!B479","v":0},{"$f":"Salary_Entitlement!C479","v":0},{"$f":"Salary_Entitlement!D479","v":0},{"$f":"Salary_Entitlement!E479","v":{"$error":"#N/A"}},{"$f":"Salary_Entitlement!F479","v":0},{"$f":"Salary_Entitlement!G479","v":0},{"$f":"Salary_Entitlement!H479","v":0},{"$f":"Salary_Entitlement!I479","v":0},{"$f":"Salary_Entitlement!J479","v":0},{"$f":"Salary_Entitlement!K479","v":0},{"$f":"Salary_Entitlement!L479","v":0},{"$f":"Salary_Entitlement!M479","v":0},{"$f":"Salary_Entitlement!N479","v":0},{"$f":"Salary_Entitlement!O479","v":0},{"$f":"Salary_Entitlement!P479","v":0},{"$error":"#DIV/0!"},{"$error":"#DIV/0!"},{"$f":"INDEX(Deduction!$A$3:$K$501,MATCH(1,(Deduction!$A$3:$A$501=Sheet8!A478)*(Deduction!$B$3:$B$501=Sheet8!B478)*(Deduction!$C$3:$C$501=Sheet8!D478),0),5)","v":0},{"$f":"INDEX(Deduction!$A$3:$K$501,MATCH(1,(Deduction!$A$3:$A$501=Sheet8!A478)*(Deduction!$B$3:$B$501=Sheet8!B478)*(Deduction!$C$3:$C$501=Sheet8!D478),0),6)","v":0},{"$f":"INDEX(Deduction!$A$3:$K$501,MATCH(1,(Deduction!$A$3:$A$501=Sheet8!A478)*(Deduction!$B$3:$B$501=Sheet8!B478)*(Deduction!$C$3:$C$501=Sheet8!D478),0),7)","v":0},{"$f":"INDEX(Deduction!$A$3:$K$501,MATCH(1,(Deduction!$A$3:$A$501=Sheet8!A478)*(Deduction!$B$3:$B$501=Sheet8!B478)*(Deduction!$C$3:$C$501=Sheet8!D478),0),8)","v":0},{"$f":"INDEX(Deduction!$A$3:$K$501,MATCH(1,(Deduction!$A$3:$A$501=Sheet8!A478)*(Deduction!$B$3:$B$501=Sheet8!B478)*(Deduction!$C$3:$C$501=Sheet8!D478),0),9)","v":0},{"$f":"INDEX(Deduction!$A$3:$K$501,MATCH(1,(Deduction!$A$3:$A$501=Sheet8!A478)*(Deduction!$B$3:$B$501=Sheet8!B478)*(Deduction!$C$3:$C$501=Sheet8!D478),0),10)","v":0},{"$f":"INDEX(Deduction!$A$3:$K$501,MATCH(1,(Deduction!$A$3:$A$501=Sheet8!A478)*(Deduction!$B$3:$B$501=Sheet8!B478)*(Deduction!$C$3:$C$501=Sheet8!D478),0),11)","v":0},{"$error":"#DIV/0!"},{"$f":"VLOOKUP(D478,Emp_Master!$B$3:$H$501,7)","v":{"$error":"#N/A"}}]
[{"$f":"Salary_Entitlement!A480","v":0},{"$f":"Salary_Entitlement!B480","v":0},{"$f":"Salary_Entitlement!C480","v":0},{"$f":"Salary_Entitlement!D480","v":0},{"$f":"Salary_Entitlement!E480","v":{"$error":"#N/A"}},{"$f":"Salary_Entitlement!F480","v":0},{"$f":"Salary_Entitlement!G480","v":0},{"$f":"Salary_Entitlement!H480","v":0},{"$f":"Salary_Entitlement!I480","v":0},{"$f":"Salary_Entitlement!J480","v":0},{"$f":"Salary_Entitlement!K480","v":0},{"$f":"Salary_Entitlement!L480","v":0},{"$f":"Salary_Entitlement!M480","v":0},{"$f":"Salary_Entitlement!N480","v":0},{"$f":"Salary_Entitlement!O480","v":0},{"$f":"Salary_Entitlement!P480","v":0},{"$error":"#DIV/0!"},{"$error":"#DIV/0!"},{"$f":"INDEX(Deduction!$A$3:$K$501,MATCH(1,(Deduction!$A$3:$A$501=Sheet8!A479)*(Deduction!$B$3:$B$501=Sheet8!B479)*(Deduction!$C$3:$C$501=Sheet8!D479),0),5)","v":0},{"$f":"INDEX(Deduction!$A$3:$K$501,MATCH(1,(Deduction!$A$3:$A$501=Sheet8!A479)*(Deduction!$B$3:$B$501=Sheet8!B479)*(Deduction!$C$3:$C$501=Sheet8!D479),0),6)","v":0},{"$f":"INDEX(Deduction!$A$3:$K$501,MATCH(1,(Deduction!$A$3:$A$501=Sheet8!A479)*(Deduction!$B$3:$B$501=Sheet8!B479)*(Deduction!$C$3:$C$501=Sheet8!D479),0),7)","v":0},{"$f":"INDEX(Deduction!$A$3:$K$501,MATCH(1,(Deduction!$A$3:$A$501=Sheet8!A479)*(Deduction!$B$3:$B$501=Sheet8!B479)*(Deduction!$C$3:$C$501=Sheet8!D479),0),8)","v":0},{"$f":"INDEX(Deduction!$A$3:$K$501,MATCH(1,(Deduction!$A$3:$A$501=Sheet8!A479)*(Deduction!$B$3:$B$501=Sheet8!B479)*(Deduction!$C$3:$C$501=Sheet8!D479),0),9)","v":0},{"$f":"INDEX(Deduction!$A$3:$K$501,MATCH(1,(Deduction!$A$3:$A$501=Sheet8!A479)*(Deduction!$B$3:$B$501=Sheet8!B479)*(Deduction!$C$3:$C$501=Sheet8!D479),0),10)","v":0},{"$f":"INDEX(Deduction!$A$3:$K$501,MATCH(1,(Deduction!$A$3:$A$501=Sheet8!A479)*(Deduction!$B$3:$B$501=Sheet8!B479)*(Deduction!$C$3:$C$501=Sheet8!D479),0),11)","v":0},{"$error":"#DIV/0!"},{"$f":"VLOOKUP(D479,Emp_Master!$B$3:$H$501,7)","v":{"$error":"#N/A"}}]
[{"$f":"Salary_Entitlement!A481","v":0},{"$f":"Salary_Entitlement!B481","v":0},{"$f":"Salary_Entitlement!C481","v":0},{"$f":"Salary_Entitlement!D481","v":0},{"$f":"Salary_Entitlement!E481","v":{"$error":"#N/A"}},{"$f":"Salary_Entitlement!F481","v":0},{"$f":"Salary_Entitlement!G481","v":0},{"$f":"Salary_Entitlement!H481","v":0},{"$f":"Salary_Entitlement!I481","v":0},{"$f":"Salary_Entitlement!J481","v":0},{"$f":"Salary_Entitlement!K481","v":0},{"$f":"Salary_Entitlement!L481","v":0},{"$f":"Salary_Entitlement!M481","v":0},{"$f":"Salary_Entitlement!N481","v":0},{"$f":"Salary_Entitlement!O481","v":0},{"$f":"Salary_Entitlement!P481","v":0},{"$error":"#DIV/0!"},{"$error":"#DIV/0!"},{"$f":"INDEX(Deduction!$A$3:$K$501,MATCH(1,(Deduction!$A$3:$A$501=Sheet8!A480)*(Deduction!$B$3:$B$501=Sheet8!B480)*(Deduction!$C$3:$C$501=Sheet8!D480),0),5)","v":0},{"$f":"INDEX(Deduction!$A$3:$K$501,MATCH(1,(Deduction!$A$3:$A$501=Sheet8!A480)*(Deduction!$B$3:$B$501=Sheet8!B480)*(Deduction!$C$3:$C$501=Sheet8!D480),0),6)","v":0},{"$f":"INDEX(Deduction!$A$3:$K$501,MATCH(1,(Deduction!$A$3:$A$501=Sheet8!A480)*(Deduction!$B$3:$B$501=Sheet8!B480)*(Deduction!$C$3:$C$501=Sheet8!D480),0),7)","v":0},{"$f":"INDEX(Deduction!$A$3:$K$501,MATCH(1,(Deduction!$A$3:$A$501=Sheet8!A480)*(Deduction!$B$3:$B$501=Sheet8!B480)*(Deduction!$C$3:$C$501=Sheet8!D480),0),8)","v":0},{"$f":"INDEX(Deduction!$A$3:$K$501,MATCH(1,(Deduction!$A$3:$A$501=Sheet8!A480)*(Deduction!$B$3:$B$501=Sheet8!B480)*(Deduction!$C$3:$C$501=Sheet8!D480),0),9)","v":0},{"$f":"INDEX(Deduction!$A$3:$K$501,MATCH(1,(Deduction!$A$3:$A$501=Sheet8!A480)*(Deduction!$B$3:$B$501=Sheet8!B480)*(Deduction!$C$3:$C$501=Sheet8!D480),0),10)","v":0},{"$f":"INDEX(Deduction!$A$3:$K$501,MATCH(1,(Deduction!$A$3:$A$501=Sheet8!A480)*(Deduction!$B$3:$B$501=Sheet8!B480)*(Deduction!$C$3:$C$501=Sheet8!D480),0),11)","v":0},{"$error":"#DIV/0!"},{"$f":"VLOOKUP(D480,Emp_Master!$B$3:$H$501,7)","v":{"$error":"#N/A"}}]
[{"$f":"Salary_Entitlement!A482","v":0},{"$f":"Salary_Entitlement!B482","v":0},{"$f":"Salary_Entitlement!C482","v":0},{"$f":"Salary_Entitlement!D482","v":0},{"$f":"Salary_Entitlement!E482","v":{"$error":"#N/A"}},{"$f":"Salary_Entitlement!F482","v":0},{"$f":"Salary_Entitlement!G482","v":0},{"$f":"Salary_Entitlement!H482","v":0},{"$f":"Salary_Entitlement!I482","v":0},{"$f":"Salary_Entitlement!J482","v":0},{"$f":"Salary_Entitlement!K482","v":0},{"$f":"Salary_Entitlement!L482","v":0},{"$f":"Salary_Entitlement!M482","v":0},{"$f":"Salary_Entitlement!N482","v":0},{"$f":"Salary_Entitlement!O482","v":0},{"$f":"Salary_Entitlement!P482","v":0},{"$error":"#DIV/0!"},{"$error":"#DIV/0!"},{"$f":"INDEX(Deduction!$A$3:$K$501,MATCH(1,(Deduction!$A$3:$A$501=Sheet8!A481)*(Deduction!$B$3:$B$501=Sheet8!B481)*(Deduction!$C$3:$C$501=Sheet8!D481),0),5)","v":0},{"$f":"INDEX(Deduction!$A$3:$K$501,MATCH(1,(Deduction!$A$3:$A$501=Sheet8!A481)*(Deduction!$B$3:$B$501=Sheet8!B481)*(Deduction!$C$3:$C$501=Sheet8!D481),0),6)","v":0},{"$f":"INDEX(Deduction!$A$3:$K$501,MATCH(1,(Deduction!$A$3:$A$501=Sheet8!A481)*(Deduction!$B$3:$B$501=Sheet8!B481)*(Deduction!$C$3:$C$501=Sheet8!D481),0),7)","v":0},{"$f":"INDEX(Deduction!$A$3:$K$501,MATCH(1,(Deduction!$A$3:$A$501=Sheet8!A481)*(Deduction!$B$3:$B$501=Sheet8!B481)*(Deduction!$C$3:$C$501=Sheet8!D481),0),8)","v":0},{"$f":"INDEX(Deduction!$A$3:$K$501,MATCH(1,(Deduction!$A$3:$A$501=Sheet8!A481)*(Deduction!$B$3:$B$501=Sheet8!B481)*(Deduction!$C$3:$C$501=Sheet8!D481),0),9)","v":0},{"$f":"INDEX(Deduction!$A$3:$K$501,MATCH(1,(Deduction!$A$3:$A$501=Sheet8!A481)*(Deduction!$B$3:$B$501=Sheet8!B481)*(Deduction!$C$3:$C$501=Sheet8!D481),0),10)","v":0},{"$f":"INDEX(Deduction!$A$3:$K$501,MATCH(1,(Deduction!$A$3:$A$501=Sheet8!A481)*(Deduction!$B$3:$B$501=Sheet8!B481)*(Deduction!$C$3:$C$501=Sheet8!D481),0),11)","v":0},{"$error":"#DIV/0!"},{"$f":"VLOOKUP(D481,Emp_Master!$B$3:$H$501,7)","v":{"$error":"#N/A"}}]
[{"$f":"Salary_Entitlement!A483","v":0},{"$f":"Salary_Entitlement!B483","v":0},{"$f":"Salary_Entitlement!C483","v":0},{"$f":"Salary_Entitlement!D483","v":0},{"$f":"Salary_Entitlement!E483","v":{"$error":"#N/A"}},{"$f":"Salary_Entitlement!F483","v":0},{"$f":"Salary_Entitlement!G483","v":0},{"$f":"Salary_Entitlement!H483","v":0},{"$f":"Salary_Entitlement!I483","v":0},{"$f":"Salary_Entitlement!J483","v":0},{"$f":"Salary_Entitlement!K483","v":0},{"$f":"Salary_Entitlement!L483","v":0},{"$f":"Salary_Entitlement!M483","v":0},{"$f":"Salary_Entitlement!N483","v":0},{"$f":"Salary_Entitlement!O483","v":0},{"$f":"Salary_Entitlement!P483","v":0},{"$error":"#DIV/0!"},{"$error":"#DIV/0!"},{"$f":"INDEX(Deduction!$A$3:$K$501,MATCH(1,(Deduction!$A$3:$A$501=Sheet8!A482)*(Deduction!$B$3:$B$501=Sheet8!B482)*(Deduction!$C$3:$C$501=Sheet8!D482),0),5)","v":0},{"$f":"INDEX(Deduction!$A$3:$K$501,MATCH(1,(Deduction!$A$3:$A$501=Sheet8!A482)*(Deduction!$B$3:$B$501=Sheet8!B482)*(Deduction!$C$3:$C$501=Sheet8!D482),0),6)","v":0},{"$f":"INDEX(Deduction!$A$3:$K$501,MATCH(1,(Deduction!$A$3:$A$501=Sheet8!A482)*(Deduction!$B$3:$B$501=Sheet8!B482)*(Deduction!$C$3:$C$501=Sheet8!D482),0),7)","v":0},{"$f":"INDEX(Deduction!$A$3:$K$501,MATCH(1,(Deduction!$A$3:$A$501=Sheet8!A482)*(Deduction!$B$3:$B$501=Sheet8!B482)*(Deduction!$C$3:$C$501=Sheet8!D482),0),8)","v":0},{"$f":"INDEX(Deduction!$A$3:$K$501,MATCH(1,(Deduction!$A$3:$A$501=Sheet8!A482)*(Deduction!$B$3:$B$501=Sheet8!B482)*(Deduction!$C$3:$C$501=Sheet8!D482),0),9)","v":0},{"$f":"INDEX(Deduction!$A$3:$K$501,MATCH(1,(Deduction!$A$3:$A$501=Sheet8!A482)*(Deduction!$B$3:$B$501=Sheet8!B482)*(Deduction!$C$3:$C$501=Sheet8!D482),0),10)","v":0},{"$f":"INDEX(Deduction!$A$3:$K$501,MATCH(1,(Deduction!$A$3:$A$501=Sheet8!A482)*(Deduction!$B$3:$B$501=Sheet8!B482)*(Deduction!$C$3:$C$501=Sheet8!D482),0),11)","v":0},{"$error":"#DIV/0!"},{"$f":"VLOOKUP(D482,Emp_Master!$B$3:$H$501,7)","v":{"$error":"#N/A"}}]
[{"$f":"Salary_Entitlement!A484","v":0},{"$f":"Salary_Entitlement!B484","v":0},{"$f":"Salary_Entitlement!C484","v":0},{"$f":"Salary_Entitlement!D484","v":0},{"$f":"Salary_Entitlement!E484","v":{"$error":"#N/A"}},{"$f":"Salary_Entitlement!F484","v":0},{"$f":"Salary_Entitlement!G484","v":0},{"$f":"Salary_Entitlement!H484","v":0},{"$f":"Salary_Entitlement!I484","v":0},{"$f":"Salary_Entitlement!J484","v":0},{"$f":"Salary_Entitlement!K484","v":0},{"$f":"Salary_Entitlement!L484","v":0},{"$f":"Salary_Entitlement!M484","v":0},{"$f":"Salary_Entitlement!N484","v":0},{"$f":"Salary_Entitlement!O484","v":0},{"$f":"Salary_Entitlement!P484","v":0},{"$error":"#DIV/0!"},{"$error":"#DIV/0!"},{"$f":"INDEX(Deduction!$A$3:$K$501,MATCH(1,(Deduction!$A$3:$A$501=Sheet8!A483)*(Deduction!$B$3:$B$501=Sheet8!B483)*(Deduction!$C$3:$C$501=Sheet8!D483),0),5)","v":0},{"$f":"INDEX(Deduction!$A$3:$K$501,MATCH(1,(Deduction!$A$3:$A$501=Sheet8!A483)*(Deduction!$B$3:$B$501=Sheet8!B483)*(Deduction!$C$3:$C$501=Sheet8!D483),0),6)","v":0},{"$f":"INDEX(Deduction!$A$3:$K$501,MATCH(1,(Deduction!$A$3:$A$501=Sheet8!A483)*(Deduction!$B$3:$B$501=Sheet8!B483)*(Deduction!$C$3:$C$501=Sheet8!D483),0),7)","v":0},{"$f":"INDEX(Deduction!$A$3:$K$501,MATCH(1,(Deduction!$A$3:$A$501=Sheet8!A483)*(Deduction!$B$3:$B$501=Sheet8!B483)*(Deduction!$C$3:$C$501=Sheet8!D483),0),8)","v":0},{"$f":"INDEX(Deduction!$A$3:$K$501,MATCH(1,(Deduction!$A$3:$A$501=Sheet8!A483)*(Deduction!$B$3:$B$501=Sheet8!B483)*(Deduction!$C$3:$C$501=Sheet8!D483),0),9)","v":0},{"$f":"INDEX(Deduction!$A$3:$K$501,MATCH(1,(Deduction!$A$3:$A$501=Sheet8!A483)*(Deduction!$B$3:$B$501=Sheet8!B483)*(Deduction!$C$3:$C$501=Sheet8!D483),0),10)","v":0},{"$f":"INDEX(Deduction!$A$3:$K$501,MATCH(1,(Deduction!$A$3:$A$501=Sheet8!A483)*(Deduction!$B$3:$B$501=Sheet8!B483)*(Deduction!$C$3:$C$501=Sheet8!D483),0),11)","v":0},{"$error":"#DIV/0!"},{"$f":"VLOOKUP(D483,Emp_Master!$B$3:$H$501,7)","v":{"$error":"#N/A"}}]
[{"$f":"Salary_Entitlement!A485","v":0},{"$f":"Salary_Entitlement!B485","v":0},{"$f":"Salary_Entitlement!C485","v":0},{"$f":"Salary_Entitlement!D485","v":0},{"$f":"Salary_Entitlement!E485","v":{"$error":"#N/A"}},{"$f":"Salary_Entitlement!F485","v":0},{"$f":"Salary_Entitlement!G485","v":0},{"$f":"Salary_Entitlement!H485","v":0},{"$f":"Salary_Entitlement!I485","v":0},{"$f":"Salary_Entitlement!J485","v":0},{"$f":"Salary_Entitlement!K485","v":0},{"$f":"Salary_Entitlement!L485","v":0},{"$f":"Salary_Entitlement!M485","v":0},{"$f":"Salary_Entitlement!N485","v":0},{"$f":"Salary_Entitlement!O485","v":0},{"$f":"Salary_Entitlement!P485","v":0},{"$error":"#DIV/0!"},{"$error":"#DIV/0!"},{"$f":"INDEX(Deduction!$A$3:$K$501,MATCH(1,(Deduction!$A$3:$A$501=Sheet8!A484)*(Deduction!$B$3:$B$501=Sheet8!B484)*(Deduction!$C$3:$C$501=Sheet8!D484),0),5)","v":0},{"$f":"INDEX(Deduction!$A$3:$K$501,MATCH(1,(Deduction!$A$3:$A$501=Sheet8!A484)*(Deduction!$B$3:$B$501=Sheet8!B484)*(Deduction!$C$3:$C$501=Sheet8!D484),0),6)","v":0},{"$f":"INDEX(Deduction!$A$3:$K$501,MATCH(1,(Deduction!$A$3:$A$501=Sheet8!A484)*(Deduction!$B$3:$B$501=Sheet8!B484)*(Deduction!$C$3:$C$501=Sheet8!D484),0),7)","v":0},{"$f":"INDEX(Deduction!$A$3:$K$501,MATCH(1,(Deduction!$A$3:$A$501=Sheet8!A484)*(Deduction!$B$3:$B$501=Sheet8!B484)*(Deduction!$C$3:$C$501=Sheet8!D484),0),8)","v":0},{"$f":"INDEX(Deduction!$A$3:$K$501,MATCH(1,(Deduction!$A$3:$A$501=Sheet8!A484)*(Deduction!$B$3:$B$501=Sheet8!B484)*(Deduction!$C$3:$C$501=Sheet8!D484),0),9)","v":0},{"$f":"INDEX(Deduction!$A$3:$K$501,MATCH(1,(Deduction!$A$3:$A$501=Sheet8!A484)*(Deduction!$B$3:$B$501=Sheet8!B484)*(Deduction!$C$3:$C$501=Sheet8!D484),0),10)","v":0},{"$f":"INDEX(Deduction!$A$3:$K$501,MATCH(1,(Deduction!$A$3:$A$501=Sheet8!A484)*(Deduction!$B$3:$B$501=Sheet8!B484)*(Deduction!$C$3:$C$501=Sheet8!D484),0),11)","v":0},{"$error":"#DIV/0!"},{"$f":"VLOOKUP(D484,Emp_Master!$B$3:$H$501,7)","v":{"$error":"#N/A"}}]
[{"$f":"Salary_Entitlement!A486","v":0},{"$f":"Salary_Entitlement!B486","v":0},{"$f":"Salary_Entitlement!C486","v":0},{"$f":"Salary_Entitlement!D486","v":0},{"$f":"Salary_Entitlement!E486","v":{"$error":"#N/A"}},{"$f":"Salary_Entitlement!F486","v":0},{"$f":"Salary_Entitlement!G486","v":0},{"$f":"Salary_Entitlement!H486","v":0},{"$f":"Salary_Entitlement!I486","v":0},{"$f":"Salary_Entitlement!J486","v":0},{"$f":"Salary_Entitlement!K486","v":0},{"$f":"Salary_Entitlement!L486","v":0},{"$f":"Salary_Entitlement!M486","v":0},{"$f":"Salary_Entitlement!N486","v":0},{"$f":"Salary_Entitlement!O486","v":0},{"$f":"Salary_Entitlement!P486","v":0},{"$error":"#DIV/0!"},{"$error":"#DIV/0!"},{"$f":"INDEX(Deduction!$A$3:$K$501,MATCH(1,(Deduction!$A$3:$A$501=Sheet8!A485)*(Deduction!$B$3:$B$501=Sheet8!B485)*(Deduction!$C$3:$C$501=Sheet8!D485),0),5)","v":0},{"$f":"INDEX(Deduction!$A$3:$K$501,MATCH(1,(Deduction!$A$3:$A$501=Sheet8!A485)*(Deduction!$B$3:$B$501=Sheet8!B485)*(Deduction!$C$3:$C$501=Sheet8!D485),0),6)","v":0},{"$f":"INDEX(Deduction!$A$3:$K$501,MATCH(1,(Deduction!$A$3:$A$501=Sheet8!A485)*(Deduction!$B$3:$B$501=Sheet8!B485)*(Deduction!$C$3:$C$501=Sheet8!D485),0),7)","v":0},{"$f":"INDEX(Deduction!$A$3:$K$501,MATCH(1,(Deduction!$A$3:$A$501=Sheet8!A485)*(Deduction!$B$3:$B$501=Sheet8!B485)*(Deduction!$C$3:$C$501=Sheet8!D485),0),8)","v":0},{"$f":"INDEX(Deduction!$A$3:$K$501,MATCH(1,(Deduction!$A$3:$A$501=Sheet8!A485)*(Deduction!$B$3:$B$501=Sheet8!B485)*(Deduction!$C$3:$C$501=Sheet8!D485),0),9)","v":0},{"$f":"INDEX(Deduction!$A$3:$K$501,MATCH(1,(Deduction!$A$3:$A$501=Sheet8!A485)*(Deduction!$B$3:$B$501=Sheet8!B485)*(Deduction!$C$3:$C$501=Sheet8!D485),0),10)","v":0},{"$f":"INDEX(Deduction!$A$3:$K$501,MATCH(1,(Deduction!$A$3:$A$501=Sheet8!A485)*(Deduction!$B$3:$B$501=Sheet8!B485)*(Deduction!$C$3:$C$501=Sheet8!D485),0),11)","v":0},{"$error":"#DIV/0!"},{"$f":"VLOOKUP(D485,Emp_Master!$B$3:$H$501,7)","v":{"$error":"#N/A"}}]
[{"$f":"Salary_Entitlement!A487","v":0},{"$f":"Salary_Entitlement!B487","v":0},{"$f":"Salary_Entitlement!C487","v":0},{"$f":"Salary_Entitlement!D487","v":0},{"$f":"Salary_Entitlement!E487","v":{"$error":"#N/A"}},{"$f":"Salary_Entitlement!F487","v":0},{"$f":"Salary_Entitlement!G487","v":0},{"$f":"Salary_Entitlement!H487","v":0},{"$f":"Salary_Entitlement!I487","v":0},{"$f":"Salary_Entitlement!J487","v":0},{"$f":"Salary_Entitlement!K487","v":0},{"$f":"Salary_Entitlement!L487","v":0},{"$f":"Salary_Entitlement!M487","v":0},{"$f":"Salary_Entitlement!N487","v":0},{"$f":"Salary_Entitlement!O487","v":0},{"$f":"Salary_Entitlement!P487","v":0},{"$error":"#DIV/0!"},{"$error":"#DIV/0!"},{"$f":"INDEX(Deduction!$A$3:$K$501,MATCH(1,(Deduction!$A$3:$A$501=Sheet8!A486)*(Deduction!$B$3:$B$501=Sheet8!B486)*(Deduction!$C$3:$C$501=Sheet8!D486),0),5)","v":0},{"$f":"INDEX(Deduction!$A$3:$K$501,MATCH(1,(Deduction!$A$3:$A$501=Sheet8!A486)*(Deduction!$B$3:$B$501=Sheet8!B486)*(Deduction!$C$3:$C$501=Sheet8!D486),0),6)","v":0},{"$f":"INDEX(Deduction!$A$3:$K$501,MATCH(1,(Deduction!$A$3:$A$501=Sheet8!A486)*(Deduction!$B$3:$B$501=Sheet8!B486)*(Deduction!$C$3:$C$501=Sheet8!D486),0),7)","v":0},{"$f":"INDEX(Deduction!$A$3:$K$501,MATCH(1,(Deduction!$A$3:$A$501=Sheet8!A486)*(Deduction!$B$3:$B$501=Sheet8!B486)*(Deduction!$C$3:$C$501=Sheet8!D486),0),8)","v":0},{"$f":"INDEX(Deduction!$A$3:$K$501,MATCH(1,(Deduction!$A$3:$A$501=Sheet8!A486)*(Deduction!$B$3:$B$501=Sheet8!B486)*(Deduction!$C$3:$C$501=Sheet8!D486),0),9)","v":0},{"$f":"INDEX(Deduction!$A$3:$K$501,MATCH(1,(Deduction!$A$3:$A$501=Sheet8!A486)*(Deduction!$B$3:$B$501=Sheet8!B486)*(Deduction!$C$3:$C$501=Sheet8!D486),0),10)","v":0},{"$f":"INDEX(Deduction!$A$3:$K$501,MATCH(1,(Deduction!$A$3:$A$501=Sheet8!A486)*(Deduction!$B$3:$B$501=Sheet8!B486)*(Deduction!$C$3:$C$501=Sheet8!D486),0),11)","v":0},{"$error":"#DIV/0!"},{"$f":"VLOOKUP(D486,Emp_Master!$B$3:$H$501,7)","v":{"$error":"#N/A"}}]
[{"$f":"Salary_Entitlement!A488","v":0},{"$f":"Salary_Entitlement!B488","v":0},{"$f":"Salary_Entitlement!C488","v":0},{"$f":"Salary_Entitlement!D488","v":0},{"$f":"Salary_Entitlement!E488","v":{"$error":"#N/A"}},{"$f":"Salary_Entitlement!F488","v":0},{"$f":"Salary_Entitlement!G488","v":0},{"$f":"Salary_Entitlement!H488","v":0},{"$f":"Salary_Entitlement!I488","v":0},{"$f":"Salary_Entitlement!J488","v":0},{"$f":"Salary_Entitlement!K488","v":0},{"$f":"Salary_Entitlement!L488","v":0},{"$f":"Salary_Entitlement!M488","v":0},{"$f":"Salary_Entitlement!N488","v":0},{"$f":"Salary_Entitlement!O488","v":0},{"$f":"Salary_Entitlement!P488","v":0},{"$error":"#DIV/0!"},{"$error":"#DIV/0!"},{"$f":"INDEX(Deduction!$A$3:$K$501,MATCH(1,(Deduction!$A$3:$A$501=Sheet8!A487)*(Deduction!$B$3:$B$501=Sheet8!B487)*(Deduction!$C$3:$C$501=Sheet8!D487),0),5)","v":0},{"$f":"INDEX(Deduction!$A$3:$K$501,MATCH(1,(Deduction!$A$3:$A$501=Sheet8!A487)*(Deduction!$B$3:$B$501=Sheet8!B487)*(Deduction!$C$3:$C$501=Sheet8!D487),0),6)","v":0},{"$f":"INDEX(Deduction!$A$3:$K$501,MATCH(1,(Deduction!$A$3:$A$501=Sheet8!A487)*(Deduction!$B$3:$B$501=Sheet8!B487)*(Deduction!$C$3:$C$501=Sheet8!D487),0),7)","v":0},{"$f":"INDEX(Deduction!$A$3:$K$501,MATCH(1,(Deduction!$A$3:$A$501=Sheet8!A487)*(Deduction!$B$3:$B$501=Sheet8!B487)*(Deduction!$C$3:$C$501=Sheet8!D487),0),8)","v":0},{"$f":"INDEX(Deduction!$A$3:$K$501,MATCH(1,(Deduction!$A$3:$A$501=Sheet8!A487)*(Deduction!$B$3:$B$501=Sheet8!B487)*(Deduction!$C$3:$C$501=Sheet8!D487),0),9)","v":0},{"$f":"INDEX(Deduction!$A$3:$K$501,MATCH(1,(Deduction!$A$3:$A$501=Sheet8!A487)*(Deduction!$B$3:$B$501=Sheet8!B487)*(Deduction!$C$3:$C$501=Sheet8!D487),0),10)","v":0},{"$f":"INDEX(Deduction!$A$3:$K$501,MATCH(1,(Deduction!$A$3:$A$501=Sheet8!A487)*(Deduction!$B$3:$B$501=Sheet8!B487)*(Deduction!$C$3:$C$501=Sheet8!D487),0),11)","v":0},{"$error":"#DIV/0!"},{"$f":"VLOOKUP(D487,Emp_Master!$B$3:$H$501,7)","v":{"$error":"#N/A"}}]
[{"$f":"Salary_Entitlement!A489","v":0},{"$f":"Salary_Entitlement!B489","v":0},{"$f":"Salary_Entitlement!C489","v":0},{"$f":"Salary_Entitlement!D489","v":0},{"$f":"Salary_Entitlement!E489","v":{"$error":"#N/A"}},{"$f":"Salary_Entitlement!F489","v":0},{"$f":"Salary_Entitlement!G489","v":0},{"$f":"Salary_Entitlement!H489","v":0},{"$f":"Salary_Entitlement!I489","v":0},{"$f":"Salary_Entitlement!J489","v":0},{"$f":"Salary_Entitlement!K489","v":0},{"$f":"Salary_Entitlement!L489","v":0},{"$f":"Salary_Entitlement!M489","v":0},{"$f":"Salary_Entitlement!N489","v":0},{"$f":"Salary_Entitlement!O489","v":0},{"$f":"Salary_Entitlement!P489","v":0},{"$error":"#DIV/0!"},{"$error":"#DIV/0!"},{"$f":"INDEX(Deduction!$A$3:$K$501,MATCH(1,(Deduction!$A$3:$A$501=Sheet8!A488)*(Deduction!$B$3:$B$501=Sheet8!B488)*(Deduction!$C$3:$C$501=Sheet8!D488),0),5)","v":0},{"$f":"INDEX(Deduction!$A$3:$K$501,MATCH(1,(Deduction!$A$3:$A$501=Sheet8!A488)*(Deduction!$B$3:$B$501=Sheet8!B488)*(Deduction!$C$3:$C$501=Sheet8!D488),0),6)","v":0},{"$f":"INDEX(Deduction!$A$3:$K$501,MATCH(1,(Deduction!$A$3:$A$501=Sheet8!A488)*(Deduction!$B$3:$B$501=Sheet8!B488)*(Deduction!$C$3:$C$501=Sheet8!D488),0),7)","v":0},{"$f":"INDEX(Deduction!$A$3:$K$501,MATCH(1,(Deduction!$A$3:$A$501=Sheet8!A488)*(Deduction!$B$3:$B$501=Sheet8!B488)*(Deduction!$C$3:$C$501=Sheet8!D488),0),8)","v":0},{"$f":"INDEX(Deduction!$A$3:$K$501,MATCH(1,(Deduction!$A$3:$A$501=Sheet8!A488)*(Deduction!$B$3:$B$501=Sheet8!B488)*(Deduction!$C$3:$C$501=Sheet8!D488),0),9)","v":0},{"$f":"INDEX(Deduction!$A$3:$K$501,MATCH(1,(Deduction!$A$3:$A$501=Sheet8!A488)*(Deduction!$B$3:$B$501=Sheet8!B488)*(Deduction!$C$3:$C$501=Sheet8!D488),0),10)","v":0},{"$f":"INDEX(Deduction!$A$3:$K$501,MATCH(1,(Deduction!$A$3:$A$501=Sheet8!A488)*(Deduction!$B$3:$B$501=Sheet8!B488)*(Deduction!$C$3:$C$501=Sheet8!D488),0),11)","v":0},{"$error":"#DIV/0!"},{"$f":"VLOOKUP(D488,Emp_Master!$B$3:$H$501,7)","v":{"$error":"#N/A"}}]
[{"$f":"Salary_Entitlement!A490","v":0},{"$f":"Salary_Entitlement!B490","v":0},{"$f":"Salary_Entitlement!C490","v":0},{"$f":"Salary_Entitlement!D490","v":0},{"$f":"Salary_Entitlement!E490","v":{"$error":"#N/A"}},{"$f":"Salary_Entitlement!F490","v":0},{"$f":"Salary_Entitlement!G490","v":0},{"$f":"Salary_Entitlement!H490","v":0},{"$f":"Salary_Entitlement!I490","v":0},{"$f":"Salary_Entitlement!J490","v":0},{"$f":"Salary_Entitlement!K490","v":0},{"$f":"Salary_Entitlement!L490","v":0},{"$f":"Salary_Entitlement!M490","v":0},{"$f":"Salary_Entitlement!N490","v":0},{"$f":"Salary_Entitlement!O490","v":0},{"$f":"Salary_Entitlement!P490","v":0},{"$error":"#DIV/0!"},{"$error":"#DIV/0!"},{"$f":"INDEX(Deduction!$A$3:$K$501,MATCH(1,(Deduction!$A$3:$A$501=Sheet8!A489)*(Deduction!$B$3:$B$501=Sheet8!B489)*(Deduction!$C$3:$C$501=Sheet8!D489),0),5)","v":0},{"$f":"INDEX(Deduction!$A$3:$K$501,MATCH(1,(Deduction!$A$3:$A$501=Sheet8!A489)*(Deduction!$B$3:$B$501=Sheet8!B489)*(Deduction!$C$3:$C$501=Sheet8!D489),0),6)","v":0},{"$f":"INDEX(Deduction!$A$3:$K$501,MATCH(1,(Deduction!$A$3:$A$501=Sheet8!A489)*(Deduction!$B$3:$B$501=Sheet8!B489)*(Deduction!$C$3:$C$501=Sheet8!D489),0),7)","v":0},{"$f":"INDEX(Deduction!$A$3:$K$501,MATCH(1,(Deduction!$A$3:$A$501=Sheet8!A489)*(Deduction!$B$3:$B$501=Sheet8!B489)*(Deduction!$C$3:$C$501=Sheet8!D489),0),8)","v":0},{"$f":"INDEX(Deduction!$A$3:$K$501,MATCH(1,(Deduction!$A$3:$A$501=Sheet8!A489)*(Deduction!$B$3:$B$501=Sheet8!B489)*(Deduction!$C$3:$C$501=Sheet8!D489),0),9)","v":0},{"$f":"INDEX(Deduction!$A$3:$K$501,MATCH(1,(Deduction!$A$3:$A$501=Sheet8!A489)*(Deduction!$B$3:$B$501=Sheet8!B489)*(Deduction!$C$3:$C$501=Sheet8!D489),0),10)","v":0},{"$f":"INDEX(Deduction!$A$3:$K$501,MATCH(1,(Deduction!$A$3:$A$501=Sheet8!A489)*(Deduction!$B$3:$B$501=Sheet8!B489)*(Deduction!$C$3:$C$501=Sheet8!D489),0),11)","v":0},{"$error":"#DIV/0!"},{"$f":"VLOOKUP(D489,Emp_Master!$B$3:$H$501,7)","v":{"$error":"#N/A"}}]
[{"$f":"Salary_Entitlement!A491","v":0},{"$f":"Salary_Entitlement!B491","v":0},{"$f":"Salary_Entitlement!C491","v":0},{"$f":"Salary_Entitlement!D491","v":0},{"$f":"Salary_Entitlement!E491","v":{"$error":"#N/A"}},{"$f":"Salary_Entitlement!F491","v":0},{"$f":"Salary_Entitlement!G491","v":0},{"$f":"Salary_Entitlement!H491","v":0},{"$f":"Salary_Entitlement!I491","v":0},{"$f":"Salary_Entitlement!J491","v":0},{"$f":"Salary_Entitlement!K491","v":0},{"$f":"Salary_Entitlement!L491","v":0},{"$f":"Salary_Entitlement!M491","v":0},{"$f":"Salary_Entitlement!N491","v":0},{"$f":"Salary_Entitlement!O491","v":0},{"$f":"Salary_Entitlement!P491","v":0},{"$error":"#DIV/0!"},{"$error":"#DIV/0!"},{"$f":"INDEX(Deduction!$A$3:$K$501,MATCH(1,(Deduction!$A$3:$A$501=Sheet8!A490)*(Deduction!$B$3:$B$501=Sheet8!B490)*(Deduction!$C$3:$C$501=Sheet8!D490),0),5)","v":0},{"$f":"INDEX(Deduction!$A$3:$K$501,MATCH(1,(Deduction!$A$3:$A$501=Sheet8!A490)*(Deduction!$B$3:$B$501=Sheet8!B490)*(Deduction!$C$3:$C$501=Sheet8!D490),0),6)","v":0},{"$f":"INDEX(Deduction!$A$3:$K$501,MATCH(1,(Deduction!$A$3:$A$501=Sheet8!A490)*(Deduction!$B$3:$B$501=Sheet8!B490)*(Deduction!$C$3:$C$501=Sheet8!D490),0),7)","v":0},{"$f":"INDEX(Deduction!$A$3:$K$501,MATCH(1,(Deduction!$A$3:$A$501=Sheet8!A490)*(Deduction!$B$3:$B$501=Sheet8!B490)*(Deduction!$C$3:$C$501=Sheet8!D490),0),8)","v":0},{"$f":"INDEX(Deduction!$A$3:$K$501,MATCH(1,(Deduction!$A$3:$A$501=Sheet8!A490)*(Deduction!$B$3:$B$501=Sheet8!B490)*(Deduction!$C$3:$C$501=Sheet8!D490),0),9)","v":0},{"$f":"INDEX(Deduction!$A$3:$K$501,MATCH(1,(Deduction!$A$3:$A$501=Sheet8!A490)*(Deduction!$B$3:$B$501=Sheet8!B490)*(Deduction!$C$3:$C$501=Sheet8!D490),0),10)","v":0},{"$f":"INDEX(Deduction!$A$3:$K$501,MATCH(1,(Deduction!$A$3:$A$501=Sheet8!A490)*(Deduction!$B$3:$B$501=Sheet8!B490)*(Deduction!$C$3:$C$501=Sheet8!D490),0),11)","v":0},{"$error":"#DIV/0!"},{"$f":"VLOOKUP(D490,Emp_Master!$B$3:$H$501,7)","v":{"$error":"#N/A"}}]
[{"$f":"Salary_Entitlement!A492","v":0},{"$f":"Salary_Entitlement!B492","v":0},{"$f":"Salary_Entitlement!C492","v":0},{"$f":"Salary_Entitlement!D492","v":0},{"$f":"Salary_Entitlement!E492","v":{"$error":"#N/A"}},{"$f":"Salary_Entitlement!F492","v":0},{"$f":"Salary_Entitlement!G492","v":0},{"$f":"Salary_Entitlement!H492","v":0},{"$f":"Salary_Entitlement!I492","v":0},{"$f":"Salary_Entitlement!J492","v":0},{"$f":"Salary_Entitlement!K492","v":0},{"$f":"Salary_Entitlement!L492","v":0},{"$f":"Salary_Entitlement!M492","v":0},{"$f":"Salary_Entitlement!N492","v":0},{"$f":"Salary_Entitlement!O492","v":0},{"$f":"Salary_Entitlement!P492","v":0},{"$error":"#DIV/0!"},{"$error":"#DIV/0!"},{"$f":"INDEX(Deduction!$A$3:$K$501,MATCH(1,(Deduction!$A$3:$A$501=Sheet8!A491)*(Deduction!$B$3:$B$501=Sheet8!B491)*(Deduction!$C$3:$C$501=Sheet8!D491),0),5)","v":0},{"$f":"INDEX(Deduction!$A$3:$K$501,MATCH(1,(Deduction!$A$3:$A$501=Sheet8!A491)*(Deduction!$B$3:$B$501=Sheet8!B491)*(Deduction!$C$3:$C$501=Sheet8!D491),0),6)","v":0},{"$f":"INDEX(Deduction!$A$3:$K$501,MATCH(1,(Deduction!$A$3:$A$501=Sheet8!A491)*(Deduction!$B$3:$B$501=Sheet8!B491)*(Deduction!$C$3:$C$501=Sheet8!D491),0),7)","v":0},{"$f":"INDEX(Deduction!$A$3:$K$501,MATCH(1,(Deduction!$A$3:$A$501=Sheet8!A491)*(Deduction!$B$3:$B$501=Sheet8!B491)*(Deduction!$C$3:$C$501=Sheet8!D491),0),8)","v":0},{"$f":"INDEX(Deduction!$A$3:$K$501,MATCH(1,(Deduction!$A$3:$A$501=Sheet8!A491)*(Deduction!$B$3:$B$501=Sheet8!B491)*(Deduction!$C$3:$C$501=Sheet8!D491),0),9)","v":0},{"$f":"INDEX(Deduction!$A$3:$K$501,MATCH(1,(Deduction!$A$3:$A$501=Sheet8!A491)*(Deduction!$B$3:$B$501=Sheet8!B491)*(Deduction!$C$3:$C$501=Sheet8!D491),0),10)","v":0},{"$f":"INDEX(Deduction!$A$3:$K$501,MATCH(1,(Deduction!$A$3:$A$501=Sheet8!A491)*(Deduction!$B$3:$B$501=Sheet8!B491)*(Deduction!$C$3:$C$501=Sheet8!D491),0),11)","v":0},{"$error":"#DIV/0!"},{"$f":"VLOOKUP(D491,Emp_Master!$B$3:$H$501,7)","v":{"$error":"#N/A"}}]
[{"$f":"Salary_Entitlement!A493","v":0},{"$f":"Salary_Entitlement!B493","v":0},{"$f":"Salary_Entitlement!C493","v":0},{"$f":"Salary_Entitlement!D493","v":0},{"$f":"Salary_Entitlement!E493","v":{"$error":"#N/A"}},{"$f":"Salary_Entitlement!F493","v":0},{"$f":"Salary_Entitlement!G493","v":0},{"$f":"Salary_Entitlement!H493","v":0},{"$f":"Salary_Entitlement!I493","v":0},{"$f":"Salary_Entitlement!J493","v":0},{"$f":"Salary_Entitlement!K493","v":0},{"$f":"Salary_Entitlement!L493","v":0},{"$f":"Salary_Entitlement!M493","v":0},{"$f":"Salary_Entitlement!N493","v":0},{"$f":"Salary_Entitlement!O493","v":0},{"$f":"Salary_Entitlement!P493","v":0},{"$error":"#DIV/0!"},{"$error":"#DIV/0!"},{"$f":"INDEX(Deduction!$A$3:$K$501,MATCH(1,(Deduction!$A$3:$A$501=Sheet8!A492)*(Deduction!$B$3:$B$501=Sheet8!B492)*(Deduction!$C$3:$C$501=Sheet8!D492),0),5)","v":0},{"$f":"INDEX(Deduction!$A$3:$K$501,MATCH(1,(Deduction!$A$3:$A$501=Sheet8!A492)*(Deduction!$B$3:$B$501=Sheet8!B492)*(Deduction!$C$3:$C$501=Sheet8!D492),0),6)","v":0},{"$f":"INDEX(Deduction!$A$3:$K$501,MATCH(1,(Deduction!$A$3:$A$501=Sheet8!A492)*(Deduction!$B$3:$B$501=Sheet8!B492)*(Deduction!$C$3:$C$501=Sheet8!D492),0),7)","v":0},{"$f":"INDEX(Deduction!$A$3:$K$501,MATCH(1,(Deduction!$A$3:$A$501=Sheet8!A492)*(Deduction!$B$3:$B$501=Sheet8!B492)*(Deduction!$C$3:$C$501=Sheet8!D492),0),8)","v":0},{"$f":"INDEX(Deduction!$A$3:$K$501,MATCH(1,(Deduction!$A$3:$A$501=Sheet8!A492)*(Deduction!$B$3:$B$501=Sheet8!B492)*(Deduction!$C$3:$C$501=Sheet8!D492),0),9)","v":0},{"$f":"INDEX(Deduction!$A$3:$K$501,MATCH(1,(Deduction!$A$3:$A$501=Sheet8!A492)*(Deduction!$B$3:$B$501=Sheet8!B492)*(Deduction!$C$3:$C$501=Sheet8!D492),0),10)","v":0},{"$f":"INDEX(Deduction!$A$3:$K$501,MATCH(1,(Deduction!$A$3:$A$501=Sheet8!A492)*(Deduction!$B$3:$B$501=Sheet8!B492)*(Deduction!$C$3:$C$501=Sheet8!D492),0),11)","v":0},{"$error":"#DIV/0!"},{"$f":"VLOOKUP(D492,Emp_Master!$B$3:$H$501,7)","v":{"$error":"#N/A"}}]
[{"$f":"Salary_Entitlement!A494","v":0},{"$f":"Salary_Entitlement!B494","v":0},{"$f":"Salary_Entitlement!C494","v":0},{"$f":"Salary_Entitlement!D494","v":0},{"$f":"Salary_Entitlement!E494","v":{"$error":"#N/A"}},{"$f":"Salary_Entitlement!F494","v":0},{"$f":"Salary_Entitlement!G494","v":0},{"$f":"Salary_Entitlement!H494","v":0},{"$f":"Salary_Entitlement!I494","v":0},{"$f":"Salary_Entitlement!J494","v":0},{"$f":"Salary_Entitlement!K494","v":0},{"$f":"Salary_Entitlement!L494","v":0},{"$f":"Salary_Entitlement!M494","v":0},{"$f":"Salary_Entitlement!N494","v":0},{"$f":"Salary_Entitlement!O494","v":0},{"$f":"Salary_Entitlement!P494","v":0},{"$error":"#DIV/0!"},{"$error":"#DIV/0!"},{"$f":"INDEX(Deduction!$A$3:$K$501,MATCH(1,(Deduction!$A$3:$A$501=Sheet8!A493)*(Deduction!$B$3:$B$501=Sheet8!B493)*(Deduction!$C$3:$C$501=Sheet8!D493),0),5)","v":0},{"$f":"INDEX(Deduction!$A$3:$K$501,MATCH(1,(Deduction!$A$3:$A$501=Sheet8!A493)*(Deduction!$B$3:$B$501=Sheet8!B493)*(Deduction!$C$3:$C$501=Sheet8!D493),0),6)","v":0},{"$f":"INDEX(Deduction!$A$3:$K$501,MATCH(1,(Deduction!$A$3:$A$501=Sheet8!A493)*(Deduction!$B$3:$B$501=Sheet8!B493)*(Deduction!$C$3:$C$501=Sheet8!D493),0),7)","v":0},{"$f":"INDEX(Deduction!$A$3:$K$501,MATCH(1,(Deduction!$A$3:$A$501=Sheet8!A493)*(Deduction!$B$3:$B$501=Sheet8!B493)*(Deduction!$C$3:$C$501=Sheet8!D493),0),8)","v":0},{"$f":"INDEX(Deduction!$A$3:$K$501,MATCH(1,(Deduction!$A$3:$A$501=Sheet8!A493)*(Deduction!$B$3:$B$501=Sheet8!B493)*(Deduction!$C$3:$C$501=Sheet8!D493),0),9)","v":0},{"$f":"INDEX(Deduction!$A$3:$K$501,MATCH(1,(Deduction!$A$3:$A$501=Sheet8!A493)*(Deduction!$B$3:$B$501=Sheet8!B493)*(Deduction!$C$3:$C$501=Sheet8!D493),0),10)","v":0},{"$f":"INDEX(Deduction!$A$3:$K$501,MATCH(1,(Deduction!$A$3:$A$501=Sheet8!A493)*(Deduction!$B$3:$B$501=Sheet8!B493)*(Deduction!$C$3:$C$501=Sheet8!D493),0),11)","v":0},{"$error":"#DIV/0!"},{"$f":"VLOOKUP(D493,Emp_Master!$B$3:$H$501,7)","v":{"$error":"#N/A"}}]
[{"$f":"Salary_Entitlement!A495","v":0},{"$f":"Salary_Entitlement!B495","v":0},{"$f":"Salary_Entitlement!C495","v":0},{"$f":"Salary_Entitlement!D495","v":0},{"$f":"Salary_Entitlement!E495","v":{"$error":"#N/A"}},{"$f":"Salary_Entitlement!F495","v":0},{"$f":"Salary_Entitlement!G495","v":0},{"$f":"Salary_Entitlement!H495","v":0},{"$f":"Salary_Entitlement!I495","v":0},{"$f":"Salary_Entitlement!J495","v":0},{"$f":"Salary_Entitlement!K495","v":0},{"$f":"Salary_Entitlement!L495","v":0},{"$f":"Salary_Entitlement!M495","v":0},{"$f":"Salary_Entitlement!N495","v":0},{"$f":"Salary_Entitlement!O495","v":0},{"$f":"Salary_Entitlement!P495","v":0},{"$error":"#DIV/0!"},{"$error":"#DIV/0!"},{"$f":"INDEX(Deduction!$A$3:$K$501,MATCH(1,(Deduction!$A$3:$A$501=Sheet8!A494)*(Deduction!$B$3:$B$501=Sheet8!B494)*(Deduction!$C$3:$C$501=Sheet8!D494),0),5)","v":0},{"$f":"INDEX(Deduction!$A$3:$K$501,MATCH(1,(Deduction!$A$3:$A$501=Sheet8!A494)*(Deduction!$B$3:$B$501=Sheet8!B494)*(Deduction!$C$3:$C$501=Sheet8!D494),0),6)","v":0},{"$f":"INDEX(Deduction!$A$3:$K$501,MATCH(1,(Deduction!$A$3:$A$501=Sheet8!A494)*(Deduction!$B$3:$B$501=Sheet8!B494)*(Deduction!$C$3:$C$501=Sheet8!D494),0),7)","v":0},{"$f":"INDEX(Deduction!$A$3:$K$501,MATCH(1,(Deduction!$A$3:$A$501=Sheet8!A494)*(Deduction!$B$3:$B$501=Sheet8!B494)*(Deduction!$C$3:$C$501=Sheet8!D494),0),8)","v":0},{"$f":"INDEX(Deduction!$A$3:$K$501,MATCH(1,(Deduction!$A$3:$A$501=Sheet8!A494)*(Deduction!$B$3:$B$501=Sheet8!B494)*(Deduction!$C$3:$C$501=Sheet8!D494),0),9)","v":0},{"$f":"INDEX(Deduction!$A$3:$K$501,MATCH(1,(Deduction!$A$3:$A$501=Sheet8!A494)*(Deduction!$B$3:$B$501=Sheet8!B494)*(Deduction!$C$3:$C$501=Sheet8!D494),0),10)","v":0},{"$f":"INDEX(Deduction!$A$3:$K$501,MATCH(1,(Deduction!$A$3:$A$501=Sheet8!A494)*(Deduction!$B$3:$B$501=Sheet8!B494)*(Deduction!$C$3:$C$501=Sheet8!D494),0),11)","v":0},{"$error":"#DIV/0!"},{"$f":"VLOOKUP(D494,Emp_Master!$B$3:$H$501,7)","v":{"$error":"#N/A"}}]
[{"$f":"Salary_Entitlement!A496","v":0},{"$f":"Salary_Entitlement!B496","v":0},{"$f":"Salary_Entitlement!C496","v":0},{"$f":"Salary_Entitlement!D496","v":0},{"$f":"Salary_Entitlement!E496","v":{"$error":"#N/A"}},{"$f":"Salary_Entitlement!F496","v":0},{"$f":"Salary_Entitlement!G496","v":0},{"$f":"Salary_Entitlement!H496","v":0},{"$f":"Salary_Entitlement!I496","v":0},{"$f":"Salary_Entitlement!J496","v":0},{"$f":"Salary_Entitlement!K496","v":0},{"$f":"Salary_Entitlement!L496","v":0},{"$f":"Salary_Entitlement!M496","v":0},{"$f":"Salary_Entitlement!N496","v":0},{"$f":"Salary_Entitlement!O496","v":0},{"$f":"Salary_Entitlement!P496","v":0},{"$error":"#DIV/0!"},{"$error":"#DIV/0!"},{"$f":"INDEX(Deduction!$A$3:$K$501,MATCH(1,(Deduction!$A$3:$A$501=Sheet8!A495)*(Deduction!$B$3:$B$501=Sheet8!B495)*(Deduction!$C$3:$C$501=Sheet8!D495),0),5)","v":0},{"$f":"INDEX(Deduction!$A$3:$K$501,MATCH(1,(Deduction!$A$3:$A$501=Sheet8!A495)*(Deduction!$B$3:$B$501=Sheet8!B495)*(Deduction!$C$3:$C$501=Sheet8!D495),0),6)","v":0},{"$f":"INDEX(Deduction!$A$3:$K$501,MATCH(1,(Deduction!$A$3:$A$501=Sheet8!A495)*(Deduction!$B$3:$B$501=Sheet8!B495)*(Deduction!$C$3:$C$501=Sheet8!D495),0),7)","v":0},{"$f":"INDEX(Deduction!$A$3:$K$501,MATCH(1,(Deduction!$A$3:$A$501=Sheet8!A495)*(Deduction!$B$3:$B$501=Sheet8!B495)*(Deduction!$C$3:$C$501=Sheet8!D495),0),8)","v":0},{"$f":"INDEX(Deduction!$A$3:$K$501,MATCH(1,(Deduction!$A$3:$A$501=Sheet8!A495)*(Deduction!$B$3:$B$501=Sheet8!B495)*(Deduction!$C$3:$C$501=Sheet8!D495),0),9)","v":0},{"$f":"INDEX(Deduction!$A$3:$K$501,MATCH(1,(Deduction!$A$3:$A$501=Sheet8!A495)*(Deduction!$B$3:$B$501=Sheet8!B495)*(Deduction!$C$3:$C$501=Sheet8!D495),0),10)","v":0},{"$f":"INDEX(Deduction!$A$3:$K$501,MATCH(1,(Deduction!$A$3:$A$501=Sheet8!A495)*(Deduction!$B$3:$B$501=Sheet8!B495)*(Deduction!$C$3:$C$501=Sheet8!D495),0),11)","v":0},{"$error":"#DIV/0!"},{"$f":"VLOOKUP(D495,Emp_Master!$B$3:$H$501,7)","v":{"$error":"#N/A"}}]
[{"$f":"Salary_Entitlement!A497","v":0},{"$f":"Salary_Entitlement!B497","v":0},{"$f":"Salary_Entitlement!C497","v":0},{"$f":"Salary_Entitlement!D497","v":0},{"$f":"Salary_Entitlement!E497","v":{"$error":"#N/A"}},{"$f":"Salary_Entitlement!F497","v":0},{"$f":"Salary_Entitlement!G497","v":0},{"$f":"Salary_Entitlement!H497","v":0},{"$f":"Salary_Entitlement!I497","v":0},{"$f":"Salary_Entitlement!J497","v":0},{"$f":"Salary_Entitlement!K497","v":0},{"$f":"Salary_Entitlement!L497","v":0},{"$f":"Salary_Entitlement!M497","v":0},{"$f":"Salary_Entitlement!N497","v":0},{"$f":"Salary_Entitlement!O497","v":0},{"$f":"Salary_Entitlement!P497","v":0},{"$error":"#DIV/0!"},{"$error":"#DIV/0!"},{"$f":"INDEX(Deduction!$A$3:$K$501,MATCH(1,(Deduction!$A$3:$A$501=Sheet8!A496)*(Deduction!$B$3:$B$501=Sheet8!B496)*(Deduction!$C$3:$C$501=Sheet8!D496),0),5)","v":0},{"$f":"INDEX(Deduction!$A$3:$K$501,MATCH(1,(Deduction!$A$3:$A$501=Sheet8!A496)*(Deduction!$B$3:$B$501=Sheet8!B496)*(Deduction!$C$3:$C$501=Sheet8!D496),0),6)","v":0},{"$f":"INDEX(Deduction!$A$3:$K$501,MATCH(1,(Deduction!$A$3:$A$501=Sheet8!A496)*(Deduction!$B$3:$B$501=Sheet8!B496)*(Deduction!$C$3:$C$501=Sheet8!D496),0),7)","v":0},{"$f":"INDEX(Deduction!$A$3:$K$501,MATCH(1,(Deduction!$A$3:$A$501=Sheet8!A496)*(Deduction!$B$3:$B$501=Sheet8!B496)*(Deduction!$C$3:$C$501=Sheet8!D496),0),8)","v":0},{"$f":"INDEX(Deduction!$A$3:$K$501,MATCH(1,(Deduction!$A$3:$A$501=Sheet8!A496)*(Deduction!$B$3:$B$501=Sheet8!B496)*(Deduction!$C$3:$C$501=Sheet8!D496),0),9)","v":0},{"$f":"INDEX(Deduction!$A$3:$K$501,MATCH(1,(Deduction!$A$3:$A$501=Sheet8!A496)*(Deduction!$B$3:$B$501=Sheet8!B496)*(Deduction!$C$3:$C$501=Sheet8!D496),0),10)","v":0},{"$f":"INDEX(Deduction!$A$3:$K$501,MATCH(1,(Deduction!$A$3:$A$501=Sheet8!A496)*(Deduction!$B$3:$B$501=Sheet8!B496)*(Deduction!$C$3:$C$501=Sheet8!D496),0),11)","v":0},{"$error":"#DIV/0!"},{"$f":"VLOOKUP(D496,Emp_Master!$B$3:$H$501,7)","v":{"$error":"#N/A"}}]
[{"$f":"Salary_Entitlement!A498","v":0},{"$f":"Salary_Entitlement!B498","v":0},{"$f":"Salary_Entitlement!C498","v":0},{"$f":"Salary_Entitlement!D498","v":0},{"$f":"Salary_Entitlement!E498","v":{"$error":"#N/A"}},{"$f":"Salary_Entitlement!F498","v":0},{"$f":"Salary_Entitlement!G498","v":0},{"$f":"Salary_Entitlement!H498","v":0},{"$f":"Salary_Entitlement!I498","v":0},{"$f":"Salary_Entitlement!J498","v":0},{"$f":"Salary_Entitlement!K498","v":0},{"$f":"Salary_Entitlement!L498","v":0},{"$f":"Salary_Entitlement!M498","v":0},{"$f":"Salary_Entitlement!N498","v":0},{"$f":"Salary_Entitlement!O498","v":0},{"$f":"Salary_Entitlement!P498","v":0},{"$error":"#DIV/0!"},{"$error":"#DIV/0!"},{"$f":"INDEX(Deduction!$A$3:$K$501,MATCH(1,(Deduction!$A$3:$A$501=Sheet8!A497)*(Deduction!$B$3:$B$501=Sheet8!B497)*(Deduction!$C$3:$C$501=Sheet8!D497),0),5)","v":0},{"$f":"INDEX(Deduction!$A$3:$K$501,MATCH(1,(Deduction!$A$3:$A$501=Sheet8!A497)*(Deduction!$B$3:$B$501=Sheet8!B497)*(Deduction!$C$3:$C$501=Sheet8!D497),0),6)","v":0},{"$f":"INDEX(Deduction!$A$3:$K$501,MATCH(1,(Deduction!$A$3:$A$501=Sheet8!A497)*(Deduction!$B$3:$B$501=Sheet8!B497)*(Deduction!$C$3:$C$501=Sheet8!D497),0),7)","v":0},{"$f":"INDEX(Deduction!$A$3:$K$501,MATCH(1,(Deduction!$A$3:$A$501=Sheet8!A497)*(Deduction!$B$3:$B$501=Sheet8!B497)*(Deduction!$C$3:$C$501=Sheet8!D497),0),8)","v":0},{"$f":"INDEX(Deduction!$A$3:$K$501,MATCH(1,(Deduction!$A$3:$A$501=Sheet8!A497)*(Deduction!$B$3:$B$501=Sheet8!B497)*(Deduction!$C$3:$C$501=Sheet8!D497),0),9)","v":0},{"$f":"INDEX(Deduction!$A$3:$K$501,MATCH(1,(Deduction!$A$3:$A$501=Sheet8!A497)*(Deduction!$B$3:$B$501=Sheet8!B497)*(Deduction!$C$3:$C$501=Sheet8!D497),0),10)","v":0},{"$f":"INDEX(Deduction!$A$3:$K$501,MATCH(1,(Deduction!$A$3:$A$501=Sheet8!A497)*(Deduction!$B$3:$B$501=Sheet8!B497)*(Deduction!$C$3:$C$501=Sheet8!D497),0),11)","v":0},{"$error":"#DIV/0!"},{"$f":"VLOOKUP(D497,Emp_Master!$B$3:$H$501,7)","v":{"$error":"#N/A"}}]
[{"$f":"Salary_Entitlement!A499","v":0},{"$f":"Salary_Entitlement!B499","v":0},{"$f":"Salary_Entitlement!C499","v":0},{"$f":"Salary_Entitlement!D499","v":0},{"$f":"Salary_Entitlement!E499","v":{"$error":"#N/A"}},{"$f":"Salary_Entitlement!F499","v":0},{"$f":"Salary_Entitlement!G499","v":0},{"$f":"Salary_Entitlement!H499","v":0},{"$f":"Salary_Entitlement!I499","v":0},{"$f":"Salary_Entitlement!J499","v":0},{"$f":"Salary_Entitlement!K499","v":0},{"$f":"Salary_Entitlement!L499","v":0},{"$f":"Salary_Entitlement!M499","v":0},{"$f":"Salary_Entitlement!N499","v":0},{"$f":"Salary_Entitlement!O499","v":0},{"$f":"Salary_Entitlement!P499","v":0},{"$error":"#DIV/0!"},{"$error":"#DIV/0!"},{"$f":"INDEX(Deduction!$A$3:$K$501,MATCH(1,(Deduction!$A$3:$A$501=Sheet8!A498)*(Deduction!$B$3:$B$501=Sheet8!B498)*(Deduction!$C$3:$C$501=Sheet8!D498),0),5)","v":0},{"$f":"INDEX(Deduction!$A$3:$K$501,MATCH(1,(Deduction!$A$3:$A$501=Sheet8!A498)*(Deduction!$B$3:$B$501=Sheet8!B498)*(Deduction!$C$3:$C$501=Sheet8!D498),0),6)","v":0},{"$f":"INDEX(Deduction!$A$3:$K$501,MATCH(1,(Deduction!$A$3:$A$501=Sheet8!A498)*(Deduction!$B$3:$B$501=Sheet8!B498)*(Deduction!$C$3:$C$501=Sheet8!D498),0),7)","v":0},{"$f":"INDEX(Deduction!$A$3:$K$501,MATCH(1,(Deduction!$A$3:$A$501=Sheet8!A498)*(Deduction!$B$3:$B$501=Sheet8!B498)*(Deduction!$C$3:$C$501=Sheet8!D498),0),8)","v":0},{"$f":"INDEX(Deduction!$A$3:$K$501,MATCH(1,(Deduction!$A$3:$A$501=Sheet8!A498)*(Deduction!$B$3:$B$501=Sheet8!B498)*(Deduction!$C$3:$C$501=Sheet8!D498),0),9)","v":0},{"$f":"INDEX(Deduction!$A$3:$K$501,MATCH(1,(Deduction!$A$3:$A$501=Sheet8!A498)*(Deduction!$B$3:$B$501=Sheet8!B498)*(Deduction!$C$3:$C$501=Sheet8!D498),0),10)","v":0},{"$f":"INDEX(Deduction!$A$3:$K$501,MATCH(1,(Deduction!$A$3:$A$501=Sheet8!A498)*(Deduction!$B$3:$B$501=Sheet8!B498)*(Deduction!$C$3:$C$501=Sheet8!D498),0),11)","v":0},{"$error":"#DIV/0!"},{"$f":"VLOOKUP(D498,Emp_Master!$B$3:$H$501,7)","v":{"$error":"#N/A"}}]
[{"$f":"Salary_Entitlement!A500","v":0},{"$f":"Salary_Entitlement!B500","v":0},{"$f":"Salary_Entitlement!C500","v":0},{"$f":"Salary_Entitlement!D500","v":0},{"$f":"Salary_Entitlement!E500","v":{"$error":"#N/A"}},{"$f":"Salary_Entitlement!F500","v":0},{"$f":"Salary_Entitlement!G500","v":0},{"$f":"Salary_Entitlement!H500","v":0},{"$f":"Salary_Entitlement!I500","v":0},{"$f":"Salary_Entitlement!J500","v":0},{"$f":"Salary_Entitlement!K500","v":0},{"$f":"Salary_Entitlement!L500","v":0},{"$f":"Salary_Entitlement!M500","v":0},{"$f":"Salary_Entitlement!N500","v":0},{"$f":"Salary_Entitlement!O500","v":0},{"$f":"Salary_Entitlement!P500","v":0},{"$error":"#DIV/0!"},{"$error":"#DIV/0!"},{"$f":"INDEX(Deduction!$A$3:$K$501,MATCH(1,(Deduction!$A$3:$A$501=Sheet8!A499)*(Deduction!$B$3:$B$501=Sheet8!B499)*(Deduction!$C$3:$C$501=Sheet8!D499),0),5)","v":0},{"$f":"INDEX(Deduction!$A$3:$K$501,MATCH(1,(Deduction!$A$3:$A$501=Sheet8!A499)*(Deduction!$B$3:$B$501=Sheet8!B499)*(Deduction!$C$3:$C$501=Sheet8!D499),0),6)","v":0},{"$f":"INDEX(Deduction!$A$3:$K$501,MATCH(1,(Deduction!$A$3:$A$501=Sheet8!A499)*(Deduction!$B$3:$B$501=Sheet8!B499)*(Deduction!$C$3:$C$501=Sheet8!D499),0),7)","v":0},{"$f":"INDEX(Deduction!$A$3:$K$501,MATCH(1,(Deduction!$A$3:$A$501=Sheet8!A499)*(Deduction!$B$3:$B$501=Sheet8!B499)*(Deduction!$C$3:$C$501=Sheet8!D499),0),8)","v":0},{"$f":"INDEX(Deduction!$A$3:$K$501,MATCH(1,(Deduction!$A$3:$A$501=Sheet8!A499)*(Deduction!$B$3:$B$501=Sheet8!B499)*(Deduction!$C$3:$C$501=Sheet8!D499),0),9)","v":0},{"$f":"INDEX(Deduction!$A$3:$K$501,MATCH(1,(Deduction!$A$3:$A$501=Sheet8!A499)*(Deduction!$B$3:$B$501=Sheet8!B499)*(Deduction!$C$3:$C$501=Sheet8!D499),0),10)","v":0},{"$f":"INDEX(Deduction!$A$3:$K$501,MATCH(1,(Deduction!$A$3:$A$501=Sheet8!A499)*(Deduction!$B$3:$B$501=Sheet8!B499)*(Deduction!$C$3:$C$501=Sheet8!D499),0),11)","v":0},{"$error":"#DIV/0!"},{"$f":"VLOOKUP(D499,Emp_Master!$B$3:$H$501,7)","v":{"$error":"#N/A"}}]
[{"$f":"Salary_Entitlement!A501","v":0},{"$f":"Salary_Entitlement!B501","v":0},{"$f":"Salary_Entitlement!C501","v":0},{"$f":"Salary_Entitlement!D501","v":0},{"$f":"Salary_Entitlement!E501","v":{"$error":"#N/A"}},{"$f":"Salary_Entitlement!F501","v":0},{"$f":"Salary_Entitlement!G501","v":0},{"$f":"Salary_Entitlement!H501","v":0},{"$f":"Salary_Entitlement!I501","v":0},{"$f":"Salary_Entitlement!J501","v":0},{"$f":"Salary_Entitlement!K501","v":0},{"$f":"Salary_Entitlement!L501","v":0},{"$f":"Salary_Entitlement!M501","v":0},{"$f":"Salary_Entitlement!N501","v":0},{"$f":"Salary_Entitlement!O501","v":0},{"$f":"Salary_Entitlement!P501","v":0},{"$error":"#DIV/0!"},{"$error":"#DIV/0!"},{"$f":"INDEX(Deduction!$A$3:$K$501,MATCH(1,(Deduction!$A$3:$A$501=Sheet8!A500)*(Deduction!$B$3:$B$501=Sheet8!B500)*(Deduction!$C$3:$C$501=Sheet8!D500),0),5)","v":0},{"$f":"INDEX(Deduction!$A$3:$K$501,MATCH(1,(Deduction!$A$3:$A$501=Sheet8!A500)*(Deduction!$B$3:$B$501=Sheet8!B500)*(Deduction!$C$3:$C$501=Sheet8!D500),0),6)","v":0},{"$f":"INDEX(Deduction!$A$3:$K$501,MATCH(1,(Deduction!$A$3:$A$501=Sheet8!A500)*(Deduction!$B$3:$B$501=Sheet8!B500)*(Deduction!$C$3:$C$501=Sheet8!D500),0),7)","v":0},{"$f":"INDEX(Deduction!$A$3:$K$501,MATCH(1,(Deduction!$A$3:$A$501=Sheet8!A500)*(Deduction!$B$3:$B$501=Sheet8!B500)*(Deduction!$C$3:$C$501=Sheet8!D500),0),8)","v":0},{"$f":"INDEX(Deduction!$A$3:$K$501,MATCH(1,(Deduction!$A$3:$A$501=Sheet8!A500)*(Deduction!$B$3:$B$501=Sheet8!B500)*(Deduction!$C$3:$C$501=Sheet8!D500),0),9)","v":0},{"$f":"INDEX(Deduction!$A$3:$K$501,MATCH(1,(Deduction!$A$3:$A$501=Sheet8!A500)*(Deduction!$B$3:$B$501=Sheet8!B500)*(Deduction!$C$3:$C$501=Sheet8!D500),0),10)","v":0},{"$f":"INDEX(Deduction!$A$3:$K$501,MATCH(1,(Deduction!$A$3:$A$501=Sheet8!A500)*(Deduction!$B$3:$B$501=Sheet8!B500)*(Deduction!$C$3:$C$501=Sheet8!D500),0),11)","v":0},{"$error":"#DIV/0!"},{"$f":"VLOOKUP(D500,Emp_Master!$B$3:$H$501,7)","v":{"$error":"#N/A"}}]
[{"$f":"Salary_Entitlement!A502","v":0},{"$f":"Salary_Entitlement!B502","v":0},{"$f":"Salary_Entitlement!C502","v":0},{"$f":"Salary_Entitlement!D502","v":0},{"$f":"Salary_Entitlement!E502","v":0},{"$f":"Salary_Entitlement!F502","v":0},{"$f":"Salary_Entitlement!G502","v":0},{"$f":"Salary_Entitlement!H502","v":0},{"$f":"Salary_Entitlement!I502","v":0},{"$f":"Salary_Entitlement!J502","v":0},{"$f":"Salary_Entitlement!K502","v":0},{"$f":"Salary_Entitlement!L502","v":0},{"$f":"Salary_Entitlement!M502","v":0},{"$f":"Salary_Entitlement!N502","v":0},{"$f":"Salary_Entitlement!O502","v":0},{"$f":"Salary_Entitlement!P502","v":0},{"$error":"#DIV/0!"},{"$error":"#DIV/0!"},{"$f":"INDEX(Deduction!$A$3:$K$501,MATCH(1,(Deduction!$A$3:$A$501=Sheet8!A501)*(Deduction!$B$3:$B$501=Sheet8!B501)*(Deduction!$C$3:$C$501=Sheet8!D501),0),5)","v":0},{"$f":"INDEX(Deduction!$A$3:$K$501,MATCH(1,(Deduction!$A$3:$A$501=Sheet8!A501)*(Deduction!$B$3:$B$501=Sheet8!B501)*(Deduction!$C$3:$C$501=Sheet8!D501),0),6)","v":0},{"$f":"INDEX(Deduction!$A$3:$K$501,MATCH(1,(Deduction!$A$3:$A$501=Sheet8!A501)*(Deduction!$B$3:$B$501=Sheet8!B501)*(Deduction!$C$3:$C$501=Sheet8!D501),0),7)","v":0},{"$f":"INDEX(Deduction!$A$3:$K$501,MATCH(1,(Deduction!$A$3:$A$501=Sheet8!A501)*(Deduction!$B$3:$B$501=Sheet8!B501)*(Deduction!$C$3:$C$501=Sheet8!D501),0),8)","v":0},{"$f":"INDEX(Deduction!$A$3:$K$501,MATCH(1,(Deduction!$A$3:$A$501=Sheet8!A501)*(Deduction!$B$3:$B$501=Sheet8!B501)*(Deduction!$C$3:$C$501=Sheet8!D501),0),9)","v":0},{"$f":"INDEX(Deduction!$A$3:$K$501,MATCH(1,(Deduction!$A$3:$A$501=Sheet8!A501)*(Deduction!$B$3:$B$501=Sheet8!B501)*(Deduction!$C$3:$C$501=Sheet8!D501),0),10)","v":0},{"$f":"INDEX(Deduction!$A$3:$K$501,MATCH(1,(Deduction!$A$3:$A$501=Sheet8!A501)*(Deduction!$B$3:$B$501=Sheet8!B501)*(Deduction!$C$3:$C$501=Sheet8!D501),0),11)","v":0},{"$error":"#DIV/0!"},{"$f":"VLOOKUP(D501,Emp_Master!$B$3:$H$501,7)","v":{"$error":"#N/A"}}]
[{"$f":"Salary_Entitlement!A503","v":0},{"$f":"Salary_Entitlement!B503","v":0},{"$f":"Salary_Entitlement!C503","v":0},{"$f":"Salary_Entitlement!D503","v":0},{"$f":"Salary_Entitlement!E503","v":0},{"$f":"Salary_Entitlement!F503","v":0},{"$f":"Salary_Entitlement!G503","v":0},{"$f":"Salary_Entitlement!H503","v":0},{"$f":"Salary_Entitlement!I503","v":0},{"$f":"Salary_Entitlement!J503","v":0},{"$f":"Salary_Entitlement!K503","v":0},{"$f":"Salary_Entitlement!L503","v":0},{"$f":"Salary_Entitlement!M503","v":0},{"$f":"Salary_Entitlement!N503","v":0},{"$f":"Salary_Entitlement!O503","v":0},{"$f":"Salary_Entitlement!P503","v":0},{"$error":"#DIV/0!"},{"$error":"#DIV/0!"},{"$f":"INDEX(Deduction!$A$3:$K$501,MATCH(1,(Deduction!$A$3:$A$501=Sheet8!A502)*(Deduction!$B$3:$B$501=Sheet8!B502)*(Deduction!$C$3:$C$501=Sheet8!D502),0),5)","v":0},{"$f":"INDEX(Deduction!$A$3:$K$501,MATCH(1,(Deduction!$A$3:$A$501=Sheet8!A502)*(Deduction!$B$3:$B$501=Sheet8!B502)*(Deduction!$C$3:$C$501=Sheet8!D502),0),6)","v":0},{"$f":"INDEX(Deduction!$A$3:$K$501,MATCH(1,(Deduction!$A$3:$A$501=Sheet8!A502)*(Deduction!$B$3:$B$501=Sheet8!B502)*(Deduction!$C$3:$C$501=Sheet8!D502),0),7)","v":0},{"$f":"INDEX(Deduction!$A$3:$K$501,MATCH(1,(Deduction!$A$3:$A$501=Sheet8!A502)*(Deduction!$B$3:$B$501=Sheet8!B502)*(Deduction!$C$3:$C$501=Sheet8!D502),0),8)","v":0},{"$f":"INDEX(Deduction!$A$3:$K$501,MATCH(1,(Deduction!$A$3:$A$501=Sheet8!A502)*(Deduction!$B$3:$B$501=Sheet8!B502)*(Deduction!$C$3:$C$501=Sheet8!D502),0),9)","v":0},{"$f":"INDEX(Deduction!$A$3:$K$501,MATCH(1,(Deduction!$A$3:$A$501=Sheet8!A502)*(Deduction!$B$3:$B$501=Sheet8!B502)*(Deduction!$C$3:$C$501=Sheet8!D502),0),10)","v":0},{"$f":"INDEX(Deduction!$A$3:$K$501,MATCH(1,(Deduction!$A$3:$A$501=Sheet8!A502)*(Deduction!$B$3:$B$501=Sheet8!B502)*(Deduction!$C$3:$C$501=Sheet8!D502),0),11)","v":0},{"$error":"#DIV/0!"},{"$f":"VLOOKUP(D502,Emp_Master!$B$3:$H$501,7)","v":{"$error":"#N/A"}}]
[{"$f":"Salary_Entitlement!A504","v":0},{"$f":"Salary_Entitlement!B504","v":0},{"$f":"Salary_Entitlement!C504","v":0},{"$f":"Salary_Entitlement!D504","v":0},{"$f":"Salary_Entitlement!E504","v":0},{"$f":"Salary_Entitlement!F504","v":0},{"$f":"Salary_Entitlement!G504","v":0},{"$f":"Salary_Entitlement!H504","v":0},{"$f":"Salary_Entitlement!I504","v":0},{"$f":"Salary_Entitlement!J504","v":0},{"$f":"Salary_Entitlement!K504","v":0},{"$f":"Salary_Entitlement!L504","v":0},{"$f":"Salary_Entitlement!M504","v":0},{"$f":"Salary_Entitlement!N504","v":0},{"$f":"Salary_Entitlement!O504","v":0},{"$f":"Salary_Entitlement!P504","v":0},{"$error":"#DIV/0!"},{"$error":"#DIV/0!"},{"$f":"INDEX(Deduction!$A$3:$K$501,MATCH(1,(Deduction!$A$3:$A$501=Sheet8!A503)*(Deduction!$B$3:$B$501=Sheet8!B503)*(Deduction!$C$3:$C$501=Sheet8!D503),0),5)","v":0},{"$f":"INDEX(Deduction!$A$3:$K$501,MATCH(1,(Deduction!$A$3:$A$501=Sheet8!A503)*(Deduction!$B$3:$B$501=Sheet8!B503)*(Deduction!$C$3:$C$501=Sheet8!D503),0),6)","v":0},{"$f":"INDEX(Deduction!$A$3:$K$501,MATCH(1,(Deduction!$A$3:$A$501=Sheet8!A503)*(Deduction!$B$3:$B$501=Sheet8!B503)*(Deduction!$C$3:$C$501=Sheet8!D503),0),7)","v":0},{"$f":"INDEX(Deduction!$A$3:$K$501,MATCH(1,(Deduction!$A$3:$A$501=Sheet8!A503)*(Deduction!$B$3:$B$501=Sheet8!B503)*(Deduction!$C$3:$C$501=Sheet8!D503),0),8)","v":0},{"$f":"INDEX(Deduction!$A$3:$K$501,MATCH(1,(Deduction!$A$3:$A$501=Sheet8!A503)*(Deduction!$B$3:$B$501=Sheet8!B503)*(Deduction!$C$3:$C$501=Sheet8!D503),0),9)","v":0},{"$f":"INDEX(Deduction!$A$3:$K$501,MATCH(1,(Deduction!$A$3:$A$501=Sheet8!A503)*(Deduction!$B$3:$B$501=Sheet8!B503)*(Deduction!$C$3:$C$501=Sheet8!D503),0),10)","v":0},{"$f":"INDEX(Deduction!$A$3:$K$501,MATCH(1,(Deduction!$A$3:$A$501=Sheet8!A503)*(Deduction!$B$3:$B$501=Sheet8!B503)*(Deduction!$C$3:$C$501=Sheet8!D503),0),11)","v":0},{"$error":"#DIV/0!"},{"$f":"VLOOKUP(D503,Emp_Master!$B$3:$H$501,7)","v":{"$error":"#N/A"}}]
[{"$f":"Salary_Entitlement!A505","v":0},{"$f":"Salary_Entitlement!B505","v":0},{"$f":"Salary_Entitlement!C505","v":0},{"$f":"Salary_Entitlement!D505","v":0},{"$f":"Salary_Entitlement!E505","v":0},{"$f":"Salary_Entitlement!F505","v":0},{"$f":"Salary_Entitlement!G505","v":0},{"$f":"Salary_Entitlement!H505","v":0},{"$f":"Salary_Entitlement!I505","v":0},{"$f":"Salary_Entitlement!J505","v":0},{"$f":"Salary_Entitlement!K505","v":0},{"$f":"Salary_Entitlement!L505","v":0},{"$f":"Salary_Entitlement!M505","v":0},{"$f":"Salary_Entitlement!N505","v":0},{"$f":"Salary_Entitlement!O505","v":0},{"$f":"Salary_Entitlement!P505","v":0},{"$error":"#DIV/0!"},{"$error":"#DIV/0!"},{"$f":"INDEX(Deduction!$A$3:$K$501,MATCH(1,(Deduction!$A$3:$A$501=Sheet8!A504)*(Deduction!$B$3:$B$501=Sheet8!B504)*(Deduction!$C$3:$C$501=Sheet8!D504),0),5)","v":0},{"$f":"INDEX(Deduction!$A$3:$K$501,MATCH(1,(Deduction!$A$3:$A$501=Sheet8!A504)*(Deduction!$B$3:$B$501=Sheet8!B504)*(Deduction!$C$3:$C$501=Sheet8!D504),0),6)","v":0},{"$f":"INDEX(Deduction!$A$3:$K$501,MATCH(1,(Deduction!$A$3:$A$501=Sheet8!A504)*(Deduction!$B$3:$B$501=Sheet8!B504)*(Deduction!$C$3:$C$501=Sheet8!D504),0),7)","v":0},{"$f":"INDEX(Deduction!$A$3:$K$501,MATCH(1,(Deduction!$A$3:$A$501=Sheet8!A504)*(Deduction!$B$3:$B$501=Sheet8!B504)*(Deduction!$C$3:$C$501=Sheet8!D504),0),8)","v":0},{"$f":"INDEX(Deduction!$A$3:$K$501,MATCH(1,(Deduction!$A$3:$A$501=Sheet8!A504)*(Deduction!$B$3:$B$501=Sheet8!B504)*(Deduction!$C$3:$C$501=Sheet8!D504),0),9)","v":0},{"$f":"INDEX(Deduction!$A$3:$K$501,MATCH(1,(Deduction!$A$3:$A$501=Sheet8!A504)*(Deduction!$B$3:$B$501=Sheet8!B504)*(Deduction!$C$3:$C$501=Sheet8!D504),0),10)","v":0},{"$f":"INDEX(Deduction!$A$3:$K$501,MATCH(1,(Deduction!$A$3:$A$501=Sheet8!A504)*(Deduction!$B$3:$B$501=Sheet8!B504)*(Deduction!$C$3:$C$501=Sheet8!D504),0),11)","v":0},{"$error":"#DIV/0!"},{"$f":"VLOOKUP(D504,Emp_Master!$B$3:$H$501,7)","v":{"$error":"#N/A"}}]
[{"$f":"Salary_Entitlement!A506","v":0},{"$f":"Salary_Entitlement!B506","v":0},{"$f":"Salary_Entitlement!C506","v":0},{"$f":"Salary_Entitlement!D506","v":0},{"$f":"Salary_Entitlement!E506","v":0},{"$f":"Salary_Entitlement!F506","v":0},{"$f":"Salary_Entitlement!G506","v":0},{"$f":"Salary_Entitlement!H506","v":0},{"$f":"Salary_Entitlement!I506","v":0},{"$f":"Salary_Entitlement!J506","v":0},{"$f":"Salary_Entitlement!K506","v":0},{"$f":"Salary_Entitlement!L506","v":0},{"$f":"Salary_Entitlement!M506","v":0},{"$f":"Salary_Entitlement!N506","v":0},{"$f":"Salary_Entitlement!O506","v":0},{"$f":"Salary_Entitlement!P506","v":0},{"$error":"#DIV/0!"},{"$error":"#DIV/0!"},{"$f":"INDEX(Deduction!$A$3:$K$501,MATCH(1,(Deduction!$A$3:$A$501=Sheet8!A505)*(Deduction!$B$3:$B$501=Sheet8!B505)*(Deduction!$C$3:$C$501=Sheet8!D505),0),5)","v":0},{"$f":"INDEX(Deduction!$A$3:$K$501,MATCH(1,(Deduction!$A$3:$A$501=Sheet8!A505)*(Deduction!$B$3:$B$501=Sheet8!B505)*(Deduction!$C$3:$C$501=Sheet8!D505),0),6)","v":0},{"$f":"INDEX(Deduction!$A$3:$K$501,MATCH(1,(Deduction!$A$3:$A$501=Sheet8!A505)*(Deduction!$B$3:$B$501=Sheet8!B505)*(Deduction!$C$3:$C$501=Sheet8!D505),0),7)","v":0},{"$f":"INDEX(Deduction!$A$3:$K$501,MATCH(1,(Deduction!$A$3:$A$501=Sheet8!A505)*(Deduction!$B$3:$B$501=Sheet8!B505)*(Deduction!$C$3:$C$501=Sheet8!D505),0),8)","v":0},{"$f":"INDEX(Deduction!$A$3:$K$501,MATCH(1,(Deduction!$A$3:$A$501=Sheet8!A505)*(Deduction!$B$3:$B$501=Sheet8!B505)*(Deduction!$C$3:$C$501=Sheet8!D505),0),9)","v":0},{"$f":"INDEX(Deduction!$A$3:$K$501,MATCH(1,(Deduction!$A$3:$A$501=Sheet8!A505)*(Deduction!$B$3:$B$501=Sheet8!B505)*(Deduction!$C$3:$C$501=Sheet8!D505),0),10)","v":0},{"$f":"INDEX(Deduction!$A$3:$K$501,MATCH(1,(Deduction!$A$3:$A$501=Sheet8!A505)*(Deduction!$B$3:$B$501=Sheet8!B505)*(Deduction!$C$3:$C$501=Sheet8!D505),0),11)","v":0},{"$error":"#DIV/0!"},{"$f":"VLOOKUP(D505,Emp_Master!$B$3:$H$501,7)","v":{"$error":"#N/A"}}]
[{"$f":"Salary_Entitlement!A507","v":0},{"$f":"Salary_Entitlement!B507","v":0},{"$f":"Salary_Entitlement!C507","v":0},{"$f":"Salary_Entitlement!D507","v":0},{"$f":"Salary_Entitlement!E507","v":0},{"$f":"Salary_Entitlement!F507","v":0},{"$f":"Salary_Entitlement!G507","v":0},{"$f":"Salary_Entitlement!H507","v":0},{"$f":"Salary_Entitlement!I507","v":0},{"$f":"Salary_Entitlement!J507","v":0},{"$f":"Salary_Entitlement!K507","v":0},{"$f":"Salary_Entitlement!L507","v":0},{"$f":"Salary_Entitlement!M507","v":0},{"$f":"Salary_Entitlement!N507","v":0},{"$f":"Salary_Entitlement!O507","v":0},{"$f":"Salary_Entitlement!P507","v":0},{"$error":"#DIV/0!"},{"$error":"#DIV/0!"},{"$f":"INDEX(Deduction!$A$3:$K$501,MATCH(1,(Deduction!$A$3:$A$501=Sheet8!A506)*(Deduction!$B$3:$B$501=Sheet8!B506)*(Deduction!$C$3:$C$501=Sheet8!D506),0),5)","v":0},{"$f":"INDEX(Deduction!$A$3:$K$501,MATCH(1,(Deduction!$A$3:$A$501=Sheet8!A506)*(Deduction!$B$3:$B$501=Sheet8!B506)*(Deduction!$C$3:$C$501=Sheet8!D506),0),6)","v":0},{"$f":"INDEX(Deduction!$A$3:$K$501,MATCH(1,(Deduction!$A$3:$A$501=Sheet8!A506)*(Deduction!$B$3:$B$501=Sheet8!B506)*(Deduction!$C$3:$C$501=Sheet8!D506),0),7)","v":0},{"$f":"INDEX(Deduction!$A$3:$K$501,MATCH(1,(Deduction!$A$3:$A$501=Sheet8!A506)*(Deduction!$B$3:$B$501=Sheet8!B506)*(Deduction!$C$3:$C$501=Sheet8!D506),0),8)","v":0},{"$f":"INDEX(Deduction!$A$3:$K$501,MATCH(1,(Deduction!$A$3:$A$501=Sheet8!A506)*(Deduction!$B$3:$B$501=Sheet8!B506)*(Deduction!$C$3:$C$501=Sheet8!D506),0),9)","v":0},{"$f":"INDEX(Deduction!$A$3:$K$501,MATCH(1,(Deduction!$A$3:$A$501=Sheet8!A506)*(Deduction!$B$3:$B$501=Sheet8!B506)*(Deduction!$C$3:$C$501=Sheet8!D506),0),10)","v":0},{"$f":"INDEX(Deduction!$A$3:$K$501,MATCH(1,(Deduction!$A$3:$A$501=Sheet8!A506)*(Deduction!$B$3:$B$501=Sheet8!B506)*(Deduction!$C$3:$C$501=Sheet8!D506),0),11)","v":0},{"$error":"#DIV/0!"},{"$f":"VLOOKUP(D506,Emp_Master!$B$3:$H$501,7)","v":{"$error":"#N/A"}}]
[{"$f":"Salary_Entitlement!A508","v":0},{"$f":"Salary_Entitlement!B508","v":0},{"$f":"Salary_Entitlement!C508","v":0},{"$f":"Salary_Entitlement!D508","v":0},{"$f":"Salary_Entitlement!E508","v":0},{"$f":"Salary_Entitlement!F508","v":0},{"$f":"Salary_Entitlement!G508","v":0},{"$f":"Salary_Entitlement!H508","v":0},{"$f":"Salary_Entitlement!I508","v":0},{"$f":"Salary_Entitlement!J508","v":0},{"$f":"Salary_Entitlement!K508","v":0},{"$f":"Salary_Entitlement!L508","v":0},{"$f":"Salary_Entitlement!M508","v":0},{"$f":"Salary_Entitlement!N508","v":0},{"$f":"Salary_Entitlement!O508","v":0},{"$f":"Salary_Entitlement!P508","v":0},{"$error":"#DIV/0!"},{"$error":"#DIV/0!"},{"$f":"INDEX(Deduction!$A$3:$K$501,MATCH(1,(Deduction!$A$3:$A$501=Sheet8!A507)*(Deduction!$B$3:$B$501=Sheet8!B507)*(Deduction!$C$3:$C$501=Sheet8!D507),0),5)","v":0},{"$f":"INDEX(Deduction!$A$3:$K$501,MATCH(1,(Deduction!$A$3:$A$501=Sheet8!A507)*(Deduction!$B$3:$B$501=Sheet8!B507)*(Deduction!$C$3:$C$501=Sheet8!D507),0),6)","v":0},{"$f":"INDEX(Deduction!$A$3:$K$501,MATCH(1,(Deduction!$A$3:$A$501=Sheet8!A507)*(Deduction!$B$3:$B$501=Sheet8!B507)*(Deduction!$C$3:$C$501=Sheet8!D507),0),7)","v":0},{"$f":"INDEX(Deduction!$A$3:$K$501,MATCH(1,(Deduction!$A$3:$A$501=Sheet8!A507)*(Deduction!$B$3:$B$501=Sheet8!B507)*(Deduction!$C$3:$C$501=Sheet8!D507),0),8)","v":0},{"$f":"INDEX(Deduction!$A$3:$K$501,MATCH(1,(Deduction!$A$3:$A$501=Sheet8!A507)*(Deduction!$B$3:$B$501=Sheet8!B507)*(Deduction!$C$3:$C$501=Sheet8!D507),0),9)","v":0},{"$f":"INDEX(Deduction!$A$3:$K$501,MATCH(1,(Deduction!$A$3:$A$501=Sheet8!A507)*(Deduction!$B$3:$B$501=Sheet8!B507)*(Deduction!$C$3:$C$501=Sheet8!D507),0),10)","v":0},{"$f":"INDEX(Deduction!$A$3:$K$501,MATCH(1,(Deduction!$A$3:$A$501=Sheet8!A507)*(Deduction!$B$3:$B$501=Sheet8!B507)*(Deduction!$C$3:$C$501=Sheet8!D507),0),11)","v":0},{"$error":"#DIV/0!"},{"$f":"VLOOKUP(D507,Emp_Master!$B$3:$H$501,7)","v":{"$error":"#N/A"}}]
[{"$f":"Salary_Entitlement!A509","v":0},{"$f":"Salary_Entitlement!B509","v":0},{"$f":"Salary_Entitlement!C509","v":0},{"$f":"Salary_Entitlement!D509","v":0},{"$f":"Salary_Entitlement!E509","v":0},{"$f":"Salary_Entitlement!F509","v":0},{"$f":"Salary_Entitlement!G509","v":0},{"$f":"Salary_Entitlement!H509","v":0},{"$f":"Salary_Entitlement!I509","v":0},{"$f":"Salary_Entitlement!J509","v":0},{"$f":"Salary_Entitlement!K509","v":0},{"$f":"Salary_Entitlement!L509","v":0},{"$f":"Salary_Entitlement!M509","v":0},{"$f":"Salary_Entitlement!N509","v":0},{"$f":"Salary_Entitlement!O509","v":0},{"$f":"Salary_Entitlement!P509","v":0},{"$error":"#DIV/0!"},{"$error":"#DIV/0!"},{"$f":"INDEX(Deduction!$A$3:$K$501,MATCH(1,(Deduction!$A$3:$A$501=Sheet8!A508)*(Deduction!$B$3:$B$501=Sheet8!B508)*(Deduction!$C$3:$C$501=Sheet8!D508),0),5)","v":0},{"$f":"INDEX(Deduction!$A$3:$K$501,MATCH(1,(Deduction!$A$3:$A$501=Sheet8!A508)*(Deduction!$B$3:$B$501=Sheet8!B508)*(Deduction!$C$3:$C$501=Sheet8!D508),0),6)","v":0},{"$f":"INDEX(Deduction!$A$3:$K$501,MATCH(1,(Deduction!$A$3:$A$501=Sheet8!A508)*(Deduction!$B$3:$B$501=Sheet8!B508)*(Deduction!$C$3:$C$501=Sheet8!D508),0),7)","v":0},{"$f":"INDEX(Deduction!$A$3:$K$501,MATCH(1,(Deduction!$A$3:$A$501=Sheet8!A508)*(Deduction!$B$3:$B$501=Sheet8!B508)*(Deduction!$C$3:$C$501=Sheet8!D508),0),8)","v":0},{"$f":"INDEX(Deduction!$A$3:$K$501,MATCH(1,(Deduction!$A$3:$A$501=Sheet8!A508)*(Deduction!$B$3:$B$501=Sheet8!B508)*(Deduction!$C$3:$C$501=Sheet8!D508),0),9)","v":0},{"$f":"INDEX(Deduction!$A$3:$K$501,MATCH(1,(Deduction!$A$3:$A$501=Sheet8!A508)*(Deduction!$B$3:$B$501=Sheet8!B508)*(Deduction!$C$3:$C$501=Sheet8!D508),0),10)","v":0},{"$f":"INDEX(Deduction!$A$3:$K$501,MATCH(1,(Deduction!$A$3:$A$501=Sheet8!A508)*(Deduction!$B$3:$B$501=Sheet8!B508)*(Deduction!$C$3:$C$501=Sheet8!D508),0),11)","v":0},{"$error":"#DIV/0!"},{"$f":"VLOOKUP(D508,Emp_Master!$B$3:$H$501,7)","v":{"$error":"#N/A"}}]
[{"$f":"Salary_Entitlement!A510","v":0},{"$f":"Salary_Entitlement!B510","v":0},{"$f":"Salary_Entitlement!C510","v":0},{"$f":"Salary_Entitlement!D510","v":0},{"$f":"Salary_Entitlement!E510","v":0},{"$f":"Salary_Entitlement!F510","v":0},{"$f":"Salary_Entitlement!G510","v":0},{"$f":"Salary_Entitlement!H510","v":0},{"$f":"Salary_Entitlement!I510","v":0},{"$f":"Salary_Entitlement!J510","v":0},{"$f":"Salary_Entitlement!K510","v":0},{"$f":"Salary_Entitlement!L510","v":0},{"$f":"Salary_Entitlement!M510","v":0},{"$f":"Salary_Entitlement!N510","v":0},{"$f":"Salary_Entitlement!O510","v":0},{"$f":"Salary_Entitlement!P510","v":0},{"$error":"#DIV/0!"},{"$error":"#DIV/0!"},{"$f":"INDEX(Deduction!$A$3:$K$501,MATCH(1,(Deduction!$A$3:$A$501=Sheet8!A509)*(Deduction!$B$3:$B$501=Sheet8!B509)*(Deduction!$C$3:$C$501=Sheet8!D509),0),5)","v":0},{"$f":"INDEX(Deduction!$A$3:$K$501,MATCH(1,(Deduction!$A$3:$A$501=Sheet8!A509)*(Deduction!$B$3:$B$501=Sheet8!B509)*(Deduction!$C$3:$C$501=Sheet8!D509),0),6)","v":0},{"$f":"INDEX(Deduction!$A$3:$K$501,MATCH(1,(Deduction!$A$3:$A$501=Sheet8!A509)*(Deduction!$B$3:$B$501=Sheet8!B509)*(Deduction!$C$3:$C$501=Sheet8!D509),0),7)","v":0},{"$f":"INDEX(Deduction!$A$3:$K$501,MATCH(1,(Deduction!$A$3:$A$501=Sheet8!A509)*(Deduction!$B$3:$B$501=Sheet8!B509)*(Deduction!$C$3:$C$501=Sheet8!D509),0),8)","v":0},{"$f":"INDEX(Deduction!$A$3:$K$501,MATCH(1,(Deduction!$A$3:$A$501=Sheet8!A509)*(Deduction!$B$3:$B$501=Sheet8!B509)*(Deduction!$C$3:$C$501=Sheet8!D509),0),9)","v":0},{"$f":"INDEX(Deduction!$A$3:$K$501,MATCH(1,(Deduction!$A$3:$A$501=Sheet8!A509)*(Deduction!$B$3:$B$501=Sheet8!B509)*(Deduction!$C$3:$C$501=Sheet8!D509),0),10)","v":0},{"$f":"INDEX(Deduction!$A$3:$K$501,MATCH(1,(Deduction!$A$3:$A$501=Sheet8!A509)*(Deduction!$B$3:$B$501=Sheet8!B509)*(Deduction!$C$3:$C$501=Sheet8!D509),0),11)","v":0},{"$error":"#DIV/0!"},{"$f":"VLOOKUP(D509,Emp_Master!$B$3:$H$501,7)","v":{"$error":"#N/A"}}]
[{"$f":"Salary_Entitlement!A511","v":0},{"$f":"Salary_Entitlement!B511","v":0},{"$f":"Salary_Entitlement!C511","v":0},{"$f":"Salary_Entitlement!D511","v":0},{"$f":"Salary_Entitlement!E511","v":0},{"$f":"Salary_Entitlement!F511","v":0},{"$f":"Salary_Entitlement!G511","v":0},{"$f":"Salary_Entitlement!H511","v":0},{"$f":"Salary_Entitlement!I511","v":0},{"$f":"Salary_Entitlement!J511","v":0},{"$f":"Salary_Entitlement!K511","v":0},{"$f":"Salary_Entitlement!L511","v":0},{"$f":"Salary_Entitlement!M511","v":0},{"$f":"Salary_Entitlement!N511","v":0},{"$f":"Salary_Entitlement!O511","v":0},{"$f":"Salary_Entitlement!P511","v":0},{"$error":"#DIV/0!"},{"$error":"#DIV/0!"},{"$f":"INDEX(Deduction!$A$3:$K$501,MATCH(1,(Deduction!$A$3:$A$501=Sheet8!A510)*(Deduction!$B$3:$B$501=Sheet8!B510)*(Deduction!$C$3:$C$501=Sheet8!D510),0),5)","v":0},{"$f":"INDEX(Deduction!$A$3:$K$501,MATCH(1,(Deduction!$A$3:$A$501=Sheet8!A510)*(Deduction!$B$3:$B$501=Sheet8!B510)*(Deduction!$C$3:$C$501=Sheet8!D510),0),6)","v":0},{"$f":"INDEX(Deduction!$A$3:$K$501,MATCH(1,(Deduction!$A$3:$A$501=Sheet8!A510)*(Deduction!$B$3:$B$501=Sheet8!B510)*(Deduction!$C$3:$C$501=Sheet8!D510),0),7)","v":0},{"$f":"INDEX(Deduction!$A$3:$K$501,MATCH(1,(Deduction!$A$3:$A$501=Sheet8!A510)*(Deduction!$B$3:$B$501=Sheet8!B510)*(Deduction!$C$3:$C$501=Sheet8!D510),0),8)","v":0},{"$f":"INDEX(Deduction!$A$3:$K$501,MATCH(1,(Deduction!$A$3:$A$501=Sheet8!A510)*(Deduction!$B$3:$B$501=Sheet8!B510)*(Deduction!$C$3:$C$501=Sheet8!D510),0),9)","v":0},{"$f":"INDEX(Deduction!$A$3:$K$501,MATCH(1,(Deduction!$A$3:$A$501=Sheet8!A510)*(Deduction!$B$3:$B$501=Sheet8!B510)*(Deduction!$C$3:$C$501=Sheet8!D510),0),10)","v":0},{"$f":"INDEX(Deduction!$A$3:$K$501,MATCH(1,(Deduction!$A$3:$A$501=Sheet8!A510)*(Deduction!$B$3:$B$501=Sheet8!B510)*(Deduction!$C$3:$C$501=Sheet8!D510),0),11)","v":0},{"$error":"#DIV/0!"},{"$f":"VLOOKUP(D510,Emp_Master!$B$3:$H$501,7)","v":{"$error":"#N/A"}}]
[{"$f":"Salary_Entitlement!A512","v":0},{"$f":"Salary_Entitlement!B512","v":0},{"$f":"Salary_Entitlement!C512","v":0},{"$f":"Salary_Entitlement!D512","v":0},{"$f":"Salary_Entitlement!E512","v":0},{"$f":"Salary_Entitlement!F512","v":0},{"$f":"Salary_Entitlement!G512","v":0},{"$f":"Salary_Entitlement!H512","v":0},{"$f":"Salary_Entitlement!I512","v":0},{"$f":"Salary_Entitlement!J512","v":0},{"$f":"Salary_Entitlement!K512","v":0},{"$f":"Salary_Entitlement!L512","v":0},{"$f":"Salary_Entitlement!M512","v":0},{"$f":"Salary_Entitlement!N512","v":0},{"$f":"Salary_Entitlement!O512","v":0},{"$f":"Salary_Entitlement!P512","v":0},{"$error":"#DIV/0!"},{"$error":"#DIV/0!"},{"$f":"INDEX(Deduction!$A$3:$K$501,MATCH(1,(Deduction!$A$3:$A$501=Sheet8!A511)*(Deduction!$B$3:$B$501=Sheet8!B511)*(Deduction!$C$3:$C$501=Sheet8!D511),0),5)","v":0},{"$f":"INDEX(Deduction!$A$3:$K$501,MATCH(1,(Deduction!$A$3:$A$501=Sheet8!A511)*(Deduction!$B$3:$B$501=Sheet8!B511)*(Deduction!$C$3:$C$501=Sheet8!D511),0),6)","v":0},{"$f":"INDEX(Deduction!$A$3:$K$501,MATCH(1,(Deduction!$A$3:$A$501=Sheet8!A511)*(Deduction!$B$3:$B$501=Sheet8!B511)*(Deduction!$C$3:$C$501=Sheet8!D511),0),7)","v":0},{"$f":"INDEX(Deduction!$A$3:$K$501,MATCH(1,(Deduction!$A$3:$A$501=Sheet8!A511)*(Deduction!$B$3:$B$501=Sheet8!B511)*(Deduction!$C$3:$C$501=Sheet8!D511),0),8)","v":0},{"$f":"INDEX(Deduction!$A$3:$K$501,MATCH(1,(Deduction!$A$3:$A$501=Sheet8!A511)*(Deduction!$B$3:$B$501=Sheet8!B511)*(Deduction!$C$3:$C$501=Sheet8!D511),0),9)","v":0},{"$f":"INDEX(Deduction!$A$3:$K$501,MATCH(1,(Deduction!$A$3:$A$501=Sheet8!A511)*(Deduction!$B$3:$B$501=Sheet8!B511)*(Deduction!$C$3:$C$501=Sheet8!D511),0),10)","v":0},{"$f":"INDEX(Deduction!$A$3:$K$501,MATCH(1,(Deduction!$A$3:$A$501=Sheet8!A511)*(Deduction!$B$3:$B$501=Sheet8!B511)*(Deduction!$C$3:$C$501=Sheet8!D511),0),11)","v":0},{"$error":"#DIV/0!"},{"$f":"VLOOKUP(D511,Emp_Master!$B$3:$H$501,7)","v":{"$error":"#N/A"}}]
[{"$f":"Salary_Entitlement!A513","v":0},{"$f":"Salary_Entitlement!B513","v":0},{"$f":"Salary_Entitlement!C513","v":0},{"$f":"Salary_Entitlement!D513","v":0},{"$f":"Salary_Entitlement!E513","v":0},{"$f":"Salary_Entitlement!F513","v":0},{"$f":"Salary_Entitlement!G513","v":0},{"$f":"Salary_Entitlement!H513","v":0},{"$f":"Salary_Entitlement!I513","v":0},{"$f":"Salary_Entitlement!J513","v":0},{"$f":"Salary_Entitlement!K513","v":0},{"$f":"Salary_Entitlement!L513","v":0},{"$f":"Salary_Entitlement!M513","v":0},{"$f":"Salary_Entitlement!N513","v":0},{"$f":"Salary_Entitlement!O513","v":0},{"$f":"Salary_Entitlement!P513","v":0},{"$error":"#DIV/0!"},{"$error":"#DIV/0!"},{"$f":"INDEX(Deduction!$A$3:$K$501,MATCH(1,(Deduction!$A$3:$A$501=Sheet8!A512)*(Deduction!$B$3:$B$501=Sheet8!B512)*(Deduction!$C$3:$C$501=Sheet8!D512),0),5)","v":0},{"$f":"INDEX(Deduction!$A$3:$K$501,MATCH(1,(Deduction!$A$3:$A$501=Sheet8!A512)*(Deduction!$B$3:$B$501=Sheet8!B512)*(Deduction!$C$3:$C$501=Sheet8!D512),0),6)","v":0},{"$f":"INDEX(Deduction!$A$3:$K$501,MATCH(1,(Deduction!$A$3:$A$501=Sheet8!A512)*(Deduction!$B$3:$B$501=Sheet8!B512)*(Deduction!$C$3:$C$501=Sheet8!D512),0),7)","v":0},{"$f":"INDEX(Deduction!$A$3:$K$501,MATCH(1,(Deduction!$A$3:$A$501=Sheet8!A512)*(Deduction!$B$3:$B$501=Sheet8!B512)*(Deduction!$C$3:$C$501=Sheet8!D512),0),8)","v":0},{"$f":"INDEX(Deduction!$A$3:$K$501,MATCH(1,(Deduction!$A$3:$A$501=Sheet8!A512)*(Deduction!$B$3:$B$501=Sheet8!B512)*(Deduction!$C$3:$C$501=Sheet8!D512),0),9)","v":0},{"$f":"INDEX(Deduction!$A$3:$K$501,MATCH(1,(Deduction!$A$3:$A$501=Sheet8!A512)*(Deduction!$B$3:$B$501=Sheet8!B512)*(Deduction!$C$3:$C$501=Sheet8!D512),0),10)","v":0},{"$f":"INDEX(Deduction!$A$3:$K$501,MATCH(1,(Deduction!$A$3:$A$501=Sheet8!A512)*(Deduction!$B$3:$B$501=Sheet8!B512)*(Deduction!$C$3:$C$501=Sheet8!D512),0),11)","v":0},{"$error":"#DIV/0!"},{"$f":"VLOOKUP(D512,Emp_Master!$B$3:$H$501,7)","v":{"$error":"#N/A"}}]
[{"$f":"Salary_Entitlement!A514","v":0},{"$f":"Salary_Entitlement!B514","v":0},{"$f":"Salary_Entitlement!C514","v":0},{"$f":"Salary_Entitlement!D514","v":0},{"$f":"Salary_Entitlement!E514","v":0},{"$f":"Salary_Entitlement!F514","v":0},{"$f":"Salary_Entitlement!G514","v":0},{"$f":"Salary_Entitlement!H514","v":0},{"$f":"Salary_Entitlement!I514","v":0},{"$f":"Salary_Entitlement!J514","v":0},{"$f":"Salary_Entitlement!K514","v":0},{"$f":"Salary_Entitlement!L514","v":0},{"$f":"Salary_Entitlement!M514","v":0},{"$f":"Salary_Entitlement!N514","v":0},{"$f":"Salary_Entitlement!O514","v":0},{"$f":"Salary_Entitlement!P514","v":0},{"$error":"#DIV/0!"},{"$error":"#DIV/0!"},{"$f":"INDEX(Deduction!$A$3:$K$501,MATCH(1,(Deduction!$A$3:$A$501=Sheet8!A513)*(Deduction!$B$3:$B$501=Sheet8!B513)*(Deduction!$C$3:$C$501=Sheet8!D513),0),5)","v":0},{"$f":"INDEX(Deduction!$A$3:$K$501,MATCH(1,(Deduction!$A$3:$A$501=Sheet8!A513)*(Deduction!$B$3:$B$501=Sheet8!B513)*(Deduction!$C$3:$C$501=Sheet8!D513),0),6)","v":0},{"$f":"INDEX(Deduction!$A$3:$K$501,MATCH(1,(Deduction!$A$3:$A$501=Sheet8!A513)*(Deduction!$B$3:$B$501=Sheet8!B513)*(Deduction!$C$3:$C$501=Sheet8!D513),0),7)","v":0},{"$f":"INDEX(Deduction!$A$3:$K$501,MATCH(1,(Deduction!$A$3:$A$501=Sheet8!A513)*(Deduction!$B$3:$B$501=Sheet8!B513)*(Deduction!$C$3:$C$501=Sheet8!D513),0),8)","v":0},{"$f":"INDEX(Deduction!$A$3:$K$501,MATCH(1,(Deduction!$A$3:$A$501=Sheet8!A513)*(Deduction!$B$3:$B$501=Sheet8!B513)*(Deduction!$C$3:$C$501=Sheet8!D513),0),9)","v":0},{"$f":"INDEX(Deduction!$A$3:$K$501,MATCH(1,(Deduction!$A$3:$A$501=Sheet8!A513)*(Deduction!$B$3:$B$501=Sheet8!B513)*(Deduction!$C$3:$C$501=Sheet8!D513),0),10)","v":0},{"$f":"INDEX(Deduction!$A$3:$K$501,MATCH(1,(Deduction!$A$3:$A$501=Sheet8!A513)*(Deduction!$B$3:$B$501=Sheet8!B513)*(Deduction!$C$3:$C$501=Sheet8!D513),0),11)","v":0},{"$error":"#DIV/0!"},{"$f":"VLOOKUP(D513,Emp_Master!$B$3:$H$501,7)","v":{"$error":"#N/A"}}]
[{"$f":"Salary_Entitlement!A515","v":0},{"$f":"Salary_Entitlement!B515","v":0},{"$f":"Salary_Entitlement!C515","v":0},{"$f":"Salary_Entitlement!D515","v":0},{"$f":"Salary_Entitlement!E515","v":0},{"$f":"Salary_Entitlement!F515","v":0},{"$f":"Salary_Entitlement!G515","v":0},{"$f":"Salary_Entitlement!H515","v":0},{"$f":"Salary_Entitlement!I515","v":0},{"$f":"Salary_Entitlement!J515","v":0},{"$f":"Salary_Entitlement!K515","v":0},{"$f":"Salary_Entitlement!L515","v":0},{"$f":"Salary_Entitlement!M515","v":0},{"$f":"Salary_Entitlement!N515","v":0},{"$f":"Salary_Entitlement!O515","v":0},{"$f":"Salary_Entitlement!P515","v":0},{"$error":"#DIV/0!"},{"$error":"#DIV/0!"},{"$f":"INDEX(Deduction!$A$3:$K$501,MATCH(1,(Deduction!$A$3:$A$501=Sheet8!A514)*(Deduction!$B$3:$B$501=Sheet8!B514)*(Deduction!$C$3:$C$501=Sheet8!D514),0),5)","v":0},{"$f":"INDEX(Deduction!$A$3:$K$501,MATCH(1,(Deduction!$A$3:$A$501=Sheet8!A514)*(Deduction!$B$3:$B$501=Sheet8!B514)*(Deduction!$C$3:$C$501=Sheet8!D514),0),6)","v":0},{"$f":"INDEX(Deduction!$A$3:$K$501,MATCH(1,(Deduction!$A$3:$A$501=Sheet8!A514)*(Deduction!$B$3:$B$501=Sheet8!B514)*(Deduction!$C$3:$C$501=Sheet8!D514),0),7)","v":0},{"$f":"INDEX(Deduction!$A$3:$K$501,MATCH(1,(Deduction!$A$3:$A$501=Sheet8!A514)*(Deduction!$B$3:$B$501=Sheet8!B514)*(Deduction!$C$3:$C$501=Sheet8!D514),0),8)","v":0},{"$f":"INDEX(Deduction!$A$3:$K$501,MATCH(1,(Deduction!$A$3:$A$501=Sheet8!A514)*(Deduction!$B$3:$B$501=Sheet8!B514)*(Deduction!$C$3:$C$501=Sheet8!D514),0),9)","v":0},{"$f":"INDEX(Deduction!$A$3:$K$501,MATCH(1,(Deduction!$A$3:$A$501=Sheet8!A514)*(Deduction!$B$3:$B$501=Sheet8!B514)*(Deduction!$C$3:$C$501=Sheet8!D514),0),10)","v":0},{"$f":"INDEX(Deduction!$A$3:$K$501,MATCH(1,(Deduction!$A$3:$A$501=Sheet8!A514)*(Deduction!$B$3:$B$501=Sheet8!B514)*(Deduction!$C$3:$C$501=Sheet8!D514),0),11)","v":0},{"$error":"#DIV/0!"},{"$f":"VLOOKUP(D514,Emp_Master!$B$3:$H$501,7)","v":{"$error":"#N/A"}}]
[{"$f":"Salary_Entitlement!A516","v":0},{"$f":"Salary_Entitlement!B516","v":0},{"$f":"Salary_Entitlement!C516","v":0},{"$f":"Salary_Entitlement!D516","v":0},{"$f":"Salary_Entitlement!E516","v":0},{"$f":"Salary_Entitlement!F516","v":0},{"$f":"Salary_Entitlement!G516","v":0},{"$f":"Salary_Entitlement!H516","v":0},{"$f":"Salary_Entitlement!I516","v":0},{"$f":"Salary_Entitlement!J516","v":0},{"$f":"Salary_Entitlement!K516","v":0},{"$f":"Salary_Entitlement!L516","v":0},{"$f":"Salary_Entitlement!M516","v":0},{"$f":"Salary_Entitlement!N516","v":0},{"$f":"Salary_Entitlement!O516","v":0},{"$f":"Salary_Entitlement!P516","v":0},{"$error":"#DIV/0!"},{"$error":"#DIV/0!"},{"$f":"INDEX(Deduction!$A$3:$K$501,MATCH(1,(Deduction!$A$3:$A$501=Sheet8!A515)*(Deduction!$B$3:$B$501=Sheet8!B515)*(Deduction!$C$3:$C$501=Sheet8!D515),0),5)","v":0},{"$f":"INDEX(Deduction!$A$3:$K$501,MATCH(1,(Deduction!$A$3:$A$501=Sheet8!A515)*(Deduction!$B$3:$B$501=Sheet8!B515)*(Deduction!$C$3:$C$501=Sheet8!D515),0),6)","v":0},{"$f":"INDEX(Deduction!$A$3:$K$501,MATCH(1,(Deduction!$A$3:$A$501=Sheet8!A515)*(Deduction!$B$3:$B$501=Sheet8!B515)*(Deduction!$C$3:$C$501=Sheet8!D515),0),7)","v":0},{"$f":"INDEX(Deduction!$A$3:$K$501,MATCH(1,(Deduction!$A$3:$A$501=Sheet8!A515)*(Deduction!$B$3:$B$501=Sheet8!B515)*(Deduction!$C$3:$C$501=Sheet8!D515),0),8)","v":0},{"$f":"INDEX(Deduction!$A$3:$K$501,MATCH(1,(Deduction!$A$3:$A$501=Sheet8!A515)*(Deduction!$B$3:$B$501=Sheet8!B515)*(Deduction!$C$3:$C$501=Sheet8!D515),0),9)","v":0},{"$f":"INDEX(Deduction!$A$3:$K$501,MATCH(1,(Deduction!$A$3:$A$501=Sheet8!A515)*(Deduction!$B$3:$B$501=Sheet8!B515)*(Deduction!$C$3:$C$501=Sheet8!D515),0),10)","v":0},{"$f":"INDEX(Deduction!$A$3:$K$501,MATCH(1,(Deduction!$A$3:$A$501=Sheet8!A515)*(Deduction!$B$3:$B$501=Sheet8!B515)*(Deduction!$C$3:$C$501=Sheet8!D515),0),11)","v":0},{"$error":"#DIV/0!"},{"$f":"VLOOKUP(D515,Emp_Master!$B$3:$H$501,7)","v":{"$error":"#N/A"}}]
[{"$f":"Salary_Entitlement!A517","v":0},{"$f":"Salary_Entitlement!B517","v":0},{"$f":"Salary_Entitlement!C517","v":0},{"$f":"Salary_Entitlement!D517","v":0},{"$f":"Salary_Entitlement!E517","v":0},{"$f":"Salary_Entitlement!F517","v":0},{"$f":"Salary_Entitlement!G517","v":0},{"$f":"Salary_Entitlement!H517","v":0},{"$f":"Salary_Entitlement!I517","v":0},{"$f":"Salary_Entitlement!J517","v":0},{"$f":"Salary_Entitlement!K517","v":0},{"$f":"Salary_Entitlement!L517","v":0},{"$f":"Salary_Entitlement!M517","v":0},{"$f":"Salary_Entitlement!N517","v":0},{"$f":"Salary_Entitlement!O517","v":0},{"$f":"Salary_Entitlement!P517","v":0},{"$error":"#DIV/0!"},{"$error":"#DIV/0!"},{"$f":"INDEX(Deduction!$A$3:$K$501,MATCH(1,(Deduction!$A$3:$A$501=Sheet8!A516)*(Deduction!$B$3:$B$501=Sheet8!B516)*(Deduction!$C$3:$C$501=Sheet8!D516),0),5)","v":0},{"$f":"INDEX(Deduction!$A$3:$K$501,MATCH(1,(Deduction!$A$3:$A$501=Sheet8!A516)*(Deduction!$B$3:$B$501=Sheet8!B516)*(Deduction!$C$3:$C$501=Sheet8!D516),0),6)","v":0},{"$f":"INDEX(Deduction!$A$3:$K$501,MATCH(1,(Deduction!$A$3:$A$501=Sheet8!A516)*(Deduction!$B$3:$B$501=Sheet8!B516)*(Deduction!$C$3:$C$501=Sheet8!D516),0),7)","v":0},{"$f":"INDEX(Deduction!$A$3:$K$501,MATCH(1,(Deduction!$A$3:$A$501=Sheet8!A516)*(Deduction!$B$3:$B$501=Sheet8!B516)*(Deduction!$C$3:$C$501=Sheet8!D516),0),8)","v":0},{"$f":"INDEX(Deduction!$A$3:$K$501,MATCH(1,(Deduction!$A$3:$A$501=Sheet8!A516)*(Deduction!$B$3:$B$501=Sheet8!B516)*(Deduction!$C$3:$C$501=Sheet8!D516),0),9)","v":0},{"$f":"INDEX(Deduction!$A$3:$K$501,MATCH(1,(Deduction!$A$3:$A$501=Sheet8!A516)*(Deduction!$B$3:$B$501=Sheet8!B516)*(Deduction!$C$3:$C$501=Sheet8!D516),0),10)","v":0},{"$f":"INDEX(Deduction!$A$3:$K$501,MATCH(1,(Deduction!$A$3:$A$501=Sheet8!A516)*(Deduction!$B$3:$B$501=Sheet8!B516)*(Deduction!$C$3:$C$501=Sheet8!D516),0),11)","v":0},{"$f":"+R516-SUM(S516:Y516)","v":{"$error":"#DIV/0!"}},{"$f":"VLOOKUP(D516,Emp_Master!$B$3:$H$501,7)","v":{"$error":"#N/A"}}]
[{"$f":"Salary_Entitlement!A518","v":0},{"$f":"Salary_Entitlement!B518","v":0},{"$f":"Salary_Entitlement!C518","v":0},{"$f":"Salary_Entitlement!D518","v":0},{"$f":"Salary_Entitlement!E518","v":0},{"$f":"Salary_Entitlement!F518","v":0},{"$f":"Salary_Entitlement!G518","v":0},{"$f":"Salary_Entitlement!H518","v":0},{"$f":"Salary_Entitlement!I518","v":0},{"$f":"Salary_Entitlement!J518","v":0},{"$f":"Salary_Entitlement!K518","v":0},{"$f":"Salary_Entitlement!L518","v":0},{"$f":"Salary_Entitlement!M518","v":0},{"$f":"Salary_Entitlement!N518","v":0},{"$f":"Salary_Entitlement!O518","v":0},{"$f":"Salary_Entitlement!P518","v":0},{"$error":"#DIV/0!"},{"$error":"#DIV/0!"},{"$f":"INDEX(Deduction!$A$3:$K$501,MATCH(1,(Deduction!$A$3:$A$501=Sheet8!A517)*(Deduction!$B$3:$B$501=Sheet8!B517)*(Deduction!$C$3:$C$501=Sheet8!D517),0),5)","v":0},{"$f":"INDEX(Deduction!$A$3:$K$501,MATCH(1,(Deduction!$A$3:$A$501=Sheet8!A517)*(Deduction!$B$3:$B$501=Sheet8!B517)*(Deduction!$C$3:$C$501=Sheet8!D517),0),6)","v":0},{"$f":"INDEX(Deduction!$A$3:$K$501,MATCH(1,(Deduction!$A$3:$A$501=Sheet8!A517)*(Deduction!$B$3:$B$501=Sheet8!B517)*(Deduction!$C$3:$C$501=Sheet8!D517),0),7)","v":0},{"$f":"INDEX(Deduction!$A$3:$K$501,MATCH(1,(Deduction!$A$3:$A$501=Sheet8!A517)*(Deduction!$B$3:$B$501=Sheet8!B517)*(Deduction!$C$3:$C$501=Sheet8!D517),0),8)","v":0},{"$f":"INDEX(Deduction!$A$3:$K$501,MATCH(1,(Deduction!$A$3:$A$501=Sheet8!A517)*(Deduction!$B$3:$B$501=Sheet8!B517)*(Deduction!$C$3:$C$501=Sheet8!D517),0),9)","v":0},{"$f":"INDEX(Deduction!$A$3:$K$501,MATCH(1,(Deduction!$A$3:$A$501=Sheet8!A517)*(Deduction!$B$3:$B$501=Sheet8!B517)*(Deduction!$C$3:$C$501=Sheet8!D517),0),10)","v":0},{"$f":"INDEX(Deduction!$A$3:$K$501,MATCH(1,(Deduction!$A$3:$A$501=Sheet8!A517)*(Deduction!$B$3:$B$501=Sheet8!B517)*(Deduction!$C$3:$C$501=Sheet8!D517),0),11)","v":0},{"$error":"#DIV/0!"},{"$f":"VLOOKUP(D517,Emp_Master!$B$3:$H$501,7)","v":{"$error":"#N/A"}}]
[{"$f":"Salary_Entitlement!A519","v":0},{"$f":"Salary_Entitlement!B519","v":0},{"$f":"Salary_Entitlement!C519","v":0},{"$f":"Salary_Entitlement!D519","v":0},{"$f":"Salary_Entitlement!E519","v":0},{"$f":"Salary_Entitlement!F519","v":0},{"$f":"Salary_Entitlement!G519","v":0},{"$f":"Salary_Entitlement!H519","v":0},{"$f":"Salary_Entitlement!I519","v":0},{"$f":"Salary_Entitlement!J519","v":0},{"$f":"Salary_Entitlement!K519","v":0},{"$f":"Salary_Entitlement!L519","v":0},{"$f":"Salary_Entitlement!M519","v":0},{"$f":"Salary_Entitlement!N519","v":0},{"$f":"Salary_Entitlement!O519","v":0},{"$f":"Salary_Entitlement!P519","v":0},{"$error":"#DIV/0!"},{"$error":"#DIV/0!"},{"$f":"INDEX(Deduction!$A$3:$K$501,MATCH(1,(Deduction!$A$3:$A$501=Sheet8!A518)*(Deduction!$B$3:$B$501=Sheet8!B518)*(Deduction!$C$3:$C$501=Sheet8!D518),0),5)","v":0},{"$f":"INDEX(Deduction!$A$3:$K$501,MATCH(1,(Deduction!$A$3:$A$501=Sheet8!A518)*(Deduction!$B$3:$B$501=Sheet8!B518)*(Deduction!$C$3:$C$501=Sheet8!D518),0),6)","v":0},{"$f":"INDEX(Deduction!$A$3:$K$501,MATCH(1,(Deduction!$A$3:$A$501=Sheet8!A518)*(Deduction!$B$3:$B$501=Sheet8!B518)*(Deduction!$C$3:$C$501=Sheet8!D518),0),7)","v":0},{"$f":"INDEX(Deduction!$A$3:$K$501,MATCH(1,(Deduction!$A$3:$A$501=Sheet8!A518)*(Deduction!$B$3:$B$501=Sheet8!B518)*(Deduction!$C$3:$C$501=Sheet8!D518),0),8)","v":0},{"$f":"INDEX(Deduction!$A$3:$K$501,MATCH(1,(Deduction!$A$3:$A$501=Sheet8!A518)*(Deduction!$B$3:$B$501=Sheet8!B518)*(Deduction!$C$3:$C$501=Sheet8!D518),0),9)","v":0},{"$f":"INDEX(Deduction!$A$3:$K$501,MATCH(1,(Deduction!$A$3:$A$501=Sheet8!A518)*(Deduction!$B$3:$B$501=Sheet8!B518)*(Deduction!$C$3:$C$501=Sheet8!D518),0),10)","v":0},{"$f":"INDEX(Deduction!$A$3:$K$501,MATCH(1,(Deduction!$A$3:$A$501=Sheet8!A518)*(Deduction!$B$3:$B$501=Sheet8!B518)*(Deduction!$C$3:$C$501=Sheet8!D518),0),11)","v":0},{"$error":"#DIV/0!"},{"$f":"VLOOKUP(D518,Emp_Master!$B$3:$H$501,7)","v":{"$error":"#N/A"}}]
[{"$f":"Salary_Entitlement!A520","v":0},{"$f":"Salary_Entitlement!B520","v":0},{"$f":"Salary_Entitlement!C520","v":0},{"$f":"Salary_Entitlement!D520","v":0},{"$f":"Salary_Entitlement!E520","v":0},{"$f":"Salary_Entitlement!F520","v":0},{"$f":"Salary_Entitlement!G520","v":0},{"$f":"Salary_Entitlement!H520","v":0},{"$f":"Salary_Entitlement!I520","v":0},{"$f":"Salary_Entitlement!J520","v":0},{"$f":"Salary_Entitlement!K520","v":0},{"$f":"Salary_Entitlement!L520","v":0},{"$f":"Salary_Entitlement!M520","v":0},{"$f":"Salary_Entitlement!N520","v":0},{"$f":"Salary_Entitlement!O520","v":0},{"$f":"Salary_Entitlement!P520","v":0},{"$error":"#DIV/0!"},{"$error":"#DIV/0!"},{"$f":"INDEX(Deduction!$A$3:$K$501,MATCH(1,(Deduction!$A$3:$A$501=Sheet8!A519)*(Deduction!$B$3:$B$501=Sheet8!B519)*(Deduction!$C$3:$C$501=Sheet8!D519),0),5)","v":0},{"$f":"INDEX(Deduction!$A$3:$K$501,MATCH(1,(Deduction!$A$3:$A$501=Sheet8!A519)*(Deduction!$B$3:$B$501=Sheet8!B519)*(Deduction!$C$3:$C$501=Sheet8!D519),0),6)","v":0},{"$f":"INDEX(Deduction!$A$3:$K$501,MATCH(1,(Deduction!$A$3:$A$501=Sheet8!A519)*(Deduction!$B$3:$B$501=Sheet8!B519)*(Deduction!$C$3:$C$501=Sheet8!D519),0),7)","v":0},{"$f":"INDEX(Deduction!$A$3:$K$501,MATCH(1,(Deduction!$A$3:$A$501=Sheet8!A519)*(Deduction!$B$3:$B$501=Sheet8!B519)*(Deduction!$C$3:$C$501=Sheet8!D519),0),8)","v":0},{"$f":"INDEX(Deduction!$A$3:$K$501,MATCH(1,(Deduction!$A$3:$A$501=Sheet8!A519)*(Deduction!$B$3:$B$501=Sheet8!B519)*(Deduction!$C$3:$C$501=Sheet8!D519),0),9)","v":0},{"$f":"INDEX(Deduction!$A$3:$K$501,MATCH(1,(Deduction!$A$3:$A$501=Sheet8!A519)*(Deduction!$B$3:$B$501=Sheet8!B519)*(Deduction!$C$3:$C$501=Sheet8!D519),0),10)","v":0},{"$f":"INDEX(Deduction!$A$3:$K$501,MATCH(1,(Deduction!$A$3:$A$501=Sheet8!A519)*(Deduction!$B$3:$B$501=Sheet8!B519)*(Deduction!$C$3:$C$501=Sheet8!D519),0),11)","v":0},{"$error":"#DIV/0!"},{"$f":"VLOOKUP(D519,Emp_Master!$B$3:$H$501,7)","v":{"$error":"#N/A"}}]
[{"$f":"Salary_Entitlement!A521","v":0},{"$f":"Salary_Entitlement!B521","v":0},{"$f":"Salary_Entitlement!C521","v":0},{"$f":"Salary_Entitlement!D521","v":0},{"$f":"Salary_Entitlement!E521","v":0},{"$f":"Salary_Entitlement!F521","v":0},{"$f":"Salary_Entitlement!G521","v":0},{"$f":"Salary_Entitlement!H521","v":0},{"$f":"Salary_Entitlement!I521","v":0},{"$f":"Salary_Entitlement!J521","v":0},{"$f":"Salary_Entitlement!K521","v":0},{"$f":"Salary_Entitlement!L521","v":0},{"$f":"Salary_Entitlement!M521","v":0},{"$f":"Salary_Entitlement!N521","v":0},{"$f":"Salary_Entitlement!O521","v":0},{"$f":"Salary_Entitlement!P521","v":0},{"$error":"#DIV/0!"},{"$error":"#DIV/0!"},{"$f":"INDEX(Deduction!$A$3:$K$501,MATCH(1,(Deduction!$A$3:$A$501=Sheet8!A520)*(Deduction!$B$3:$B$501=Sheet8!B520)*(Deduction!$C$3:$C$501=Sheet8!D520),0),5)","v":0},{"$f":"INDEX(Deduction!$A$3:$K$501,MATCH(1,(Deduction!$A$3:$A$501=Sheet8!A520)*(Deduction!$B$3:$B$501=Sheet8!B520)*(Deduction!$C$3:$C$501=Sheet8!D520),0),6)","v":0},{"$f":"INDEX(Deduction!$A$3:$K$501,MATCH(1,(Deduction!$A$3:$A$501=Sheet8!A520)*(Deduction!$B$3:$B$501=Sheet8!B520)*(Deduction!$C$3:$C$501=Sheet8!D520),0),7)","v":0},{"$f":"INDEX(Deduction!$A$3:$K$501,MATCH(1,(Deduction!$A$3:$A$501=Sheet8!A520)*(Deduction!$B$3:$B$501=Sheet8!B520)*(Deduction!$C$3:$C$501=Sheet8!D520),0),8)","v":0},{"$f":"INDEX(Deduction!$A$3:$K$501,MATCH(1,(Deduction!$A$3:$A$501=Sheet8!A520)*(Deduction!$B$3:$B$501=Sheet8!B520)*(Deduction!$C$3:$C$501=Sheet8!D520),0),9)","v":0},{"$f":"INDEX(Deduction!$A$3:$K$501,MATCH(1,(Deduction!$A$3:$A$501=Sheet8!A520)*(Deduction!$B$3:$B$501=Sheet8!B520)*(Deduction!$C$3:$C$501=Sheet8!D520),0),10)","v":0},{"$f":"INDEX(Deduction!$A$3:$K$501,MATCH(1,(Deduction!$A$3:$A$501=Sheet8!A520)*(Deduction!$B$3:$B$501=Sheet8!B520)*(Deduction!$C$3:$C$501=Sheet8!D520),0),11)","v":0},{"$error":"#DIV/0!"},{"$f":"VLOOKUP(D520,Emp_Master!$B$3:$H$501,7)","v":{"$error":"#N/A"}}]
[{"$f":"Salary_Entitlement!A522","v":0},{"$f":"Salary_Entitlement!B522","v":0},{"$f":"Salary_Entitlement!C522","v":0},{"$f":"Salary_Entitlement!D522","v":0},{"$f":"Salary_Entitlement!E522","v":0},{"$f":"Salary_Entitlement!F522","v":0},{"$f":"Salary_Entitlement!G522","v":0},{"$f":"Salary_Entitlement!H522","v":0},{"$f":"Salary_Entitlement!I522","v":0},{"$f":"Salary_Entitlement!J522","v":0},{"$f":"Salary_Entitlement!K522","v":0},{"$f":"Salary_Entitlement!L522","v":0},{"$f":"Salary_Entitlement!M522","v":0},{"$f":"Salary_Entitlement!N522","v":0},{"$f":"Salary_Entitlement!O522","v":0},{"$f":"Salary_Entitlement!P522","v":0},{"$error":"#DIV/0!"},{"$error":"#DIV/0!"},{"$f":"INDEX(Deduction!$A$3:$K$501,MATCH(1,(Deduction!$A$3:$A$501=Sheet8!A521)*(Deduction!$B$3:$B$501=Sheet8!B521)*(Deduction!$C$3:$C$501=Sheet8!D521),0),5)","v":0},{"$f":"INDEX(Deduction!$A$3:$K$501,MATCH(1,(Deduction!$A$3:$A$501=Sheet8!A521)*(Deduction!$B$3:$B$501=Sheet8!B521)*(Deduction!$C$3:$C$501=Sheet8!D521),0),6)","v":0},{"$f":"INDEX(Deduction!$A$3:$K$501,MATCH(1,(Deduction!$A$3:$A$501=Sheet8!A521)*(Deduction!$B$3:$B$501=Sheet8!B521)*(Deduction!$C$3:$C$501=Sheet8!D521),0),7)","v":0},{"$f":"INDEX(Deduction!$A$3:$K$501,MATCH(1,(Deduction!$A$3:$A$501=Sheet8!A521)*(Deduction!$B$3:$B$501=Sheet8!B521)*(Deduction!$C$3:$C$501=Sheet8!D521),0),8)","v":0},{"$f":"INDEX(Deduction!$A$3:$K$501,MATCH(1,(Deduction!$A$3:$A$501=Sheet8!A521)*(Deduction!$B$3:$B$501=Sheet8!B521)*(Deduction!$C$3:$C$501=Sheet8!D521),0),9)","v":0},{"$f":"INDEX(Deduction!$A$3:$K$501,MATCH(1,(Deduction!$A$3:$A$501=Sheet8!A521)*(Deduction!$B$3:$B$501=Sheet8!B521)*(Deduction!$C$3:$C$501=Sheet8!D521),0),10)","v":0},{"$f":"INDEX(Deduction!$A$3:$K$501,MATCH(1,(Deduction!$A$3:$A$501=Sheet8!A521)*(Deduction!$B$3:$B$501=Sheet8!B521)*(Deduction!$C$3:$C$501=Sheet8!D521),0),11)","v":0},{"$error":"#DIV/0!"},{"$f":"VLOOKUP(D521,Emp_Master!$B$3:$H$501,7)","v":{"$error":"#N/A"}}]
[{"$f":"Salary_Entitlement!A523","v":0},{"$f":"Salary_Entitlement!B523","v":0},{"$f":"Salary_Entitlement!C523","v":0},{"$f":"Salary_Entitlement!D523","v":0},{"$f":"Salary_Entitlement!E523","v":0},{"$f":"Salary_Entitlement!F523","v":0},{"$f":"Salary_Entitlement!G523","v":0},{"$f":"Salary_Entitlement!H523","v":0},{"$f":"Salary_Entitlement!I523","v":0},{"$f":"Salary_Entitlement!J523","v":0},{"$f":"Salary_Entitlement!K523","v":0},{"$f":"Salary_Entitlement!L523","v":0},{"$f":"Salary_Entitlement!M523","v":0},{"$f":"Salary_Entitlement!N523","v":0},{"$f":"Salary_Entitlement!O523","v":0},{"$f":"Salary_Entitlement!P523","v":0},{"$error":"#DIV/0!"},{"$error":"#DIV/0!"},{"$f":"INDEX(Deduction!$A$3:$K$501,MATCH(1,(Deduction!$A$3:$A$501=Sheet8!A522)*(Deduction!$B$3:$B$501=Sheet8!B522)*(Deduction!$C$3:$C$501=Sheet8!D522),0),5)","v":0},{"$f":"INDEX(Deduction!$A$3:$K$501,MATCH(1,(Deduction!$A$3:$A$501=Sheet8!A522)*(Deduction!$B$3:$B$501=Sheet8!B522)*(Deduction!$C$3:$C$501=Sheet8!D522),0),6)","v":0},{"$f":"INDEX(Deduction!$A$3:$K$501,MATCH(1,(Deduction!$A$3:$A$501=Sheet8!A522)*(Deduction!$B$3:$B$501=Sheet8!B522)*(Deduction!$C$3:$C$501=Sheet8!D522),0),7)","v":0},{"$f":"INDEX(Deduction!$A$3:$K$501,MATCH(1,(Deduction!$A$3:$A$501=Sheet8!A522)*(Deduction!$B$3:$B$501=Sheet8!B522)*(Deduction!$C$3:$C$501=Sheet8!D522),0),8)","v":0},{"$f":"INDEX(Deduction!$A$3:$K$501,MATCH(1,(Deduction!$A$3:$A$501=Sheet8!A522)*(Deduction!$B$3:$B$501=Sheet8!B522)*(Deduction!$C$3:$C$501=Sheet8!D522),0),9)","v":0},{"$f":"INDEX(Deduction!$A$3:$K$501,MATCH(1,(Deduction!$A$3:$A$501=Sheet8!A522)*(Deduction!$B$3:$B$501=Sheet8!B522)*(Deduction!$C$3:$C$501=Sheet8!D522),0),10)","v":0},{"$f":"INDEX(Deduction!$A$3:$K$501,MATCH(1,(Deduction!$A$3:$A$501=Sheet8!A522)*(Deduction!$B$3:$B$501=Sheet8!B522)*(Deduction!$C$3:$C$501=Sheet8!D522),0),11)","v":0},{"$error":"#DIV/0!"},{"$f":"VLOOKUP(D522,Emp_Master!$B$3:$H$501,7)","v":{"$error":"#N/A"}}]
[{"$f":"Salary_Entitlement!A524","v":0},{"$f":"Salary_Entitlement!B524","v":0},{"$f":"Salary_Entitlement!C524","v":0},{"$f":"Salary_Entitlement!D524","v":0},{"$f":"Salary_Entitlement!E524","v":0},{"$f":"Salary_Entitlement!F524","v":0},{"$f":"Salary_Entitlement!G524","v":0},{"$f":"Salary_Entitlement!H524","v":0},{"$f":"Salary_Entitlement!I524","v":0},{"$f":"Salary_Entitlement!J524","v":0},{"$f":"Salary_Entitlement!K524","v":0},{"$f":"Salary_Entitlement!L524","v":0},{"$f":"Salary_Entitlement!M524","v":0},{"$f":"Salary_Entitlement!N524","v":0},{"$f":"Salary_Entitlement!O524","v":0},{"$f":"Salary_Entitlement!P524","v":0},{"$error":"#DIV/0!"},{"$error":"#DIV/0!"},{"$f":"INDEX(Deduction!$A$3:$K$501,MATCH(1,(Deduction!$A$3:$A$501=Sheet8!A523)*(Deduction!$B$3:$B$501=Sheet8!B523)*(Deduction!$C$3:$C$501=Sheet8!D523),0),5)","v":0},{"$f":"INDEX(Deduction!$A$3:$K$501,MATCH(1,(Deduction!$A$3:$A$501=Sheet8!A523)*(Deduction!$B$3:$B$501=Sheet8!B523)*(Deduction!$C$3:$C$501=Sheet8!D523),0),6)","v":0},{"$f":"INDEX(Deduction!$A$3:$K$501,MATCH(1,(Deduction!$A$3:$A$501=Sheet8!A523)*(Deduction!$B$3:$B$501=Sheet8!B523)*(Deduction!$C$3:$C$501=Sheet8!D523),0),7)","v":0},{"$f":"INDEX(Deduction!$A$3:$K$501,MATCH(1,(Deduction!$A$3:$A$501=Sheet8!A523)*(Deduction!$B$3:$B$501=Sheet8!B523)*(Deduction!$C$3:$C$501=Sheet8!D523),0),8)","v":0},{"$f":"INDEX(Deduction!$A$3:$K$501,MATCH(1,(Deduction!$A$3:$A$501=Sheet8!A523)*(Deduction!$B$3:$B$501=Sheet8!B523)*(Deduction!$C$3:$C$501=Sheet8!D523),0),9)","v":0},{"$f":"INDEX(Deduction!$A$3:$K$501,MATCH(1,(Deduction!$A$3:$A$501=Sheet8!A523)*(Deduction!$B$3:$B$501=Sheet8!B523)*(Deduction!$C$3:$C$501=Sheet8!D523),0),10)","v":0},{"$f":"INDEX(Deduction!$A$3:$K$501,MATCH(1,(Deduction!$A$3:$A$501=Sheet8!A523)*(Deduction!$B$3:$B$501=Sheet8!B523)*(Deduction!$C$3:$C$501=Sheet8!D523),0),11)","v":0},{"$error":"#DIV/0!"},{"$f":"VLOOKUP(D523,Emp_Master!$B$3:$H$501,7)","v":{"$error":"#N/A"}}]
[{"$f":"Salary_Entitlement!A525","v":0},{"$f":"Salary_Entitlement!B525","v":0},{"$f":"Salary_Entitlement!C525","v":0},{"$f":"Salary_Entitlement!D525","v":0},{"$f":"Salary_Entitlement!E525","v":0},{"$f":"Salary_Entitlement!F525","v":0},{"$f":"Salary_Entitlement!G525","v":0},{"$f":"Salary_Entitlement!H525","v":0},{"$f":"Salary_Entitlement!I525","v":0},{"$f":"Salary_Entitlement!J525","v":0},{"$f":"Salary_Entitlement!K525","v":0},{"$f":"Salary_Entitlement!L525","v":0},{"$f":"Salary_Entitlement!M525","v":0},{"$f":"Salary_Entitlement!N525","v":0},{"$f":"Salary_Entitlement!O525","v":0},{"$f":"Salary_Entitlement!P525","v":0},{"$error":"#DIV/0!"},{"$error":"#DIV/0!"},{"$f":"INDEX(Deduction!$A$3:$K$501,MATCH(1,(Deduction!$A$3:$A$501=Sheet8!A524)*(Deduction!$B$3:$B$501=Sheet8!B524)*(Deduction!$C$3:$C$501=Sheet8!D524),0),5)","v":0},{"$f":"INDEX(Deduction!$A$3:$K$501,MATCH(1,(Deduction!$A$3:$A$501=Sheet8!A524)*(Deduction!$B$3:$B$501=Sheet8!B524)*(Deduction!$C$3:$C$501=Sheet8!D524),0),6)","v":0},{"$f":"INDEX(Deduction!$A$3:$K$501,MATCH(1,(Deduction!$A$3:$A$501=Sheet8!A524)*(Deduction!$B$3:$B$501=Sheet8!B524)*(Deduction!$C$3:$C$501=Sheet8!D524),0),7)","v":0},{"$f":"INDEX(Deduction!$A$3:$K$501,MATCH(1,(Deduction!$A$3:$A$501=Sheet8!A524)*(Deduction!$B$3:$B$501=Sheet8!B524)*(Deduction!$C$3:$C$501=Sheet8!D524),0),8)","v":0},{"$f":"INDEX(Deduction!$A$3:$K$501,MATCH(1,(Deduction!$A$3:$A$501=Sheet8!A524)*(Deduction!$B$3:$B$501=Sheet8!B524)*(Deduction!$C$3:$C$501=Sheet8!D524),0),9)","v":0},{"$f":"INDEX(Deduction!$A$3:$K$501,MATCH(1,(Deduction!$A$3:$A$501=Sheet8!A524)*(Deduction!$B$3:$B$501=Sheet8!B524)*(Deduction!$C$3:$C$501=Sheet8!D524),0),10)","v":0},{"$f":"INDEX(Deduction!$A$3:$K$501,MATCH(1,(Deduction!$A$3:$A$501=Sheet8!A524)*(Deduction!$B$3:$B$501=Sheet8!B524)*(Deduction!$C$3:$C$501=Sheet8!D524),0),11)","v":0},{"$error":"#DIV/0!"},{"$f":"VLOOKUP(D524,Emp_Master!$B$3:$H$501,7)","v":{"$error":"#N/A"}}]
[{"$f":"Salary_Entitlement!A526","v":0},{"$f":"Salary_Entitlement!B526","v":0},{"$f":"Salary_Entitlement!C526","v":0},{"$f":"Salary_Entitlement!D526","v":0},{"$f":"Salary_Entitlement!E526","v":0},{"$f":"Salary_Entitlement!F526","v":0},{"$f":"Salary_Entitlement!G526","v":0},{"$f":"Salary_Entitlement!H526","v":0},{"$f":"Salary_Entitlement!I526","v":0},{"$f":"Salary_Entitlement!J526","v":0},{"$f":"Salary_Entitlement!K526","v":0},{"$f":"Salary_Entitlement!L526","v":0},{"$f":"Salary_Entitlement!M526","v":0},{"$f":"Salary_Entitlement!N526","v":0},{"$f":"Salary_Entitlement!O526","v":0},{"$f":"Salary_Entitlement!P526","v":0},{"$error":"#DIV/0!"},{"$error":"#DIV/0!"},{"$f":"INDEX(Deduction!$A$3:$K$501,MATCH(1,(Deduction!$A$3:$A$501=Sheet8!A525)*(Deduction!$B$3:$B$501=Sheet8!B525)*(Deduction!$C$3:$C$501=Sheet8!D525),0),5)","v":0},{"$f":"INDEX(Deduction!$A$3:$K$501,MATCH(1,(Deduction!$A$3:$A$501=Sheet8!A525)*(Deduction!$B$3:$B$501=Sheet8!B525)*(Deduction!$C$3:$C$501=Sheet8!D525),0),6)","v":0},{"$f":"INDEX(Deduction!$A$3:$K$501,MATCH(1,(Deduction!$A$3:$A$501=Sheet8!A525)*(Deduction!$B$3:$B$501=Sheet8!B525)*(Deduction!$C$3:$C$501=Sheet8!D525),0),7)","v":0},{"$f":"INDEX(Deduction!$A$3:$K$501,MATCH(1,(Deduction!$A$3:$A$501=Sheet8!A525)*(Deduction!$B$3:$B$501=Sheet8!B525)*(Deduction!$C$3:$C$501=Sheet8!D525),0),8)","v":0},{"$f":"INDEX(Deduction!$A$3:$K$501,MATCH(1,(Deduction!$A$3:$A$501=Sheet8!A525)*(Deduction!$B$3:$B$501=Sheet8!B525)*(Deduction!$C$3:$C$501=Sheet8!D525),0),9)","v":0},{"$f":"INDEX(Deduction!$A$3:$K$501,MATCH(1,(Deduction!$A$3:$A$501=Sheet8!A525)*(Deduction!$B$3:$B$501=Sheet8!B525)*(Deduction!$C$3:$C$501=Sheet8!D525),0),10)","v":0},{"$f":"INDEX(Deduction!$A$3:$K$501,MATCH(1,(Deduction!$A$3:$A$501=Sheet8!A525)*(Deduction!$B$3:$B$501=Sheet8!B525)*(Deduction!$C$3:$C$501=Sheet8!D525),0),11)","v":0},{"$error":"#DIV/0!"},{"$f":"VLOOKUP(D525,Emp_Master!$B$3:$H$501,7)","v":{"$error":"#N/A"}}]
[{"$f":"Salary_Entitlement!A527","v":0},{"$f":"Salary_Entitlement!B527","v":0},{"$f":"Salary_Entitlement!C527","v":0},{"$f":"Salary_Entitlement!D527","v":0},{"$f":"Salary_Entitlement!E527","v":0},{"$f":"Salary_Entitlement!F527","v":0},{"$f":"Salary_Entitlement!G527","v":0},{"$f":"Salary_Entitlement!H527","v":0},{"$f":"Salary_Entitlement!I527","v":0},{"$f":"Salary_Entitlement!J527","v":0},{"$f":"Salary_Entitlement!K527","v":0},{"$f":"Salary_Entitlement!L527","v":0},{"$f":"Salary_Entitlement!M527","v":0},{"$f":"Salary_Entitlement!N527","v":0},{"$f":"Salary_Entitlement!O527","v":0},{"$f":"Salary_Entitlement!P527","v":0},{"$error":"#DIV/0!"},{"$error":"#DIV/0!"},{"$f":"INDEX(Deduction!$A$3:$K$501,MATCH(1,(Deduction!$A$3:$A$501=Sheet8!A526)*(Deduction!$B$3:$B$501=Sheet8!B526)*(Deduction!$C$3:$C$501=Sheet8!D526),0),5)","v":0},{"$f":"INDEX(Deduction!$A$3:$K$501,MATCH(1,(Deduction!$A$3:$A$501=Sheet8!A526)*(Deduction!$B$3:$B$501=Sheet8!B526)*(Deduction!$C$3:$C$501=Sheet8!D526),0),6)","v":0},{"$f":"INDEX(Deduction!$A$3:$K$501,MATCH(1,(Deduction!$A$3:$A$501=Sheet8!A526)*(Deduction!$B$3:$B$501=Sheet8!B526)*(Deduction!$C$3:$C$501=Sheet8!D526),0),7)","v":0},{"$f":"INDEX(Deduction!$A$3:$K$501,MATCH(1,(Deduction!$A$3:$A$501=Sheet8!A526)*(Deduction!$B$3:$B$501=Sheet8!B526)*(Deduction!$C$3:$C$501=Sheet8!D526),0),8)","v":0},{"$f":"INDEX(Deduction!$A$3:$K$501,MATCH(1,(Deduction!$A$3:$A$501=Sheet8!A526)*(Deduction!$B$3:$B$501=Sheet8!B526)*(Deduction!$C$3:$C$501=Sheet8!D526),0),9)","v":0},{"$f":"INDEX(Deduction!$A$3:$K$501,MATCH(1,(Deduction!$A$3:$A$501=Sheet8!A526)*(Deduction!$B$3:$B$501=Sheet8!B526)*(Deduction!$C$3:$C$501=Sheet8!D526),0),10)","v":0},{"$f":"INDEX(Deduction!$A$3:$K$501,MATCH(1,(Deduction!$A$3:$A$501=Sheet8!A526)*(Deduction!$B$3:$B$501=Sheet8!B526)*(Deduction!$C$3:$C$501=Sheet8!D526),0),11)","v":0},{"$error":"#DIV/0!"},{"$f":"VLOOKUP(D526,Emp_Master!$B$3:$H$501,7)","v":{"$error":"#N/A"}}]
[{"$f":"Salary_Entitlement!A528","v":0},{"$f":"Salary_Entitlement!B528","v":0},{"$f":"Salary_Entitlement!C528","v":0},{"$f":"Salary_Entitlement!D528","v":0},{"$f":"Salary_Entitlement!E528","v":0},{"$f":"Salary_Entitlement!F528","v":0},{"$f":"Salary_Entitlement!G528","v":0},{"$f":"Salary_Entitlement!H528","v":0},{"$f":"Salary_Entitlement!I528","v":0},{"$f":"Salary_Entitlement!J528","v":0},{"$f":"Salary_Entitlement!K528","v":0},{"$f":"Salary_Entitlement!L528","v":0},{"$f":"Salary_Entitlement!M528","v":0},{"$f":"Salary_Entitlement!N528","v":0},{"$f":"Salary_Entitlement!O528","v":0},{"$f":"Salary_Entitlement!P528","v":0},{"$error":"#DIV/0!"},{"$error":"#DIV/0!"},{"$f":"INDEX(Deduction!$A$3:$K$501,MATCH(1,(Deduction!$A$3:$A$501=Sheet8!A527)*(Deduction!$B$3:$B$501=Sheet8!B527)*(Deduction!$C$3:$C$501=Sheet8!D527),0),5)","v":0},{"$f":"INDEX(Deduction!$A$3:$K$501,MATCH(1,(Deduction!$A$3:$A$501=Sheet8!A527)*(Deduction!$B$3:$B$501=Sheet8!B527)*(Deduction!$C$3:$C$501=Sheet8!D527),0),6)","v":0},{"$f":"INDEX(Deduction!$A$3:$K$501,MATCH(1,(Deduction!$A$3:$A$501=Sheet8!A527)*(Deduction!$B$3:$B$501=Sheet8!B527)*(Deduction!$C$3:$C$501=Sheet8!D527),0),7)","v":0},{"$f":"INDEX(Deduction!$A$3:$K$501,MATCH(1,(Deduction!$A$3:$A$501=Sheet8!A527)*(Deduction!$B$3:$B$501=Sheet8!B527)*(Deduction!$C$3:$C$501=Sheet8!D527),0),8)","v":0},{"$f":"INDEX(Deduction!$A$3:$K$501,MATCH(1,(Deduction!$A$3:$A$501=Sheet8!A527)*(Deduction!$B$3:$B$501=Sheet8!B527)*(Deduction!$C$3:$C$501=Sheet8!D527),0),9)","v":0},{"$f":"INDEX(Deduction!$A$3:$K$501,MATCH(1,(Deduction!$A$3:$A$501=Sheet8!A527)*(Deduction!$B$3:$B$501=Sheet8!B527)*(Deduction!$C$3:$C$501=Sheet8!D527),0),10)","v":0},{"$f":"INDEX(Deduction!$A$3:$K$501,MATCH(1,(Deduction!$A$3:$A$501=Sheet8!A527)*(Deduction!$B$3:$B$501=Sheet8!B527)*(Deduction!$C$3:$C$501=Sheet8!D527),0),11)","v":0},{"$error":"#DIV/0!"},{"$f":"VLOOKUP(D527,Emp_Master!$B$3:$H$501,7)","v":{"$error":"#N/A"}}]
[{"$f":"Salary_Entitlement!A529","v":0},{"$f":"Salary_Entitlement!B529","v":0},{"$f":"Salary_Entitlement!C529","v":0},{"$f":"Salary_Entitlement!D529","v":0},{"$f":"Salary_Entitlement!E529","v":0},{"$f":"Salary_Entitlement!F529","v":0},{"$f":"Salary_Entitlement!G529","v":0},{"$f":"Salary_Entitlement!H529","v":0},{"$f":"Salary_Entitlement!I529","v":0},{"$f":"Salary_Entitlement!J529","v":0},{"$f":"Salary_Entitlement!K529","v":0},{"$f":"Salary_Entitlement!L529","v":0},{"$f":"Salary_Entitlement!M529","v":0},{"$f":"Salary_Entitlement!N529","v":0},{"$f":"Salary_Entitlement!O529","v":0},{"$f":"Salary_Entitlement!P529","v":0},{"$error":"#DIV/0!"},{"$error":"#DIV/0!"},{"$f":"INDEX(Deduction!$A$3:$K$501,MATCH(1,(Deduction!$A$3:$A$501=Sheet8!A528)*(Deduction!$B$3:$B$501=Sheet8!B528)*(Deduction!$C$3:$C$501=Sheet8!D528),0),5)","v":0},{"$f":"INDEX(Deduction!$A$3:$K$501,MATCH(1,(Deduction!$A$3:$A$501=Sheet8!A528)*(Deduction!$B$3:$B$501=Sheet8!B528)*(Deduction!$C$3:$C$501=Sheet8!D528),0),6)","v":0},{"$f":"INDEX(Deduction!$A$3:$K$501,MATCH(1,(Deduction!$A$3:$A$501=Sheet8!A528)*(Deduction!$B$3:$B$501=Sheet8!B528)*(Deduction!$C$3:$C$501=Sheet8!D528),0),7)","v":0},{"$f":"INDEX(Deduction!$A$3:$K$501,MATCH(1,(Deduction!$A$3:$A$501=Sheet8!A528)*(Deduction!$B$3:$B$501=Sheet8!B528)*(Deduction!$C$3:$C$501=Sheet8!D528),0),8)","v":0},{"$f":"INDEX(Deduction!$A$3:$K$501,MATCH(1,(Deduction!$A$3:$A$501=Sheet8!A528)*(Deduction!$B$3:$B$501=Sheet8!B528)*(Deduction!$C$3:$C$501=Sheet8!D528),0),9)","v":0},{"$f":"INDEX(Deduction!$A$3:$K$501,MATCH(1,(Deduction!$A$3:$A$501=Sheet8!A528)*(Deduction!$B$3:$B$501=Sheet8!B528)*(Deduction!$C$3:$C$501=Sheet8!D528),0),10)","v":0},{"$f":"INDEX(Deduction!$A$3:$K$501,MATCH(1,(Deduction!$A$3:$A$501=Sheet8!A528)*(Deduction!$B$3:$B$501=Sheet8!B528)*(Deduction!$C$3:$C$501=Sheet8!D528),0),11)","v":0},{"$error":"#DIV/0!"},{"$f":"VLOOKUP(D528,Emp_Master!$B$3:$H$501,7)","v":{"$error":"#N/A"}}]
[{"$f":"Salary_Entitlement!A530","v":0},{"$f":"Salary_Entitlement!B530","v":0},{"$f":"Salary_Entitlement!C530","v":0},{"$f":"Salary_Entitlement!D530","v":0},{"$f":"Salary_Entitlement!E530","v":0},{"$f":"Salary_Entitlement!F530","v":0},{"$f":"Salary_Entitlement!G530","v":0},{"$f":"Salary_Entitlement!H530","v":0},{"$f":"Salary_Entitlement!I530","v":0},{"$f":"Salary_Entitlement!J530","v":0},{"$f":"Salary_Entitlement!K530","v":0},{"$f":"Salary_Entitlement!L530","v":0},{"$f":"Salary_Entitlement!M530","v":0},{"$f":"Salary_Entitlement!N530","v":0},{"$f":"Salary_Entitlement!O530","v":0},{"$f":"Salary_Entitlement!P530","v":0},{"$error":"#DIV/0!"},{"$error":"#DIV/0!"},{"$f":"INDEX(Deduction!$A$3:$K$501,MATCH(1,(Deduction!$A$3:$A$501=Sheet8!A529)*(Deduction!$B$3:$B$501=Sheet8!B529)*(Deduction!$C$3:$C$501=Sheet8!D529),0),5)","v":0},{"$f":"INDEX(Deduction!$A$3:$K$501,MATCH(1,(Deduction!$A$3:$A$501=Sheet8!A529)*(Deduction!$B$3:$B$501=Sheet8!B529)*(Deduction!$C$3:$C$501=Sheet8!D529),0),6)","v":0},{"$f":"INDEX(Deduction!$A$3:$K$501,MATCH(1,(Deduction!$A$3:$A$501=Sheet8!A529)*(Deduction!$B$3:$B$501=Sheet8!B529)*(Deduction!$C$3:$C$501=Sheet8!D529),0),7)","v":0},{"$f":"INDEX(Deduction!$A$3:$K$501,MATCH(1,(Deduction!$A$3:$A$501=Sheet8!A529)*(Deduction!$B$3:$B$501=Sheet8!B529)*(Deduction!$C$3:$C$501=Sheet8!D529),0),8)","v":0},{"$f":"INDEX(Deduction!$A$3:$K$501,MATCH(1,(Deduction!$A$3:$A$501=Sheet8!A529)*(Deduction!$B$3:$B$501=Sheet8!B529)*(Deduction!$C$3:$C$501=Sheet8!D529),0),9)","v":0},{"$f":"INDEX(Deduction!$A$3:$K$501,MATCH(1,(Deduction!$A$3:$A$501=Sheet8!A529)*(Deduction!$B$3:$B$501=Sheet8!B529)*(Deduction!$C$3:$C$501=Sheet8!D529),0),10)","v":0},{"$f":"INDEX(Deduction!$A$3:$K$501,MATCH(1,(Deduction!$A$3:$A$501=Sheet8!A529)*(Deduction!$B$3:$B$501=Sheet8!B529)*(Deduction!$C$3:$C$501=Sheet8!D529),0),11)","v":0},{"$error":"#DIV/0!"},{"$f":"VLOOKUP(D529,Emp_Master!$B$3:$H$501,7)","v":{"$error":"#N/A"}}]
[{"$f":"Salary_Entitlement!A531","v":0},{"$f":"Salary_Entitlement!B531","v":0},{"$f":"Salary_Entitlement!C531","v":0},{"$f":"Salary_Entitlement!D531","v":0},{"$f":"Salary_Entitlement!E531","v":0},{"$f":"Salary_Entitlement!F531","v":0},{"$f":"Salary_Entitlement!G531","v":0},{"$f":"Salary_Entitlement!H531","v":0},{"$f":"Salary_Entitlement!I531","v":0},{"$f":"Salary_Entitlement!J531","v":0},{"$f":"Salary_Entitlement!K531","v":0},{"$f":"Salary_Entitlement!L531","v":0},{"$f":"Salary_Entitlement!M531","v":0},{"$f":"Salary_Entitlement!N531","v":0},{"$f":"Salary_Entitlement!O531","v":0},{"$f":"Salary_Entitlement!P531","v":0},{"$error":"#DIV/0!"},{"$error":"#DIV/0!"},{"$f":"INDEX(Deduction!$A$3:$K$501,MATCH(1,(Deduction!$A$3:$A$501=Sheet8!A530)*(Deduction!$B$3:$B$501=Sheet8!B530)*(Deduction!$C$3:$C$501=Sheet8!D530),0),5)","v":0},{"$f":"INDEX(Deduction!$A$3:$K$501,MATCH(1,(Deduction!$A$3:$A$501=Sheet8!A530)*(Deduction!$B$3:$B$501=Sheet8!B530)*(Deduction!$C$3:$C$501=Sheet8!D530),0),6)","v":0},{"$f":"INDEX(Deduction!$A$3:$K$501,MATCH(1,(Deduction!$A$3:$A$501=Sheet8!A530)*(Deduction!$B$3:$B$501=Sheet8!B530)*(Deduction!$C$3:$C$501=Sheet8!D530),0),7)","v":0},{"$f":"INDEX(Deduction!$A$3:$K$501,MATCH(1,(Deduction!$A$3:$A$501=Sheet8!A530)*(Deduction!$B$3:$B$501=Sheet8!B530)*(Deduction!$C$3:$C$501=Sheet8!D530),0),8)","v":0},{"$f":"INDEX(Deduction!$A$3:$K$501,MATCH(1,(Deduction!$A$3:$A$501=Sheet8!A530)*(Deduction!$B$3:$B$501=Sheet8!B530)*(Deduction!$C$3:$C$501=Sheet8!D530),0),9)","v":0},{"$f":"INDEX(Deduction!$A$3:$K$501,MATCH(1,(Deduction!$A$3:$A$501=Sheet8!A530)*(Deduction!$B$3:$B$501=Sheet8!B530)*(Deduction!$C$3:$C$501=Sheet8!D530),0),10)","v":0},{"$f":"INDEX(Deduction!$A$3:$K$501,MATCH(1,(Deduction!$A$3:$A$501=Sheet8!A530)*(Deduction!$B$3:$B$501=Sheet8!B530)*(Deduction!$C$3:$C$501=Sheet8!D530),0),11)","v":0},{"$error":"#DIV/0!"},{"$f":"VLOOKUP(D530,Emp_Master!$B$3:$H$501,7)","v":{"$error":"#N/A"}}]
[{"$f":"Salary_Entitlement!A532","v":0},{"$f":"Salary_Entitlement!B532","v":0},{"$f":"Salary_Entitlement!C532","v":0},{"$f":"Salary_Entitlement!D532","v":0},{"$f":"Salary_Entitlement!E532","v":0},{"$f":"Salary_Entitlement!F532","v":0},{"$f":"Salary_Entitlement!G532","v":0},{"$f":"Salary_Entitlement!H532","v":0},{"$f":"Salary_Entitlement!I532","v":0},{"$f":"Salary_Entitlement!J532","v":0},{"$f":"Salary_Entitlement!K532","v":0},{"$f":"Salary_Entitlement!L532","v":0},{"$f":"Salary_Entitlement!M532","v":0},{"$f":"Salary_Entitlement!N532","v":0},{"$f":"Salary_Entitlement!O532","v":0},{"$f":"Salary_Entitlement!P532","v":0},{"$error":"#DIV/0!"},{"$error":"#DIV/0!"},{"$f":"INDEX(Deduction!$A$3:$K$501,MATCH(1,(Deduction!$A$3:$A$501=Sheet8!A531)*(Deduction!$B$3:$B$501=Sheet8!B531)*(Deduction!$C$3:$C$501=Sheet8!D531),0),5)","v":0},{"$f":"INDEX(Deduction!$A$3:$K$501,MATCH(1,(Deduction!$A$3:$A$501=Sheet8!A531)*(Deduction!$B$3:$B$501=Sheet8!B531)*(Deduction!$C$3:$C$501=Sheet8!D531),0),6)","v":0},{"$f":"INDEX(Deduction!$A$3:$K$501,MATCH(1,(Deduction!$A$3:$A$501=Sheet8!A531)*(Deduction!$B$3:$B$501=Sheet8!B531)*(Deduction!$C$3:$C$501=Sheet8!D531),0),7)","v":0},{"$f":"INDEX(Deduction!$A$3:$K$501,MATCH(1,(Deduction!$A$3:$A$501=Sheet8!A531)*(Deduction!$B$3:$B$501=Sheet8!B531)*(Deduction!$C$3:$C$501=Sheet8!D531),0),8)","v":0},{"$f":"INDEX(Deduction!$A$3:$K$501,MATCH(1,(Deduction!$A$3:$A$501=Sheet8!A531)*(Deduction!$B$3:$B$501=Sheet8!B531)*(Deduction!$C$3:$C$501=Sheet8!D531),0),9)","v":0},{"$f":"INDEX(Deduction!$A$3:$K$501,MATCH(1,(Deduction!$A$3:$A$501=Sheet8!A531)*(Deduction!$B$3:$B$501=Sheet8!B531)*(Deduction!$C$3:$C$501=Sheet8!D531),0),10)","v":0},{"$f":"INDEX(Deduction!$A$3:$K$501,MATCH(1,(Deduction!$A$3:$A$501=Sheet8!A531)*(Deduction!$B$3:$B$501=Sheet8!B531)*(Deduction!$C$3:$C$501=Sheet8!D531),0),11)","v":0},{"$error":"#DIV/0!"},{"$f":"VLOOKUP(D531,Emp_Master!$B$3:$H$501,7)","v":{"$error":"#N/A"}}]
[{"$f":"Salary_Entitlement!A533","v":0},{"$f":"Salary_Entitlement!B533","v":0},{"$f":"Salary_Entitlement!C533","v":0},{"$f":"Salary_Entitlement!D533","v":0},{"$f":"Salary_Entitlement!E533","v":0},{"$f":"Salary_Entitlement!F533","v":0},{"$f":"Salary_Entitlement!G533","v":0},{"$f":"Salary_Entitlement!H533","v":0},{"$f":"Salary_Entitlement!I533","v":0},{"$f":"Salary_Entitlement!J533","v":0},{"$f":"Salary_Entitlement!K533","v":0},{"$f":"Salary_Entitlement!L533","v":0},{"$f":"Salary_Entitlement!M533","v":0},{"$f":"Salary_Entitlement!N533","v":0},{"$f":"Salary_Entitlement!O533","v":0},{"$f":"Salary_Entitlement!P533","v":0},{"$error":"#DIV/0!"},{"$error":"#DIV/0!"},{"$f":"INDEX(Deduction!$A$3:$K$501,MATCH(1,(Deduction!$A$3:$A$501=Sheet8!A532)*(Deduction!$B$3:$B$501=Sheet8!B532)*(Deduction!$C$3:$C$501=Sheet8!D532),0),5)","v":0},{"$f":"INDEX(Deduction!$A$3:$K$501,MATCH(1,(Deduction!$A$3:$A$501=Sheet8!A532)*(Deduction!$B$3:$B$501=Sheet8!B532)*(Deduction!$C$3:$C$501=Sheet8!D532),0),6)","v":0},{"$f":"INDEX(Deduction!$A$3:$K$501,MATCH(1,(Deduction!$A$3:$A$501=Sheet8!A532)*(Deduction!$B$3:$B$501=Sheet8!B532)*(Deduction!$C$3:$C$501=Sheet8!D532),0),7)","v":0},{"$f":"INDEX(Deduction!$A$3:$K$501,MATCH(1,(Deduction!$A$3:$A$501=Sheet8!A532)*(Deduction!$B$3:$B$501=Sheet8!B532)*(Deduction!$C$3:$C$501=Sheet8!D532),0),8)","v":0},{"$f":"INDEX(Deduction!$A$3:$K$501,MATCH(1,(Deduction!$A$3:$A$501=Sheet8!A532)*(Deduction!$B$3:$B$501=Sheet8!B532)*(Deduction!$C$3:$C$501=Sheet8!D532),0),9)","v":0},{"$f":"INDEX(Deduction!$A$3:$K$501,MATCH(1,(Deduction!$A$3:$A$501=Sheet8!A532)*(Deduction!$B$3:$B$501=Sheet8!B532)*(Deduction!$C$3:$C$501=Sheet8!D532),0),10)","v":0},{"$f":"INDEX(Deduction!$A$3:$K$501,MATCH(1,(Deduction!$A$3:$A$501=Sheet8!A532)*(Deduction!$B$3:$B$501=Sheet8!B532)*(Deduction!$C$3:$C$501=Sheet8!D532),0),11)","v":0},{"$error":"#DIV/0!"},{"$f":"VLOOKUP(D532,Emp_Master!$B$3:$H$501,7)","v":{"$error":"#N/A"}}]
[{"$f":"Salary_Entitlement!A534","v":0},{"$f":"Salary_Entitlement!B534","v":0},{"$f":"Salary_Entitlement!C534","v":0},{"$f":"Salary_Entitlement!D534","v":0},{"$f":"Salary_Entitlement!E534","v":0},{"$f":"Salary_Entitlement!F534","v":0},{"$f":"Salary_Entitlement!G534","v":0},{"$f":"Salary_Entitlement!H534","v":0},{"$f":"Salary_Entitlement!I534","v":0},{"$f":"Salary_Entitlement!J534","v":0},{"$f":"Salary_Entitlement!K534","v":0},{"$f":"Salary_Entitlement!L534","v":0},{"$f":"Salary_Entitlement!M534","v":0},{"$f":"Salary_Entitlement!N534","v":0},{"$f":"Salary_Entitlement!O534","v":0},{"$f":"Salary_Entitlement!P534","v":0},{"$error":"#DIV/0!"},{"$error":"#DIV/0!"},{"$f":"INDEX(Deduction!$A$3:$K$501,MATCH(1,(Deduction!$A$3:$A$501=Sheet8!A533)*(Deduction!$B$3:$B$501=Sheet8!B533)*(Deduction!$C$3:$C$501=Sheet8!D533),0),5)","v":0},{"$f":"INDEX(Deduction!$A$3:$K$501,MATCH(1,(Deduction!$A$3:$A$501=Sheet8!A533)*(Deduction!$B$3:$B$501=Sheet8!B533)*(Deduction!$C$3:$C$501=Sheet8!D533),0),6)","v":0},{"$f":"INDEX(Deduction!$A$3:$K$501,MATCH(1,(Deduction!$A$3:$A$501=Sheet8!A533)*(Deduction!$B$3:$B$501=Sheet8!B533)*(Deduction!$C$3:$C$501=Sheet8!D533),0),7)","v":0},{"$f":"INDEX(Deduction!$A$3:$K$501,MATCH(1,(Deduction!$A$3:$A$501=Sheet8!A533)*(Deduction!$B$3:$B$501=Sheet8!B533)*(Deduction!$C$3:$C$501=Sheet8!D533),0),8)","v":0},{"$f":"INDEX(Deduction!$A$3:$K$501,MATCH(1,(Deduction!$A$3:$A$501=Sheet8!A533)*(Deduction!$B$3:$B$501=Sheet8!B533)*(Deduction!$C$3:$C$501=Sheet8!D533),0),9)","v":0},{"$f":"INDEX(Deduction!$A$3:$K$501,MATCH(1,(Deduction!$A$3:$A$501=Sheet8!A533)*(Deduction!$B$3:$B$501=Sheet8!B533)*(Deduction!$C$3:$C$501=Sheet8!D533),0),10)","v":0},{"$f":"INDEX(Deduction!$A$3:$K$501,MATCH(1,(Deduction!$A$3:$A$501=Sheet8!A533)*(Deduction!$B$3:$B$501=Sheet8!B533)*(Deduction!$C$3:$C$501=Sheet8!D533),0),11)","v":0},{"$error":"#DIV/0!"},{"$f":"VLOOKUP(D533,Emp_Master!$B$3:$H$501,7)","v":{"$error":"#N/A"}}]
[{"$f":"Salary_Entitlement!A535","v":0},{"$f":"Salary_Entitlement!B535","v":0},{"$f":"Salary_Entitlement!C535","v":0},{"$f":"Salary_Entitlement!D535","v":0},{"$f":"Salary_Entitlement!E535","v":0},{"$f":"Salary_Entitlement!F535","v":0},{"$f":"Salary_Entitlement!G535","v":0},{"$f":"Salary_Entitlement!H535","v":0},{"$f":"Salary_Entitlement!I535","v":0},{"$f":"Salary_Entitlement!J535","v":0},{"$f":"Salary_Entitlement!K535","v":0},{"$f":"Salary_Entitlement!L535","v":0},{"$f":"Salary_Entitlement!M535","v":0},{"$f":"Salary_Entitlement!N535","v":0},{"$f":"Salary_Entitlement!O535","v":0},{"$f":"Salary_Entitlement!P535","v":0},{"$error":"#DIV/0!"},{"$error":"#DIV/0!"},{"$f":"INDEX(Deduction!$A$3:$K$501,MATCH(1,(Deduction!$A$3:$A$501=Sheet8!A534)*(Deduction!$B$3:$B$501=Sheet8!B534)*(Deduction!$C$3:$C$501=Sheet8!D534),0),5)","v":0},{"$f":"INDEX(Deduction!$A$3:$K$501,MATCH(1,(Deduction!$A$3:$A$501=Sheet8!A534)*(Deduction!$B$3:$B$501=Sheet8!B534)*(Deduction!$C$3:$C$501=Sheet8!D534),0),6)","v":0},{"$f":"INDEX(Deduction!$A$3:$K$501,MATCH(1,(Deduction!$A$3:$A$501=Sheet8!A534)*(Deduction!$B$3:$B$501=Sheet8!B534)*(Deduction!$C$3:$C$501=Sheet8!D534),0),7)","v":0},{"$f":"INDEX(Deduction!$A$3:$K$501,MATCH(1,(Deduction!$A$3:$A$501=Sheet8!A534)*(Deduction!$B$3:$B$501=Sheet8!B534)*(Deduction!$C$3:$C$501=Sheet8!D534),0),8)","v":0},{"$f":"INDEX(Deduction!$A$3:$K$501,MATCH(1,(Deduction!$A$3:$A$501=Sheet8!A534)*(Deduction!$B$3:$B$501=Sheet8!B534)*(Deduction!$C$3:$C$501=Sheet8!D534),0),9)","v":0},{"$f":"INDEX(Deduction!$A$3:$K$501,MATCH(1,(Deduction!$A$3:$A$501=Sheet8!A534)*(Deduction!$B$3:$B$501=Sheet8!B534)*(Deduction!$C$3:$C$501=Sheet8!D534),0),10)","v":0},{"$f":"INDEX(Deduction!$A$3:$K$501,MATCH(1,(Deduction!$A$3:$A$501=Sheet8!A534)*(Deduction!$B$3:$B$501=Sheet8!B534)*(Deduction!$C$3:$C$501=Sheet8!D534),0),11)","v":0},{"$error":"#DIV/0!"},{"$f":"VLOOKUP(D534,Emp_Master!$B$3:$H$501,7)","v":{"$error":"#N/A"}}]
[{"$f":"Salary_Entitlement!A536","v":0},{"$f":"Salary_Entitlement!B536","v":0},{"$f":"Salary_Entitlement!C536","v":0},{"$f":"Salary_Entitlement!D536","v":0},{"$f":"Salary_Entitlement!E536","v":0},{"$f":"Salary_Entitlement!F536","v":0},{"$f":"Salary_Entitlement!G536","v":0},{"$f":"Salary_Entitlement!H536","v":0},{"$f":"Salary_Entitlement!I536","v":0},{"$f":"Salary_Entitlement!J536","v":0},{"$f":"Salary_Entitlement!K536","v":0},{"$f":"Salary_Entitlement!L536","v":0},{"$f":"Salary_Entitlement!M536","v":0},{"$f":"Salary_Entitlement!N536","v":0},{"$f":"Salary_Entitlement!O536","v":0},{"$f":"Salary_Entitlement!P536","v":0},{"$error":"#DIV/0!"},{"$error":"#DIV/0!"},{"$f":"INDEX(Deduction!$A$3:$K$501,MATCH(1,(Deduction!$A$3:$A$501=Sheet8!A535)*(Deduction!$B$3:$B$501=Sheet8!B535)*(Deduction!$C$3:$C$501=Sheet8!D535),0),5)","v":0},{"$f":"INDEX(Deduction!$A$3:$K$501,MATCH(1,(Deduction!$A$3:$A$501=Sheet8!A535)*(Deduction!$B$3:$B$501=Sheet8!B535)*(Deduction!$C$3:$C$501=Sheet8!D535),0),6)","v":0},{"$f":"INDEX(Deduction!$A$3:$K$501,MATCH(1,(Deduction!$A$3:$A$501=Sheet8!A535)*(Deduction!$B$3:$B$501=Sheet8!B535)*(Deduction!$C$3:$C$501=Sheet8!D535),0),7)","v":0},{"$f":"INDEX(Deduction!$A$3:$K$501,MATCH(1,(Deduction!$A$3:$A$501=Sheet8!A535)*(Deduction!$B$3:$B$501=Sheet8!B535)*(Deduction!$C$3:$C$501=Sheet8!D535),0),8)","v":0},{"$f":"INDEX(Deduction!$A$3:$K$501,MATCH(1,(Deduction!$A$3:$A$501=Sheet8!A535)*(Deduction!$B$3:$B$501=Sheet8!B535)*(Deduction!$C$3:$C$501=Sheet8!D535),0),9)","v":0},{"$f":"INDEX(Deduction!$A$3:$K$501,MATCH(1,(Deduction!$A$3:$A$501=Sheet8!A535)*(Deduction!$B$3:$B$501=Sheet8!B535)*(Deduction!$C$3:$C$501=Sheet8!D535),0),10)","v":0},{"$f":"INDEX(Deduction!$A$3:$K$501,MATCH(1,(Deduction!$A$3:$A$501=Sheet8!A535)*(Deduction!$B$3:$B$501=Sheet8!B535)*(Deduction!$C$3:$C$501=Sheet8!D535),0),11)","v":0},{"$error":"#DIV/0!"},{"$f":"VLOOKUP(D535,Emp_Master!$B$3:$H$501,7)","v":{"$error":"#N/A"}}]
[{"$f":"Salary_Entitlement!A537","v":0},{"$f":"Salary_Entitlement!B537","v":0},{"$f":"Salary_Entitlement!C537","v":0},{"$f":"Salary_Entitlement!D537","v":0},{"$f":"Salary_Entitlement!E537","v":0},{"$f":"Salary_Entitlement!F537","v":0},{"$f":"Salary_Entitlement!G537","v":0},{"$f":"Salary_Entitlement!H537","v":0},{"$f":"Salary_Entitlement!I537","v":0},{"$f":"Salary_Entitlement!J537","v":0},{"$f":"Salary_Entitlement!K537","v":0},{"$f":"Salary_Entitlement!L537","v":0},{"$f":"Salary_Entitlement!M537","v":0},{"$f":"Salary_Entitlement!N537","v":0},{"$f":"Salary_Entitlement!O537","v":0},{"$f":"Salary_Entitlement!P537","v":0},{"$f":"F536/M536*(M536-N536)","v":{"$error":"#DIV/0!"}},{"$f":"SUM(F536:L536)-Q536","v":{"$error":"#DIV/0!"}},{"$f":"INDEX(Deduction!$A$3:$K$501,MATCH(1,(Deduction!$A$3:$A$501=Sheet8!A536)*(Deduction!$B$3:$B$501=Sheet8!B536)*(Deduction!$C$3:$C$501=Sheet8!D536),0),5)","v":0},{"$f":"INDEX(Deduction!$A$3:$K$501,MATCH(1,(Deduction!$A$3:$A$501=Sheet8!A536)*(Deduction!$B$3:$B$501=Sheet8!B536)*(Deduction!$C$3:$C$501=Sheet8!D536),0),6)","v":0},{"$f":"INDEX(Deduction!$A$3:$K$501,MATCH(1,(Deduction!$A$3:$A$501=Sheet8!A536)*(Deduction!$B$3:$B$501=Sheet8!B536)*(Deduction!$C$3:$C$501=Sheet8!D536),0),7)","v":0},{"$f":"INDEX(Deduction!$A$3:$K$501,MATCH(1,(Deduction!$A$3:$A$501=Sheet8!A536)*(Deduction!$B$3:$B$501=Sheet8!B536)*(Deduction!$C$3:$C$501=Sheet8!D536),0),8)","v":0},{"$f":"INDEX(Deduction!$A$3:$K$501,MATCH(1,(Deduction!$A$3:$A$501=Sheet8!A536)*(Deduction!$B$3:$B$501=Sheet8!B536)*(Deduction!$C$3:$C$501=Sheet8!D536),0),9)","v":0},{"$f":"INDEX(Deduction!$A$3:$K$501,MATCH(1,(Deduction!$A$3:$A$501=Sheet8!A536)*(Deduction!$B$3:$B$501=Sheet8!B536)*(Deduction!$C$3:$C$501=Sheet8!D536),0),10)","v":0},{"$f":"INDEX(Deduction!$A$3:$K$501,MATCH(1,(Deduction!$A$3:$A$501=Sheet8!A536)*(Deduction!$B$3:$B$501=Sheet8!B536)*(Deduction!$C$3:$C$501=Sheet8!D536),0),11)","v":0},{"$error":"#DIV/0!"},{"$f":"VLOOKUP(D536,Emp_Master!$B$3:$H$501,7)","v":{"$error":"#N/A"}}]
[{"$f":"Salary_Entitlement!A538","v":0},{"$f":"Salary_Entitlement!B538","v":0},{"$f":"Salary_Entitlement!C538","v":0},{"$f":"Salary_Entitlement!D538","v":0},{"$f":"Salary_Entitlement!E538","v":0},{"$f":"Salary_Entitlement!F538","v":0},{"$f":"Salary_Entitlement!G538","v":0},{"$f":"Salary_Entitlement!H538","v":0},{"$f":"Salary_Entitlement!I538","v":0},{"$f":"Salary_Entitlement!J538","v":0},{"$f":"Salary_Entitlement!K538","v":0},{"$f":"Salary_Entitlement!L538","v":0},{"$f":"Salary_Entitlement!M538","v":0},{"$f":"Salary_Entitlement!N538","v":0},{"$f":"Salary_Entitlement!O538","v":0},{"$f":"Salary_Entitlement!P538","v":0},{"$error":"#DIV/0!"},{"$error":"#DIV/0!"},{"$f":"INDEX(Deduction!$A$3:$K$501,MATCH(1,(Deduction!$A$3:$A$501=Sheet8!A537)*(Deduction!$B$3:$B$501=Sheet8!B537)*(Deduction!$C$3:$C$501=Sheet8!D537),0),5)","v":0},{"$f":"INDEX(Deduction!$A$3:$K$501,MATCH(1,(Deduction!$A$3:$A$501=Sheet8!A537)*(Deduction!$B$3:$B$501=Sheet8!B537)*(Deduction!$C$3:$C$501=Sheet8!D537),0),6)","v":0},{"$f":"INDEX(Deduction!$A$3:$K$501,MATCH(1,(Deduction!$A$3:$A$501=Sheet8!A537)*(Deduction!$B$3:$B$501=Sheet8!B537)*(Deduction!$C$3:$C$501=Sheet8!D537),0),7)","v":0},{"$f":"INDEX(Deduction!$A$3:$K$501,MATCH(1,(Deduction!$A$3:$A$501=Sheet8!A537)*(Deduction!$B$3:$B$501=Sheet8!B537)*(Deduction!$C$3:$C$501=Sheet8!D537),0),8)","v":0},{"$f":"INDEX(Deduction!$A$3:$K$501,MATCH(1,(Deduction!$A$3:$A$501=Sheet8!A537)*(Deduction!$B$3:$B$501=Sheet8!B537)*(Deduction!$C$3:$C$501=Sheet8!D537),0),9)","v":0},{"$f":"INDEX(Deduction!$A$3:$K$501,MATCH(1,(Deduction!$A$3:$A$501=Sheet8!A537)*(Deduction!$B$3:$B$501=Sheet8!B537)*(Deduction!$C$3:$C$501=Sheet8!D537),0),10)","v":0},{"$f":"INDEX(Deduction!$A$3:$K$501,MATCH(1,(Deduction!$A$3:$A$501=Sheet8!A537)*(Deduction!$B$3:$B$501=Sheet8!B537)*(Deduction!$C$3:$C$501=Sheet8!D537),0),11)","v":0},{"$error":"#DIV/0!"},{"$f":"VLOOKUP(D537,Emp_Master!$B$3:$H$501,7)","v":{"$error":"#N/A"}}]
[{"$f":"Salary_Entitlement!A539","v":0},{"$f":"Salary_Entitlement!B539","v":0},{"$f":"Salary_Entitlement!C539","v":0},{"$f":"Salary_Entitlement!D539","v":0},{"$f":"Salary_Entitlement!E539","v":0},{"$f":"Salary_Entitlement!F539","v":0},{"$f":"Salary_Entitlement!G539","v":0},{"$f":"Salary_Entitlement!H539","v":0},{"$f":"Salary_Entitlement!I539","v":0},{"$f":"Salary_Entitlement!J539","v":0},{"$f":"Salary_Entitlement!K539","v":0},{"$f":"Salary_Entitlement!L539","v":0},{"$f":"Salary_Entitlement!M539","v":0},{"$f":"Salary_Entitlement!N539","v":0},{"$f":"Salary_Entitlement!O539","v":0},{"$f":"Salary_Entitlement!P539","v":0},{"$error":"#DIV/0!"},{"$error":"#DIV/0!"},{"$f":"INDEX(Deduction!$A$3:$K$501,MATCH(1,(Deduction!$A$3:$A$501=Sheet8!A538)*(Deduction!$B$3:$B$501=Sheet8!B538)*(Deduction!$C$3:$C$501=Sheet8!D538),0),5)","v":0},{"$f":"INDEX(Deduction!$A$3:$K$501,MATCH(1,(Deduction!$A$3:$A$501=Sheet8!A538)*(Deduction!$B$3:$B$501=Sheet8!B538)*(Deduction!$C$3:$C$501=Sheet8!D538),0),6)","v":0},{"$f":"INDEX(Deduction!$A$3:$K$501,MATCH(1,(Deduction!$A$3:$A$501=Sheet8!A538)*(Deduction!$B$3:$B$501=Sheet8!B538)*(Deduction!$C$3:$C$501=Sheet8!D538),0),7)","v":0},{"$f":"INDEX(Deduction!$A$3:$K$501,MATCH(1,(Deduction!$A$3:$A$501=Sheet8!A538)*(Deduction!$B$3:$B$501=Sheet8!B538)*(Deduction!$C$3:$C$501=Sheet8!D538),0),8)","v":0},{"$f":"INDEX(Deduction!$A$3:$K$501,MATCH(1,(Deduction!$A$3:$A$501=Sheet8!A538)*(Deduction!$B$3:$B$501=Sheet8!B538)*(Deduction!$C$3:$C$501=Sheet8!D538),0),9)","v":0},{"$f":"INDEX(Deduction!$A$3:$K$501,MATCH(1,(Deduction!$A$3:$A$501=Sheet8!A538)*(Deduction!$B$3:$B$501=Sheet8!B538)*(Deduction!$C$3:$C$501=Sheet8!D538),0),10)","v":0},{"$f":"INDEX(Deduction!$A$3:$K$501,MATCH(1,(Deduction!$A$3:$A$501=Sheet8!A538)*(Deduction!$B$3:$B$501=Sheet8!B538)*(Deduction!$C$3:$C$501=Sheet8!D538),0),11)","v":0},{"$error":"#DIV/0!"},{"$f":"VLOOKUP(D538,Emp_Master!$B$3:$H$501,7)","v":{"$error":"#N/A"}}]
[{"$f":"Salary_Entitlement!A540","v":0},{"$f":"Salary_Entitlement!B540","v":0},{"$f":"Salary_Entitlement!C540","v":0},{"$f":"Salary_Entitlement!D540","v":0},{"$f":"Salary_Entitlement!E540","v":0},{"$f":"Salary_Entitlement!F540","v":0},{"$f":"Salary_Entitlement!G540","v":0},{"$f":"Salary_Entitlement!H540","v":0},{"$f":"Salary_Entitlement!I540","v":0},{"$f":"Salary_Entitlement!J540","v":0},{"$f":"Salary_Entitlement!K540","v":0},{"$f":"Salary_Entitlement!L540","v":0},{"$f":"Salary_Entitlement!M540","v":0},{"$f":"Salary_Entitlement!N540","v":0},{"$f":"Salary_Entitlement!O540","v":0},{"$f":"Salary_Entitlement!P540","v":0},{"$error":"#DIV/0!"},{"$error":"#DIV/0!"},{"$f":"INDEX(Deduction!$A$3:$K$501,MATCH(1,(Deduction!$A$3:$A$501=Sheet8!A539)*(Deduction!$B$3:$B$501=Sheet8!B539)*(Deduction!$C$3:$C$501=Sheet8!D539),0),5)","v":0},{"$f":"INDEX(Deduction!$A$3:$K$501,MATCH(1,(Deduction!$A$3:$A$501=Sheet8!A539)*(Deduction!$B$3:$B$501=Sheet8!B539)*(Deduction!$C$3:$C$501=Sheet8!D539),0),6)","v":0},{"$f":"INDEX(Deduction!$A$3:$K$501,MATCH(1,(Deduction!$A$3:$A$501=Sheet8!A539)*(Deduction!$B$3:$B$501=Sheet8!B539)*(Deduction!$C$3:$C$501=Sheet8!D539),0),7)","v":0},{"$f":"INDEX(Deduction!$A$3:$K$501,MATCH(1,(Deduction!$A$3:$A$501=Sheet8!A539)*(Deduction!$B$3:$B$501=Sheet8!B539)*(Deduction!$C$3:$C$501=Sheet8!D539),0),8)","v":0},{"$f":"INDEX(Deduction!$A$3:$K$501,MATCH(1,(Deduction!$A$3:$A$501=Sheet8!A539)*(Deduction!$B$3:$B$501=Sheet8!B539)*(Deduction!$C$3:$C$501=Sheet8!D539),0),9)","v":0},{"$f":"INDEX(Deduction!$A$3:$K$501,MATCH(1,(Deduction!$A$3:$A$501=Sheet8!A539)*(Deduction!$B$3:$B$501=Sheet8!B539)*(Deduction!$C$3:$C$501=Sheet8!D539),0),10)","v":0},{"$f":"INDEX(Deduction!$A$3:$K$501,MATCH(1,(Deduction!$A$3:$A$501=Sheet8!A539)*(Deduction!$B$3:$B$501=Sheet8!B539)*(Deduction!$C$3:$C$501=Sheet8!D539),0),11)","v":0},{"$error":"#DIV/0!"},{"$f":"VLOOKUP(D539,Emp_Master!$B$3:$H$501,7)","v":{"$error":"#N/A"}}]
[{"$f":"Salary_Entitlement!A541","v":0},{"$f":"Salary_Entitlement!B541","v":0},{"$f":"Salary_Entitlement!C541","v":0},{"$f":"Salary_Entitlement!D541","v":0},{"$f":"Salary_Entitlement!E541","v":0},{"$f":"Salary_Entitlement!F541","v":0},{"$f":"Salary_Entitlement!G541","v":0},{"$f":"Salary_Entitlement!H541","v":0},{"$f":"Salary_Entitlement!I541","v":0},{"$f":"Salary_Entitlement!J541","v":0},{"$f":"Salary_Entitlement!K541","v":0},{"$f":"Salary_Entitlement!L541","v":0},{"$f":"Salary_Entitlement!M541","v":0},{"$f":"Salary_Entitlement!N541","v":0},{"$f":"Salary_Entitlement!O541","v":0},{"$f":"Salary_Entitlement!P541","v":0},{"$error":"#DIV/0!"},{"$error":"#DIV/0!"},{"$f":"INDEX(Deduction!$A$3:$K$501,MATCH(1,(Deduction!$A$3:$A$501=Sheet8!A540)*(Deduction!$B$3:$B$501=Sheet8!B540)*(Deduction!$C$3:$C$501=Sheet8!D540),0),5)","v":0},{"$f":"INDEX(Deduction!$A$3:$K$501,MATCH(1,(Deduction!$A$3:$A$501=Sheet8!A540)*(Deduction!$B$3:$B$501=Sheet8!B540)*(Deduction!$C$3:$C$501=Sheet8!D540),0),6)","v":0},{"$f":"INDEX(Deduction!$A$3:$K$501,MATCH(1,(Deduction!$A$3:$A$501=Sheet8!A540)*(Deduction!$B$3:$B$501=Sheet8!B540)*(Deduction!$C$3:$C$501=Sheet8!D540),0),7)","v":0},{"$f":"INDEX(Deduction!$A$3:$K$501,MATCH(1,(Deduction!$A$3:$A$501=Sheet8!A540)*(Deduction!$B$3:$B$501=Sheet8!B540)*(Deduction!$C$3:$C$501=Sheet8!D540),0),8)","v":0},{"$f":"INDEX(Deduction!$A$3:$K$501,MATCH(1,(Deduction!$A$3:$A$501=Sheet8!A540)*(Deduction!$B$3:$B$501=Sheet8!B540)*(Deduction!$C$3:$C$501=Sheet8!D540),0),9)","v":0},{"$f":"INDEX(Deduction!$A$3:$K$501,MATCH(1,(Deduction!$A$3:$A$501=Sheet8!A540)*(Deduction!$B$3:$B$501=Sheet8!B540)*(Deduction!$C$3:$C$501=Sheet8!D540),0),10)","v":0},{"$f":"INDEX(Deduction!$A$3:$K$501,MATCH(1,(Deduction!$A$3:$A$501=Sheet8!A540)*(Deduction!$B$3:$B$501=Sheet8!B540)*(Deduction!$C$3:$C$501=Sheet8!D540),0),11)","v":0},{"$error":"#DIV/0!"},{"$f":"VLOOKUP(D540,Emp_Master!$B$3:$H$501,7)","v":{"$error":"#N/A"}}]
[{"$f":"Salary_Entitlement!A542","v":0},{"$f":"Salary_Entitlement!B542","v":0},{"$f":"Salary_Entitlement!C542","v":0},{"$f":"Salary_Entitlement!D542","v":0},{"$f":"Salary_Entitlement!E542","v":0},{"$f":"Salary_Entitlement!F542","v":0},{"$f":"Salary_Entitlement!G542","v":0},{"$f":"Salary_Entitlement!H542","v":0},{"$f":"Salary_Entitlement!I542","v":0},{"$f":"Salary_Entitlement!J542","v":0},{"$f":"Salary_Entitlement!K542","v":0},{"$f":"Salary_Entitlement!L542","v":0},{"$f":"Salary_Entitlement!M542","v":0},{"$f":"Salary_Entitlement!N542","v":0},{"$f":"Salary_Entitlement!O542","v":0},{"$f":"Salary_Entitlement!P542","v":0},{"$error":"#DIV/0!"},{"$error":"#DIV/0!"},{"$f":"INDEX(Deduction!$A$3:$K$501,MATCH(1,(Deduction!$A$3:$A$501=Sheet8!A541)*(Deduction!$B$3:$B$501=Sheet8!B541)*(Deduction!$C$3:$C$501=Sheet8!D541),0),5)","v":0},{"$f":"INDEX(Deduction!$A$3:$K$501,MATCH(1,(Deduction!$A$3:$A$501=Sheet8!A541)*(Deduction!$B$3:$B$501=Sheet8!B541)*(Deduction!$C$3:$C$501=Sheet8!D541),0),6)","v":0},{"$f":"INDEX(Deduction!$A$3:$K$501,MATCH(1,(Deduction!$A$3:$A$501=Sheet8!A541)*(Deduction!$B$3:$B$501=Sheet8!B541)*(Deduction!$C$3:$C$501=Sheet8!D541),0),7)","v":0},{"$f":"INDEX(Deduction!$A$3:$K$501,MATCH(1,(Deduction!$A$3:$A$501=Sheet8!A541)*(Deduction!$B$3:$B$501=Sheet8!B541)*(Deduction!$C$3:$C$501=Sheet8!D541),0),8)","v":0},{"$f":"INDEX(Deduction!$A$3:$K$501,MATCH(1,(Deduction!$A$3:$A$501=Sheet8!A541)*(Deduction!$B$3:$B$501=Sheet8!B541)*(Deduction!$C$3:$C$501=Sheet8!D541),0),9)","v":0},{"$f":"INDEX(Deduction!$A$3:$K$501,MATCH(1,(Deduction!$A$3:$A$501=Sheet8!A541)*(Deduction!$B$3:$B$501=Sheet8!B541)*(Deduction!$C$3:$C$501=Sheet8!D541),0),10)","v":0},{"$f":"INDEX(Deduction!$A$3:$K$501,MATCH(1,(Deduction!$A$3:$A$501=Sheet8!A541)*(Deduction!$B$3:$B$501=Sheet8!B541)*(Deduction!$C$3:$C$501=Sheet8!D541),0),11)","v":0},{"$error":"#DIV/0!"},{"$f":"VLOOKUP(D541,Emp_Master!$B$3:$H$501,7)","v":{"$error":"#N/A"}}]
[{"$f":"Salary_Entitlement!A543","v":0},{"$f":"Salary_Entitlement!B543","v":0},{"$f":"Salary_Entitlement!C543","v":0},{"$f":"Salary_Entitlement!D543","v":0},{"$f":"Salary_Entitlement!E543","v":0},{"$f":"Salary_Entitlement!F543","v":0},{"$f":"Salary_Entitlement!G543","v":0},{"$f":"Salary_Entitlement!H543","v":0},{"$f":"Salary_Entitlement!I543","v":0},{"$f":"Salary_Entitlement!J543","v":0},{"$f":"Salary_Entitlement!K543","v":0},{"$f":"Salary_Entitlement!L543","v":0},{"$f":"Salary_Entitlement!M543","v":0},{"$f":"Salary_Entitlement!N543","v":0},{"$f":"Salary_Entitlement!O543","v":0},{"$f":"Salary_Entitlement!P543","v":0},{"$error":"#DIV/0!"},{"$error":"#DIV/0!"},{"$f":"INDEX(Deduction!$A$3:$K$501,MATCH(1,(Deduction!$A$3:$A$501=Sheet8!A542)*(Deduction!$B$3:$B$501=Sheet8!B542)*(Deduction!$C$3:$C$501=Sheet8!D542),0),5)","v":0},{"$f":"INDEX(Deduction!$A$3:$K$501,MATCH(1,(Deduction!$A$3:$A$501=Sheet8!A542)*(Deduction!$B$3:$B$501=Sheet8!B542)*(Deduction!$C$3:$C$501=Sheet8!D542),0),6)","v":0},{"$f":"INDEX(Deduction!$A$3:$K$501,MATCH(1,(Deduction!$A$3:$A$501=Sheet8!A542)*(Deduction!$B$3:$B$501=Sheet8!B542)*(Deduction!$C$3:$C$501=Sheet8!D542),0),7)","v":0},{"$f":"INDEX(Deduction!$A$3:$K$501,MATCH(1,(Deduction!$A$3:$A$501=Sheet8!A542)*(Deduction!$B$3:$B$501=Sheet8!B542)*(Deduction!$C$3:$C$501=Sheet8!D542),0),8)","v":0},{"$f":"INDEX(Deduction!$A$3:$K$501,MATCH(1,(Deduction!$A$3:$A$501=Sheet8!A542)*(Deduction!$B$3:$B$501=Sheet8!B542)*(Deduction!$C$3:$C$501=Sheet8!D542),0),9)","v":0},{"$f":"INDEX(Deduction!$A$3:$K$501,MATCH(1,(Deduction!$A$3:$A$501=Sheet8!A542)*(Deduction!$B$3:$B$501=Sheet8!B542)*(Deduction!$C$3:$C$501=Sheet8!D542),0),10)","v":0},{"$f":"INDEX(Deduction!$A$3:$K$501,MATCH(1,(Deduction!$A$3:$A$501=Sheet8!A542)*(Deduction!$B$3:$B$501=Sheet8!B542)*(Deduction!$C$3:$C$501=Sheet8!D542),0),11)","v":0},{"$error":"#DIV/0!"},{"$f":"VLOOKUP(D542,Emp_Master!$B$3:$H$501,7)","v":{"$error":"#N/A"}}]
[{"$f":"Salary_Entitlement!A544","v":0},{"$f":"Salary_Entitlement!B544","v":0},{"$f":"Salary_Entitlement!C544","v":0},{"$f":"Salary_Entitlement!D544","v":0},{"$f":"Salary_Entitlement!E544","v":0},{"$f":"Salary_Entitlement!F544","v":0},{"$f":"Salary_Entitlement!G544","v":0},{"$f":"Salary_Entitlement!H544","v":0},{"$f":"Salary_Entitlement!I544","v":0},{"$f":"Salary_Entitlement!J544","v":0},{"$f":"Salary_Entitlement!K544","v":0},{"$f":"Salary_Entitlement!L544","v":0},{"$f":"Salary_Entitlement!M544","v":0},{"$f":"Salary_Entitlement!N544","v":0},{"$f":"Salary_Entitlement!O544","v":0},{"$f":"Salary_Entitlement!P544","v":0},{"$error":"#DIV/0!"},{"$error":"#DIV/0!"},{"$f":"INDEX(Deduction!$A$3:$K$501,MATCH(1,(Deduction!$A$3:$A$501=Sheet8!A543)*(Deduction!$B$3:$B$501=Sheet8!B543)*(Deduction!$C$3:$C$501=Sheet8!D543),0),5)","v":0},{"$f":"INDEX(Deduction!$A$3:$K$501,MATCH(1,(Deduction!$A$3:$A$501=Sheet8!A543)*(Deduction!$B$3:$B$501=Sheet8!B543)*(Deduction!$C$3:$C$501=Sheet8!D543),0),6)","v":0},{"$f":"INDEX(Deduction!$A$3:$K$501,MATCH(1,(Deduction!$A$3:$A$501=Sheet8!A543)*(Deduction!$B$3:$B$501=Sheet8!B543)*(Deduction!$C$3:$C$501=Sheet8!D543),0),7)","v":0},{"$f":"INDEX(Deduction!$A$3:$K$501,MATCH(1,(Deduction!$A$3:$A$501=Sheet8!A543)*(Deduction!$B$3:$B$501=Sheet8!B543)*(Deduction!$C$3:$C$501=Sheet8!D543),0),8)","v":0},{"$f":"INDEX(Deduction!$A$3:$K$501,MATCH(1,(Deduction!$A$3:$A$501=Sheet8!A543)*(Deduction!$B$3:$B$501=Sheet8!B543)*(Deduction!$C$3:$C$501=Sheet8!D543),0),9)","v":0},{"$f":"INDEX(Deduction!$A$3:$K$501,MATCH(1,(Deduction!$A$3:$A$501=Sheet8!A543)*(Deduction!$B$3:$B$501=Sheet8!B543)*(Deduction!$C$3:$C$501=Sheet8!D543),0),10)","v":0},{"$f":"INDEX(Deduction!$A$3:$K$501,MATCH(1,(Deduction!$A$3:$A$501=Sheet8!A543)*(Deduction!$B$3:$B$501=Sheet8!B543)*(Deduction!$C$3:$C$501=Sheet8!D543),0),11)","v":0},{"$error":"#DIV/0!"},{"$f":"VLOOKUP(D543,Emp_Master!$B$3:$H$501,7)","v":{"$error":"#N/A"}}]
[{"$f":"Salary_Entitlement!A545","v":0},{"$f":"Salary_Entitlement!B545","v":0},{"$f":"Salary_Entitlement!C545","v":0},{"$f":"Salary_Entitlement!D545","v":0},{"$f":"Salary_Entitlement!E545","v":0},{"$f":"Salary_Entitlement!F545","v":0},{"$f":"Salary_Entitlement!G545","v":0},{"$f":"Salary_Entitlement!H545","v":0},{"$f":"Salary_Entitlement!I545","v":0},{"$f":"Salary_Entitlement!J545","v":0},{"$f":"Salary_Entitlement!K545","v":0},{"$f":"Salary_Entitlement!L545","v":0},{"$f":"Salary_Entitlement!M545","v":0},{"$f":"Salary_Entitlement!N545","v":0},{"$f":"Salary_Entitlement!O545","v":0},{"$f":"Salary_Entitlement!P545","v":0},{"$error":"#DIV/0!"},{"$error":"#DIV/0!"},{"$f":"INDEX(Deduction!$A$3:$K$501,MATCH(1,(Deduction!$A$3:$A$501=Sheet8!A544)*(Deduction!$B$3:$B$501=Sheet8!B544)*(Deduction!$C$3:$C$501=Sheet8!D544),0),5)","v":0},{"$f":"INDEX(Deduction!$A$3:$K$501,MATCH(1,(Deduction!$A$3:$A$501=Sheet8!A544)*(Deduction!$B$3:$B$501=Sheet8!B544)*(Deduction!$C$3:$C$501=Sheet8!D544),0),6)","v":0},{"$f":"INDEX(Deduction!$A$3:$K$501,MATCH(1,(Deduction!$A$3:$A$501=Sheet8!A544)*(Deduction!$B$3:$B$501=Sheet8!B544)*(Deduction!$C$3:$C$501=Sheet8!D544),0),7)","v":0},{"$f":"INDEX(Deduction!$A$3:$K$501,MATCH(1,(Deduction!$A$3:$A$501=Sheet8!A544)*(Deduction!$B$3:$B$501=Sheet8!B544)*(Deduction!$C$3:$C$501=Sheet8!D544),0),8)","v":0},{"$f":"INDEX(Deduction!$A$3:$K$501,MATCH(1,(Deduction!$A$3:$A$501=Sheet8!A544)*(Deduction!$B$3:$B$501=Sheet8!B544)*(Deduction!$C$3:$C$501=Sheet8!D544),0),9)","v":0},{"$f":"INDEX(Deduction!$A$3:$K$501,MATCH(1,(Deduction!$A$3:$A$501=Sheet8!A544)*(Deduction!$B$3:$B$501=Sheet8!B544)*(Deduction!$C$3:$C$501=Sheet8!D544),0),10)","v":0},{"$f":"INDEX(Deduction!$A$3:$K$501,MATCH(1,(Deduction!$A$3:$A$501=Sheet8!A544)*(Deduction!$B$3:$B$501=Sheet8!B544)*(Deduction!$C$3:$C$501=Sheet8!D544),0),11)","v":0},{"$error":"#DIV/0!"},{"$f":"VLOOKUP(D544,Emp_Master!$B$3:$H$501,7)","v":{"$error":"#N/A"}}]
[{"$f":"Salary_Entitlement!A546","v":0},{"$f":"Salary_Entitlement!B546","v":0},{"$f":"Salary_Entitlement!C546","v":0},{"$f":"Salary_Entitlement!D546","v":0},{"$f":"Salary_Entitlement!E546","v":0},{"$f":"Salary_Entitlement!F546","v":0},{"$f":"Salary_Entitlement!G546","v":0},{"$f":"Salary_Entitlement!H546","v":0},{"$f":"Salary_Entitlement!I546","v":0},{"$f":"Salary_Entitlement!J546","v":0},{"$f":"Salary_Entitlement!K546","v":0},{"$f":"Salary_Entitlement!L546","v":0},{"$f":"Salary_Entitlement!M546","v":0},{"$f":"Salary_Entitlement!N546","v":0},{"$f":"Salary_Entitlement!O546","v":0},{"$f":"Salary_Entitlement!P546","v":0},{"$error":"#DIV/0!"},{"$error":"#DIV/0!"},{"$f":"INDEX(Deduction!$A$3:$K$501,MATCH(1,(Deduction!$A$3:$A$501=Sheet8!A545)*(Deduction!$B$3:$B$501=Sheet8!B545)*(Deduction!$C$3:$C$501=Sheet8!D545),0),5)","v":0},{"$f":"INDEX(Deduction!$A$3:$K$501,MATCH(1,(Deduction!$A$3:$A$501=Sheet8!A545)*(Deduction!$B$3:$B$501=Sheet8!B545)*(Deduction!$C$3:$C$501=Sheet8!D545),0),6)","v":0},{"$f":"INDEX(Deduction!$A$3:$K$501,MATCH(1,(Deduction!$A$3:$A$501=Sheet8!A545)*(Deduction!$B$3:$B$501=Sheet8!B545)*(Deduction!$C$3:$C$501=Sheet8!D545),0),7)","v":0},{"$f":"INDEX(Deduction!$A$3:$K$501,MATCH(1,(Deduction!$A$3:$A$501=Sheet8!A545)*(Deduction!$B$3:$B$501=Sheet8!B545)*(Deduction!$C$3:$C$501=Sheet8!D545),0),8)","v":0},{"$f":"INDEX(Deduction!$A$3:$K$501,MATCH(1,(Deduction!$A$3:$A$501=Sheet8!A545)*(Deduction!$B$3:$B$501=Sheet8!B545)*(Deduction!$C$3:$C$501=Sheet8!D545),0),9)","v":0},{"$f":"INDEX(Deduction!$A$3:$K$501,MATCH(1,(Deduction!$A$3:$A$501=Sheet8!A545)*(Deduction!$B$3:$B$501=Sheet8!B545)*(Deduction!$C$3:$C$501=Sheet8!D545),0),10)","v":0},{"$f":"INDEX(Deduction!$A$3:$K$501,MATCH(1,(Deduction!$A$3:$A$501=Sheet8!A545)*(Deduction!$B$3:$B$501=Sheet8!B545)*(Deduction!$C$3:$C$501=Sheet8!D545),0),11)","v":0},{"$error":"#DIV/0!"},{"$f":"VLOOKUP(D545,Emp_Master!$B$3:$H$501,7)","v":{"$error":"#N/A"}}]
[{"$f":"Salary_Entitlement!A547","v":0},{"$f":"Salary_Entitlement!B547","v":0},{"$f":"Salary_Entitlement!C547","v":0},{"$f":"Salary_Entitlement!D547","v":0},{"$f":"Salary_Entitlement!E547","v":0},{"$f":"Salary_Entitlement!F547","v":0},{"$f":"Salary_Entitlement!G547","v":0},{"$f":"Salary_Entitlement!H547","v":0},{"$f":"Salary_Entitlement!I547","v":0},{"$f":"Salary_Entitlement!J547","v":0},{"$f":"Salary_Entitlement!K547","v":0},{"$f":"Salary_Entitlement!L547","v":0},{"$f":"Salary_Entitlement!M547","v":0},{"$f":"Salary_Entitlement!N547","v":0},{"$f":"Salary_Entitlement!O547","v":0},{"$f":"Salary_Entitlement!P547","v":0},{"$error":"#DIV/0!"},{"$error":"#DIV/0!"},{"$f":"INDEX(Deduction!$A$3:$K$501,MATCH(1,(Deduction!$A$3:$A$501=Sheet8!A546)*(Deduction!$B$3:$B$501=Sheet8!B546)*(Deduction!$C$3:$C$501=Sheet8!D546),0),5)","v":0},{"$f":"INDEX(Deduction!$A$3:$K$501,MATCH(1,(Deduction!$A$3:$A$501=Sheet8!A546)*(Deduction!$B$3:$B$501=Sheet8!B546)*(Deduction!$C$3:$C$501=Sheet8!D546),0),6)","v":0},{"$f":"INDEX(Deduction!$A$3:$K$501,MATCH(1,(Deduction!$A$3:$A$501=Sheet8!A546)*(Deduction!$B$3:$B$501=Sheet8!B546)*(Deduction!$C$3:$C$501=Sheet8!D546),0),7)","v":0},{"$f":"INDEX(Deduction!$A$3:$K$501,MATCH(1,(Deduction!$A$3:$A$501=Sheet8!A546)*(Deduction!$B$3:$B$501=Sheet8!B546)*(Deduction!$C$3:$C$501=Sheet8!D546),0),8)","v":0},{"$f":"INDEX(Deduction!$A$3:$K$501,MATCH(1,(Deduction!$A$3:$A$501=Sheet8!A546)*(Deduction!$B$3:$B$501=Sheet8!B546)*(Deduction!$C$3:$C$501=Sheet8!D546),0),9)","v":0},{"$f":"INDEX(Deduction!$A$3:$K$501,MATCH(1,(Deduction!$A$3:$A$501=Sheet8!A546)*(Deduction!$B$3:$B$501=Sheet8!B546)*(Deduction!$C$3:$C$501=Sheet8!D546),0),10)","v":0},{"$f":"INDEX(Deduction!$A$3:$K$501,MATCH(1,(Deduction!$A$3:$A$501=Sheet8!A546)*(Deduction!$B$3:$B$501=Sheet8!B546)*(Deduction!$C$3:$C$501=Sheet8!D546),0),11)","v":0},{"$error":"#DIV/0!"},{"$f":"VLOOKUP(D546,Emp_Master!$B$3:$H$501,7)","v":{"$error":"#N/A"}}]
[{"$f":"Salary_Entitlement!A548","v":0},{"$f":"Salary_Entitlement!B548","v":0},{"$f":"Salary_Entitlement!C548","v":0},{"$f":"Salary_Entitlement!D548","v":0},{"$f":"Salary_Entitlement!E548","v":0},{"$f":"Salary_Entitlement!F548","v":0},{"$f":"Salary_Entitlement!G548","v":0},{"$f":"Salary_Entitlement!H548","v":0},{"$f":"Salary_Entitlement!I548","v":0},{"$f":"Salary_Entitlement!J548","v":0},{"$f":"Salary_Entitlement!K548","v":0},{"$f":"Salary_Entitlement!L548","v":0},{"$f":"Salary_Entitlement!M548","v":0},{"$f":"Salary_Entitlement!N548","v":0},{"$f":"Salary_Entitlement!O548","v":0},{"$f":"Salary_Entitlement!P548","v":0},{"$error":"#DIV/0!"},{"$error":"#DIV/0!"},{"$f":"INDEX(Deduction!$A$3:$K$501,MATCH(1,(Deduction!$A$3:$A$501=Sheet8!A547)*(Deduction!$B$3:$B$501=Sheet8!B547)*(Deduction!$C$3:$C$501=Sheet8!D547),0),5)","v":0},{"$f":"INDEX(Deduction!$A$3:$K$501,MATCH(1,(Deduction!$A$3:$A$501=Sheet8!A547)*(Deduction!$B$3:$B$501=Sheet8!B547)*(Deduction!$C$3:$C$501=Sheet8!D547),0),6)","v":0},{"$f":"INDEX(Deduction!$A$3:$K$501,MATCH(1,(Deduction!$A$3:$A$501=Sheet8!A547)*(Deduction!$B$3:$B$501=Sheet8!B547)*(Deduction!$C$3:$C$501=Sheet8!D547),0),7)","v":0},{"$f":"INDEX(Deduction!$A$3:$K$501,MATCH(1,(Deduction!$A$3:$A$501=Sheet8!A547)*(Deduction!$B$3:$B$501=Sheet8!B547)*(Deduction!$C$3:$C$501=Sheet8!D547),0),8)","v":0},{"$f":"INDEX(Deduction!$A$3:$K$501,MATCH(1,(Deduction!$A$3:$A$501=Sheet8!A547)*(Deduction!$B$3:$B$501=Sheet8!B547)*(Deduction!$C$3:$C$501=Sheet8!D547),0),9)","v":0},{"$f":"INDEX(Deduction!$A$3:$K$501,MATCH(1,(Deduction!$A$3:$A$501=Sheet8!A547)*(Deduction!$B$3:$B$501=Sheet8!B547)*(Deduction!$C$3:$C$501=Sheet8!D547),0),10)","v":0},{"$f":"INDEX(Deduction!$A$3:$K$501,MATCH(1,(Deduction!$A$3:$A$501=Sheet8!A547)*(Deduction!$B$3:$B$501=Sheet8!B547)*(Deduction!$C$3:$C$501=Sheet8!D547),0),11)","v":0},{"$error":"#DIV/0!"},{"$f":"VLOOKUP(D547,Emp_Master!$B$3:$H$501,7)","v":{"$error":"#N/A"}}]
[{"$f":"Salary_Entitlement!A549","v":0},{"$f":"Salary_Entitlement!B549","v":0},{"$f":"Salary_Entitlement!C549","v":0},{"$f":"Salary_Entitlement!D549","v":0},{"$f":"Salary_Entitlement!E549","v":0},{"$f":"Salary_Entitlement!F549","v":0},{"$f":"Salary_Entitlement!G549","v":0},{"$f":"Salary_Entitlement!H549","v":0},{"$f":"Salary_Entitlement!I549","v":0},{"$f":"Salary_Entitlement!J549","v":0},{"$f":"Salary_Entitlement!K549","v":0},{"$f":"Salary_Entitlement!L549","v":0},{"$f":"Salary_Entitlement!M549","v":0},{"$f":"Salary_Entitlement!N549","v":0},{"$f":"Salary_Entitlement!O549","v":0},{"$f":"Salary_Entitlement!P549","v":0},{"$error":"#DIV/0!"},{"$error":"#DIV/0!"},{"$f":"INDEX(Deduction!$A$3:$K$501,MATCH(1,(Deduction!$A$3:$A$501=Sheet8!A548)*(Deduction!$B$3:$B$501=Sheet8!B548)*(Deduction!$C$3:$C$501=Sheet8!D548),0),5)","v":0},{"$f":"INDEX(Deduction!$A$3:$K$501,MATCH(1,(Deduction!$A$3:$A$501=Sheet8!A548)*(Deduction!$B$3:$B$501=Sheet8!B548)*(Deduction!$C$3:$C$501=Sheet8!D548),0),6)","v":0},{"$f":"INDEX(Deduction!$A$3:$K$501,MATCH(1,(Deduction!$A$3:$A$501=Sheet8!A548)*(Deduction!$B$3:$B$501=Sheet8!B548)*(Deduction!$C$3:$C$501=Sheet8!D548),0),7)","v":0},{"$f":"INDEX(Deduction!$A$3:$K$501,MATCH(1,(Deduction!$A$3:$A$501=Sheet8!A548)*(Deduction!$B$3:$B$501=Sheet8!B548)*(Deduction!$C$3:$C$501=Sheet8!D548),0),8)","v":0},{"$f":"INDEX(Deduction!$A$3:$K$501,MATCH(1,(Deduction!$A$3:$A$501=Sheet8!A548)*(Deduction!$B$3:$B$501=Sheet8!B548)*(Deduction!$C$3:$C$501=Sheet8!D548),0),9)","v":0},{"$f":"INDEX(Deduction!$A$3:$K$501,MATCH(1,(Deduction!$A$3:$A$501=Sheet8!A548)*(Deduction!$B$3:$B$501=Sheet8!B548)*(Deduction!$C$3:$C$501=Sheet8!D548),0),10)","v":0},{"$f":"INDEX(Deduction!$A$3:$K$501,MATCH(1,(Deduction!$A$3:$A$501=Sheet8!A548)*(Deduction!$B$3:$B$501=Sheet8!B548)*(Deduction!$C$3:$C$501=Sheet8!D548),0),11)","v":0},{"$error":"#DIV/0!"},{"$f":"VLOOKUP(D548,Emp_Master!$B$3:$H$501,7)","v":{"$error":"#N/A"}}]
[{"$f":"Salary_Entitlement!A550","v":0},{"$f":"Salary_Entitlement!B550","v":0},{"$f":"Salary_Entitlement!C550","v":0},{"$f":"Salary_Entitlement!D550","v":0},{"$f":"Salary_Entitlement!E550","v":0},{"$f":"Salary_Entitlement!F550","v":0},{"$f":"Salary_Entitlement!G550","v":0},{"$f":"Salary_Entitlement!H550","v":0},{"$f":"Salary_Entitlement!I550","v":0},{"$f":"Salary_Entitlement!J550","v":0},{"$f":"Salary_Entitlement!K550","v":0},{"$f":"Salary_Entitlement!L550","v":0},{"$f":"Salary_Entitlement!M550","v":0},{"$f":"Salary_Entitlement!N550","v":0},{"$f":"Salary_Entitlement!O550","v":0},{"$f":"Salary_Entitlement!P550","v":0},{"$error":"#DIV/0!"},{"$error":"#DIV/0!"},{"$f":"INDEX(Deduction!$A$3:$K$501,MATCH(1,(Deduction!$A$3:$A$501=Sheet8!A549)*(Deduction!$B$3:$B$501=Sheet8!B549)*(Deduction!$C$3:$C$501=Sheet8!D549),0),5)","v":0},{"$f":"INDEX(Deduction!$A$3:$K$501,MATCH(1,(Deduction!$A$3:$A$501=Sheet8!A549)*(Deduction!$B$3:$B$501=Sheet8!B549)*(Deduction!$C$3:$C$501=Sheet8!D549),0),6)","v":0},{"$f":"INDEX(Deduction!$A$3:$K$501,MATCH(1,(Deduction!$A$3:$A$501=Sheet8!A549)*(Deduction!$B$3:$B$501=Sheet8!B549)*(Deduction!$C$3:$C$501=Sheet8!D549),0),7)","v":0},{"$f":"INDEX(Deduction!$A$3:$K$501,MATCH(1,(Deduction!$A$3:$A$501=Sheet8!A549)*(Deduction!$B$3:$B$501=Sheet8!B549)*(Deduction!$C$3:$C$501=Sheet8!D549),0),8)","v":0},{"$f":"INDEX(Deduction!$A$3:$K$501,MATCH(1,(Deduction!$A$3:$A$501=Sheet8!A549)*(Deduction!$B$3:$B$501=Sheet8!B549)*(Deduction!$C$3:$C$501=Sheet8!D549),0),9)","v":0},{"$f":"INDEX(Deduction!$A$3:$K$501,MATCH(1,(Deduction!$A$3:$A$501=Sheet8!A549)*(Deduction!$B$3:$B$501=Sheet8!B549)*(Deduction!$C$3:$C$501=Sheet8!D549),0),10)","v":0},{"$f":"INDEX(Deduction!$A$3:$K$501,MATCH(1,(Deduction!$A$3:$A$501=Sheet8!A549)*(Deduction!$B$3:$B$501=Sheet8!B549)*(Deduction!$C$3:$C$501=Sheet8!D549),0),11)","v":0},{"$error":"#DIV/0!"},{"$f":"VLOOKUP(D549,Emp_Master!$B$3:$H$501,7)","v":{"$error":"#N/A"}}]
[{"$f":"Salary_Entitlement!A551","v":0},{"$f":"Salary_Entitlement!B551","v":0},{"$f":"Salary_Entitlement!C551","v":0},{"$f":"Salary_Entitlement!D551","v":0},{"$f":"Salary_Entitlement!E551","v":0},{"$f":"Salary_Entitlement!F551","v":0},{"$f":"Salary_Entitlement!G551","v":0},{"$f":"Salary_Entitlement!H551","v":0},{"$f":"Salary_Entitlement!I551","v":0},{"$f":"Salary_Entitlement!J551","v":0},{"$f":"Salary_Entitlement!K551","v":0},{"$f":"Salary_Entitlement!L551","v":0},{"$f":"Salary_Entitlement!M551","v":0},{"$f":"Salary_Entitlement!N551","v":0},{"$f":"Salary_Entitlement!O551","v":0},{"$f":"Salary_Entitlement!P551","v":0},{"$error":"#DIV/0!"},{"$error":"#DIV/0!"},{"$f":"INDEX(Deduction!$A$3:$K$501,MATCH(1,(Deduction!$A$3:$A$501=Sheet8!A550)*(Deduction!$B$3:$B$501=Sheet8!B550)*(Deduction!$C$3:$C$501=Sheet8!D550),0),5)","v":0},{"$f":"INDEX(Deduction!$A$3:$K$501,MATCH(1,(Deduction!$A$3:$A$501=Sheet8!A550)*(Deduction!$B$3:$B$501=Sheet8!B550)*(Deduction!$C$3:$C$501=Sheet8!D550),0),6)","v":0},{"$f":"INDEX(Deduction!$A$3:$K$501,MATCH(1,(Deduction!$A$3:$A$501=Sheet8!A550)*(Deduction!$B$3:$B$501=Sheet8!B550)*(Deduction!$C$3:$C$501=Sheet8!D550),0),7)","v":0},{"$f":"INDEX(Deduction!$A$3:$K$501,MATCH(1,(Deduction!$A$3:$A$501=Sheet8!A550)*(Deduction!$B$3:$B$501=Sheet8!B550)*(Deduction!$C$3:$C$501=Sheet8!D550),0),8)","v":0},{"$f":"INDEX(Deduction!$A$3:$K$501,MATCH(1,(Deduction!$A$3:$A$501=Sheet8!A550)*(Deduction!$B$3:$B$501=Sheet8!B550)*(Deduction!$C$3:$C$501=Sheet8!D550),0),9)","v":0},{"$f":"INDEX(Deduction!$A$3:$K$501,MATCH(1,(Deduction!$A$3:$A$501=Sheet8!A550)*(Deduction!$B$3:$B$501=Sheet8!B550)*(Deduction!$C$3:$C$501=Sheet8!D550),0),10)","v":0},{"$f":"INDEX(Deduction!$A$3:$K$501,MATCH(1,(Deduction!$A$3:$A$501=Sheet8!A550)*(Deduction!$B$3:$B$501=Sheet8!B550)*(Deduction!$C$3:$C$501=Sheet8!D550),0),11)","v":0},{"$error":"#DIV/0!"},{"$f":"VLOOKUP(D550,Emp_Master!$B$3:$H$501,7)","v":{"$error":"#N/A"}}]
[{"$f":"Salary_Entitlement!A552","v":0},{"$f":"Salary_Entitlement!B552","v":0},{"$f":"Salary_Entitlement!C552","v":0},{"$f":"Salary_Entitlement!D552","v":0},{"$f":"Salary_Entitlement!E552","v":0},{"$f":"Salary_Entitlement!F552","v":0},{"$f":"Salary_Entitlement!G552","v":0},{"$f":"Salary_Entitlement!H552","v":0},{"$f":"Salary_Entitlement!I552","v":0},{"$f":"Salary_Entitlement!J552","v":0},{"$f":"Salary_Entitlement!K552","v":0},{"$f":"Salary_Entitlement!L552","v":0},{"$f":"Salary_Entitlement!M552","v":0},{"$f":"Salary_Entitlement!N552","v":0},{"$f":"Salary_Entitlement!O552","v":0},{"$f":"Salary_Entitlement!P552","v":0},{"$error":"#DIV/0!"},{"$error":"#DIV/0!"},{"$f":"INDEX(Deduction!$A$3:$K$501,MATCH(1,(Deduction!$A$3:$A$501=Sheet8!A551)*(Deduction!$B$3:$B$501=Sheet8!B551)*(Deduction!$C$3:$C$501=Sheet8!D551),0),5)","v":0},{"$f":"INDEX(Deduction!$A$3:$K$501,MATCH(1,(Deduction!$A$3:$A$501=Sheet8!A551)*(Deduction!$B$3:$B$501=Sheet8!B551)*(Deduction!$C$3:$C$501=Sheet8!D551),0),6)","v":0},{"$f":"INDEX(Deduction!$A$3:$K$501,MATCH(1,(Deduction!$A$3:$A$501=Sheet8!A551)*(Deduction!$B$3:$B$501=Sheet8!B551)*(Deduction!$C$3:$C$501=Sheet8!D551),0),7)","v":0},{"$f":"INDEX(Deduction!$A$3:$K$501,MATCH(1,(Deduction!$A$3:$A$501=Sheet8!A551)*(Deduction!$B$3:$B$501=Sheet8!B551)*(Deduction!$C$3:$C$501=Sheet8!D551),0),8)","v":0},{"$f":"INDEX(Deduction!$A$3:$K$501,MATCH(1,(Deduction!$A$3:$A$501=Sheet8!A551)*(Deduction!$B$3:$B$501=Sheet8!B551)*(Deduction!$C$3:$C$501=Sheet8!D551),0),9)","v":0},{"$f":"INDEX(Deduction!$A$3:$K$501,MATCH(1,(Deduction!$A$3:$A$501=Sheet8!A551)*(Deduction!$B$3:$B$501=Sheet8!B551)*(Deduction!$C$3:$C$501=Sheet8!D551),0),10)","v":0},{"$f":"INDEX(Deduction!$A$3:$K$501,MATCH(1,(Deduction!$A$3:$A$501=Sheet8!A551)*(Deduction!$B$3:$B$501=Sheet8!B551)*(Deduction!$C$3:$C$501=Sheet8!D551),0),11)","v":0},{"$error":"#DIV/0!"},{"$f":"VLOOKUP(D551,Emp_Master!$B$3:$H$501,7)","v":{"$error":"#N/A"}}]
[{"$f":"Salary_Entitlement!A553","v":0},{"$f":"Salary_Entitlement!B553","v":0},{"$f":"Salary_Entitlement!C553","v":0},{"$f":"Salary_Entitlement!D553","v":0},{"$f":"Salary_Entitlement!E553","v":0},{"$f":"Salary_Entitlement!F553","v":0},{"$f":"Salary_Entitlement!G553","v":0},{"$f":"Salary_Entitlement!H553","v":0},{"$f":"Salary_Entitlement!I553","v":0},{"$f":"Salary_Entitlement!J553","v":0},{"$f":"Salary_Entitlement!K553","v":0},{"$f":"Salary_Entitlement!L553","v":0},{"$f":"Salary_Entitlement!M553","v":0},{"$f":"Salary_Entitlement!N553","v":0},{"$f":"Salary_Entitlement!O553","v":0},{"$f":"Salary_Entitlement!P553","v":0},{"$error":"#DIV/0!"},{"$error":"#DIV/0!"},{"$f":"INDEX(Deduction!$A$3:$K$501,MATCH(1,(Deduction!$A$3:$A$501=Sheet8!A552)*(Deduction!$B$3:$B$501=Sheet8!B552)*(Deduction!$C$3:$C$501=Sheet8!D552),0),5)","v":0},{"$f":"INDEX(Deduction!$A$3:$K$501,MATCH(1,(Deduction!$A$3:$A$501=Sheet8!A552)*(Deduction!$B$3:$B$501=Sheet8!B552)*(Deduction!$C$3:$C$501=Sheet8!D552),0),6)","v":0},{"$f":"INDEX(Deduction!$A$3:$K$501,MATCH(1,(Deduction!$A$3:$A$501=Sheet8!A552)*(Deduction!$B$3:$B$501=Sheet8!B552)*(Deduction!$C$3:$C$501=Sheet8!D552),0),7)","v":0},{"$f":"INDEX(Deduction!$A$3:$K$501,MATCH(1,(Deduction!$A$3:$A$501=Sheet8!A552)*(Deduction!$B$3:$B$501=Sheet8!B552)*(Deduction!$C$3:$C$501=Sheet8!D552),0),8)","v":0},{"$f":"INDEX(Deduction!$A$3:$K$501,MATCH(1,(Deduction!$A$3:$A$501=Sheet8!A552)*(Deduction!$B$3:$B$501=Sheet8!B552)*(Deduction!$C$3:$C$501=Sheet8!D552),0),9)","v":0},{"$f":"INDEX(Deduction!$A$3:$K$501,MATCH(1,(Deduction!$A$3:$A$501=Sheet8!A552)*(Deduction!$B$3:$B$501=Sheet8!B552)*(Deduction!$C$3:$C$501=Sheet8!D552),0),10)","v":0},{"$f":"INDEX(Deduction!$A$3:$K$501,MATCH(1,(Deduction!$A$3:$A$501=Sheet8!A552)*(Deduction!$B$3:$B$501=Sheet8!B552)*(Deduction!$C$3:$C$501=Sheet8!D552),0),11)","v":0},{"$error":"#DIV/0!"},{"$f":"VLOOKUP(D552,Emp_Master!$B$3:$H$501,7)","v":{"$error":"#N/A"}}]

{"sheet":"Pay_Slip","index":7,"n_rows":678,"n_cols":13,"rows_kept":678,"cut":false,"hidden":true,"merged":[[36,9,36,12],[0,1,0,12],[1,1,1,12],[2,1,2,12],[3,1,3,12],[4,1,4,12],[5,1,5,12]]}
[null,{"$f":"Emp_Master!C1","v":0}]
[null,{"$f":"Emp_Master!E1","v":0}]
[null,{"$f":"Emp_Master!G1","v":0}]
[null,{"$f":"Emp_Master!I1","v":0}]
[null,{"$f":"Emp_Master!K1","v":0}]
[null,"PAY SLIP"]
[null,"For the month of :",null,null,"Year :",null,"Pay Scale Applicable",null,null,"Created by: Prodip Das  Email id: prodipdas08@gmail.com"]
[null,"Code",null,null,null,null,null,"Bank Name/Mode",null,null,{"$f":"\": \"& VLOOKUP($C$8,Emp_Master!$B$3:$P$500,9)","v":{"$error":"#N/A"}}]
[null,"Name",null,{"$f":"\": \"& VLOOKUP($C$8,Emp_Master!$B$3:$P$500,2)","v":{"$error":"#N/A"}},null,null,null,"A/c No",null,null,{"$f":"\": \"& VLOOKUP($C$8,Emp_Master!$B$3:$P$500,10)","v":{"$error":"#N/A"}}]
[null,"Deptt.",null,{"$f":"\": \"& VLOOKUP($C$8,Emp_Master!$B$3:$P$500,3)","v":{"$error":"#N/A"}},null,null,null,"PAN No",null,null,{"$f":"\": \"& VLOOKUP($C$8,Emp_Master!$B$3:$P$500,11)","v":{"$error":"#N/A"}}]
[null,"Designation",null,{"$f":"\": \"& VLOOKUP($C$8,Emp_Master!$B$3:$P$500,4)","v":{"$error":"#N/A"}},null,null,null,"PF No",null,null,{"$f":"\": \"& VLOOKUP($C$8,Emp_Master!$B$3:$P$500,12)","v":{"$error":"#N/A"}}]
[null,"Grade",null,{"$f":"\": \"& VLOOKUP($C$8,Emp_Master!$B$3:$P$500,5)","v":{"$error":"#N/A"}},null,null,null,"ESIS No",null,null,{"$f":"\": \"& VLOOKUP($C$8,Emp_Master!$B$3:$P$500,13)","v":{"$error":"#N/A"}}]
[null,"Location",null,{"$f":"\": \"& VLOOKUP($C$8,Emp_Master!$B$3:$P$500,6)","v":{"$error":"#N/A"}},null,null,null,"Working Days",null,null,{"$f":"INDEX(Salary_Entitlement!$A$3:$P$501,MATCH(1,(Salary_Entitlement!$D$3:D501=Pay_Slip!$C$8)*(Salary_Entitlement!$A$3:$A$501=Pay_Slip!$D$7)*(Salary_Entitlement!$B$3:$B$501=Pay_Slip!$F$7),0),13)","v":0}]
[null,"Branch",null,{"$f":"\": \"& VLOOKUP($C$8,Emp_Master!$B$3:$P$500,7)","v":{"$error":"#N/A"}},null,null,null,"Paid Days",null,null,{"$f":"INDEX(Salary_Entitlement!$A$3:$P$501,MATCH(1,(Salary_Entitlement!$D$3:D501=Pay_Slip!$C$8)*(Salary_Entitlement!$A$3:$A$501=Pay_Slip!$D$7)*(Salary_Entitlement!$B$3:$B$501=Pay_Slip!$F$7),0),14)","v":0}]
[null,"DoJ",null,{"$f":"\": \"& TEXT(VLOOKUP($C$8,Emp_Master!$B$3:$P$500,8),\"dd-mmm-yyyy\")","v":{"$error":"#N/A"}},null,null,null,"Absent Days",null,null,{"$f":"INDEX(Salary_Entitlement!$A$3:$P$501,MATCH(1,(Salary_Entitlement!$D$3:D502=Pay_Slip!$C$8)*(Salary_Entitlement!$A$3:$A$501=Pay_Slip!$D$7)*(Salary_Entitlement!$B$3:$B$501=Pay_Slip!$F$7),0),15)","v":0}]
[null,"DOR",null,null,null,null,null,"Leave Encashment Days",null,null,{"$f":"INDEX(Salary_Entitlement!$A$3:$P$501,MATCH(1,(Salary_Entitlement!$D$3:D503=Pay_Slip!$C$8)*(Salary_Entitlement!$A$3:$A$501=Pay_Slip!$D$7)*(Salary_Entitlement!$B$3:$B$501=Pay_Slip!$F$7),0),16)","v":0}]
[]
[null,"Earnings",null,null,null,"Rate","Amt Rs.","Deduction",null,null,null,null,"Amt Rs."]
[null,"Basi+DA",null,null,null,{"$f":"INDEX(Salary_Structure!$A$3:$J$501,MATCH(1,(Salary_Structure!$A$3:$A$501=Pay_Slip!$C$8)*(Salary_Structure!$J$3:$J$501=Pay_Slip!$I$7),0),3)","v":0},{"$f":"F19/$K$13*$K$14","v":{"$error":"#DIV/0!"}},"Employee P.F",null,null,null,null,{"$f":"INDEX(Deduction!$A$3:$K$501,MATCH(1,(Deduction!$C$3:$C$501=Pay_Slip!$C$8)*(Deduction!$A$3:$A$501=Pay_Slip!$D$7)*(Deduction!$B$3:$B$501=Pay_Slip!$F$7),0),6)","v":0}]
[null,"House Rent Allowance",null,null,null,{"$f":"INDEX(Salary_Structure!$A$3:$J$501,MATCH(1,(Salary_Structure!$A$3:$A$501=Pay_Slip!$C$8)*(Salary_Structure!$J$3:$J$501=Pay_Slip!$I$7),0),4)","v":0},{"$f":"F20/$K$13*$K$14","v":{"$error":"#DIV/0!"}},"Employee P.Tax",null,null,null,null,{"$f":"INDEX(Deduction!$A$3:$K$501,MATCH(1,(Deduction!$C$3:$C$501=Pay_Slip!$C$8)*(Deduction!$A$3:$A$501=Pay_Slip!$D$7)*(Deduction!$B$3:$B$501=Pay_Slip!$F$7),0),7)","v":0}]
[null,"Conveyance Allowance",null,null,null,{"$f":"INDEX(Salary_Structure!$A$3:$J$501,MATCH(1,(Salary_Structure!$A$3:$A$501=Pay_Slip!$C$8)*(Salary_Structure!$J$3:$J$501=Pay_Slip!$I$7),0),5)","v":0},{"$f":"F21/$K$13*$K$14","v":{"$error":"#DIV/0!"}},"Advance",null,null,null,null,{"$f":"INDEX(Deduction!$A$3:$K$501,MATCH(1,(Deduction!$C$3:$C$501=Pay_Slip!$C$8)*(Deduction!$A$3:$A$501=Pay_Slip!$D$7)*(Deduction!$B$3:$B$501=Pay_Slip!$F$7),0),9)","v":0}]
[null,"Education Allowane",null,null,null,{"$f":"INDEX(Salary_Structure!$A$3:$J$501,MATCH(1,(Salary_Structure!$A$3:$A$501=Pay_Slip!$C$8)*(Salary_Structure!$J$3:$J$501=Pay_Slip!$I$7),0),6)","v":0},{"$error":"#DIV/0!"},"Interest",null,null,null,null,{"$f":"INDEX(Deduction!$A$3:$K$501,MATCH(1,(Deduction!$C$3:$C$501=Pay_Slip!$C$8)*(Deduction!$A$3:$A$501=Pay_Slip!$D$7)*(Deduction!$B$3:$B$501=Pay_Slip!$F$7),0),8)","v":0}]
[null,"Special Allowance",null,null,null,{"$f":"INDEX(Salary_Structure!$A$3:$J$501,MATCH(1,(Salary_Structure!$A$3:$A$501=Pay_Slip!$C$8)*(Salary_Structure!$J$3:$J$501=Pay_Slip!$I$7),0),7)","v":0},{"$error":"#DIV/0!"},"Security Deposit",null,null,null,null,{"$f":"INDEX(Deduction!$A$3:$K$501,MATCH(1,(Deduction!$C$3:$C$501=Pay_Slip!$C$8)*(Deduction!$A$3:$A$501=Pay_Slip!$D$7)*(Deduction!$B$3:$B$501=Pay_Slip!$F$7),0),10)","v":0}]
[null,"Other Allowance",null,null,null,{"$f":"INDEX(Salary_Structure!$A$3:$J$501,MATCH(1,(Salary_Structure!$A$3:$A$501=Pay_Slip!$C$8)*(Salary_Structure!$J$3:$J$501=Pay_Slip!$I$7),0),8)","v":0},{"$error":"#DIV/0!"},"Other Deduction",null,null,null,null,{"$f":"INDEX(Deduction!$A$3:$K$501,MATCH(1,(Deduction!$C$3:$C$501=Pay_Slip!$C$8)*(Deduction!$A$3:$A$501=Pay_Slip!$D$7)*(Deduction!$B$3:$B$501=Pay_Slip!$F$7),0),11)","v":0}]
[null,"Increment if any",null,null,null,null,{"$f":"INDEX(Salary_Entitlement!$A$3:$P$501,MATCH(1,(Salary_Entitlement!$D$3:$D$501=Pay_Slip!$C$8)*(Salary_Entitlement!$A$3:$A$501=Pay_Slip!$D$7)*(Salary_Entitlement!$B$3:$B$501=Pay_Slip!$F$7)*(Salary_Entitlement!$C$3:$C$501=Pay_Slip!$I$7),0),12)","v":0},"TDS",null,null,null,null,{"$f":"INDEX(Deduction!$A$3:$K$501,MATCH(1,(Deduction!$C$3:$C$501=Pay_Slip!$C$8)*(Deduction!$A$3:$A$501=Pay_Slip!$D$7)*(Deduction!$B$3:$B$501=Pay_Slip!$F$7),0),5)","v":0}]
[null,"Medical Reimbursement",null,null,null,null,{"$f":"INDEX(Salary_Entitlement!$A$3:$P$501,MATCH(1,(Salary_Entitlement!$D$3:$D$501=Pay_Slip!$C$8)*(Salary_Entitlement!$A$3:$A$501=Pay_Slip!$D$7)*(Salary_Entitlement!$B$3:$B$501=Pay_Slip!$F$7)*(Salary_Entitlement!$C$3:$C$501=Pay_Slip!$I$7),0),7)","v":0}]
[null,"Telephone Reimbursement",null,null,null,null,{"$f":"INDEX(Salary_Entitlement!$A$3:$P$501,MATCH(1,(Salary_Entitlement!$D$3:$D$501=Pay_Slip!$C$8)*(Salary_Entitlement!$A$3:$A$501=Pay_Slip!$D$7)*(Salary_Entitlement!$B$3:$B$501=Pay_Slip!$F$7)*(Salary_Entitlement!$C$3:$C$501=Pay_Slip!$I$7),0),8)","v":0}]
[null,"Other Reimbursement",null,null,null,null,{"$f":"INDEX(Salary_Entitlement!$A$3:$P$501,MATCH(1,(Salary_Entitlement!$D$3:$D$501=Pay_Slip!$C$8)*(Salary_Entitlement!$A$3:$A$501=Pay_Slip!$D$7)*(Salary_Entitlement!$B$3:$B$501=Pay_Slip!$F$7)*(Salary_Entitlement!$C$3:$C$501=Pay_Slip!$I$7),0),9)","v":0}]
[null,"Leave Encashment",null,null,null,null,{"$f":"INDEX(Salary_Entitlement!$A$3:$P$501,MATCH(1,(Salary_Entitlement!$D$3:$D$501=Pay_Slip!$C$8)*(Salary_Entitlement!$A$3:$A$501=Pay_Slip!$D$7)*(Salary_Entitlement!$B$3:$B$501=Pay_Slip!$F$7)*(Salary_Entitlement!$C$3:$C$501=Pay_Slip!$I$7),0),10)","v":0}]
[null,"Perquisites",null,null,null,null,{"$f":"INDEX(Salary_Entitlement!$A$3:$P$501,MATCH(1,(Salary_Entitlement!$D$3:$D$501=Pay_Slip!$C$8)*(Salary_Entitlement!$A$3:$A$501=Pay_Slip!$D$7)*(Salary_Entitlement!$B$3:$B$501=Pay_Slip!$F$7)*(Salary_Entitlement!$C$3:$C$501=Pay_Slip!$I$7),0),11)","v":0}]
[]
[]
[null,"Earning Total",null,null,null,{"$f":"SUM(F19:F31)","v":0},{"$f":"SUM(G19:G31)","v":{"$error":"#DIV/0!"}},"Deduction Total",null,null,null,null,{"$f":"SUM(M19:M31)","v":0}]
[]
[null,null,null,null,null,null,null,"Net Payable Amount",null,null,null,null,{"$f":"G33-M33","v":{"$error":"#DIV/0!"}}]
[null,"Designed by : Prodip Das"]
[null,"email id: prodipdas08@gmail.com",null,null,null,null,null,null,"For",{"$f":"Emp_Master!C1","v":0}]
[]
[]
[null,null,null,null,null,null,null,null,null,null,"Authorised Signatory"]
[null,null,null,null,null,null,null,null,null,null,"Co. Seal"]
[]
[]
[]
[]
[]
[]
[]
[]
[]
[]
[]
[null,null,null,null,null,2015,"Apr",{"$f":"Emp_Master!B3","v":0},null,2015]
[null,null,null,null,null,2016,"May",{"$f":"Emp_Master!B4","v":0},null,2016]
[null,null,null,null,null,2017,"Jun",{"$f":"Emp_Master!B5","v":0},null,2017]
[null,null,null,null,null,2018,"Jul",{"$f":"Emp_Master!B6","v":0},null,2018]
[null,null,null,null,null,2019,"Aug",{"$f":"Emp_Master!B7","v":0},null,2019]
[null,null,null,null,null,2020,"Sep",{"$f":"Emp_Master!B8","v":0},null,2020]
[null,null,null,null,null,2021,"Oct",{"$f":"Emp_Master!B9","v":0},null,2021]
[null,null,null,null,null,2022,"Nov",{"$f":"Emp_Master!B10","v":0},null,2022]
[null,null,null,null,null,2023,"Dec",{"$f":"Emp_Master!B11","v":0},null,2023]
[null,null,null,null,null,2024,"Jan",{"$f":"Emp_Master!B12","v":0},null,2024]
[null,null,null,null,null,2025,"Feb",{"$f":"Emp_Master!B13","v":0},null,2025]
[null,null,null,null,null,null,"Mar",{"$f":"Emp_Master!B14","v":0}]
[null,null,null,null,null,null,null,{"$f":"Emp_Master!B15","v":0}]
[null,null,null,null,null,null,null,{"$f":"Emp_Master!B16","v":0}]
[null,null,null,null,null,null,null,{"$f":"Emp_Master!B17","v":0}]
[null,null,null,null,null,null,null,{"$f":"Emp_Master!B18","v":0}]
[null,null,null,null,null,null,null,{"$f":"Emp_Master!B19","v":0}]
[null,null,null,null,null,null,null,{"$f":"Emp_Master!B20","v":0}]
[null,null,null,null,null,null,null,{"$f":"Emp_Master!B21","v":0}]
[null,null,null,null,null,null,null,{"$f":"Emp_Master!B22","v":0}]
[null,null,null,null,null,null,null,{"$f":"Emp_Master!B23","v":0}]
[null,null,null,null,null,null,null,{"$f":"Emp_Master!B24","v":0}]
[null,null,null,null,null,null,null,{"$f":"Emp_Master!B25","v":0}]
[null,null,null,null,null,null,null,{"$f":"Emp_Master!B26","v":0}]
[null,null,null,null,null,null,null,{"$f":"Emp_Master!B27","v":0}]
[null,null,null,null,null,null,null,{"$f":"Emp_Master!B28","v":0}]
[null,null,null,null,null,null,null,{"$f":"Emp_Master!B29","v":0}]
[null,null,null,null,null,null,null,{"$f":"Emp_Master!B30","v":0}]
[null,null,null,null,null,null,null,{"$f":"Emp_Master!B31","v":0}]
[null,null,null,null,null,null,null,{"$f":"Emp_Master!B32","v":0}]
[null,null,null,null,null,null,null,{"$f":"Emp_Master!B33","v":0}]
[null,null,null,null,null,null,null,{"$f":"Emp_Master!B34","v":0}]
[null,null,null,null,null,null,null,{"$f":"Emp_Master!B35","v":0}]
[null,null,null,null,null,null,null,{"$f":"Emp_Master!B36","v":0}]
[null,null,null,null,null,null,null,{"$f":"Emp_Master!B37","v":0}]
[null,null,null,null,null,null,null,{"$f":"Emp_Master!B38","v":0}]
[null,null,null,null,null,null,null,{"$f":"Emp_Master!B39","v":0}]
[null,null,null,null,null,null,null,{"$f":"Emp_Master!B40","v":0}]
[null,null,null,null,null,null,null,{"$f":"Emp_Master!B41","v":0}]
[null,null,null,null,null,null,null,{"$f":"Emp_Master!B42","v":0}]
[null,null,null,null,null,null,null,{"$f":"Emp_Master!B43","v":0}]
[null,null,null,null,null,null,null,{"$f":"Emp_Master!B44","v":0}]
[null,null,null,null,null,null,null,{"$f":"Emp_Master!B45","v":0}]
[null,null,null,null,null,null,null,{"$f":"Emp_Master!B46","v":0}]
[null,null,null,null,null,null,null,{"$f":"Emp_Master!B47","v":0}]
[null,null,null,null,null,null,null,{"$f":"Emp_Master!B48","v":0}]
[null,null,null,null,null,null,null,{"$f":"Emp_Master!B49","v":0}]
[null,null,null,null,null,null,null,{"$f":"Emp_Master!B50","v":0}]
[null,null,null,null,null,null,null,{"$f":"Emp_Master!B51","v":0}]
[null,null,null,null,null,null,null,{"$f":"Emp_Master!B52","v":0}]
[null,null,null,null,null,null,null,{"$f":"Emp_Master!B53","v":0}]
[null,null,null,null,null,null,null,{"$f":"Emp_Master!B54","v":0}]
[null,null,null,null,null,null,null,{"$f":"Emp_Master!B55","v":0}]
[null,null,null,null,null,null,null,{"$f":"Emp_Master!B56","v":0}]
[null,null,null,null,null,null,null,{"$f":"Emp_Master!B57","v":0}]
[null,null,null,null,null,null,null,{"$f":"Emp_Master!B58","v":0}]
[null,null,null,null,null,null,null,{"$f":"Emp_Master!B59","v":0}]
[null,null,null,null,null,null,null,{"$f":"Emp_Master!B60","v":0}]
[null,null,null,null,null,null,null,{"$f":"Emp_Master!B61","v":0}]
[null,null,null,null,null,null,null,{"$f":"Emp_Master!B62","v":0}]
[null,null,null,null,null,null,null,{"$f":"Emp_Master!B63","v":0}]
[null,null,null,null,null,null,null,{"$f":"Emp_Master!B64","v":0}]
[null,null,null,null,null,null,null,{"$f":"Emp_Master!B65","v":0}]
[null,null,null,null,null,null,null,{"$f":"Emp_Master!B66","v":0}]
[null,null,null,null,null,null,null,{"$f":"Emp_Master!B67","v":0}]
[null,null,null,null,null,null,null,{"$f":"Emp_Master!B68","v":0}]
[null,null,null,null,null,null,null,{"$f":"Emp_Master!B69","v":0}]
[null,null,null,null,null,null,null,{"$f":"Emp_Master!B70","v":0}]
[null,null,null,null,null,null,null,{"$f":"Emp_Master!B71","v":0}]
[null,null,null,null,null,null,null,{"$f":"Emp_Master!B72","v":0}]
[null,null,null,null,null,null,null,{"$f":"Emp_Master!B73","v":0}]
[null,null,null,null,null,null,null,{"$f":"Emp_Master!B74","v":0}]
[null,null,null,null,null,null,null,{"$f":"Emp_Master!B75","v":0}]
[null,null,null,null,null,null,null,{"$f":"Emp_Master!B76","v":0}]
[null,null,null,null,null,null,null,{"$f":"Emp_Master!B77","v":0}]
[null,null,null,null,null,null,null,{"$f":"Emp_Master!B78","v":0}]
[null,null,null,null,null,null,null,{"$f":"Emp_Master!B79","v":0}]
[null,null,null,null,null,null,null,{"$f":"Emp_Master!B80","v":0}]
[null,null,null,null,null,null,null,{"$f":"Emp_Master!B81","v":0}]
[null,null,null,null,null,null,null,{"$f":"Emp_Master!B82","v":0}]
[null,null,null,null,null,null,null,{"$f":"Emp_Master!B83","v":0}]
[null,null,null,null,null,null,null,{"$f":"Emp_Master!B84","v":0}]
[null,null,null,null,null,null,null,{"$f":"Emp_Master!B85","v":0}]
[null,null,null,null,null,null,null,{"$f":"Emp_Master!B86","v":0}]
[null,null,null,null,null,null,null,{"$f":"Emp_Master!B87","v":0}]
[null,null,null,null,null,null,null,{"$f":"Emp_Master!B88","v":0}]
[null,null,null,null,null,null,null,{"$f":"Emp_Master!B89","v":0}]
[null,null,null,null,null,null,null,{"$f":"Emp_Master!B90","v":0}]
[null,null,null,null,null,null,null,{"$f":"Emp_Master!B91","v":0}]
[null,null,null,null,null,null,null,{"$f":"Emp_Master!B92","v":0}]
[null,null,null,null,null,null,null,{"$f":"Emp_Master!B93","v":0}]
[null,null,null,null,null,null,null,{"$f":"Emp_Master!B94","v":0}]
[null,null,null,null,null,null,null,{"$f":"Emp_Master!B95","v":0}]
[null,null,null,null,null,null,null,{"$f":"Emp_Master!B96","v":0}]
[null,null,null,null,null,null,null,{"$f":"Emp_Master!B97","v":0}]
[null,null,null,null,null,null,null,{"$f":"Emp_Master!B98","v":0}]
[null,null,null,null,null,null,null,{"$f":"Emp_Master!B99","v":0}]
[null,null,null,null,null,null,null,{"$f":"Emp_Master!B100","v":0}]
[null,null,null,null,null,null,null,{"$f":"Emp_Master!B101","v":0}]
[null,null,null,null,null,null,null,{"$f":"Emp_Master!B102","v":0}]
[null,null,null,null,null,null,null,{"$f":"Emp_Master!B103","v":0}]
[null,null,null,null,null,null,null,{"$f":"Emp_Master!B104","v":0}]
[null,null,null,null,null,null,null,{"$f":"Emp_Master!B105","v":0}]
[null,null,null,null,null,null,null,{"$f":"Emp_Master!B106","v":0}]
[null,null,null,null,null,null,null,{"$f":"Emp_Master!B107","v":0}]
[null,null,null,null,null,null,null,{"$f":"Emp_Master!B108","v":0}]
[null,null,null,null,null,null,null,{"$f":"Emp_Master!B109","v":0}]
[null,null,null,null,null,null,null,{"$f":"Emp_Master!B110","v":0}]
[null,null,null,null,null,null,null,{"$f":"Emp_Master!B111","v":0}]
[null,null,null,null,null,null,null,{"$f":"Emp_Master!B112","v":0}]
[null,null,null,null,null,null,null,{"$f":"Emp_Master!B113","v":0}]
[null,null,null,null,null,null,null,{"$f":"Emp_Master!B114","v":0}]
[null,null,null,null,null,null,null,{"$f":"Emp_Master!B115","v":0}]
[null,null,null,null,null,null,null,{"$f":"Emp_Master!B116","v":0}]
[null,null,null,null,null,null,null,{"$f":"Emp_Master!B117","v":0}]
[null,null,null,null,null,null,null,{"$f":"Emp_Master!B118","v":0}]
[null,null,null,null,null,null,null,{"$f":"Emp_Master!B119","v":0}]
[null,null,null,null,null,null,null,{"$f":"Emp_Master!B120","v":0}]
[null,null,null,null,null,null,null,{"$f":"Emp_Master!B121","v":0}]
[null,null,null,null,null,null,null,{"$f":"Emp_Master!B122","v":0}]
[null,null,null,null,null,null,null,{"$f":"Emp_Master!B123","v":0}]
[null,null,null,null,null,null,null,{"$f":"Emp_Master!B124","v":0}]
[null,null,null,null,null,null,null,{"$f":"Emp_Master!B125","v":0}]
[null,null,null,null,null,null,null,{"$f":"Emp_Master!B126","v":0}]
[null,null,null,null,null,null,null,{"$f":"Emp_Master!B127","v":0}]
[null,null,null,null,null,null,null,{"$f":"Emp_Master!B128","v":0}]
[null,null,null,null,null,null,null,{"$f":"Emp_Master!B129","v":0}]
[null,null,null,null,null,null,null,{"$f":"Emp_Master!B130","v":0}]
[null,null,null,null,null,null,null,{"$f":"Emp_Master!B131","v":0}]
[null,null,null,null,null,null,null,{"$f":"Emp_Master!B132","v":0}]
[null,null,null,null,null,null,null,{"$f":"Emp_Master!B133","v":0}]
[null,null,null,null,null,null,null,{"$f":"Emp_Master!B134","v":0}]
[null,null,null,null,null,null,null,{"$f":"Emp_Master!B135","v":0}]
[null,null,null,null,null,null,null,{"$f":"Emp_Master!B136","v":0}]
[null,null,null,null,null,null,null,{"$f":"Emp_Master!B137","v":0}]
[null,null,null,null,null,null,null,{"$f":"Emp_Master!B138","v":0}]
[null,null,null,null,null,null,null,{"$f":"Emp_Master!B139","v":0}]
[null,null,null,null,null,null,null,{"$f":"Emp_Master!B140","v":0}]
[null,null,null,null,null,null,null,{"$f":"Emp_Master!B141","v":0}]
[null,null,null,null,null,null,null,{"$f":"Emp_Master!B142","v":0}]
[null,null,null,null,null,null,null,{"$f":"Emp_Master!B143","v":0}]
[null,null,null,null,null,null,null,{"$f":"Emp_Master!B144","v":0}]
[null,null,null,null,null,null,null,{"$f":"Emp_Master!B145","v":0}]
[null,null,null,null,null,null,null,{"$f":"Emp_Master!B146","v":0}]
[null,null,null,null,null,null,null,{"$f":"Emp_Master!B147","v":0}]
[null,null,null,null,null,null,null,{"$f":"Emp_Master!B148","v":0}]
[null,null,null,null,null,null,null,{"$f":"Emp_Master!B149","v":0}]
[null,null,null,null,null,null,null,{"$f":"Emp_Master!B150","v":0}]
[null,null,null,null,null,null,null,{"$f":"Emp_Master!B151","v":0}]
[null,null,null,null,null,null,null,{"$f":"Emp_Master!B152","v":0}]
[null,null,null,null,null,null,null,{"$f":"Emp_Master!B153","v":0}]
[null,null,null,null,null,null,null,{"$f":"Emp_Master!B154","v":0}]
[null,null,null,null,null,null,null,{"$f":"Emp_Master!B155","v":0}]
[null,null,null,null,null,null,null,{"$f":"Emp_Master!B156","v":0}]
[null,null,null,null,null,null,null,{"$f":"Emp_Master!B157","v":0}]
[null,null,null,null,null,null,null,{"$f":"Emp_Master!B158","v":0}]
[null,null,null,null,null,null,null,{"$f":"Emp_Master!B159","v":0}]
[null,null,null,null,null,null,null,{"$f":"Emp_Master!B160","v":0}]
[null,null,null,null,null,null,null,{"$f":"Emp_Master!B161","v":0}]
[null,null,null,null,null,null,null,{"$f":"Emp_Master!B162","v":0}]
[null,null,null,null,null,null,null,{"$f":"Emp_Master!B163","v":0}]
[null,null,null,null,null,null,null,{"$f":"Emp_Master!B164","v":0}]
[null,null,null,null,null,null,null,{"$f":"Emp_Master!B165","v":0}]
[null,null,null,null,null,null,null,{"$f":"Emp_Master!B166","v":0}]
[null,null,null,null,null,null,null,{"$f":"Emp_Master!B167","v":0}]
[null,null,null,null,null,null,null,{"$f":"Emp_Master!B168","v":0}]
[null,null,null,null,null,null,null,{"$f":"Emp_Master!B169","v":0}]
[null,null,null,null,null,null,null,{"$f":"Emp_Master!B170","v":0}]
[null,null,null,null,null,null,null,{"$f":"Emp_Master!B171","v":0}]
[null,null,null,null,null,null,null,{"$f":"Emp_Master!B172","v":0}]
[null,null,null,null,null,null,null,{"$f":"Emp_Master!B173","v":0}]
[null,null,null,null,null,null,null,{"$f":"Emp_Master!B174","v":0}]
[null,null,null,null,null,null,null,{"$f":"Emp_Master!B175","v":0}]
[null,null,null,null,null,null,null,{"$f":"Emp_Master!B176","v":0}]
[null,null,null,null,null,null,null,{"$f":"Emp_Master!B177","v":0}]
[null,null,null,null,null,null,null,{"$f":"Emp_Master!B178","v":0}]
[null,null,null,null,null,null,null,{"$f":"Emp_Master!B179","v":0}]
[null,null,null,null,null,null,null,{"$f":"Emp_Master!B180","v":0}]
[null,null,null,null,null,null,null,{"$f":"Emp_Master!B181","v":0}]
[null,null,null,null,null,null,null,{"$f":"Emp_Master!B182","v":0}]
[null,null,null,null,null,null,null,{"$f":"Emp_Master!B183","v":0}]
[null,null,null,null,null,null,null,{"$f":"Emp_Master!B184","v":0}]
[null,null,null,null,null,null,null,{"$f":"Emp_Master!B185","v":0}]
[null,null,null,null,null,null,null,{"$f":"Emp_Master!B186","v":0}]
[null,null,null,null,null,null,null,{"$f":"Emp_Master!B187","v":0}]
[null,null,null,null,null,null,null,{"$f":"Emp_Master!B188","v":0}]
[null,null,null,null,null,null,null,{"$f":"Emp_Master!B189","v":0}]
[null,null,null,null,null,null,null,{"$f":"Emp_Master!B190","v":0}]
[null,null,null,null,null,null,null,{"$f":"Emp_Master!B191","v":0}]
[null,null,null,null,null,null,null,{"$f":"Emp_Master!B192","v":0}]
[null,null,null,null,null,null,null,{"$f":"Emp_Master!B193","v":0}]
[null,null,null,null,null,null,null,{"$f":"Emp_Master!B194","v":0}]
[null,null,null,null,null,null,null,{"$f":"Emp_Master!B195","v":0}]
[null,null,null,null,null,null,null,{"$f":"Emp_Master!B196","v":0}]
[null,null,null,null,null,null,null,{"$f":"Emp_Master!B197","v":0}]
[null,null,null,null,null,null,null,{"$f":"Emp_Master!B198","v":0}]
[null,null,null,null,null,null,null,{"$f":"Emp_Master!B199","v":0}]
[null,null,null,null,null,null,null,{"$f":"Emp_Master!B200","v":0}]
[null,null,null,null,null,null,null,{"$f":"Emp_Master!B201","v":0}]
[null,null,null,null,null,null,null,{"$f":"Emp_Master!B202","v":0}]
[null,null,null,null,null,null,null,{"$f":"Emp_Master!B203","v":0}]
[null,null,null,null,null,null,null,{"$f":"Emp_Master!B204","v":0}]
[null,null,null,null,null,null,null,{"$f":"Emp_Master!B205","v":0}]
[null,null,null,null,null,null,null,{"$f":"Emp_Master!B206","v":0}]
[null,null,null,null,null,null,null,{"$f":"Emp_Master!B207","v":0}]
[null,null,null,null,null,null,null,{"$f":"Emp_Master!B208","v":0}]
[null,null,null,null,null,null,null,{"$f":"Emp_Master!B209","v":0}]
[null,null,null,null,null,null,null,{"$f":"Emp_Master!B210","v":0}]
[null,null,null,null,null,null,null,{"$f":"Emp_Master!B211","v":0}]
[null,null,null,null,null,null,null,{"$f":"Emp_Master!B212","v":0}]
[null,null,null,null,null,null,null,{"$f":"Emp_Master!B213","v":0}]
[null,null,null,null,null,null,null,{"$f":"Emp_Master!B214","v":0}]
[null,null,null,null,null,null,null,{"$f":"Emp_Master!B215","v":0}]
[null,null,null,null,null,null,null,{"$f":"Emp_Master!B216","v":0}]
[null,null,null,null,null,null,null,{"$f":"Emp_Master!B217","v":0}]
[null,null,null,null,null,null,null,{"$f":"Emp_Master!B218","v":0}]
[null,null,null,null,null,null,null,{"$f":"Emp_Master!B219","v":0}]
[null,null,null,null,null,null,null,{"$f":"Emp_Master!B220","v":0}]
[null,null,null,null,null,null,null,{"$f":"Emp_Master!B221","v":0}]
[null,null,null,null,null,null,null,{"$f":"Emp_Master!B222","v":0}]
[null,null,null,null,null,null,null,{"$f":"Emp_Master!B223","v":0}]
[null,null,null,null,null,null,null,{"$f":"Emp_Master!B224","v":0}]
[null,null,null,null,null,null,null,{"$f":"Emp_Master!B225","v":0}]
[null,null,null,null,null,null,null,{"$f":"Emp_Master!B226","v":0}]
[null,null,null,null,null,null,null,{"$f":"Emp_Master!B227","v":0}]
[null,null,null,null,null,null,null,{"$f":"Emp_Master!B228","v":0}]
[null,null,null,null,null,null,null,{"$f":"Emp_Master!B229","v":0}]
[null,null,null,null,null,null,null,{"$f":"Emp_Master!B230","v":0}]
[null,null,null,null,null,null,null,{"$f":"Emp_Master!B231","v":0}]
[null,null,null,null,null,null,null,{"$f":"Emp_Master!B232","v":0}]
[null,null,null,null,null,null,null,{"$f":"Emp_Master!B233","v":0}]
[null,null,null,null,null,null,null,{"$f":"Emp_Master!B234","v":0}]
[null,null,null,null,null,null,null,{"$f":"Emp_Master!B235","v":0}]
[null,null,null,null,null,null,null,{"$f":"Emp_Master!B236","v":0}]
[null,null,null,null,null,null,null,{"$f":"Emp_Master!B237","v":0}]
[null,null,null,null,null,null,null,{"$f":"Emp_Master!B238","v":0}]
[null,null,null,null,null,null,null,{"$f":"Emp_Master!B239","v":0}]
[null,null,null,null,null,null,null,{"$f":"Emp_Master!B240","v":0}]
[null,null,null,null,null,null,null,{"$f":"Emp_Master!B241","v":0}]
[null,null,null,null,null,null,null,{"$f":"Emp_Master!B242","v":0}]
[null,null,null,null,null,null,null,{"$f":"Emp_Master!B243","v":0}]
[null,null,null,null,null,null,null,{"$f":"Emp_Master!B244","v":0}]
[null,null,null,null,null,null,null,{"$f":"Emp_Master!B245","v":0}]
[null,null,null,null,null,null,null,{"$f":"Emp_Master!B246","v":0}]
[null,null,null,null,null,null,null,{"$f":"Emp_Master!B247","v":0}]
[null,null,null,null,null,null,null,{"$f":"Emp_Master!B248","v":0}]
[null,null,null,null,null,null,null,{"$f":"Emp_Master!B249","v":0}]
[null,null,null,null,null,null,null,{"$f":"Emp_Master!B250","v":0}]
[null,null,null,null,null,null,null,{"$f":"Emp_Master!B251","v":0}]
[null,null,null,null,null,null,null,{"$f":"Emp_Master!B252","v":0}]
[null,null,null,null,null,null,null,{"$f":"Emp_Master!B253","v":0}]
[null,null,null,null,null,null,null,{"$f":"Emp_Master!B254","v":0}]
[null,null,null,null,null,null,null,{"$f":"Emp_Master!B255","v":0}]
[null,null,null,null,null,null,null,{"$f":"Emp_Master!B256","v":0}]
[null,null,null,null,null,null,null,{"$f":"Emp_Master!B257","v":0}]
[null,null,null,null,null,null,null,{"$f":"Emp_Master!B258","v":0}]
[null,null,null,null,null,null,null,{"$f":"Emp_Master!B259","v":0}]
[null,null,null,null,null,null,null,{"$f":"Emp_Master!B260","v":0}]
[null,null,null,null,null,null,null,{"$f":"Emp_Master!B261","v":0}]
[null,null,null,null,null,null,null,{"$f":"Emp_Master!B262","v":0}]
[null,null,null,null,null,null,null,{"$f":"Emp_Master!B263","v":0}]
[null,null,null,null,null,null,null,{"$f":"Emp_Master!B264","v":0}]
[null,null,null,null,null,null,null,{"$f":"Emp_Master!B265","v":0}]
[null,null,null,null,null,null,null,{"$f":"Emp_Master!B266","v":0}]
[null,null,null,null,null,null,null,{"$f":"Emp_Master!B267","v":0}]
[null,null,null,null,null,null,null,{"$f":"Emp_Master!B268","v":0}]
[null,null,null,null,null,null,null,{"$f":"Emp_Master!B269","v":0}]
[null,null,null,null,null,null,null,{"$f":"Emp_Master!B270","v":0}]
[null,null,null,null,null,null,null,{"$f":"Emp_Master!B271","v":0}]
[null,null,null,null,null,null,null,{"$f":"Emp_Master!B272","v":0}]
[null,null,null,null,null,null,null,{"$f":"Emp_Master!B273","v":0}]
[null,null,null,null,null,null,null,{"$f":"Emp_Master!B274","v":0}]
[null,null,null,null,null,null,null,{"$f":"Emp_Master!B275","v":0}]
[null,null,null,null,null,null,null,{"$f":"Emp_Master!B276","v":0}]
[null,null,null,null,null,null,null,{"$f":"Emp_Master!B277","v":0}]
[null,null,null,null,null,null,null,{"$f":"Emp_Master!B278","v":0}]
[null,null,null,null,null,null,null,{"$f":"Emp_Master!B279","v":0}]
[null,null,null,null,null,null,null,{"$f":"Emp_Master!B280","v":0}]
[null,null,null,null,null,null,null,{"$f":"Emp_Master!B281","v":0}]
[null,null,null,null,null,null,null,{"$f":"Emp_Master!B282","v":0}]
[null,null,null,null,null,null,null,{"$f":"Emp_Master!B283","v":0}]
[null,null,null,null,null,null,null,{"$f":"Emp_Master!B284","v":0}]
[null,null,null,null,null,null,null,{"$f":"Emp_Master!B285","v":0}]
[null,null,null,null,null,null,null,{"$f":"Emp_Master!B286","v":0}]
[null,null,null,null,null,null,null,{"$f":"Emp_Master!B287","v":0}]
[null,null,null,null,null,null,null,{"$f":"Emp_Master!B288","v":0}]
[null,null,null,null,null,null,null,{"$f":"Emp_Master!B289","v":0}]
[null,null,null,null,null,null,null,{"$f":"Emp_Master!B290","v":0}]
[null,null,null,null,null,null,null,{"$f":"Emp_Master!B291","v":0}]
[null,null,null,null,null,null,null,{"$f":"Emp_Master!B292","v":0}]
[null,null,null,null,null,null,null,{"$f":"Emp_Master!B293","v":0}]
[null,null,null,null,null,null,null,{"$f":"Emp_Master!B294","v":0}]
[null,null,null,null,null,null,null,{"$f":"Emp_Master!B295","v":0}]
[null,null,null,null,null,null,null,{"$f":"Emp_Master!B296","v":0}]
[null,null,null,null,null,null,null,{"$f":"Emp_Master!B297","v":0}]
[null,null,null,null,null,null,null,{"$f":"Emp_Master!B298","v":0}]
[null,null,null,null,null,null,null,{"$f":"Emp_Master!B299","v":0}]
[null,null,null,null,null,null,null,{"$f":"Emp_Master!B300","v":0}]
[null,null,null,null,null,null,null,{"$f":"Emp_Master!B301","v":0}]
[null,null,null,null,null,null,null,{"$f":"Emp_Master!B302","v":0}]
[null,null,null,null,null,null,null,{"$f":"Emp_Master!B303","v":0}]
[null,null,null,null,null,null,null,{"$f":"Emp_Master!B304","v":0}]
[null,null,null,null,null,null,null,{"$f":"Emp_Master!B305","v":0}]
[null,null,null,null,null,null,null,{"$f":"Emp_Master!B306","v":0}]
[null,null,null,null,null,null,null,{"$f":"Emp_Master!B307","v":0}]
[null,null,null,null,null,null,null,{"$f":"Emp_Master!B308","v":0}]
[null,null,null,null,null,null,null,{"$f":"Emp_Master!B309","v":0}]
[null,null,null,null,null,null,null,{"$f":"Emp_Master!B310","v":0}]
[null,null,null,null,null,null,null,{"$f":"Emp_Master!B311","v":0}]
[null,null,null,null,null,null,null,{"$f":"Emp_Master!B312","v":0}]
[null,null,null,null,null,null,null,{"$f":"Emp_Master!B313","v":0}]
[null,null,null,null,null,null,null,{"$f":"Emp_Master!B314","v":0}]
[null,null,null,null,null,null,null,{"$f":"Emp_Master!B315","v":0}]
[null,null,null,null,null,null,null,{"$f":"Emp_Master!B316","v":0}]
[null,null,null,null,null,null,null,{"$f":"Emp_Master!B317","v":0}]
[null,null,null,null,null,null,null,{"$f":"Emp_Master!B318","v":0}]
[null,null,null,null,null,null,null,{"$f":"Emp_Master!B319","v":0}]
[null,null,null,null,null,null,null,{"$f":"Emp_Master!B320","v":0}]
[null,null,null,null,null,null,null,{"$f":"Emp_Master!B321","v":0}]
[null,null,null,null,null,null,null,{"$f":"Emp_Master!B322","v":0}]
[null,null,null,null,null,null,null,{"$f":"Emp_Master!B323","v":0}]
[null,null,null,null,null,null,null,{"$f":"Emp_Master!B324","v":0}]
[null,null,null,null,null,null,null,{"$f":"Emp_Master!B325","v":0}]
[null,null,null,null,null,null,null,{"$f":"Emp_Master!B326","v":0}]
[null,null,null,null,null,null,null,{"$f":"Emp_Master!B327","v":0}]
[null,null,null,null,null,null,null,{"$f":"Emp_Master!B328","v":0}]
[null,null,null,null,null,null,null,{"$f":"Emp_Master!B329","v":0}]
[null,null,null,null,null,null,null,{"$f":"Emp_Master!B330","v":0}]
[null,null,null,null,null,null,null,{"$f":"Emp_Master!B331","v":0}]
[null,null,null,null,null,null,null,{"$f":"Emp_Master!B332","v":0}]
[null,null,null,null,null,null,null,{"$f":"Emp_Master!B333","v":0}]
[null,null,null,null,null,null,null,{"$f":"Emp_Master!B334","v":0}]
[null,null,null,null,null,null,null,{"$f":"Emp_Master!B335","v":0}]
[null,null,null,null,null,null,null,{"$f":"Emp_Master!B336","v":0}]
[null,null,null,null,null,null,null,{"$f":"Emp_Master!B337","v":0}]
[null,null,null,null,null,null,null,{"$f":"Emp_Master!B338","v":0}]
[null,null,null,null,null,null,null,{"$f":"Emp_Master!B339","v":0}]
[null,null,null,null,null,null,null,{"$f":"Emp_Master!B340","v":0}]
[null,null,null,null,null,null,null,{"$f":"Emp_Master!B341","v":0}]
[null,null,null,null,null,null,null,{"$f":"Emp_Master!B342","v":0}]
[null,null,null,null,null,null,null,{"$f":"Emp_Master!B343","v":0}]
[null,null,null,null,null,null,null,{"$f":"Emp_Master!B344","v":0}]
[null,null,null,null,null,null,null,{"$f":"Emp_Master!B345","v":0}]
[null,null,null,null,null,null,null,{"$f":"Emp_Master!B346","v":0}]
[null,null,null,null,null,null,null,{"$f":"Emp_Master!B347","v":0}]
[null,null,null,null,null,null,null,{"$f":"Emp_Master!B348","v":0}]
[null,null,null,null,null,null,null,{"$f":"Emp_Master!B349","v":0}]
[null,null,null,null,null,null,null,{"$f":"Emp_Master!B350","v":0}]
[null,null,null,null,null,null,null,{"$f":"Emp_Master!B351","v":0}]
[null,null,null,null,null,null,null,{"$f":"Emp_Master!B352","v":0}]
[null,null,null,null,null,null,null,{"$f":"Emp_Master!B353","v":0}]
[null,null,null,null,null,null,null,{"$f":"Emp_Master!B354","v":0}]
[null,null,null,null,null,null,null,{"$f":"Emp_Master!B355","v":0}]
[null,null,null,null,null,null,null,{"$f":"Emp_Master!B356","v":0}]
[null,null,null,null,null,null,null,{"$f":"Emp_Master!B357","v":0}]
[null,null,null,null,null,null,null,{"$f":"Emp_Master!B358","v":0}]
[null,null,null,null,null,null,null,{"$f":"Emp_Master!B359","v":0}]
[null,null,null,null,null,null,null,{"$f":"Emp_Master!B360","v":0}]
[null,null,null,null,null,null,null,{"$f":"Emp_Master!B361","v":0}]
[null,null,null,null,null,null,null,{"$f":"Emp_Master!B362","v":0}]
[null,null,null,null,null,null,null,{"$f":"Emp_Master!B363","v":0}]
[null,null,null,null,null,null,null,{"$f":"Emp_Master!B364","v":0}]
[null,null,null,null,null,null,null,{"$f":"Emp_Master!B365","v":0}]
[null,null,null,null,null,null,null,{"$f":"Emp_Master!B366","v":0}]
[null,null,null,null,null,null,null,{"$f":"Emp_Master!B367","v":0}]
[null,null,null,null,null,null,null,{"$f":"Emp_Master!B368","v":0}]
[null,null,null,null,null,null,null,{"$f":"Emp_Master!B369","v":0}]
[null,null,null,null,null,null,null,{"$f":"Emp_Master!B370","v":0}]
[null,null,null,null,null,null,null,{"$f":"Emp_Master!B371","v":0}]
[null,null,null,null,null,null,null,{"$f":"Emp_Master!B372","v":0}]
[null,null,null,null,null,null,null,{"$f":"Emp_Master!B373","v":0}]
[null,null,null,null,null,null,null,{"$f":"Emp_Master!B374","v":0}]
[null,null,null,null,null,null,null,{"$f":"Emp_Master!B375","v":0}]
[null,null,null,null,null,null,null,{"$f":"Emp_Master!B376","v":0}]
[null,null,null,null,null,null,null,{"$f":"Emp_Master!B377","v":0}]
[null,null,null,null,null,null,null,{"$f":"Emp_Master!B378","v":0}]
[null,null,null,null,null,null,null,{"$f":"Emp_Master!B379","v":0}]
[null,null,null,null,null,null,null,{"$f":"Emp_Master!B380","v":0}]
[null,null,null,null,null,null,null,{"$f":"Emp_Master!B381","v":0}]
[null,null,null,null,null,null,null,{"$f":"Emp_Master!B382","v":0}]
[null,null,null,null,null,null,null,{"$f":"Emp_Master!B383","v":0}]
[null,null,null,null,null,null,null,{"$f":"Emp_Master!B384","v":0}]
[null,null,null,null,null,null,null,{"$f":"Emp_Master!B385","v":0}]
[null,null,null,null,null,null,null,{"$f":"Emp_Master!B386","v":0}]
[null,null,null,null,null,null,null,{"$f":"Emp_Master!B387","v":0}]
[null,null,null,null,null,null,null,{"$f":"Emp_Master!B388","v":0}]
[null,null,null,null,null,null,null,{"$f":"Emp_Master!B389","v":0}]
[null,null,null,null,null,null,null,{"$f":"Emp_Master!B390","v":0}]
[null,null,null,null,null,null,null,{"$f":"Emp_Master!B391","v":0}]
[null,null,null,null,null,null,null,{"$f":"Emp_Master!B392","v":0}]
[null,null,null,null,null,null,null,{"$f":"Emp_Master!B393","v":0}]
[null,null,null,null,null,null,null,{"$f":"Emp_Master!B394","v":0}]
[null,null,null,null,null,null,null,{"$f":"Emp_Master!B395","v":0}]
[null,null,null,null,null,null,null,{"$f":"Emp_Master!B396","v":0}]
[null,null,null,null,null,null,null,{"$f":"Emp_Master!B397","v":0}]
[null,null,null,null,null,null,null,{"$f":"Emp_Master!B398","v":0}]
[null,null,null,null,null,null,null,{"$f":"Emp_Master!B399","v":0}]
[null,null,null,null,null,null,null,{"$f":"Emp_Master!B400","v":0}]
[null,null,null,null,null,null,null,{"$f":"Emp_Master!B401","v":0}]
[null,null,null,null,null,null,null,{"$f":"Emp_Master!B402","v":0}]
[null,null,null,null,null,null,null,{"$f":"Emp_Master!B403","v":0}]
[null,null,null,null,null,null,null,{"$f":"Emp_Master!B404","v":0}]
[null,null,null,null,null,null,null,{"$f":"Emp_Master!B405","v":0}]
[null,null,null,null,null,null,null,{"$f":"Emp_Master!B406","v":0}]
[null,null,null,null,null,null,null,{"$f":"Emp_Master!B407","v":0}]
[null,null,null,null,null,null,null,{"$f":"Emp_Master!B408","v":0}]
[null,null,null,null,null,null,null,{"$f":"Emp_Master!B409","v":0}]
[null,null,null,null,null,null,null,{"$f":"Emp_Master!B410","v":0}]
[null,null,null,null,null,null,null,{"$f":"Emp_Master!B411","v":0}]
[null,null,null,null,null,null,null,{"$f":"Emp_Master!B412","v":0}]
[null,null,null,null,null,null,null,{"$f":"Emp_Master!B413","v":0}]
[null,null,null,null,null,null,null,{"$f":"Emp_Master!B414","v":0}]
[null,null,null,null,null,null,null,{"$f":"Emp_Master!B415","v":0}]
[null,null,null,null,null,null,null,{"$f":"Emp_Master!B416","v":0}]
[null,null,null,null,null,null,null,{"$f":"Emp_Master!B417","v":0}]
[null,null,null,null,null,null,null,{"$f":"Emp_Master!B418","v":0}]
[null,null,null,null,null,null,null,{"$f":"Emp_Master!B419","v":0}]
[null,null,null,null,null,null,null,{"$f":"Emp_Master!B420","v":0}]
[null,null,null,null,null,null,null,{"$f":"Emp_Master!B421","v":0}]
[null,null,null,null,null,null,null,{"$f":"Emp_Master!B422","v":0}]
[null,null,null,null,null,null,null,{"$f":"Emp_Master!B423","v":0}]
[null,null,null,null,null,null,null,{"$f":"Emp_Master!B424","v":0}]
[null,null,null,null,null,null,null,{"$f":"Emp_Master!B425","v":0}]
[null,null,null,null,null,null,null,{"$f":"Emp_Master!B426","v":0}]
[null,null,null,null,null,null,null,{"$f":"Emp_Master!B427","v":0}]
[null,null,null,null,null,null,null,{"$f":"Emp_Master!B428","v":0}]
[null,null,null,null,null,null,null,{"$f":"Emp_Master!B429","v":0}]
[null,null,null,null,null,null,null,{"$f":"Emp_Master!B430","v":0}]
[null,null,null,null,null,null,null,{"$f":"Emp_Master!B431","v":0}]
[null,null,null,null,null,null,null,{"$f":"Emp_Master!B432","v":0}]
[null,null,null,null,null,null,null,{"$f":"Emp_Master!B433","v":0}]
[null,null,null,null,null,null,null,{"$f":"Emp_Master!B434","v":0}]
[null,null,null,null,null,null,null,{"$f":"Emp_Master!B435","v":0}]
[null,null,null,null,null,null,null,{"$f":"Emp_Master!B436","v":0}]
[null,null,null,null,null,null,null,{"$f":"Emp_Master!B437","v":0}]
[null,null,null,null,null,null,null,{"$f":"Emp_Master!B438","v":0}]
[null,null,null,null,null,null,null,{"$f":"Emp_Master!B439","v":0}]
[null,null,null,null,null,null,null,{"$f":"Emp_Master!B440","v":0}]
[null,null,null,null,null,null,null,{"$f":"Emp_Master!B441","v":0}]
[null,null,null,null,null,null,null,{"$f":"Emp_Master!B442","v":0}]
[null,null,null,null,null,null,null,{"$f":"Emp_Master!B443","v":0}]
[null,null,null,null,null,null,null,{"$f":"Emp_Master!B444","v":0}]
[null,null,null,null,null,null,null,{"$f":"Emp_Master!B445","v":0}]
[null,null,null,null,null,null,null,{"$f":"Emp_Master!B446","v":0}]
[null,null,null,null,null,null,null,{"$f":"Emp_Master!B447","v":0}]
[null,null,null,null,null,null,null,{"$f":"Emp_Master!B448","v":0}]
[null,null,null,null,null,null,null,{"$f":"Emp_Master!B449","v":0}]
[null,null,null,null,null,null,null,{"$f":"Emp_Master!B450","v":0}]
[null,null,null,null,null,null,null,{"$f":"Emp_Master!B451","v":0}]
[null,null,null,null,null,null,null,{"$f":"Emp_Master!B452","v":0}]
[null,null,null,null,null,null,null,{"$f":"Emp_Master!B453","v":0}]
[null,null,null,null,null,null,null,{"$f":"Emp_Master!B454","v":0}]
[null,null,null,null,null,null,null,{"$f":"Emp_Master!B455","v":0}]
[null,null,null,null,null,null,null,{"$f":"Emp_Master!B456","v":0}]
[null,null,null,null,null,null,null,{"$f":"Emp_Master!B457","v":0}]
[null,null,null,null,null,null,null,{"$f":"Emp_Master!B458","v":0}]
[null,null,null,null,null,null,null,{"$f":"Emp_Master!B459","v":0}]
[null,null,null,null,null,null,null,{"$f":"Emp_Master!B460","v":0}]
[null,null,null,null,null,null,null,{"$f":"Emp_Master!B461","v":0}]
[null,null,null,null,null,null,null,{"$f":"Emp_Master!B462","v":0}]
[null,null,null,null,null,null,null,{"$f":"Emp_Master!B463","v":0}]
[null,null,null,null,null,null,null,{"$f":"Emp_Master!B464","v":0}]
[null,null,null,null,null,null,null,{"$f":"Emp_Master!B465","v":0}]
[null,null,null,null,null,null,null,{"$f":"Emp_Master!B466","v":0}]
[null,null,null,null,null,null,null,{"$f":"Emp_Master!B467","v":0}]
[null,null,null,null,null,null,null,{"$f":"Emp_Master!B468","v":0}]
[null,null,null,null,null,null,null,{"$f":"Emp_Master!B469","v":0}]
[null,null,null,null,null,null,null,{"$f":"Emp_Master!B470","v":0}]
[null,null,null,null,null,null,null,{"$f":"Emp_Master!B471","v":0}]
[null,null,null,null,null,null,null,{"$f":"Emp_Master!B472","v":0}]
[null,null,null,null,null,null,null,{"$f":"Emp_Master!B473","v":0}]
[null,null,null,null,null,null,null,{"$f":"Emp_Master!B474","v":0}]
[null,null,null,null,null,null,null,{"$f":"Emp_Master!B475","v":0}]
[null,null,null,null,null,null,null,{"$f":"Emp_Master!B476","v":0}]
[null,null,null,null,null,null,null,{"$f":"Emp_Master!B477","v":0}]
[null,null,null,null,null,null,null,{"$f":"Emp_Master!B478","v":0}]
[null,null,null,null,null,null,null,{"$f":"Emp_Master!B479","v":0}]
[null,null,null,null,null,null,null,{"$f":"Emp_Master!B480","v":0}]
[null,null,null,null,null,null,null,{"$f":"Emp_Master!B481","v":0}]
[null,null,null,null,null,null,null,{"$f":"Emp_Master!B482","v":0}]
[null,null,null,null,null,null,null,{"$f":"Emp_Master!B483","v":0}]
[null,null,null,null,null,null,null,{"$f":"Emp_Master!B484","v":0}]
[null,null,null,null,null,null,null,{"$f":"Emp_Master!B485","v":0}]
[null,null,null,null,null,null,null,{"$f":"Emp_Master!B486","v":0}]
[null,null,null,null,null,null,null,{"$f":"Emp_Master!B487","v":0}]
[null,null,null,null,null,null,null,{"$f":"Emp_Master!B488","v":0}]
[null,null,null,null,null,null,null,{"$f":"Emp_Master!B489","v":0}]
[null,null,null,null,null,null,null,{"$f":"Emp_Master!B490","v":0}]
[null,null,null,null,null,null,null,{"$f":"Emp_Master!B491","v":0}]
[null,null,null,null,null,null,null,{"$f":"Emp_Master!B492","v":0}]
[null,null,null,null,null,null,null,{"$f":"Emp_Master!B493","v":0}]
[null,null,null,null,null,null,null,{"$f":"Emp_Master!B494","v":0}]
[null,null,null,null,null,null,null,{"$f":"Emp_Master!B495","v":0}]
[null,null,null,null,null,null,null,{"$f":"Emp_Master!B496","v":0}]
[null,null,null,null,null,null,null,{"$f":"Emp_Master!B497","v":0}]
[null,null,null,null,null,null,null,{"$f":"Emp_Master!B498","v":0}]
[null,null,null,null,null,null,null,{"$f":"Emp_Master!B499","v":0}]
[null,null,null,null,null,null,null,{"$f":"Emp_Master!B500","v":0}]
[null,null,null,null,null,null,null,{"$f":"Emp_Master!B501","v":0}]
[null,null,null,null,null,null,null,{"$f":"Emp_Master!B502","v":0}]
[null,null,null,null,null,null,null,{"$f":"Emp_Master!B503","v":0}]
[null,null,null,null,null,null,null,{"$f":"Emp_Master!B504","v":0}]
[null,null,null,null,null,null,null,{"$f":"Emp_Master!B505","v":0}]
[null,null,null,null,null,null,null,{"$f":"Emp_Master!B506","v":0}]
[null,null,null,null,null,null,null,{"$f":"Emp_Master!B507","v":0}]
[null,null,null,null,null,null,null,{"$f":"Emp_Master!B508","v":0}]
[null,null,null,null,null,null,null,{"$f":"Emp_Master!B509","v":0}]
[null,null,null,null,null,null,null,{"$f":"Emp_Master!B510","v":0}]
[null,null,null,null,null,null,null,{"$f":"Emp_Master!B511","v":0}]
[null,null,null,null,null,null,null,{"$f":"Emp_Master!B512","v":0}]
[null,null,null,null,null,null,null,{"$f":"Emp_Master!B513","v":0}]
[null,null,null,null,null,null,null,{"$f":"Emp_Master!B514","v":0}]
[null,null,null,null,null,null,null,{"$f":"Emp_Master!B515","v":0}]
[null,null,null,null,null,null,null,{"$f":"Emp_Master!B516","v":0}]
[null,null,null,null,null,null,null,{"$f":"Emp_Master!B517","v":0}]
[null,null,null,null,null,null,null,{"$f":"Emp_Master!B518","v":0}]
[null,null,null,null,null,null,null,{"$f":"Emp_Master!B519","v":0}]
[null,null,null,null,null,null,null,{"$f":"Emp_Master!B520","v":0}]
[null,null,null,null,null,null,null,{"$f":"Emp_Master!B521","v":0}]
[null,null,null,null,null,null,null,{"$f":"Emp_Master!B522","v":0}]
[null,null,null,null,null,null,null,{"$f":"Emp_Master!B523","v":0}]
[null,null,null,null,null,null,null,{"$f":"Emp_Master!B524","v":0}]
[null,null,null,null,null,null,null,{"$f":"Emp_Master!B525","v":0}]
[null,null,null,null,null,null,null,{"$f":"Emp_Master!B526","v":0}]
[null,null,null,null,null,null,null,{"$f":"Emp_Master!B527","v":0}]
[null,null,null,null,null,null,null,{"$f":"Emp_Master!B528","v":0}]
[null,null,null,null,null,null,null,{"$f":"Emp_Master!B529","v":0}]
[null,null,null,null,null,null,null,{"$f":"Emp_Master!B530","v":0}]
[null,null,null,null,null,null,null,{"$f":"Emp_Master!B531","v":0}]
[null,null,null,null,null,null,null,{"$f":"Emp_Master!B532","v":0}]
[null,null,null,null,null,null,null,{"$f":"Emp_Master!B533","v":0}]
[null,null,null,null,null,null,null,{"$f":"Emp_Master!B534","v":0}]
[null,null,null,null,null,null,null,{"$f":"Emp_Master!B535","v":0}]
[null,null,null,null,null,null,null,{"$f":"Emp_Master!B536","v":0}]
[null,null,null,null,null,null,null,{"$f":"Emp_Master!B537","v":0}]
[null,null,null,null,null,null,null,{"$f":"Emp_Master!B538","v":0}]
[null,null,null,null,null,null,null,{"$f":"Emp_Master!B539","v":0}]
[null,null,null,null,null,null,null,{"$f":"Emp_Master!B540","v":0}]
[null,null,null,null,null,null,null,{"$f":"Emp_Master!B541","v":0}]
[null,null,null,null,null,null,null,{"$f":"Emp_Master!B542","v":0}]
[null,null,null,null,null,null,null,{"$f":"Emp_Master!B543","v":0}]
[null,null,null,null,null,null,null,{"$f":"Emp_Master!B544","v":0}]
[null,null,null,null,null,null,null,{"$f":"Emp_Master!B545","v":0}]
[null,null,null,null,null,null,null,{"$f":"Emp_Master!B546","v":0}]
[null,null,null,null,null,null,null,{"$f":"Emp_Master!B547","v":0}]
[null,null,null,null,null,null,null,{"$f":"Emp_Master!B548","v":0}]
[null,null,null,null,null,null,null,{"$f":"Emp_Master!B549","v":0}]
[null,null,null,null,null,null,null,{"$f":"Emp_Master!B550","v":0}]
[null,null,null,null,null,null,null,{"$f":"Emp_Master!B551","v":0}]
[null,null,null,null,null,null,null,{"$f":"Emp_Master!B552","v":0}]
[null,null,null,null,null,null,null,{"$f":"Emp_Master!B553","v":0}]
[null,null,null,null,null,null,null,{"$f":"Emp_Master!B554","v":0}]
[null,null,null,null,null,null,null,{"$f":"Emp_Master!B555","v":0}]
[null,null,null,null,null,null,null,{"$f":"Emp_Master!B556","v":0}]
[null,null,null,null,null,null,null,{"$f":"Emp_Master!B557","v":0}]
[null,null,null,null,null,null,null,{"$f":"Emp_Master!B558","v":0}]
[null,null,null,null,null,null,null,{"$f":"Emp_Master!B559","v":0}]
[null,null,null,null,null,null,null,{"$f":"Emp_Master!B560","v":0}]
[null,null,null,null,null,null,null,{"$f":"Emp_Master!B561","v":0}]
[null,null,null,null,null,null,null,{"$f":"Emp_Master!B562","v":0}]
[null,null,null,null,null,null,null,{"$f":"Emp_Master!B563","v":0}]
[null,null,null,null,null,null,null,{"$f":"Emp_Master!B564","v":0}]
[null,null,null,null,null,null,null,{"$f":"Emp_Master!B565","v":0}]
[null,null,null,null,null,null,null,{"$f":"Emp_Master!B566","v":0}]
[null,null,null,null,null,null,null,{"$f":"Emp_Master!B567","v":0}]
[null,null,null,null,null,null,null,{"$f":"Emp_Master!B568","v":0}]
[null,null,null,null,null,null,null,{"$f":"Emp_Master!B569","v":0}]
[null,null,null,null,null,null,null,{"$f":"Emp_Master!B570","v":0}]
[null,null,null,null,null,null,null,{"$f":"Emp_Master!B571","v":0}]
[null,null,null,null,null,null,null,{"$f":"Emp_Master!B572","v":0}]
[null,null,null,null,null,null,null,{"$f":"Emp_Master!B573","v":0}]
[null,null,null,null,null,null,null,{"$f":"Emp_Master!B574","v":0}]
[null,null,null,null,null,null,null,{"$f":"Emp_Master!B575","v":0}]
[null,null,null,null,null,null,null,{"$f":"Emp_Master!B576","v":0}]
[null,null,null,null,null,null,null,{"$f":"Emp_Master!B577","v":0}]
[null,null,null,null,null,null,null,{"$f":"Emp_Master!B578","v":0}]
[null,null,null,null,null,null,null,{"$f":"Emp_Master!B579","v":0}]
[null,null,null,null,null,null,null,{"$f":"Emp_Master!B580","v":0}]
[null,null,null,null,null,null,null,{"$f":"Emp_Master!B581","v":0}]
[null,null,null,null,null,null,null,{"$f":"Emp_Master!B582","v":0}]
[null,null,null,null,null,null,null,{"$f":"Emp_Master!B583","v":0}]
[null,null,null,null,null,null,null,{"$f":"Emp_Master!B584","v":0}]
[null,null,null,null,null,null,null,{"$f":"Emp_Master!B585","v":0}]
[null,null,null,null,null,null,null,{"$f":"Emp_Master!B586","v":0}]
[null,null,null,null,null,null,null,{"$f":"Emp_Master!B587","v":0}]
[null,null,null,null,null,null,null,{"$f":"Emp_Master!B588","v":0}]
[null,null,null,null,null,null,null,{"$f":"Emp_Master!B589","v":0}]
[null,null,null,null,null,null,null,{"$f":"Emp_Master!B590","v":0}]
[null,null,null,null,null,null,null,{"$f":"Emp_Master!B591","v":0}]
[null,null,null,null,null,null,null,{"$f":"Emp_Master!B592","v":0}]
[null,null,null,null,null,null,null,{"$f":"Emp_Master!B593","v":0}]
[null,null,null,null,null,null,null,{"$f":"Emp_Master!B594","v":0}]
[null,null,null,null,null,null,null,{"$f":"Emp_Master!B595","v":0}]
[null,null,null,null,null,null,null,{"$f":"Emp_Master!B596","v":0}]
[null,null,null,null,null,null,null,{"$f":"Emp_Master!B597","v":0}]
[null,null,null,null,null,null,null,{"$f":"Emp_Master!B598","v":0}]
[null,null,null,null,null,null,null,{"$f":"Emp_Master!B599","v":0}]
[null,null,null,null,null,null,null,{"$f":"Emp_Master!B600","v":0}]
[null,null,null,null,null,null,null,{"$f":"Emp_Master!B601","v":0}]
[null,null,null,null,null,null,null,{"$f":"Emp_Master!B602","v":0}]
[null,null,null,null,null,null,null,{"$f":"Emp_Master!B603","v":0}]
[null,null,null,null,null,null,null,{"$f":"Emp_Master!B604","v":0}]
[null,null,null,null,null,null,null,{"$f":"Emp_Master!B605","v":0}]
[null,null,null,null,null,null,null,{"$f":"Emp_Master!B606","v":0}]
[null,null,null,null,null,null,null,{"$f":"Emp_Master!B607","v":0}]
[null,null,null,null,null,null,null,{"$f":"Emp_Master!B608","v":0}]
[null,null,null,null,null,null,null,{"$f":"Emp_Master!B609","v":0}]
[null,null,null,null,null,null,null,{"$f":"Emp_Master!B610","v":0}]
[null,null,null,null,null,null,null,{"$f":"Emp_Master!B611","v":0}]
[null,null,null,null,null,null,null,{"$f":"Emp_Master!B612","v":0}]
[null,null,null,null,null,null,null,{"$f":"Emp_Master!B613","v":0}]
[null,null,null,null,null,null,null,{"$f":"Emp_Master!B614","v":0}]
[null,null,null,null,null,null,null,{"$f":"Emp_Master!B615","v":0}]
[null,null,null,null,null,null,null,{"$f":"Emp_Master!B616","v":0}]
[null,null,null,null,null,null,null,{"$f":"Emp_Master!B617","v":0}]
[null,null,null,null,null,null,null,{"$f":"Emp_Master!B618","v":0}]
[null,null,null,null,null,null,null,{"$f":"Emp_Master!B619","v":0}]
[null,null,null,null,null,null,null,{"$f":"Emp_Master!B620","v":0}]
[null,null,null,null,null,null,null,{"$f":"Emp_Master!B621","v":0}]
[null,null,null,null,null,null,null,{"$f":"Emp_Master!B622","v":0}]
[null,null,null,null,null,null,null,{"$f":"Emp_Master!B623","v":0}]
[null,null,null,null,null,null,null,{"$f":"Emp_Master!B624","v":0}]
[null,null,null,null,null,null,null,{"$f":"Emp_Master!B625","v":0}]
[null,null,null,null,null,null,null,{"$f":"Emp_Master!B626","v":0}]
[null,null,null,null,null,null,null,{"$f":"Emp_Master!B627","v":0}]
[null,null,null,null,null,null,null,{"$f":"Emp_Master!B628","v":0}]

{"sheet":"Branch_Salary","index":8,"n_rows":6,"n_cols":22,"rows_kept":6,"cut":false,"hidden":true,"merged":[[0,5,0,16],[1,5,1,16],[2,5,2,16],[3,5,3,16]]}
[null,null,null,null,null,{"$f":"Emp_Master!C1","v":0}]
["Branch","(Multiple Items)",null,null,null,{"$f":"\"Address: \" &  Emp_Master!E1","v":"Address: "}]
["Salary Month",0,null,null,null,{"$f":"\" Telephone :\"& Emp_Master!G1","v":" Telephone :"}]
["Salary Year","(Multiple Items)",null,null,null,{"$f":"\" website: \"&Branch_Salary!F1 & \" Email Id: \" & Emp_Master!K1","v":" website: 0 Email Id: "}]
[{"$f":"\"Total Net Salary payable for the month : \" & \" Rs.  \"& ROUND( SUM(V7:V100),0)","v":"Total Net Salary payable for the month :  Rs.  0"}]
["Emp_Code","Emp_Name","Working Days (Nos.)","Paid Days (Nos.)","Absent Days (Nos.)","leave Encashment Days (Nos.)","Gross Salary Scale (Rs.)","Telephone Reimbursement (Rs.)","Medical Reimbursement (Rs.)","Other Reimbursement (Rs.)","Leave Encashment (Rs.)","Perquisites (Rs.)","Increment if any (Rs.)","Salary Deducted (Rs.)","PF","P.Tax","TDS","Advance","Security Deposit","Interest","Other Deduction","Net Payable Rs."]